{"text_format":"1","workbook":"xlsx","n_sheets":7,"sheets":["2025-2026","PN_","Rapport_Volum","2024-2025 (Non publié)","DFSP 2024-2025","Légende","Adresses de diffusion"],"not_rendered":{"charts":0,"images":3,"macros":1,"external_links":1,"defined_names":30,"comments":0,"pivot_tables":0},"unopened":[],"bounds":{"document_bytes":16777216,"sheet_cells":100000,"rows_first":2000,"rows_last":500,"rows_between":2000,"halvings":0,"cell_chars":16384,"cell_head_chars":4096},"cells_cut":0,"cells_raw":0,"read":"whole","date_system":"1900"}

{"sheet":"2025-2026","index":0,"n_rows":506,"n_cols":30,"rows_kept":506,"cut":false,"hidden":false,"merged":[[256,18,257,18],[256,19,257,19],[256,20,257,20],[282,25,283,25],[294,23,294,24],[275,16,276,16],[266,11,266,26],[234,13,242,13],[258,15,258,16],[492,24,493,24],[492,25,493,25],[492,15,493,15],[492,17,493,17],[492,16,493,16],[492,19,493,19],[492,18,493,18],[492,20,493,20],[492,21,493,21],[492,22,493,22],[492,23,493,23],[213,23,214,23],[220,11,220,26],[217,11,219,11],[217,19,219,19],[213,26,214,26],[211,21,212,21],[211,14,212,14],[211,26,212,26],[211,25,212,25],[211,22,212,22],[217,26,219,26],[211,19,212,19],[211,20,212,20],[213,20,214,20],[213,19,214,19],[217,15,219,15],[213,22,214,22],[217,16,219,16],[217,14,219,14],[213,25,214,25],[213,24,214,24],[211,11,212,11],[213,11,214,11],[217,21,219,21],[208,14,210,14],[211,13,212,13],[211,15,212,15],[208,13,210,13],[213,12,214,12],[213,13,214,13],[213,14,214,14],[215,11,216,11],[215,13,216,13],[215,12,216,12],[208,15,210,15],[213,18,214,18],[213,17,214,17],[213,16,214,16],[213,15,214,15],[217,17,219,17],[217,18,219,18],[215,14,216,14],[217,13,219,13],[217,20,219,20],[211,17,212,17],[201,15,201,16],[206,12,207,12],[145,11,145,26],[183,16,183,17],[183,12,186,12],[205,15,205,16],[180,12,182,12],[208,17,210,17],[180,11,182,11],[191,11,192,11],[191,12,192,12],[191,13,192,13],[191,14,192,14],[192,15,192,16],[206,11,207,11],[206,13,207,13],[206,16,207,16],[208,21,210,21],[183,25,186,25],[146,16,146,17],[180,19,182,19],[181,20,182,20],[208,11,210,11],[172,17,173,17],[172,14,173,14],[144,11,144,26],[172,16,173,16],[172,18,173,18],[172,11,173,11],[169,15,169,16],[171,15,171,16],[172,15,173,15],[172,21,173,21],[172,20,173,20],[172,22,173,22],[217,22,219,22],[217,23,219,23],[229,24,230,24],[229,20,230,20],[244,11,244,26],[249,15,249,16],[217,12,219,12],[234,11,242,11],[238,25,242,25],[234,22,242,22],[229,13,232,13],[229,14,232,14],[229,12,232,12],[229,25,232,25],[229,26,232,26],[221,15,221,16],[229,15,232,15],[229,16,232,16],[229,17,232,17],[231,22,232,22],[231,23,232,24],[234,25,237,25],[240,18,242,18],[250,15,250,16],[239,24,240,24],[229,18,232,18],[229,11,232,11],[229,19,232,19],[231,20,232,20],[237,24,238,24],[234,23,242,23],[256,11,257,11],[256,14,257,14],[234,14,242,14],[256,13,257,13],[255,15,255,16],[234,18,236,18],[246,15,246,16],[251,15,251,19],[234,19,242,19],[234,15,242,15],[237,18,239,18],[241,24,242,24],[251,20,251,23],[234,12,242,12],[234,21,242,21],[256,16,256,17],[14,26,16,26],[95,13,96,13],[9,12,9,21],[31,23,32,23],[16,16,16,17],[15,17,15,18],[95,15,96,15],[64,11,65,11],[31,11,32,11],[31,16,32,16],[31,12,32,12],[15,21,16,21],[16,18,16,19],[19,12,23,12],[31,21,32,21],[67,15,67,19],[67,20,67,22],[20,21,20,24],[10,14,11,14],[31,14,32,14],[53,15,53,19],[31,17,32,17],[64,12,65,12],[61,16,61,17],[1,15,2,26],[24,13,26,13],[24,14,26,14],[21,21,21,25],[26,22,26,25],[31,26,32,26],[53,20,53,23],[53,24,53,26],[5,20,5,23],[5,24,5,26],[15,23,15,24],[37,23,37,24],[5,15,5,19],[8,11,8,26],[12,11,12,26],[7,20,7,26],[20,15,23,15],[24,20,24,24],[22,22,22,25],[20,16,20,19],[31,25,32,25],[19,20,19,24],[10,11,11,11],[11,18,11,19],[172,19,173,19],[110,11,111,11],[64,13,65,13],[64,18,65,18],[64,23,65,23],[13,12,13,21],[34,16,34,17],[45,17,45,19],[31,22,32,22],[23,19,23,22],[45,15,45,16],[19,13,23,13],[43,20,43,21],[14,19,15,19],[45,23,45,25],[24,15,24,18],[25,16,25,19],[16,22,16,23],[15,20,16,20],[21,16,21,19],[156,15,156,16],[172,25,173,25],[172,13,173,13],[172,23,173,23],[64,14,65,14],[31,13,32,13],[87,11,87,26],[86,20,86,26],[93,16,93,23],[91,23,91,24],[110,12,111,12],[95,23,96,23],[95,16,96,16],[74,15,74,16],[72,24,72,26],[95,14,96,14],[67,23,67,25],[157,15,157,16],[206,14,207,14],[191,15,191,16],[126,11,127,11],[135,13,136,13],[135,14,136,14],[180,13,182,13],[172,12,173,12],[183,11,186,11],[177,15,177,16],[175,16,175,17],[183,13,186,13],[178,15,178,16],[72,20,72,23],[187,15,187,16],[208,18,210,18],[64,20,65,20],[64,21,65,21],[31,15,32,15],[28,15,28,16],[29,20,29,26],[183,26,186,26],[206,15,207,15],[208,26,210,26],[181,23,182,23],[181,18,182,18],[54,17,54,18],[172,26,173,26],[172,24,173,24],[72,15,72,19],[106,15,106,16],[110,17,111,17],[110,18,111,18],[110,19,111,19],[110,20,111,20],[110,21,111,21],[81,15,81,16],[211,16,212,16],[211,12,212,12],[208,12,210,12],[180,14,182,14],[208,22,210,22],[208,23,210,23],[184,16,186,16],[208,16,210,16],[194,15,194,16],[196,15,196,16],[202,15,202,16],[203,15,203,16],[183,20,186,20],[185,21,186,21],[183,22,186,22],[199,11,199,26],[183,15,186,15],[193,15,193,16],[183,24,186,24],[183,14,186,14],[208,20,210,20],[183,18,186,18],[180,24,182,24],[208,19,210,19],[318,12,319,12],[318,13,319,13],[318,22,318,23],[318,11,319,11],[318,21,319,21],[353,15,353,16],[352,15,352,16],[322,11,323,11],[322,12,323,12],[322,15,323,15],[338,15,338,16],[329,15,329,26],[339,15,339,16],[344,15,344,16],[332,15,332,16],[340,15,340,16],[302,16,302,18],[313,15,313,19],[322,17,322,18],[305,15,305,26],[315,17,315,26],[294,18,294,19],[183,23,186,23],[211,18,212,18],[206,22,207,22],[206,23,207,23],[200,15,200,16],[318,19,319,19],[318,18,319,18],[308,11,308,26],[300,15,300,16],[313,24,313,26],[313,20,313,23],[315,15,315,16],[314,15,314,16],[322,20,323,20],[322,14,323,14],[322,23,323,23],[322,22,323,22],[183,19,186,19],[371,23,371,26],[341,15,341,16],[342,15,342,16],[318,14,319,14],[363,15,363,16],[372,22,372,26],[322,26,323,26],[366,20,366,26],[375,26,376,26],[368,16,368,19],[322,24,323,24],[370,21,370,23],[375,17,375,20],[375,24,376,24],[375,15,376,15],[375,14,376,14],[318,24,319,24],[333,11,333,26],[322,13,323,13],[322,25,323,25],[375,13,376,13],[367,11,367,26],[362,15,362,16],[354,15,354,16],[383,21,383,24],[383,19,384,19],[383,18,384,18],[377,26,378,26],[377,18,377,21],[381,15,382,15],[410,15,410,16],[390,15,390,16],[391,15,391,16],[392,15,392,16],[393,15,393,16],[398,15,398,16],[381,17,382,17],[379,25,380,25],[383,16,384,16],[379,19,379,22],[388,24,388,25],[381,20,381,23],[381,26,382,26],[381,25,382,25],[377,24,378,24],[504,11,505,11],[494,11,494,26],[504,14,505,14],[504,12,505,12],[492,13,493,13],[492,14,493,14],[490,14,491,14],[492,11,493,11],[492,12,493,12],[490,13,491,13],[504,13,505,13],[504,26,505,26],[490,11,491,11],[490,12,491,12],[490,19,491,19],[490,18,491,18],[490,20,491,20],[490,22,491,22],[490,23,491,23],[490,24,491,24],[490,25,491,25],[490,15,491,15],[504,25,505,25],[504,15,505,15],[426,11,426,26],[443,14,444,14],[381,14,382,14],[379,11,380,11],[377,25,378,25],[375,23,376,23],[379,26,380,26],[401,11,401,26],[407,11,407,26],[436,15,436,16],[403,15,403,16],[383,13,384,13],[420,14,421,14],[418,15,418,16],[383,11,384,11],[379,12,380,12],[420,11,421,11],[420,12,421,12],[377,11,378,11],[375,12,376,12],[375,11,376,11],[381,12,382,12],[411,11,411,26],[383,14,384,14],[8,27,8,29],[9,27,9,29],[12,27,12,29],[13,27,13,29],[18,27,18,29],[27,27,27,29],[29,27,30,29],[86,27,87,29],[92,27,92,29],[24,28,25,28],[31,27,33,27],[64,27,65,27],[14,27,17,27],[14,29,16,29],[14,28,16,28],[64,28,65,28],[19,29,23,29],[31,28,33,28],[31,29,33,29],[19,27,23,27],[24,27,25,27],[24,29,25,29],[114,27,115,29],[118,27,119,29],[95,20,96,20],[32,18,32,19],[31,20,32,20],[128,20,128,26],[30,11,30,26],[95,18,96,18],[43,23,43,24],[64,16,65,16],[60,23,60,25],[64,25,65,25],[64,24,65,24],[64,19,65,19],[64,22,65,22],[95,19,96,19],[95,29,96,29],[64,29,65,29],[110,15,111,16],[126,28,127,28],[110,29,111,29],[110,28,111,28],[88,16,88,19],[88,20,88,23],[282,11,283,11],[275,15,276,15],[278,15,278,16],[280,15,280,16],[299,15,299,16],[282,18,283,18],[282,17,283,17],[275,11,276,11],[282,12,283,12],[282,14,283,14],[275,12,276,12],[275,14,276,14],[282,21,283,21],[247,15,247,16],[298,15,298,16],[234,16,242,16],[227,11,227,26],[208,24,210,24],[217,24,219,24],[256,12,257,12],[234,26,242,26],[223,15,223,16],[282,24,283,24],[251,24,251,26],[275,25,276,25],[262,15,262,16],[273,15,273,16],[270,11,270,26],[275,24,276,24],[275,13,276,13],[282,13,283,13],[275,26,276,26],[279,15,279,16],[260,15,260,16],[282,26,283,26],[277,11,277,26],[95,24,96,24],[95,21,96,21],[95,25,96,25],[95,26,96,26],[110,22,111,22],[110,23,111,23],[110,24,111,24],[110,25,111,25],[129,11,129,26],[95,17,96,17],[126,13,127,13],[126,17,127,17],[127,22,127,23],[14,11,16,11],[14,12,16,12],[14,13,16,13],[25,20,25,25],[45,20,45,22],[14,14,16,14],[19,14,23,14],[19,15,19,18],[14,22,15,22],[16,24,16,25],[18,11,18,21],[14,25,15,25],[19,11,23,11],[14,15,16,15],[24,12,26,12],[27,11,27,21],[22,16,22,20],[31,24,32,24],[24,11,26,11],[88,24,88,26],[60,15,60,17],[115,11,115,26],[95,11,96,11],[126,24,127,24],[62,15,62,19],[126,29,127,29],[62,20,62,22],[62,23,62,25],[68,16,68,17],[114,20,114,26],[126,20,127,20],[92,11,92,26],[119,11,119,26],[110,26,111,26],[95,22,96,22],[95,27,96,27],[110,27,111,27],[126,27,127,27],[95,12,96,12],[110,13,111,13],[110,14,111,14],[118,20,118,26],[126,26,127,26],[150,27,150,29],[145,27,145,29],[155,15,155,16],[126,25,127,25],[126,21,127,21],[126,14,127,14],[139,20,139,26],[128,27,129,29],[139,27,140,29],[143,20,143,26],[130,16,130,19],[150,11,150,26],[135,27,136,27],[135,12,136,12],[126,12,127,12],[133,15,133,16],[126,15,127,15],[135,15,136,16],[135,11,136,11],[135,29,136,29],[140,11,140,26],[411,27,411,29],[375,27,376,27],[375,29,376,29],[172,27,173,27],[143,27,144,29],[180,27,182,27],[180,28,182,28],[135,28,136,28],[151,27,153,27],[172,28,173,28],[180,29,182,29],[172,29,173,29],[256,29,257,29],[256,27,257,27],[318,27,319,27],[308,27,308,29],[217,28,219,28],[217,27,219,27],[208,27,210,27],[244,27,244,29],[229,28,231,28],[234,28,242,28],[234,27,242,27],[183,28,186,28],[447,29,448,29],[333,27,333,29],[270,27,270,29],[504,27,505,27],[504,29,505,29],[460,27,463,27],[460,29,463,29],[492,29,493,29],[494,27,494,29],[478,27,479,29],[459,27,459,29],[490,27,491,27],[490,29,491,29],[492,27,493,27],[460,28,463,28],[487,27,487,29],[429,27,429,29],[383,27,384,27],[383,29,384,29],[426,27,426,29],[377,27,378,27],[377,29,378,29],[366,27,367,29],[427,27,427,29],[457,27,457,29],[443,27,444,27],[433,27,433,29],[443,29,444,29],[318,28,319,28],[229,27,231,27],[229,29,231,29],[277,27,277,29],[234,29,242,29],[381,29,382,29],[381,27,382,27],[454,29,455,29],[451,27,451,29],[447,28,448,28],[447,27,448,27],[454,27,455,27],[416,27,416,29],[385,27,385,29],[266,27,266,29],[275,27,276,27],[275,29,276,29],[454,28,455,28],[446,27,446,29],[443,28,444,28],[183,29,186,29],[208,29,210,29],[215,28,216,28],[215,29,216,29],[220,27,220,29],[227,27,227,29],[211,28,212,28],[211,29,212,29],[206,27,207,27],[202,27,203,27],[199,27,199,29],[183,27,186,27],[206,28,207,28],[206,29,207,29],[208,28,210,28],[215,27,216,27],[217,29,219,29],[211,27,212,27],[377,12,378,12],[377,15,378,15],[381,18,382,18],[381,11,382,11],[379,15,380,15],[379,13,380,13],[282,22,283,22],[282,23,283,23],[381,16,382,16],[377,14,378,14],[377,13,378,13],[325,23,325,26],[330,15,330,26],[331,15,331,26],[327,16,327,18],[327,23,327,26],[345,15,345,16],[343,15,343,16],[328,15,328,26],[373,16,373,19],[364,15,364,16],[374,22,374,26],[369,18,369,21],[282,19,283,19],[454,25,455,25],[454,26,455,26],[446,11,446,26],[437,15,437,16],[439,15,439,16],[256,28,257,28],[275,28,276,28],[385,11,385,26],[318,29,319,29],[381,13,382,13],[379,24,380,24],[383,12,384,12],[377,23,378,23],[377,16,378,16],[383,17,384,17],[383,15,384,15],[375,25,376,25],[375,22,376,22],[379,14,380,14],[424,15,424,16],[422,15,422,16],[423,15,423,16],[399,11,399,26],[430,15,430,16],[454,13,455,13],[443,23,444,23],[415,20,415,21],[443,12,444,12],[443,26,444,26],[416,11,416,26],[434,15,434,16],[404,15,404,16],[400,15,400,16],[419,15,419,16],[417,15,417,16],[428,15,428,16],[420,13,421,13],[433,11,433,26],[409,16,409,17],[405,15,405,16],[406,15,406,16],[408,15,408,16],[425,15,425,16],[443,25,444,25],[445,15,445,16],[447,15,448,16],[450,15,450,16],[447,12,448,12],[460,21,463,21],[432,15,432,16],[442,15,442,16],[454,23,455,23],[443,15,444,16],[447,24,448,24],[443,13,444,13],[441,15,441,16],[459,11,459,26],[456,15,456,16],[458,15,458,16],[443,21,444,21],[443,11,444,11],[454,15,455,15],[454,16,455,16],[454,17,455,17],[454,19,455,19],[454,20,455,20],[449,11,449,26],[457,11,457,26],[447,14,448,14],[454,24,455,24],[447,25,448,25],[447,26,448,26],[454,11,455,11],[454,21,455,21],[454,22,455,22],[451,11,451,26],[447,23,448,23],[447,13,448,13],[454,12,455,12],[256,15,257,15],[356,23,356,24],[361,15,361,16],[318,26,319,26],[322,16,323,16],[322,19,323,19],[304,15,304,26],[282,15,283,15],[282,16,283,16],[318,17,319,17],[318,20,319,20],[314,17,314,26],[322,21,323,21],[318,25,319,25],[259,15,259,16],[281,15,281,16],[261,15,261,16],[474,21,477,21],[412,16,412,17],[413,17,413,18],[256,21,257,21],[256,22,257,22],[256,23,257,23],[256,24,257,24],[256,25,257,25],[256,26,257,26],[383,26,384,26],[465,23,468,23],[465,22,468,22],[465,21,468,21],[465,20,468,20],[427,11,427,26],[447,11,448,11],[454,14,455,14],[452,15,452,16],[453,15,453,16],[435,15,435,16],[443,24,444,24],[443,22,444,22],[429,11,429,26],[431,15,431,16],[460,24,463,24],[504,16,505,16],[504,19,505,19],[504,21,505,21],[504,22,505,22],[504,23,505,23],[504,24,505,24],[474,20,477,20],[474,15,477,15],[474,16,477,16],[474,17,477,17],[474,18,477,18],[490,21,491,21],[490,17,491,17],[478,20,478,26],[479,11,479,26],[487,11,487,26],[490,26,491,26],[504,17,505,17],[474,26,477,26],[474,25,477,25],[474,24,477,24],[474,23,477,23],[474,22,477,22],[460,11,463,11],[465,11,468,11],[460,23,463,23],[465,17,468,17],[470,17,471,17],[470,18,471,18],[472,11,472,26],[470,26,471,26],[470,25,471,25],[470,24,471,24],[470,23,471,23],[470,22,471,22],[470,21,471,21],[465,16,468,16],[465,15,468,15],[465,24,468,24],[462,18,463,18],[465,26,468,26],[460,25,463,25],[465,19,468,19],[465,18,468,18],[460,26,463,26],[460,22,463,22],[464,15,464,16],[492,26,493,26],[438,17,438,18],[474,14,477,14],[474,13,477,13],[474,12,477,12],[474,11,477,11],[473,15,473,16],[469,15,469,16],[470,15,471,16],[470,20,471,20],[460,17,463,17],[460,19,463,19],[460,12,463,12],[460,20,463,20],[460,15,463,15],[465,12,468,12],[465,13,468,13],[465,14,468,14],[470,11,471,11],[470,12,471,12],[470,13,471,13],[470,14,471,14],[460,14,463,14],[460,13,463,13]]}
[]
[null,null,null,null,null,null,null,null,null,null,null,null,null,null,null,"Calendrier institutionnel 2025-2026"]
[]
[]
[]
[null,null,null,null,null,null,null,null,null,null,null,null,null,null,null,"Session automne 2025",null,null,null,null,"Session hiver 2026",null,null,null,"Session printemps/été 2026",null,null,"Demande","Prévu","Réalité"]
[null,null,"Clientèle","Secteurs","Département","Discipline","Diffusion","Langue","COURS","Lieu de formation",null,"Code de cours","Titre du cours","Diffusion","nb","Août","Sept.","Oct","Nov.","Déc.","Janv.","Fév.","Mars","Avril","Mai","Juin","Juillet","2024-25","2024-25","2024-25"]
[null,null,"Policiers","Enquête","Enquête - Formation initiale","Enquête policière","-","Français",null,null,null,null,null,null,null,null,null,null,null,null,"PROGRAMMES DE FORMATION INITIALE",null,null,null,null,null,null,null,null,"(en date de janvier 2025)"]
[null,null,"Policiers","Enquête","Enquête - Formation initiale","Enquête policière","-","Français",null,null,null,"n PROGRAMME DE FORMATION PRÉPARATOIRE EN ENQUÊTE"]
[null,null,"Policiers","Enquête","Enquête - Formation initiale","Enquête policière","-","Français",{"$f":"L10","v":"PFPEN-2302-365"},null,null,"PFPEN-2302-365","Programme de formation préparatoire en enquête (Réservé UPAC et BEI)"]
[null,null,"Policiers","Enquête","Enquête - Formation initiale","Enquête policière",{"$f":"N11","v":"HC3"},"Français",{"$f":"L11","v":"PFPEN-2302-365"},"Collège Ahuntsic"," ","PFPEN-2302-365","Volet collégial\nHors campus\nCollège Ahuntsic","HC3",9]
[null,null,"Policiers","Enquête","Enquête - Formation initiale","Enquête policière","C1","Français",{"$f":"L11","v":"PFPEN-2302-365"},"ENPQ",null,null,"Volet ENPQ","C1",null,null,null,null,"3 novembre au \n18 décembre"]
[null,null,"Policiers","Enquête","Enquête - Formation initiale","Enquête policière","-","Français",null,null,null,"n PROGRAMME DE FORMATION INITIALE EN ENQUÊTE POLICIÈRE"]
[null,null,"Policiers","Enquête","Enquête - Formation initiale","Enquête policière","-","Français",{"$f":"L15","v":"CRI-010-27"},null,null,"🎓 CRI-010-27","Principes généraux en enquête policière"]
[null,null,"Policiers","Enquête","Enquête - Formation initiale","Enquête policière","H1-[S-C]","Français",{"$f":"L15","v":"CRI-010-27"},"ENPQ",null,"CRI-010-27","Principes généraux en enquête policière (Volet 1)","H1-[S-C]",32,null,"2 au 5 \nEn ligne et\n8 au 9\nExclusif SQ","14 au 17 \nEn ligne et\n20 au 21","10 au 13 \nEn ligne et\n20 au 21\nExclusif SQ",null,"6 au 9\nEn ligne et\n12 au 13","2 au 5 \nEn ligne et\n12 au 13","17 au 20 \nEn ligne et\n23 au 24","14 au 17 \nEn ligne et\n20 au 21","11 au 14 \nEn ligne et\n19 au 20","9 au 12\nEn ligne et\n18 au 19",null,9,"2+7","2+7"]
[null,null,"Policiers","Enquête","Enquête - Formation initiale","Enquête policière",{"$f":"N14","v":0},"Français",{"$f":"L15","v":"CRI-010-27"},"ENPQ",null,null,null,null,null,null,"16 au 19 \nEn ligne et\n25 au 26","28 au 31 octobre \nEn ligne et\n3 au 4 novembre",null,null,"19 au 22\nEn ligne et\n26 au 27","17 au 20 \nEn ligne et\n26 au 27",null,"27 au 30 avril En ligne et\n7 au 8 mai\nExclusif SQ"]
[null,null,"Policiers","Enquête","Enquête - Formation initiale","Enquête policière",{"$f":"N15","v":"H1-[S-C]"},"Français",{"$f":"L15","v":"CRI-010-27"},"ENPQ",null,null,null,null,null,null,"29 septembre au 2 octobre\nEn ligne et\n9 au 10 octobre",null,"24 au 27 novembre\nEn ligne et\n4 au 5 décembre",null,null,null,"30 mars au 2 avril \nEn ligne et\n9 au 10 avril",null,"25 au 28 mai \nEn ligne et\n4 au 5 juin"]
[null,null,"Policiers","Enquête","Enquête - Formation initiale","Enquête policière","H1-[S-CM]","Français",{"$f":"L18","v":"CRI-010-27"},"ENPQ - Campus de Montréal",null,"CRI-010-27","Principes généraux en enquête policière (Volet 1)\nCampus de Montréal","H1-[S-CM]",32,null,null,null,null,null,null,null,null,null,null,null,null,null,"1+0","1+0"]
[null,null,"Policiers","Enquête","Enquête - Formation initiale","Enquête policière","-","Français","PFIEP",null,null,"🎓  Volet 2 - Programme de formation intiale en enquête policière"]
[null,null,"Policiers","Enquête","Enquête - Formation initiale","Enquête policière","C1","Français","PFIEP","ENPQ",null,"DRT-015-01\n\n\n\nETA-002-01\n\n\n\nENQ-010-01\n\n\n\nCRI-010-28\n","Mise en application du droit pénal dans un contexte d'enquête policière (DRT-015-01)\n\n\nIntégration de la compétence éthique en contexte d'enquête policière (ETA-002-01)\n\n\nTechnologies en contexte d'enquête policière (ENQ-010-01)\n\n\nIntégration à la fonction d’enquêteur policier (CRI-010-28)","C1",32,"19e cohorte\n18 août au 29 août,\n15 septembre au 26 septembre,\n13 octobre au 24 octobre et\n10 novembre au 21 novembre",null,null,null,null,"27e cohorte\n19 janvier au 30 janvier,\n16 mars au 27 mars,\n13 avril au 24 avril et\n11 mai au 22 mai",null,null,null,null,null,null,"4+5",null,"3+5"]
[null,null,"Policiers","Enquête","Enquête - Formation initiale","Enquête policière","C1","Français","PFIEP","ENPQ",null,null,null,null,null,null,"21e cohorte\n1er au 12 septembre, \n29 septembre au 10 octobre, \n27 octobre au 7 novembre et \n24 novembre au 5 décembre",null,null,null,null,"29e cohorte\n2 février au 13 février,\n2 mars au 13 mars,\n30 mars au 10 avril et\n27 avril au 8 mai"]
[null,null,"Policiers","Enquête","Enquête - Formation initiale","Enquête policière","C1","Français","PFIEP","ENPQ",null,null,null,null,null,null,"23e cohorte \n15 septembre au 26 septembre,\n13 octobre au 24 octobre,\n10 novembre au 21 novembre et \n8 décembre au 19 décembre",null,null,null,null,"30e cohorte\n16 février au 27 février,\n30 mars au 10 avril,\n27 avril au 8 mai et\n25 mai et 5 juin"]
[null,null,"Policiers","Enquête","Enquête - Formation initiale","Enquête policière","C1","Français","PFIEP","ENPQ",null,null,null,null,null,null,"24e cohorte\n29 septembre au 10 octobre,\n27 octobre au 7 novembre, \n24 novembre au 5 décembre et\n5 janvier au 16 janvier",null,null,null,null,null,"32e cohorte\n16 mars au 27 mars,\n13 avril au 24 avril,\n11 mai au 22 mai et\n8 juin au 19 juin"]
[null,null,"Policiers","Enquête","Enquête - Formation initiale","Enquête policière","C1","Français","PFIEP","ENPQ",null,null,null,null,null,null,null,null,null,"25e cohorte\n8 décembre au 19 décembre, \n5 janvier au 16 janvier,\n2 février au 13 février et\n2 mars au 13 mars",null,null,null,null,null,null,null,null,"3+5"]
[null,null,"Policiers","Enquête","Enquête - Formation initiale","Enquête policière","CM1","Français","PFIEP","ENPQ - Campus de Montréal",null,"\nDRT-015-01\n\n\n\nETA-002-01\n\n\n\nENQ-010-01\n\n\n\nCRI-010-28","Mise en application du droit pénal dans un contexte d'enquête policière (DRT-015-01)\n\n\nIntégration de la compétence éthique en contexte d'enquête policière (ETA-002-01)\n\n\nTechnologies en contexte d'enquête policière (ENQ-010-01)\n\n\nIntégration à la fonction d’enquêteur policier (CRI-010-28)\nCampus de Montréal","CM1",32,"20e cohorte\n25 août au 5 septembre,\n22 septembre au 3 octobre,\n20 octobre au 31 octobre et\n17 novembre au 28 novembre",null,null,null,null,"26e cohorte\n12 janvier au 23 janvier,\n9 février au 20 février,\n23 mars au 3 avril et\n4 mai au 15 mai",null,null,null,null,null,null,"0+2","0+2","0+2"]
[null,null,"Policiers","Enquête","Enquête - Formation initiale","Enquête policière",{"$f":"N25","v":"CM1"},"Français","PFIEP","ENPQ - Campus de Montréal",null,null,null,null,null,null,"22e cohorte\n8 septembre au 19 septembre,\n6 octobre au 17 octobre,\n3 novembre au 14 novembre et \n1er décembe au 12 décembre",null,null,null,"28e cohorte\n26 janvier au 6 février,\n23 février au 6 mars,\n20 avril au 1er mai et\n1er juin au 12 juin"]
[null,null,"Policiers","Enquête","Enquête - Formation initiale","Enquête policière",{"$f":"N25","v":"CM1"},"Français","PFIEP","ENPQ - Campus de Montréal",null,null,null,null,null,null,null,null,null,null,null,null,"31e cohorte\n9 mars au 20 mars,\n6 avril au 17 avril,\n18 mai au 29 mai et\n15 juin au 26 juin"]
[null,null,"Policiers","Enquête",null,null,"-","Français","Cours individuels",null,null,"Cours individuels"]
[null,null,"Policiers","Enquête","Enquête - Perfectionnement professionnel","Enquête policière","S1","Français","436-216-18","En Ligne",null,"🎓 436-216-18","Examen de validation des acquis - Droit pénal appliqué à l'enquête policière (après plus de 10 ans)","S1",12,"À la demande",null,null,null,null,null,null,null,null,null,null,null,null,"1+0","0+1"]
[null,null,"Policiers","Enquête","Enquête - Perfectionnement professionnel",null,"-","Français",null,null,null,null,null,null,null,null,null,null,null,null,"PERFECTIONNEMENT POLICIER"]
[null,null,"Policiers","Enquête","Enquête - Perfectionnement professionnel",null,"-","Français",null,null,null,"n ENQUÊTE POLICIÈRE"]
[null,null,"Policiers","Enquête","Enquête - Perfectionnement professionnel","Enquête de crimes majeurs","C1","Français","CRI-010-08","ENPQ",null,"🎓 CRI-010-08","Entrevue filmée d'un suspect","C1",16,null,"15 au 19 et \n22 au 26",null,null,"8 au 12 et\n15 au 19",null,"9 au 13 et \n16 au 20","16 au 20 et \n23 au 27",null,null,"1er au 5 et \n8 au 12",null,10,"2+3","2+3"]
[null,null,"Policiers","Enquête","Enquête - Perfectionnement professionnel","Enquête de crimes majeurs",{"$f":"N32","v":"C1"},"Français","CRI-010-08","ENPQ",null,null,null,null,null,null,null,null,"24 au 28 novembre et \n1er au 5 décembre"]
[null,null,"Policiers","Enquête","Enquête - Perfectionnement professionnel","Enquête de crimes majeurs","CM1","Français","CRI-010-08","ENPQ - Campus de Montréal",null,"🎓 CRI-010-08","Entrevue filmée d'un suspect\nCampus de Montréal","CM1",16]
[null,null,"Policiers","Enquête","Enquête - Perfectionnement professionnel","Enquête policière","C1","Français",{"$f":"L35","v":"436-317-25"},"ENPQ",null,"436-317-25","Investigation d'une scène d'incendie","C1",12,null,"22 au 26 sept,\n29 sept au 3 oct,\n20 au 24 oct et\n27 au 31 oct"]
[null,null,"Policiers","Enquête","Enquête - Perfectionnement professionnel","Enquête policière","C1","Français","CRI-010-18","ENPQ",null,"🎓 CRI-010-18","Enquête en matière de drogues","C1",20,null,null,"20 au 24 et \n27 au 31",null,null,null,"16 au 20 et 23 au 27",null,null,null,null,null,3,"1+2","1+1"]
[null,null,"Policiers","Enquête","Enquête - Perfectionnement professionnel","Enquête policière","C1","Français","CRI-010-20","ENPQ",null,"🎓 CRI-010-20","Enquête à la suite d'un incendie","C1",12,null,null,null,null,null,null,null,null,null,null,null,null,1,"0+1","0+1"]
[null,null,"Policiers","Enquête","Enquête - Perfectionnement professionnel","Enquête policière","CM1","Français","CRI-010-20","ENPQ",null,"🎓 CRI-010-20","Enquête à la suite d'un incendie","CM1",12,null,null,null,null,null,null,null,null,"13 au 17 avril et\n4 au 8 mai"]
[null,null,"Policiers","Enquête","Enquête - Perfectionnement professionnel","Enquête sur les activités économiques","C1","Français","CRI-010-24","ENPQ",null,"🎓 CRI-010-24","Enquête sur les crimes économiques I","C1",16,null,"8 au 12 et \n15 au 19",null,null,null,null,"16 au 20 et\n23 au 27",null,null,null,null,null,"3 ou 4","1+3","1+2"]
[null,null,"Policiers","Enquête","Enquête - Perfectionnement professionnel","Enquête sur les activités économiques",{"$f":"N40","v":"CM1"},"Français","CRI-010-24","ENPQ - Campus de Montréal",null,"🎓 CRI-010-24","Enquête sur les crimes économiques I\nCampus de Montréal","CM1",16,null,null,null,null,"1 au 5 et \n8 au 12"]
[null,null,"Policiers","Enquête","Enquête - Perfectionnement professionnel","Enquête policière","H1-[S-C]","Français","CRI-010-29","ENPQ",null,"🎓 CRI-010-29","Enquête sur les crimes à  caractère sexuel\nSemaine 1 : En ligne\nSemaine 2 : En présentiel","H1-[S-C]",24,null,null,null,null,null,null,null,null,null,null,"8 au 12 En ligne et \n15 au 19",null,6,"1+4","1+4"]
[null,null,"Policiers","Enquête","Enquête - Perfectionnement professionnel","Enquête policière",{"$f":"N42","v":"H1-[S-CM]"},"Français","CRI-010-29","ENPQ - Campus de Montréal",null,"🎓 CRI-010-29","Enquête sur les crimes à  caractère sexuel\nSemaine 1 : En ligne\nSemaine 2 : Campus de Montréal","H1-[S-CM]",24,null,"8 au 12 En ligne et\n15 au 19",null,null,null,null,null,null,"13 au 17 En ligne et\n20 au 24",null,null,null,null,"1+0","1+0"]
[null,null,"Policiers","Enquête","Enquête - Perfectionnement professionnel","Enquête policière","C1","Français",{"$f":"L43","v":"436-315-23"},"ENPQ",null,"436-315-23","Enquête sur l'abus physique et le décès de jeunes enfants","C1",16,null,null,"6 au 10 ",null,null,"26 au 30",null,"2 au 6",null,"25 au 29",null,null,"3+3","3+3","3+3"]
[null,null,"Policiers","Enquête","Enquête - Perfectionnement professionnel","Enquête policière","H1-[S-C]","Français","436-307-24","ENPQ",null,"436-307-24","Entrevue d'enfants - Le guide NICHD","H1-[S-C]",12,null,"2 En ligne et\n8 au 12",null,"4 En ligne et\n10 au 14",null,"27 janvier En ligne et\n2 au 6 février",null,null,"21 avril En ligne et\n27 avril au 1er mai",null,"2 En ligne et\n8 au 12",null,"6+6","1+3","1+3"]
[null,null,"Policiers","Enquête","Enquête - Perfectionnement professionnel","Enquête policière","H1-[S-CM]","Français","436-307-24","ENPQ - Campus de Montréal",null,"436-307-24","Entrevue d'enfants - Le guide NICHD\nCampus de Montréal","H1-[S-CM]",12,null,null,"21 En ligne \net 27 au 31",null,"9 En ligne \net 15 au 19","13 En ligne \net 19 au 23",null,"10 En ligne \net 16 au 20",null,null,null,null,null,"5+3","5+4"]
[null,null,"Policiers","Enquête","Enquête - Perfectionnement professionnel","Enquête policière","A1","Français","436-101-24","En Ligne",null,"436-101-24","L.E.R.D.S\nEn ligne","A1","s.o.","30 juin au 26 septembre",null,"29 septembre au 12 décembre",null,null,"12 janvier au 20 mars",null,null,"6 avril au 19 juin",null,null,null,"2+2","2+2","2+2"]
[null,null,"Policiers","Enquête","Enquête - Perfectionnement professionnel","Enquête policière","C1","Français","436-103-12","ENPQ",null,"436-103-12","Formation en normes professionnelles","C1",12,null,"22 au 26",null,null,null,null,null,null,null,null,null,null,"1+1","1+0","1+1"]
[null,null,"Policiers","Enquête","Enquête - Perfectionnement professionnel","Enquête policière",{"$f":"N48","v":"CM1"},"Français","436-103-12","ENPQ - Campus de Montréal",null,"436-103-12","Formation en normes professionnelles","CM1",12,null,null,null,null,null,null,null,null,null,null,null,null,null,"0+1","0+1"]
[null,null,"Policiers","Enquête","Enquête - Perfectionnement professionnel","Enquête policière","C1","Français","436-107-16","ENPQ",null,"436-107-16","Policier judiciaire","C1",12,null,"15 au 19",null,null,null,null,null,null,null,null,null,null,"1+0","1+0","1+0"]
[null,null,"Policiers","Enquête","Enquête - Perfectionnement professionnel","Enquête policière",{"$f":"N49","v":"C1"},"Français","436-110-17","ENPQ",null,"436-110-17","Agent couvreur                                           ","C1",12,null,2,21,null,8,null,null,null,null,null,null,null,"4+5 +3n'importe quand","4+8","4+8"]
[null,null,"Policiers","Enquête","Enquête - Perfectionnement professionnel","Enquête policière","C1","Français",{"$f":"L51","v":"436-111-17"},"ENPQ",null,"436-111-17","Introduction aux méthodes d'entrevues enregistrées","C1",16,null,"10 au 11",null,"13 au 14",null,"5 au 6","5 au 6",null,null,null,null,null,"1+0","1+0","1+0"]
[null,null,"Policiers","Enquête","Enquête - Perfectionnement professionnel","Enquête policière","HC1","Français","436-111-17","BLAINVILLE",null,"436-111-17","Introduction aux méthodes d'entrevues \nHors campus - BLAINVILLE","HC1",16,null,null,null,null,null,null,null,null,null,null,null,null,"2+2","2+2","2+2"]
[null,null,"Policiers","Enquête","Enquête - Perfectionnement professionnel","Enquête policière","HC1","Français","436-111-17","UQTR - QUÉBEC",null,"436-111-17","Introduction aux méthodes d'entrevues enregistrées\nHors campus - UQTR - QUÉBEC","HC1",16,null,null,null,null,null,null,null,null,null,null,null,null,"1+1","1+1","0+1"]
[null,null,"Policiers","Enquête","Enquête - Perfectionnement professionnel","Enquête policière",{"$f":"N54","v":"A3"},"Français","436-114-20","En Ligne",null,"436-114-20","Enquêtes sur la cybercriminalité - Niveau 1 - RCSP/CPKN \nEn ligne","A3","s.o.","12 août au 13 décembre",null,null,null,null,"1er janvier au 25 avril",null,null,null,"28 avril au 11 juillet"]
[null,null,"Policiers","Enquête","Enquête - Perfectionnement professionnel","Enquête policière","C3","Français","436-316-23","ENPQ",null,"436-316-23","Gestion des cas graves\nCCP","C3",30,null,null,"28 au 31 octobre et\n3 au 6 novembre",null,null,null,null,null,null,null,null,null,null,"1+0","0+0"]
[null,null,"Policiers","Enquête","Enquête - Perfectionnement professionnel","Enquête policière","HC1","Français","436-117-22","HC - Voir détail sous les dates",null,"436-117-22","Infiltration virtuelle\nBoucherville QG de la SQ","HC1",12,null,null,null,null,null,null,null,null,null,"4 au 8",null,null,1,"1+0","1+0"]
[null,null,"Policiers","Enquête","Enquête - Perfectionnement professionnel","Enquête policière","H1-[A-C]","Français","436-118-25","ENPQ",null,"436-118-25","Récupération d'actifs criminels","H1-[A-C]",20,null,null,null,null,null,null,"23 au 25",null,"13 au 15 avril",null,null,null,"1+0","1+0","1+1"]
[null,null,"Policiers","Enquête","Enquête - Perfectionnement professionnel","Enquête policière","H1-[A-HC]","Français","436-118-25","BLAINVILLE",null,"436-118-25","Récupération d'actifs criminels\nHors campus - BLAINVILLE","H1-[A-HC]",20,null,null,null,null,null,null,null,null,null,null,null,null,"1+0","1+0","1+0"]
[null,null,"Policiers","Enquête","Enquête - Perfectionnement professionnel","Enquête policière","H1-[A-CM]","Français","436-118-25","ENPQ - Campus de Montréal",null,"436-118-25","Récupération d'actifs criminels\nCampus de Montréal","H1-[A-CM]",20,null,"2 au 4","20 au 22","17 au 19",null,null,null,null,null,null,null,null,"0+2","0+2","0+2"]
[null,null,"Policiers","Enquête","Enquête - Perfectionnement professionnel","Enquête policière","H1-[A-HC]","Français",{"$f":"L60","v":"436-118-25"},"UQTR - QUÉBEC",null,"436-118-25","Récupération d'actifs criminels\nHors campus - UQTR - Québec","H1-[A-HC]",20,null,null,null,null,null,null,null,null,null,null,null,null,"1+1","1+1","1+0"]
[null,null,"Policiers","Enquête","Enquête - Perfectionnement professionnel","Enquête policière",{"$f":"N61","v":"A1"},"Français","436-124-25","En Ligne",null,"436-124-25","Récupération d’actifs criminels (volet en ligne)\nEn ligne","A1","s.o.","19 août au 31 octobre",null,null,null,null,null,null,null,"7 avri au 20 juin"]
[null,null,"Policiers","Enquête","Enquête - Perfectionnement professionnel","Enquête policière","HC1","Français","436-206-08","ST-HUBERT",null,"436-206-08","Identification de véhicule\nHors campus\n5225, J.-Armand-Bombardier\nSt-Hubert Qc","HC1",9,null,"22 septembre au 3 octobre",null,null,null,null,null,null,null,null,null,null,"1+0","1+0","0+0"]
[null,null,"Policiers","Enquête","Enquête - Perfectionnement professionnel","Enquête policière","A1","Français","436-208-15","En Ligne",null,"436-208-15","Imagerie numérique judiciaire\nEn ligne","A1","s.o.","19 août au  13 décembre",null,null,null,null,"6 janvier au 21 mars",null,null,"7 avril au 27 juin"]
[null,null,"Policiers","Enquête","Enquête - Perfectionnement professionnel","Enquête policière","C1","Français","436-209-15","ENPQ",null,"436-209-15","Introduction à la surveillance physique auxiliaire","C1",16]
[null,null,"Policiers","Enquête","Enquête - Perfectionnement professionnel","Enquête policière","HC1","Français","436-209-15","HC - Voir détail sous les dates",null,"436-209-15","Introduction à la surveillance physique auxiliaire\nHors campus","HC1",16,null,"23 au 26\nMascouche","7 au 10\nTrois-Rivières","4 au 7\nMascouche",null,null,null,null,"28 avril au 1er mai\nTrois-Rivières","12 au 15\nMascouche","9 au 12 Mascouche",null,"3+3","3+3","3+3"]
[null,null,"Policiers","Enquête","Enquête - Perfectionnement professionnel","Enquête policière","HC1","Français",{"$f":"L65","v":"436-209-15"},"HC - Voir détail sous les dates",null,null,null,null,null,null,null,"21 au 24\nMascouche"]
[null,null,"Policiers","Enquête","Enquête - Perfectionnement professionnel","Enquête policière",{"$f":"N67","v":"A1"},"Français",{"$f":"L67","v":"436-112-17"},"En Ligne",null,"436-112-17","Gestion des informateurs - Gestionnaire de premier niveau\nEn ligne","A1","s.o.",null,null,null,null,null,null,null,null,null,null,null,null,"1+1","1+1","1+1"]
[null,null,"Policiers","Enquête","Enquête - Perfectionnement professionnel","Enquête policière","A1","Français",{"$f":"L68","v":"436-210-15"},"En Ligne",null,"436-210-15","Gestion des informateurs\nEn ligne","A1","s.o.","19 août au 13 décembre",null,null,null,null,"6 janvier au 21 mars",null,null,"7 avril au 20 juin",null,null,null,"3+4"]
[null,null,"Policiers","Enquête","Enquête - Perfectionnement professionnel","Enquête policière","C1","Français",{"$f":"L69","v":"436-302-16"},"ENPQ",null,"436-302-16","Gestion des informateurs - Volet pratique","C1",12,"26 au 29",null,null,null,null,"26 au 29",null,null,null,null,null,null,"2+3","1+1","1+1"]
[null,null,"Policiers","Enquête","Enquête - Perfectionnement professionnel","Enquête policière","CM1","Français","436-302-16","ENPQ - Campus de Montréal",null,"436-302-16","Gestion des informateurs - Volet pratique\nCampus de Montréal","CM1",12,null,null,"7 au 10","11 au 14",null,null,null,null,null,"26 au 29",null,null,null,"1+2","1+2"]
[null,null,"Policiers","Enquête","Enquête - Perfectionnement professionnel","Enquête policière","C1","Français","436-309-19","ENPQ",null,"436-309-19","Mégaprocès - Gestion de la preuve et règles juridiques applicables","C1",18,null,null,null,"17 au 21",null,null,null,null,null,"11 au 15",null,null,"3+2 ou 2+3","2+3","1+3"]
[null,null,"Policiers","Enquête","Enquête - Perfectionnement professionnel","Enquête policière","C1","Français","436-119-23","ENPQ",null,"436-119-23","Mégaprocès – Gestion de la preuve et règles juridiques applicables (DPCP)","C1",6,null,null,null,"17 au 21",null,null,null,null,null,"11 au 15"]
[null,null,"Policiers","Enquête","Enquête - Perfectionnement professionnel","Enquête policière","A3","Français","436-120-23","En Ligne",null,"436-120-23","Enquêtes sur les blessures graves et les décès en milieu de travail - RCSP/CPKN \nEn ligne","A3","s.o.","12 août au 13 décembre",null,null,null,null,"1er janvier au 25 avril",null,null,null,"28 avril au 11 juillet"]
[null,null,"Policiers","Enquête","Enquête - Perfectionnement professionnel","Enquête policière","C1","Français","436-310-19","ENPQ",null,"436-310-19","Mégaprocès - Gestion de projet appliquée à une enquête longue et complexe","C1",18,null,null,null,null,"8 au 11",null,null,null,null,null,"15 au 18",null,"1+2","1+2","1+2"]
[null,null,"Policiers","Enquête","Enquête - Perfectionnement professionnel","Enquête de crimes majeurs","C1","Français","437-103-17","ENPQ",null,"437-103-17","Actualisation des connaissances - Négociateur","C1",30,"En développement"]
[null,null,"Policiers","Enquête","Enquête - Perfectionnement professionnel","Enquête policière",{"$f":"N76","v":"C1"},"Français","436-123-25","ENPQ",null,"436-123-25","Gestionnaire d’enquêtes sur les crimes en série (GECS)","C1",150]
[null,null,"Policiers","Enquête","Enquête - Perfectionnement professionnel","Enquête de crimes majeurs","C3","Français","437-302-23","ENPQ",null,"437-302-23","Techniques d'enquête sur les crimes majeurs - CCP","C3",30,null,null,null,null,null,null,null,null,null,null,"1 au 5 et\n8 au 12",null,null,"0+0","0+1"]
[null,null,"Policiers","Enquête","Enquête - Perfectionnement professionnel","Enquête de crimes majeurs","C1","Français","437-303-23","ENPQ",null,"437-303-23","Négociateur","C1",16,null,"8 au 12",null,null,null,null,null,null,"20 au 24",null,null,null,"1+1","1+1","1+1"]
[null,null,"Policiers","Enquête","Enquête - Perfectionnement professionnel","Renseignement","HC3","Français","439-102-17","ENPQ",null,"439-102-17","Atelier de sensibilisation et de développement en sécurité nationale\n\nLocaux de la GRC","HC3",80,null,null,null,null,null,null,null,null,null,null,null,null,null,"0+0"]
[null,null,"Policiers","Enquête","Enquête - Perfectionnement professionnel","Renseignement","S3","Français","439-102-17","En Ligne",null,"439-102-17","Atelier de sensibilisation et de développement en sécurité nationale\nEn ligne","S3","s.o.",null,null,null,null,null,null,null,null,null,null,null,null,null,null,"2+0"]
[null,null,"Policiers","Enquête","Enquête - Perfectionnement professionnel","Renseignement","MS1","Français","439-302-17","ENPQ &\nENPQ - Campus de Montréal",null,"439-302-17","Agent de renseignement criminel\nCampus de Montréal & ENPQ","MS1",12,null,null,null,null,null,null,null,null,null,null,null,null,null,"1+0","1+0"]
[null,null,"Policiers","Enquête","Enquête - Perfectionnement professionnel","Renseignement",{"$f":"N82","v":"C1"},"Français","439-302-17","ENPQ",null,"439-302-17","Agent de renseignement criminel","C1",12,"25 au 29 août et \n2 au 5 septembre",null,null,null,null,null,null,null,null,"11 au 15 et\n19 au 22",null,null,"2+2","1+2","1+2"]
[null,null,"Policiers","Enquête","Enquête - Perfectionnement professionnel","Enquête policière","C3","Français","436-311-21","ENPQ",null,"436-311-21","Témoignage d'expert en identité judiciaire - CCP","C3",20,null,null,"6 au 10 ",null,null,null,null,null,null,null,null,null,null,"1+0","0+0"]
[null,null,"Policiers","Enquête","Enquête - Perfectionnement professionnel","Enquête policière","C3","Français","436-312-21","ENPQ",null,"436-312-21","Comparaison d'élément de preuve matérielle","C3",20,null,null,null,null,null,null,null,null,null,null,null,null,null,"0+0","1+0"]
[null,null,"Policiers","Enquête","Enquête - Perfectionnement professionnel","Enquête policière","C3","Français","436-313-21","ENPQ",null,"436-313-21","Analyse Lophoscopique avancée ","C3",20]
[null,null,null,null,null,null,{"$f":"N86","v":"C1"},null,"[Sans code de cours]",null,null,"[Sans code de cours]"," Défense physique (déprogrammation)","C1",20,null,null,null,null,null,null,null,null,null,null,null,null,"0+1\nEntre le 10 mars et le 2 avril"]
[null,null,"Policiers","Gestion","Gestion - Formation initiale","Gestionnaires de 1er niveau","-","Français",null,null,null,null,null,null,null,null,null,null,null,null,"PROGRAMMES DE FORMATION INITIALE"]
[null,null,"Policiers","Gestion","Gestion - Formation initiale","Gestionnaires de 1er niveau","-","Français",null,null,null,"n PROGRAMME DE FORMATION  INITIALE EN GESTION POLICIÈRE"]
[null,null,"Policiers","Gestion","Gestion - Formation initiale","Volet 1","A3","Français","ADM-010-86","HC",null,"🎓 ADM-010-86","Volet 1 - Management des organisations policières\nInscriptions en continu (durée 15 semaines)\nEn ligne","A3","s.o.",null,"8 septembre au 19 décembre",null,null,null,"12 janvier au 24 avril",null,null,null,"4 mai au 21 août",null,null,"2+3","1+1","1+1"]
[null,null,"Policiers","Gestion","Gestion - Formation initiale","Volet 2",{"$f":"N90","v":"H1-[S-C]"},"Français","PPU-010-51","MS1",null,"🎓 PPU-010-51","Volet 2 - Pratiques policières\nSemaine 1 : En ligne\nSemaine 2 : ENPQ","H1-[S-C]",32,null,null,null,null,null,null,"9 au 13\n En ligne et\n16 au 20 (ENPQ)",null,"13 au 17 En ligne et\n20 au 24 (ENPQ)",null,null,null,"6+5","4+5","4+5"]
[null,null,"Policiers","Gestion","Gestion - Formation initiale","Volet 2",{"$f":"N91","v":"H1-[S-CM]"},"Français","PPU-010-51","MS1",null,"🎓 PPU-010-51","Volet 2 - Pratiques policières\nSemaine 1 : En ligne\nSemaine 2 : Campus de Montréal","H1-[S-CM]",32,null,null,null,null,null,null,null,"16 au 20 En ligne et\n23 au 27 (CM)",null,"25 au 29 mai En ligne et\n1er au 5 juin (CM)"]
[null,null,"Policiers","Gestion","Gestion - Formation initiale","Gestionnaires de 1er niveau","C1","Français","PPU-010-40","ENPQ",null,"🎓 PPU-010-40","Activité d'immersion à la fonction de cadre de premier niveau","C1",16,null,null,null,null,null,null,null,null,"7 au 10 avril et \n4 au 7 mai",null,null,null,"0+1","0+0","0+1"]
[null,null,"Policiers","Gestion",null,null,"-","Français",null,null,null,"n AUTRES COURS EN GESTION POLICIÈRE (Offerts à l'ENPQ)"]
[null,null,"Policiers","Gestion","Sécurité publique - Perfectionnement professionnel",null,"C1","Français","PPU-010-45","ENPQ",null,"🎓 PPU-010-45","Activité synthèse - Fonction de direction d'une organisation policière","C1",7,null,"17 au 18 septembre 2025 : 1re rencontre\n29 octobre 2025 : 2e rencontre\n5 décembre 2025 : Rencontre de mi-étape\n16 avril : Présentations",null,null,null,null,null,null,null,null,null,null,"0+1","0+1","0+1"]
[null,null,"Policiers","Gestion","Sécurité publique - Perfectionnement professionnel","Gestionnaires de 1er niveau","C1","Français","PPU-010-46","ENPQ",null,"🎓 PPU-010-46","Activité d'intégration en gestion policière","C1",9,null,null,"Bloc 3 \n14 au 16 \n(prévu pour les\nétudiants inscrits en\n2024-2025)",null,null,null,null,null,null,"Bloc 1\n19 au 22",null,null,"0+1","1+0","1+0"]
[null,null,"Sécurité publique","Gestion","Sécurité publique - Perfectionnement professionnel","Gestionnaires de 1er niveau","HC1","Français","PPU-060-01\n","HC - Voir détail sous les dates",null,"🎓 PPU-060-01","Activité de synthèse en management en sécurité publique (2e cycle) (Cohorte fermée)","HC1",20,null,null,null,null,null,null,null,null,null,null,null,null,null,null,"0+6"]
[null,null,"Sécurité publique","Gestion","Sécurité publique - Perfectionnement professionnel","Gestionnaires de 1er niveau",{"$f":"N96","v":"HC1"},"Français"," PPU-060-01","HC - Voir détail sous les dates",null,null,null,null,null,null,null,null,null,null,null,null,null,null,null,null,null,null,"0+0"]
[null,null,"Policiers","Enquête","Enquête - Perfectionnement professionnel","Enquête de crimes majeurs","C1","Français",{"$f":"L98","v":"437-101-12"},"ENPQ",null,"437-101-12","Actualisation des connaissances - Commandant \"Filet\"","C1",40,null,null,null,null,null,30,null,null,null,null,null,null,null,"0+1","0+1"]
[null,null,"Policiers","Enquête","Enquête - Perfectionnement professionnel","Enquête de crimes majeurs","C1","Français","437-105-23","ENPQ",null,"437-105-23","Actualisation des connaissances – Commandant « Filet » pour officier d’opération et membre d’un GTI","C1",80,null,null,null,null,null,29,null,null,null,null,null,null,null,"0+1","0+1"]
[null,null,"Policiers","Enquête","Enquête - Perfectionnement professionnel","Enquête de crimes majeurs","MS1","Français","437-102-07","ENPQ",null,"437-102-07","Introduction à l'Opération Filet II","MS1",20,null,null,"6 au 8",null,null,null,null,null,"27 au 29",null,null,null,"3+3","3+3","3+3"]
[null,null,"Policiers","Enquête","Enquête - Perfectionnement professionnel","Enquête de crimes majeurs","C1","Français","437-104-19","ENPQ",null,"437-104-19","Officier d'opération - Filet II et Filet III - Phase de validation","C1",16,null,null,"14 au 16",null,null,null,null,null,null,null,null,null,"1+2","1+2","1+2"]
[null,null,"Policiers","Enquête","Enquête - Perfectionnement professionnel","Enquête de crimes majeurs","C1","Français","437-204-09","ENPQ",null,"437-204-09","Opération Filet - Le commandant","C1",16,null,null,null,null,null,null,null,null,null,"25 au 29",null,null,"0+1","0+1","0+1"]
[null,null,"Policiers","Gestion","Gestion - Perfectionnement professionnel","Police communautaire",{"$f":"N103","v":"C1"},"Français","602-101-18","ENPQ",null,"602-101-18","Gestion des stratégies proactives ","C1",10,null,null,null,null,null,null,null,null,null,null,null,null,"1+1","1+1","0+0"]
[null,null,"Policiers","Gestion","Gestion - Perfectionnement professionnel","Police communautaire",{"$f":"N104","v":"CM1"},"Français","602-101-18","ENPQ - Campus de Montréal",null,"602-101-18","Gestion des stratégies proactives \nCampus de Montréal","CM1",10]
[null,null,"Policiers","Gestion","Gestion - Perfectionnement professionnel","Police communautaire",{"$f":"N105","v":"HC1"},"Français","602-101-18","BLAINVILLE",null,"602-101-18","Gestion des stratégies proactives\nHors campus - BLAINVILLE ","HC1",10,null,null,null,null,null,null,null,null,null,null,null,null,"0+1","0+1","0+0"]
[null,null,"Policiers","Gestion","Gestion - Perfectionnement professionnel","Recherche terrestre","C1","Français","622-101-24","ENPQ",null,"622-101-24","Gestion initiale en recherche terrestre","C1",20,null,null,"6 au 8",null,null,null,"2 au 4",null,null,null,null,null,"1+0","1+0","1+1"]
[null,null,"Policiers","Gestion","Gestion - Perfectionnement professionnel","Recherche terrestre",{"$f":"N107","v":"HC1"},"Anglais","622-101-24",null,null,"622-101-24","Initial Ground Search Management\nANGLAIS\nHors Campus","HC1",20,"À la demande "]
[null,null,"Policiers","Gestion","Gestion - Perfectionnement professionnel","Recherche terrestre",{"$f":"N108","v":"HC1"},"Français","622-101-24","HC - Voir détail sous les dates",null,"622-101-24","Gestion initiale en recherche terrestre\nHors Campus","HC1",20,null,null,null,null,null,null,null,null,null,null,null,null,"0+1","1+0","1+0"]
[null,null,"Policiers","Gestion","Gestion - Perfectionnement professionnel","Recherche terrestre",{"$f":"N109","v":"CM1"},"Français","622-101-24","ENPQ - Campus de Montréal",null,"622-101-24","Gestion initiale en recherche terrestre\nCampus de Montréal","CM1",20,null,null,null,"24 au 26",null,null,null,null,null,"19 au 21",null,null,null,"0+1","0+1"]
[null,null,"Sécurité publique","Gestion","Sécurité publique - Perfectionnement professionnel","Psychologie",{"$f":"N110","v":"C1"},"Français","828-102-15","ENPQ",null,"828-102-15","Prévention des impacts psychologiques (CADRE)","C1",14,null,null,22,null,null,null,2,null,null,null,null,null,null,"1+1","1+1"]
[null,null,"Sécurité publique","Gestion","Sécurité publique - Perfectionnement professionnel","Psychologie",{"$f":"N111","v":"HC1"},"Français","828-103-15","HC - Voir détail sous les dates",null,"828-103-15","Prévention des impacts psychologiques\n(SUPERVISEUR)","HC1",14,"Dates à venir",null,null,null,null,null,null,null,null,null,null,null,null,"1+0","3+6"]
[null,null,"Sécurité publique","Gestion","Sécurité publique - Perfectionnement professionnel","Psychologie",{"$f":"N111","v":"HC1"},"Français",{"$f":"L111","v":"828-103-15"},"HC - Voir détail sous les dates"]
[null,null,"Sécurité publique","Gestion","Sécurité publique - Perfectionnement professionnel","Psychologie",{"$f":"N113","v":"CM1"},"Français",{"$f":"L113","v":"828-103-15"},"ENPQ - Campus de Montréal",null,"828-103-15","Prévention des impacts psychologiques\n(SUPERVISEUR)\nCampus de Montréal","CM1",14,null,null,null,null,null,null,null,null,null,null,null,null,null,"1+0","1+0"]
[null,null,"Sécurité publique","Gestion","Sécurité publique - Perfectionnement professionnel","Psychologie",{"$f":"N114","v":"C1"},"Français",{"$f":"L114","v":"828-103-15"},"ENPQ",null,"828-103-15","Prévention des impacts psychologiques\n(SUPERVISEUR)","C1",14,null,"22 au 23",null,"13 au 14",null,"27 au 28",null,"16 au 17","23 au 24",null,null,null,null,"0+1","2+4"]
[null,null,null,null,null,null,"-","Français",null,null,null,null,null,null,null,null,null,null,null,null,"PERFECTIONNEMENT POLICIER"]
[null,null,"Sécurité publique","Gestion","Sécurité publique - Perfectionnement professionnel","Psychologie","-","Français",null,null,null,"n CENTRE D'ÉVALUATION DES COMPÉTENCES ET APTITUDES PROFESSIONNELLES"]
[null,null,"Sécurité publique","Gestion","Sécurité publique - Perfectionnement professionnel","Psychologie","C1","Français",{"$f":"L117","v":"828-201-07"},"ENPQ",null,"828-201-07","Sélection du personnel policier 1 - Concepts et application - Appréciation par simulation","C1",14,null,null,null,null,null,null,null,null,null,null,null,null,"1+1","1+1","1+1"]
[null,null,"Sécurité publique","Gestion","Sécurité publique - Perfectionnement professionnel","Psychologie","C1","Français",{"$f":"L118","v":"828-202-07"},"ENPQ",null,"828-202-07","Sélection du personnel policier 2 - Principes et méthodes - Entrevue structurée","C1",14,null,null,null,null,null,null,null,null,null,null,null,null,"1+1","1+1","0+1"]
[null,null,"Policiers","Enquête","Enquête - Perfectionnement professionnel",null,"-","Français",null,null,null,null,null,null,null,null,null,null,null,null,"PERFECTIONNEMENT POLICIER"]
[null,null,"Policiers","Enquête","Enquête - Perfectionnement professionnel",null,"-","Français",null,null,null,"n PROGRAMME ACCES (Alcool, Tabac, Cannabis)"]
[null,null,"Policiers","Enquête","Enquête - Perfectionnement professionnel","Enquête policière","C1","Français",{"$f":"L121","v":"436-004-07"},"ENPQ",null,"436-004-07","Inspections systématiques dans les endroits licenciés\n*Réservé aux corps de police municipaux (SAUF SPVM)","C1",16,null,"16 au 19","21 au 24","25 au 28",null,"27 au 30","17 au 20",null,null,null,"2 au 5",null,"3+3","1+3","1+2"]
[null,null,"Policiers","Enquête","Enquête - Perfectionnement professionnel","Enquête policière","CM1","Français","436-004-07","ENPQ - Campus de Montréal",null,"436-004-07","Inspections systématiques dans les endroits licenciés\nCampus de  Montréal","CM1",16,null,null,null,null,null,null,null,null,null,null,null,null,null,"2+0","2+0"]
[null,null,"Policiers","Enquête","Enquête - Perfectionnement professionnel","Enquête sur les activités économiques","C1","Français","847-102-20","ENPQ",null,"847-102-20","Gestion administrative et opérationnelle ","C1",30,null,null,null,null,null,null,null,null,null,null,null,null,null,"0+0","0+1"]
[null,null,"Policiers","Enquête","Enquête - Perfectionnement professionnel","Enquête sur les activités économiques","HC1","Français","847-102-20","HC - Voir détail sous les dates",null,"847-102-20","Gestion administrative et opérationnelle \nHors campus","HC1",30]
[null,null,"Policiers","Enquête","Enquête - Perfectionnement professionnel","Enquête sur les activités économiques","HC1","Français","440-101-23","HC - Voir détail sous les dates",null,"440-101-23","Intervention en matière de contrebande de tabac\nHors campus","HC1",30,null,null,null,null,null,null,null,null,null,null,null,null,null,"0+0","2+2"]
[null,null,"Policiers","Enquête","Enquête - Perfectionnement professionnel","Enquête sur les activités économiques","C1","Français","440-101-23","ENPQ",null,"440-101-23","Intervention en matière de contrebande de tabac","C1",30]
[null,null,"Policiers","Enquête","Enquête - Perfectionnement professionnel","Enquête sur les activités économiques","C1","Français","836-136-18","ENPQ",null,"836-136-18","Intervention en matière de cannabis","C1",20,null,"10 au 12","15 au 17",null,null,"7 au 9",null,"4 au 6",null,null,"10 au 12",null,"3+3","3+3","3+4"]
[null,null,"Policiers","Enquête","Enquête - Perfectionnement professionnel","Enquête sur les activités économiques",{"$f":"N127","v":"C1"},"Français",{"$f":"L127","v":"836-136-18"},"ENPQ",null,null,null,null,null,null,"22 au 24",null,null,null,null,null,"30 mars au 1er avril"]
[null,null,"Autochtones",null,null,null,"-","Français",null,null,null,null,null,null,null,null,null,null,null,null,"Formations autochtones"]
[null,null,"Autochtones",null,null,null,"-","Français",null,null,null,"n Formations autochtones"]
[null,null,"Autochtones","Patrouille-gendarmerie","Patrouille-gendarmerie - Formation initiale","Activités du patrouilleur - autres","C1","Anglais",{"$f":"L131","v":"PFIPG-Autochtone"},"ENPQ",null,"PFIPG-Autochtone","PFIPG-Autochtone - ANGLAIS - 262e cohorte","C1",18,null,"8 septembre au 12 décembre",null,null,null,null,null,null,null,null,null,null,null,1,1]
[null,null,"Autochtones","Patrouille-gendarmerie","Patrouille-gendarmerie - Formation initiale","Activités du patrouilleur - autres",{"$f":"N132","v":"C1"},"Français","PFIPG-Autochtone","ENPQ",null,"PFIPG-Autochtone","PFIPG-Autochtone - 272e cohorte","C1",18,null,null,null,null,null,null,null,null,null,null,null,null,null,1,1]
[null,null,"Autochtones","Enquête","Enquête - Perfectionnement professionnel","Enquête policière","HC1","Français","436-314-22","GATINEAU",null,"436-314-22","Criminal Investigators Training (OPC)\nHors campus - Gatineau\nHoliday Inn Express & Suites \n11 Impasse de la Gare-Talon\nGatineau, J8T 0B1","HC1",18,null,null,null,null,null,null,null,null,null,null,null,null,null,"1+0","1+0"]
[null,null,"Autochtones","Enquête","Enquête - Perfectionnement professionnel","Enquête policière",{"$f":"N134","v":"C1"},"Anglais","436-115-22","ENPQ",null,"436-115-22","Intervention in Conjugal, Intrafamily and Sexual Violence Situations – Indigenous Police Forces","C1",18,"On demand",null,null,null,null,null,null,null,null,null,null,null,null,"0+1","0+1"]
[null,null,"Autochtones","Enquête","Enquête - Perfectionnement professionnel","Enquête policière",{"$f":"N134","v":"C1"},"Français","436-115-22","ENPQ",null,"436-115-22","Intervenir en matière de violence conjugale, intrafamiliale et sexuelle - Corps de police autochtones","C1",18,null,null,null,null,null,null,null,null,null,null,null,null,null,"0+1","0+1"]
[null,null,"Autochtones","Enquête","Enquête - Perfectionnement professionnel","Enquête policière",{"$f":"N136","v":"HC1"},"Anglais","436-115-22","HC - Voir détail sous les dates",null,"436-115-22","Intervention in Conjugal, Intrafamily and Sexual Violence Situations – Indigenous Police Forces\nHors campus","HC1",12,"On demand",null,null,null,null,null,null,null,null,null,null,null,null,"4+3","0+3"]
[null,null,"Autochtones","Enquête","Enquête - Perfectionnement professionnel","Enquête policière",{"$f":"N136","v":"HC1"},"Anglais",{"$f":"L136","v":"436-115-22"},"HC - Voir détail sous les dates"]
[null,null,"Autochtones","Enquête","Enquête - Perfectionnement professionnel","Enquête policière",{"$f":"N136","v":"HC1"},"Français",{"$f":"L138","v":"436-115-22"},"HC - Voir détail sous les dates",null,"436-115-22","Intervenir en matière de violence conjugale, intrafamiliale et sexuelle - Corps de police autochtones\nHors campus","HC1",12,null,null,null,null,null,null,null,null,null,null,null,null,null,"2+1","2+1"]
[null,null,"Autochtones","Enquête","Enquête - Perfectionnement professionnel","Enquête policière","HC1","Français",{"$f":"L139","v":"436-109-17"},"HC - Voir détail sous les dates",null,"436-109-17","Prélèvements d'échantillons d'ADN\nHors campus","HC1",null,null,null,null,null,null,null,null,null,null,null,null,null,null,"0+0","0+0"]
[null,null,"Policiers",null,"Patrouille-gendarmerie - Formation initiale","Activités du patrouilleur - autres","-","Français",null,null,null,null,null,null,null,null,null,null,null,null,"Équivalences"]
[null,null,"Policiers",null,"Patrouille-gendarmerie - Formation initiale","Activités du patrouilleur - autres","-","Français",null,null,null,"n Équivalences"]
[null,null,"Policiers","Patrouille-gendarmerie","Patrouille-gendarmerie - Formation initiale","Activités du patrouilleur - autres",{"$f":"N142","v":"C1"},"Anglais",{"$f":"L142","v":"103-201-18"},"ENPQ",null,"103-201-18","Equivalence acquisition session 5 days","C1",6,null,null,null,null,null,null,null,null,null,null,null,null,null,"1+1","1+1"]
[null,null,"Policiers","Patrouille-gendarmerie","Patrouille-gendarmerie - Formation initiale","Activités du patrouilleur - autres","C1","Français",{"$f":"L143","v":"103-201-18"},"ENPQ",null,"103-201-18","Session d'équivalence 5 jours","C1",6,null,null,null,null,null,null,null,null,null,null,null,null,null,"2+2","1+1"]
[null,null,"Policiers",null,null,null,"-","Français",null,null,null,null,null,null,null,null,null,null,null,null,"PERFECTIONNEMENT POLICIER"]
[null,null,"Policiers","Patrouille-gendarmerie","Patrouille-gendarmerie - Perfectionnement professionnel",null,"-","Français",null,null,null,"n PATROUILLE-GENDARMERIE"]
[null,null,"Policiers","Patrouille-gendarmerie","Patrouille-gendarmerie - Perfectionnement professionnel",null,"-","Français","Formation en pédagogie",null,null,"Formation en pédagogie"]
[null,null,"Policiers","Patrouille-gendarmerie","Patrouille-gendarmerie - Perfectionnement professionnel","Pédagogie","C1","Anglais",{"$f":"L147","v":"232-201-24"},"ENPQ",null,"232-201-24","Teaching and Learning Practices","C1",8,null,"29 septembre au\n 3 octobre",null,null,null,null,null,null,null,null,null,null,null,"1+0","1+0"]
[null,null,"Policiers","Patrouille-gendarmerie","Patrouille-gendarmerie - Perfectionnement professionnel","Pédagogie",{"$f":"N147","v":"C1"},"Français",{"$f":"L148","v":"232-201-24"},"ENPQ",null,"232-201-24","Interventions pédagogiques","C1",8,null,null,null,"10 au 14","8 au 12",null,"2 au 6",null,null,null,null,null,"2+2","2+2","2+2"]
[null,null,"Policiers","Patrouille-gendarmerie","Patrouille-gendarmerie - Perfectionnement professionnel","Pédagogie","HC1","Français",{"$f":"L149","v":"232-201-24"},"BLAINVILLE",null,"232-201-24","Interventions pédagogiques\nHors campus - BLAINVILLE","HC1",8,null,null,"6 au 10 ","3 au 7",null,null,null,"16 au 20",null,null,null,null,"3+2","2+2","2+2"]
[null,null,"Policiers","Enquête","Gestion - Perfectionnement professionnel","Pédagogie",{"$f":"N150","v":"H1-[S-C]"},"Français",{"$f":"L150","v":"648-101-24"},"ENPQ",null,"648-101-24","Agent d'information","H1-[S-C]",6,null,null,"14 En ligne et 16 au 17",null,null,null,null,"17 En ligne et 19 au 20",null,null,null,null,null,"0+2","0+2"]
[null,null,null,null,null,null,"-","Français","Activités du patrouilleur",null,null,"Activités du patrouilleur"]
[null,null,"Policiers","Patrouille-gendarmerie","Patrouille-gendarmerie - Perfectionnement professionnel","Police communautaire","CM1","Français",{"$f":"L152","v":"202-201-11"},"ENPQ - Campus de Montréal",null,"202-201-11","Stratégies proactives\nCampus de Montréal","CM1",20,null,null,null,null,null,null,null,null,null,null,null,null,"2+1","2+1","0+1"]
[null,null,"Policiers","Patrouille-gendarmerie","Patrouille-gendarmerie - Perfectionnement professionnel","Police communautaire","HC1","Français","202-201-11","BLAINVILLE",null,"202-201-11","Stratégies proactives\nHors campus - BLAINVILLE","HC1",20,null,null,null,null,null,null,null,null,null,null,null,null,null,"0+1","1+1"]
[null,null,"Policiers","Patrouille-gendarmerie","Patrouille-gendarmerie - Perfectionnement professionnel","Police communautaire",{"$f":"N154","v":"C1"},"Français","202-201-11","ENPQ",null,"202-201-11","Stratégies proactives","C1",20,null,null,null,null,null,null,null,null,null,"25 au 29",null,null,null,"0+0","0+0"]
[null,null,"Policiers","Patrouille-gendarmerie","Gestion - Perfectionnement professionnel","Gestionnaires de 1er niveau","A3","Français","203-005-22","En Ligne",null,"203-005-22","Méthode d'intervention SEXTO pour les policiers\nEn ligne","A3","s.o."]
[null,null,"Policiers","Patrouille-gendarmerie","Patrouille-gendarmerie - Perfectionnement professionnel","Activités du patrouilleur - autres","A1","Français","203-104-16","En Ligne",null,"203-104-16","Référentiel sur les biens infractionnels\nEn ligne","A1","s.o.","À la demande"]
[null,null,"Policiers","Patrouille-gendarmerie","Patrouille-gendarmerie - Perfectionnement professionnel","Activités du patrouilleur - autres","HC1","Français","203-108-17","HC - Voir détail sous les dates",null,"203-108-17","Intervenir conjointement auprès d'une personne en crise","HC1",6,"À la demande "]
[null,null,"Policiers","Patrouille-gendarmerie","Patrouille-gendarmerie - Perfectionnement professionnel","Activités du patrouilleur - autres","A1","Français","203-110-19","En Ligne",null,"203-110-19","Capsules interactives - Intervention en contexte de violence conjugale\nEn ligne","A1","s.o.","À la demande"]
[null,null,"Policiers","Patrouille-gendarmerie","Patrouille-gendarmerie - Perfectionnement professionnel","Activités du patrouilleur - autres","A1","Français","203-115-22","En Ligne",null,"203-115-22","FLAIR CRPQ\nEn ligne","A1","s.o."]
[null,null,"Policiers","Patrouille-gendarmerie","Patrouille-gendarmerie - Perfectionnement professionnel","Activités du patrouilleur - autres","A3","Français","203-112-20","En Ligne",null,"203-112-20","Adopter une approche adaptée aux traumatismes – RCSP/CPKN \nEn ligne","A3","s.o."]
[null,null,"Policiers","Patrouille-gendarmerie","Patrouille-gendarmerie - Perfectionnement professionnel","Activités du patrouilleur - autres","A3","Français","203-114-21","En Ligne",null,"203-114-21","Introduction à la traite des personnes – RCSP/CPKN \nEn ligne","A3","s.o."]
[null,null,"Policiers","Patrouille-gendarmerie","Patrouille-gendarmerie - Perfectionnement professionnel","Activités du patrouilleur - autres","A3","Français","203-116-22","En Ligne",null,"203-116-22","Droit du consentement et mythes entourant les agressions sexuelles RCSP/CPKN\nEn ligne","A3","s.o."]
[null,null,"Policiers","Patrouille-gendarmerie","Patrouille-gendarmerie - Perfectionnement professionnel","Activités du patrouilleur - autres","A3","Français","203-117-22","En Ligne",null,"203-117-22","Amélioration de la déclaration de la cybercriminalité au moyen du programme de déclaration uniforme de la criminalité (DUC) - RCSP/CPKN \nEn ligne","A3","s.o."]
[null,null,"Policiers","Patrouille-gendarmerie","Patrouille-gendarmerie - Perfectionnement professionnel","Activités du patrouilleur - autres","A1","Français","203-118-22","En Ligne",null,"203-118-22","Sensibilisation aux autochtones - RCSP/CPKN \nEn ligne","A1","s.o."]
[null,null,"Policiers","Patrouille-gendarmerie","Patrouille-gendarmerie - Perfectionnement professionnel","Activités du patrouilleur - autres","HC1","Français","203-120-24","HC - Voir détail sous les dates",null,"203-120-24","Formation des répondants - Capsules  pour contrer le racisme ainsi que le profilage racial et social (capsules 1 et 2)","HC1",null,null,null,null,null,null,null,null,null,null,null,null,null,null,"0+0","1+0"]
[null,null,"Policiers","Patrouille-gendarmerie","Patrouille-gendarmerie - Perfectionnement professionnel","Activités du patrouilleur - autres",{"$f":"N166","v":"HC1"},"Français","203-124-24","HC - Voir détail sous les dates",null,"203-124-24","Formation des répondants - Capsules  pour contrer le racisme ainsi que le profilage racial et social (capsule 3)","HC1",null,null,null,null,null,null,null,null,null,null,null,null,null,null,"0+0","2+0"]
[null,null,"Policiers","Patrouille-gendarmerie","Patrouille-gendarmerie - Perfectionnement professionnel","Activités du patrouilleur - autres",{"$f":"N167","v":"A1"},"Français","203-125-25","En Ligne",null,"203-125-25","Formation des répondants – Capsules pour contrer le racisme ainsi que le profilage racial et social (capsule 4)\nEn ligne","A1","s.o."]
[null,null,"Policiers","Patrouille-gendarmerie","Patrouille-gendarmerie - Perfectionnement professionnel","Activités du patrouilleur - autres","A3","Français","203-121-23","En Ligne",null,"203-121-23","2SLGBTQ+ - RCSP/CPKN \nEn ligne","A3","s.o."]
[null,null,"Policiers","Patrouille-gendarmerie","Patrouille-gendarmerie - Perfectionnement professionnel","Activités du patrouilleur - autres","A3","Français","203-122-23","En Ligne",null,"203-122-23","Droit des victimes au Canada - RCSP/CPKN \nEn ligne","A3","s.o."]
[null,null,"Policiers","Patrouille-gendarmerie","Sécurité publique - Perfectionnement professionnel","Psychologie","A1","Français","828-107-17","En Ligne",null,"828-107-17","Prévention des impacts psychologiques chez les policiers\nEn ligne","A1","s.o.","À la demande"]
[null,null,"Policiers","Patrouille-gendarmerie","Patrouille-gendarmerie - Perfectionnement professionnel","Activités du patrouilleur - autres","C1","Français","203-106-16","ENPQ",null,"203-106-16","Actualisation des connaissances juridiques du patrouilleur","C1",30,null,null,14,null,null,null,null,null,null,null,1,null,"1+1","1+1","1+1"]
[null,null,"Policiers","Patrouille-gendarmerie","Patrouille-gendarmerie - Perfectionnement professionnel","Activités du patrouilleur - autres","HC1","Français","203-106-16","BLAINVILLE",null,"203-106-16","Actualisation des connaissances juridiques du patrouilleur\nHors campus - BLAINVILLE","HC1",30,"À la demande"]
[null,null,"Policiers","Patrouille-gendarmerie","Patrouille-gendarmerie - Perfectionnement professionnel","Activités du patrouilleur - autres",{"$f":"N173","v":"HC1"},"Français","203-106-16","HC - Voir détail sous les dates",null,"203-106-16","Actualisation des connaissances juridiques du patrouilleur","HC1",15,null,null,null,null,null,null,null,null,null,null,null,null,null,"0+0","0+8"]
[null,null,"Policiers","Patrouille-gendarmerie","Patrouille-gendarmerie - Perfectionnement professionnel","Activités du patrouilleur - autres",{"$f":"N173","v":"HC1"},"Français",{"$f":"L173","v":"203-106-16"},"HC - Voir détail sous les dates"]
[null,null,"Policiers","Patrouille-gendarmerie","Patrouille-gendarmerie - Perfectionnement professionnel","Activités du patrouilleur - autres",{"$f":"N175","v":"C1"},"Anglais",{"$f":"L175","v":"203-123-24"},"ENPQ",null,"203-123-24","Patroller Competencies Update","C1",24,null,null,null,null,null,null,null,null,null,null,null,null,null,"0+1","0+1"]
[null,null,"Policiers","Patrouille-gendarmerie","Patrouille-gendarmerie - Perfectionnement professionnel","Activités du patrouilleur - autres",{"$f":"N176","v":"C1"},"Français","203-123-24","ENPQ",null,"203-123-24","Actualisation des compétences du patrouilleur","C1",24,null,"22 au 26 septembre et\n29 septembre au 3 octobre",null,null,null,"12 au 16 et\n19 au 23",null,null,null,null,null,null,"1+2","1+1","1+1"]
[null,null,"Policiers","Patrouille-gendarmerie","Patrouille-gendarmerie - Perfectionnement professionnel","Enquête capacité affaiblie","C1","Français","209-107-11","ENPQ",null,"209-107-11","Journée d'information - Agent évaluateur","C1",150,null,null,null,null,null,null,null,null,30,null,null,null,"1+0","0+0","1+0"]
[null,null,"Policiers","Patrouille-gendarmerie","Patrouille-gendarmerie - Perfectionnement professionnel","Enquête capacité affaiblie","HC1","Français","209-112-19","HC - Voir détail sous les dates",null,"209-112-19","Mise à jour : épreuves de coordination des mouvements","HC1",6,"À la demande"]
[null,null,"Policiers","Patrouille-gendarmerie","Patrouille-gendarmerie - Perfectionnement professionnel","Enquête capacité affaiblie","A1","Français","209-113-19","En Ligne",null,"209-113-19","Prélèvement sanguin \nEn ligne","A1","s.o.","À la demande"]
[null,null,"Policiers","Patrouille-gendarmerie","Patrouille-gendarmerie - Perfectionnement professionnel","Enquête capacité affaiblie",{"$f":"N180","v":"C1"},"Français","209-310-10","ENPQ",null,"209-310-10","Agent évaluateur","C1",12,null,"8 au 12 \net\n15 au 19",null,null,null,"19 au 23 \net\n26 au 30",null,null,null,null,null,null,"1+1","1+2","2+1"]
[null,null,"Policiers","Patrouille-gendarmerie","Patrouille-gendarmerie - Perfectionnement professionnel","Enquête capacité affaiblie","C1","Français","209-311-10","ENPQ",null,"209-311-10","Agent évaluateur - Requalification","C1",4,null,5,27,7,1,9,2,9,13,14,null,null,"4+6","4+10","7+14"]
[null,null,"Policiers","Patrouille-gendarmerie","Patrouille-gendarmerie - Perfectionnement professionnel","Enquête capacité affaiblie",{"$f":"N181","v":"C1"},"Français",{"$f":"L181","v":"209-311-10"},"ENPQ",null,null,null,null,null,null,23,28,12,null,16,3,16,14]
[null,null,"Policiers","Patrouille-gendarmerie","Patrouille-gendarmerie - Perfectionnement professionnel","Enquête capacité affaiblie",{"$f":"N181","v":"C1"},"Français",{"$f":"L181","v":"209-311-10"},"ENPQ",null,null,null,null,null,null,26,30,null,null,null,4,20]
[null,null,"Policiers","Patrouille-gendarmerie","Patrouille-gendarmerie - Perfectionnement professionnel","Enquête capacité affaiblie",{"$f":"N184","v":"MS1"},"Français",{"$f":"L184","v":"209-312-11"},"TERRAIN",null,"209-312-11","Agent évaluateur - Pratique\nHors campus","MS1",3,null,"29 septembre au 3 octobre",null,null,null,null,"9 au 13","2 au 6",null,null,null,null,"4+4","4+8","4+8"]
[null,null,"Policiers","Patrouille-gendarmerie","Patrouille-gendarmerie - Perfectionnement professionnel","Enquête capacité affaiblie",{"$f":"N184","v":"MS1"},"Français",{"$f":"L184","v":"209-312-11"},"TERRAIN",null,null,null,null,null,null,null,"6 au 10 ",null,null,null,"16 au 20"]
[null,null,"Policiers","Patrouille-gendarmerie","Patrouille-gendarmerie - Perfectionnement professionnel","Enquête capacité affaiblie",{"$f":"N184","v":"MS1"},"Français",{"$f":"L184","v":"209-312-11"},"TERRAIN",null,null,null,null,null,null,null,"13 au 17",null,null,null,"23 au 26"]
[null,null,"Policiers","Patrouille-gendarmerie","Patrouille-gendarmerie - Perfectionnement professionnel","Enquête capacité affaiblie",{"$f":"N184","v":"MS1"},"Français",{"$f":"L184","v":"209-312-11"},"TERRAIN",null,null,null,null,null,null,null,"20 au 24"]
[null,null,"Policiers","Patrouille-gendarmerie","Patrouille-gendarmerie - Perfectionnement professionnel","Enquête capacité affaiblie","C1","Français",{"$f":"L188","v":"209-205-08"},"ENPQ",null,"209-205-08","Épreuves de coordination des mouvements","C1",6,"À la demande",null,null,null,null,null,null,null,null,null,null,null,null,"0+1","0+1"]
[null,null,"Policiers","Patrouille-gendarmerie","Patrouille-gendarmerie - Perfectionnement professionnel","Enquête capacité affaiblie","C1","Français",{"$f":"L189","v":"209-708-20"},"ENPQ",null,"209-708-20","Épreuves de coordination des mouvements - L'instructeur","C1",12,null,null,null,null,null,null,null,null,"20 au 22",null,null,null,"0+1","0+1","0+1"]
[null,null,"Policiers","Patrouille-gendarmerie","Patrouille-gendarmerie - Perfectionnement professionnel","Enquête capacité affaiblie","HC1","Français",{"$f":"L190","v":"209-708-20"},"HC - Voir détail sous les dates",null,"209-708-20","Épreuves de coordination des mouvements - L'instructeur","HC1",4]
[null,null,"Policiers","Patrouille-gendarmerie","Patrouille-gendarmerie - Perfectionnement professionnel","Enquête capacité affaiblie","C1","Français",{"$f":"L191","v":"209-709-20"},"ENPQ",null,"209-709-20","Épreuves de coordination des mouvements - L'instructeur - Requalification","C1",6,null,null,null,null,11,null,null,null,null,null,5,null,"1+0","1+0","2+0"]
[null,null,"Policiers","Patrouille-gendarmerie","Patrouille-gendarmerie - Perfectionnement professionnel","Enquête capacité affaiblie","HC1","Français",{"$f":"L192","v":"209-109-18"},"HC - Voir détail sous les dates",null,"209-109-18","Mise à jour des pouvoirs et devoirs de l'agent de la paix en matière de capacité de conduire affaiblie","HC1",20,"À la demande"]
[null,null,"Policiers","Patrouille-gendarmerie","Patrouille-gendarmerie - Perfectionnement professionnel","Enquête capacité affaiblie",{"$f":"N192","v":"HC1"},"Français",{"$f":"L192","v":"209-109-18"},"HC - Voir détail sous les dates",null,null,null,null,null,"(sous réserve de la reconduite des subventions du programme de chantier cannabis)"]
[null,null,"Policiers","Patrouille-gendarmerie","Patrouille-gendarmerie - Perfectionnement professionnel","Pouvoirs et devoirs","A1","Français",{"$f":"L194","v":"226-101-18"},"En Ligne",null,"226-101-18","Introduction aux dispositions législatives sur le cannabis \nEn ligne","A1","s.o.","À la demande"]
[null,null,"Policiers","Patrouille-gendarmerie","Patrouille-gendarmerie - Perfectionnement professionnel","Sécurité routière - Autres","C1","Français","211-101-13","ENPQ",null,"211-101-13","Sonomètre","C1",6,"À la demande"]
[null,null,"Policiers","Patrouille-gendarmerie","Patrouille-gendarmerie - Perfectionnement professionnel","Sécurité routière - Autres","C1","Français","211-102-19","ENPQ",null,"211-102-19","Inspection systématique du système d'échappement d'une motocyclette et d'un cyclomoteur","C1",10,null,null,null,null,null,null,null,2,2,null,null,null,"0+1","0+1","0+1"]
[null,null,"Policiers","Patrouille-gendarmerie","Patrouille-gendarmerie - Perfectionnement professionnel","Sécurité routière - Autres",{"$f":"N197","v":"HC1"},"Français","211-102-19","HC - Voir détail sous les dates",null,"211-102-19","Inspection systématique du système d'échappement d'une motocyclette et d'un cyclomoteur\nHors campus ","HC1",10,"À la demande",null,null,null,null,null,null,null,null,null,null,null,null,"0+0","1+0"]
[null,null,"Policiers","Patrouille-gendarmerie","Patrouille-gendarmerie - Perfectionnement professionnel","Sécurité routière - Autres","A3","Français","211-104-23","En Ligne",null,"211-104-23","Intervention intiale en cas d'incident critique - RCSP/CPKN \nEn ligne","A3","s.o."]
[null,null,"Policiers","Patrouille-gendarmerie","Patrouille-gendarmerie - Perfectionnement professionnel","Sécurité routière - Autres","C1","Français","211-201-20","ENPQ",null,"211-201-20","Code de la sécurité routière","C1",16,null,null,"14 au 17",null,null,null,null,null,null,null,null,null,"1+1","1+1","1+1"]
[null,null,null,null,null,null,"-","Français",null,null,null,"Patrouille spécialisée"]
[null,null,"Policiers","Patrouille-gendarmerie","Patrouille-gendarmerie - Perfectionnement professionnel","Conduite","HC1","Français",{"$f":"L201","v":"201-102-19"},"HC - Voir détail sous les dates",null,"201-102-19","Conduite d'un véhicule tirant une remorque\nHors campus","HC1",2,"À la demande"]
[null,null,"Policiers","Patrouille-gendarmerie","Patrouille-gendarmerie - Perfectionnement professionnel","Conduite","HC1","Français","201-103-19","HC - Voir détail sous les dates",null,"201-103-19","Conduite d'un véhicule tirant une remorque exigeant un permis ou une ronde de sécurité\nHors campus","HC1",2,"À la demande"]
[null,null,"Policiers","PDPP","Patrouille-gendarmerie - Perfectionnement professionnel","Conduite","HC1","Français","201-201-18","SANAIR",null,"201-201-18","Conduire un véhicule d'urgence - Niveau 2\nHors campus - SANAIR","HC1",9,"Dates à venir",null,null,null,null,null,null,null,null,null,null,null,"1+0"]
[null,null,"Policiers","PGPP","Patrouille-gendarmerie - Perfectionnement professionnel","Conduite","HC1","Français","201-601-18","SANAIR",null,"201-601-18","Conduire un véhicule d'urgence - Le moniteur\nHors campus - SANAIR","HC1",9,"Dates à venir",null,null,null,null,null,null,null,null,null,null,null,null,"0+0","0+0"]
[null,null,"Policiers","PGPP","Patrouille-gendarmerie - Perfectionnement professionnel","Conduite","C1","Français","201-602-18","ENPQ",null,"201-602-18","Conduire un véhicule d'urgence - Le moniteur - Requalification","C1",9,null,null,null,"18 au 19",null,null,null,null,"21 au 22",null,null,null,"1+0","1+2","1+2"]
[null,null,"Policiers","Patrouille-gendarmerie","Patrouille-gendarmerie - Perfectionnement professionnel","Conduite",{"$f":"N206","v":"C1"},"Français","201-105-19","ENPQ",null,"201-105-19","Contrôle d'un véhicule d’urgence en situation de dérapage ","C1",6,"À la demande"]
[null,null,"Policiers","Patrouille-gendarmerie","Patrouille-gendarmerie - Perfectionnement professionnel","Patrouilles spécialisées","S1","Français","210-203-06","En Ligne",null,"210-203-06","Loi sur les véhicules hors route\nEn ligne","S1",12,null,null,null,null,null,9,null,9,8,null,null,null,"0+2","0+2","0+4"]
[null,null,"Policiers","Patrouille-gendarmerie","Patrouille-gendarmerie - Perfectionnement professionnel","Patrouilles spécialisées",{"$f":"N207","v":"S1"},"Français",{"$f":"L207","v":"210-203-06"},"En Ligne",null,null,null,null,null,null,null,null,null,null,26]
[null,null,"Policiers","Patrouille-gendarmerie","Patrouille-gendarmerie - Perfectionnement professionnel","Patrouilles spécialisées","C1","Français",{"$f":"L209","v":"210-201-08"},"ENPQ",null,"210-201-08","Patrouille à bicyclette","C1",6,null,null,null,null,null,null,null,null,null,"27 au 29","3 au 5",null,"0+4","0+4","0+4"]
[null,null,"Policiers","Patrouille-gendarmerie",null,"Patrouilles spécialisées",{"$f":"N209","v":"C1"},"Français",{"$f":"L209","v":"210-201-08"},"ENPQ",null,null,null,null,null,null,null,null,null,null,null,null,null,null,null,"10 au 12"]
[null,null,"Policiers","Patrouille-gendarmerie","Patrouille-gendarmerie - Perfectionnement professionnel","Patrouilles spécialisées",{"$f":"N209","v":"C1"},"Français",{"$f":"L209","v":"210-201-08"},"ENPQ",null,null,null,null,null,null,null,null,null,null,null,null,null,null,null,"17 au 19"]
[null,null,"Policiers","Patrouille-gendarmerie","Patrouille-gendarmerie - Perfectionnement professionnel","Patrouilles spécialisées","MS1","Français",{"$f":"L212","v":"210-301-06"},"ENPQ",null,"210-301-06","Patrouille à motoquad","MS1",8,null,null,null,null,null,null,null,null,null,"6 au 8",null,null,"0+2","0+2","0+2"]
[null,null,"Policiers","Patrouille-gendarmerie","Patrouille-gendarmerie - Perfectionnement professionnel","Patrouilles spécialisées",{"$f":"N212","v":"MS1"},"Français",{"$f":"L212","v":"210-301-06"},"ENPQ",null,null,null,null,null,null,null,null,null,null,null,null,null,null,"13 au 15"]
[null,null,"Policiers","Patrouille-gendarmerie","Patrouille-gendarmerie - Perfectionnement professionnel","Patrouilles spécialisées",{"$f":"N214","v":"HC1"},"Français",{"$f":"L214","v":"210-302-06"},"MATTAWIN",null,"210-302-06","Patrouille à motoneige\nHors campus\nHôtel Marineau Mattawin\n2911, QC-155, Trois-Rives  G0X 2C0","HC1",8,null,null,null,null,null,null,"3 au 5"]
[null,null,"Policiers","Patrouille-gendarmerie","Patrouille-gendarmerie - Perfectionnement professionnel","Patrouilles spécialisées",{"$f":"N214","v":"HC1"},"Français",{"$f":"L214","v":"210-302-06"},"MATTAWIN",null,null,null,null,null,null,null,null,null,null,null,"10 au 12",null,null,null,null,null,"0+2","0+2","0+2"]
[null,null,"Policiers","Patrouille-gendarmerie","Patrouille-gendarmerie - Perfectionnement professionnel","Patrouilles spécialisées","S1","Français",{"$f":"L216","v":"210-103-24"},"En Ligne",null,"210-103-24","Cadre légal lié à la patrouille nautique - Bloc 1\nEn ligne","S1",10,null,null,null,null,null,null,null,null,"14 au 16",null,null,null,"0+2","0+2","0+2"]
[null,null,"Policiers","Patrouille-gendarmerie","Patrouille-gendarmerie - Perfectionnement professionnel","Patrouilles spécialisées",{"$f":"N216","v":"S1"},"Français",{"$f":"L216","v":"210-103-24"},"En Ligne",null,null,null,null,null,null,null,null,null,null,null,null,null,"21 au 23"]
[null,null,"Policiers","Patrouille-gendarmerie","Patrouille-gendarmerie - Perfectionnement professionnel","Patrouilles spécialisées","MS1","Français",{"$f":"L218","v":"210-303-18"},"ENPQ",null,"210-303-18","Patrouille nautique - Bloc 2","MS1",6,null,null,null,null,null,null,null,null,null,"25 au 29","1 au 5",null,"0+3","0+3","0+3"]
[null,null,"Policiers","Patrouille-gendarmerie","Patrouille-gendarmerie - Perfectionnement professionnel","Patrouilles spécialisées",{"$f":"N218","v":"MS1"},"Français",{"$f":"L218","v":"210-303-18"},"ENPQ",null,null,null,null,null,null,null,null,null,null,null,null,null,null,null,"8 au 12"]
[null,null,"Policiers","Patrouille-gendarmerie","Patrouille-gendarmerie - Perfectionnement professionnel","Patrouilles spécialisées",{"$f":"N218","v":"MS1"},"Français",{"$f":"L218","v":"210-303-18"},"ENPQ",null,null,null,null,null,null,null,null,null,null,null,null,null,null,null,"15 au 19"]
[null,null,"Policiers","Patrouille-gendarmerie","Patrouille-gendarmerie - Perfectionnement professionnel","Enquête capacité affaiblie","-","Français",null,null,null,"Appareils de détection approuvés"]
[null,null,"Policiers","Patrouille-gendarmerie","Patrouille-gendarmerie - Perfectionnement professionnel","Enquête capacité affaiblie","C1","Français",{"$f":"L222","v":"209-105-13"},"ENPQ",null,"209-105-13","Alco-Sensor FST","C1",6,"À la demande"]
[null,null,"Policiers","Patrouille-gendarmerie","Patrouille-gendarmerie - Perfectionnement professionnel","Enquête capacité affaiblie",{"$f":"N223","v":"HC1"},"Français","209-105-13","HC - Voir détail sous les dates",null,"209-105-13","Alco-Sensor FST","HC1",6,null,null,null,null,null,null,null,null,null,null,null,null,null,"0+0","1+0"]
[null,null,"Policiers","Patrouille-gendarmerie","Patrouille-gendarmerie - Perfectionnement professionnel","Enquête capacité affaiblie","C1","Français","209-106-13","ENPQ",null,"209-106-13","Alco-Sensor FST - Le technicien en étalonnage","C1",6,"À la demande"]
[null,null,"Policiers","Patrouille-gendarmerie","Patrouille-gendarmerie - Perfectionnement professionnel","Enquête capacité affaiblie","C1","Français","209-706-20","ENPQ",null,"209-706-20","Alco-Sensor FST - L'instructeur","C1",6,null,null,null,null,null,null,"5 au 6",null,null,null,null,null,"1+0","1+0","1+0"]
[null,null,"Policiers","Patrouille-gendarmerie","Patrouille-gendarmerie - Perfectionnement professionnel","Enquête capacité affaiblie","HC1","Français","209-706-20","HC - Voir détail sous les dates",null,"209-706-20","Alco-Sensor FST - L'instructeur","HC1",4]
[null,null,"Policiers","Patrouille-gendarmerie","Patrouille-gendarmerie - Perfectionnement professionnel","Enquête capacité affaiblie","C1","Français","209-707-20","ENPQ",null,"209-707-20","Alco-Sensor FST - L'instructeur - Requalification","C1",6,null,2,null,null,null,null,null,null,null,1,null,null,"1+0","1+0","3+0"]
[null,null,"Policiers","Patrouille-gendarmerie","Patrouille-gendarmerie - Perfectionnement professionnel","Enquête capacité affaiblie","-","Français",null,null,null,"Technicien qualifié en éthylomètre"]
[null,null,"Policiers","Patrouille-gendarmerie","Patrouille-gendarmerie - Perfectionnement professionnel","Enquête capacité affaiblie",{"$f":"N229","v":"C1"},"Anglais",{"$f":"L229","v":"209-204-18"},"ENPQ",null,"209-204-18","Qualified Technician - DataMaster DMT-C","C1",12,null,"15 au 19",null,null,null,null,null,null,null,null,null,null,null,"3+0"]
[null,null,"Policiers","Patrouille-gendarmerie","Patrouille-gendarmerie - Perfectionnement professionnel","Enquête capacité affaiblie",{"$f":"N230","v":"C1"},"Français",{"$f":"L230","v":"209-204-18"},"ENPQ",null,"209-204-18","Technicien qualifié en éthylomètre - DataMaster DMT-C","C1",12,null,null,"6 au 10 ","10 au 14","8 au 12","5 au 9","2 au 6","9 au 13","13 au 17","4 au 8",null,null,"7+0","3+0","3+15"]
[null,null,"Policiers","Patrouille-gendarmerie","Patrouille-gendarmerie - Perfectionnement professionnel","Enquête capacité affaiblie",{"$f":"N230","v":"C1"},"Français",{"$f":"L230","v":"209-204-18"},"ENPQ",null,null,null,null,null,null,null,null,null,null,null,"9 au 13","16 au 20","20 au 24"]
[null,null,"Policiers","Patrouille-gendarmerie","Patrouille-gendarmerie - Perfectionnement professionnel","Enquête capacité affaiblie",{"$f":"N230","v":"C1"},"Français",{"$f":"L230","v":"209-204-18"},"ENPQ",null,null,null,null,null,null,null,null,null,null,"12 au 16","16 au 20","23 au 27","27 avril au 1er mai"]
[null,null,"Policiers","Patrouille-gendarmerie","Patrouille-gendarmerie - Perfectionnement professionnel","Enquête capacité affaiblie",{"$f":"N230","v":"C1"},"Français",{"$f":"L230","v":"209-204-18"},"ENPQ",null,null,null,null,null,null,null,null,null,null,null,"23 au 27"]
[null,null,"Policiers","Patrouille-gendarmerie","Patrouille-gendarmerie - Perfectionnement professionnel","Enquête capacité affaiblie","C1","Anglais",{"$f":"L234","v":"209-313-23"},"ENPQ",null,"209-313-23","DataMaster DMT-C - The Qualified Technician- Requalification","C1",9,null,null,null,null,2,null,null,null,null,null,null,null,null,"2+0","1+0"]
[null,null,"Policiers","Patrouille-gendarmerie","Patrouille-gendarmerie - Perfectionnement professionnel","Enquête capacité affaiblie",{"$f":"N235","v":"C1"},"Français",{"$f":"L235","v":"209-313-23"},"ENPQ",null,"209-313-23","Technicien qualifié en éthylomètre - DataMaster  DMT-C - Requalification","C1",9,null,null,14,18,null,null,null,null,null,19,9,null,14,"14+8","16+8"]
[null,null,"Policiers","Patrouille-gendarmerie","Patrouille-gendarmerie - Perfectionnement professionnel","Enquête capacité affaiblie",{"$f":"N235","v":"C1"},"Français",{"$f":"L235","v":"209-313-23"},"ENPQ",null,null,null,null,null,null,null,15,null,null,null,null,null,null,20]
[null,null,"Policiers","Patrouille-gendarmerie","Patrouille-gendarmerie - Perfectionnement professionnel","Enquête capacité affaiblie",{"$f":"N235","v":"C1"},"Français",{"$f":"L235","v":"209-313-23"},"ENPQ",null,null,null,null,null,null,null,16,null,null,null,null,null,null,21]
[null,null,"Policiers","Patrouille-gendarmerie","Patrouille-gendarmerie - Perfectionnement professionnel","Enquête capacité affaiblie",{"$f":"N235","v":"C1"},"Français",{"$f":"L235","v":"209-313-23"},"ENPQ",null,null,null,null,null,null,null,21,19,null,null,null,null,null,26]
[null,null,"Policiers","Patrouille-gendarmerie","Patrouille-gendarmerie - Perfectionnement professionnel","Enquête capacité affaiblie",{"$f":"N235","v":"C1"},"Français",{"$f":"L235","v":"209-313-23"},"ENPQ",null,null,null,null,null,null,null,22,null,null,null,null,null,null,null,10]
[null,null,"Policiers","Patrouille-gendarmerie","Patrouille-gendarmerie - Perfectionnement professionnel","Enquête capacité affaiblie",{"$f":"N235","v":"C1"},"Français",{"$f":"L235","v":"209-313-23"},"ENPQ",null,null,null,null,null,null,null,23,null,null,null,null,null,null,27]
[null,null,"Policiers","Patrouille-gendarmerie","Patrouille-gendarmerie - Perfectionnement professionnel","Enquête capacité affaiblie",{"$f":"N235","v":"C1"},"Français",{"$f":"L235","v":"209-313-23"},"ENPQ",null,null,null,null,null,null,null,28,20]
[null,null,"Policiers","Patrouille-gendarmerie","Patrouille-gendarmerie - Perfectionnement professionnel","Enquête capacité affaiblie",{"$f":"N235","v":"C1"},"Français",{"$f":"L235","v":"209-313-23"},"ENPQ",null,null,null,null,null,null,null,29,null,null,null,null,null,null,28]
[null,null,"Policiers","Patrouille-gendarmerie","Patrouille-gendarmerie - Perfectionnement professionnel","Enquête capacité affaiblie",{"$f":"N235","v":"C1"},"Français",{"$f":"L235","v":"209-313-23"},"ENPQ",null,null,null,null,null,null,null,30]
[null,null,"Policiers","Patrouille-gendarmerie","Patrouille-gendarmerie - Perfectionnement professionnel","Enquête capacité affaiblie","A1","Français",{"$f":"L244","v":"209-108-19"},"En Ligne",null,"209-108-19","Journée d'information - Personnes-ressources en matière d'éthylomètre\nEn ligne","A1","s.o."]
[null,null,"Policiers","Patrouille-gendarmerie","Patrouille-gendarmerie - Perfectionnement professionnel","Cinémomètre","-","Français",null,null,null,"Cinémomètres"]
[null,null,"Policiers","Patrouille-gendarmerie","Patrouille-gendarmerie - Perfectionnement professionnel","Cinémomètre","C1","Français",{"$f":"L246","v":"206-001-25"},"ENPQ",null,"206-001-25","Journée d'information en cinémométrie","C1","s.o.",null,null,null,null," "]
[null,null,"Policiers","Patrouille-gendarmerie","Patrouille-gendarmerie - Perfectionnement professionnel","Cinémomètre","C1","Français","206-202-06","ENPQ",null,"206-202-06","Cinémomètre laser","C1",6,"À la demande"]
[null,null,"Policiers","Patrouille-gendarmerie","Patrouille-gendarmerie - Perfectionnement professionnel","Cinémomètre","C1","Français","206-302-06","ENPQ",null,"206-302-06","Cinémomètre laser - Requalification","C1",3,"À la demande"]
[null,null,"Policiers","Patrouille-gendarmerie","Patrouille-gendarmerie - Perfectionnement professionnel","Cinémomètre","HC1","Français","206-302-06","HC - Voir détail sous les dates",null,"206-302-06","Cinémomètre laser - Requalification","HC1",2]
[null,null,"Policiers","Patrouille-gendarmerie","Patrouille-gendarmerie - Perfectionnement professionnel","Cinémomètre","C1","Français","206-303-06","ENPQ",null,"206-303-06","Cinémomètre laser - Notions spécifiques","C1",6,"À la demande"]
[null,null,"Policiers","Patrouille-gendarmerie","Patrouille-gendarmerie - Perfectionnement professionnel","Cinémomètre","C1","Français","206-307-16","ENPQ",null,"206-307-16","Cinémomètre laser – Mise à niveau et requalification","C1",4,"À la demande"]
[null,null,"Policiers","Patrouille-gendarmerie","Patrouille-gendarmerie - Perfectionnement professionnel","Cinémomètre",{"$f":"N252","v":"A1"},"Français","206-310-24","En Ligne",null,"206-310-24","Cinémomètre Doppler – Mise à niveau – Sens commun\nEn ligne","A1","s.o.","25 août au 31 décembre",null,null,null,null,"6 janvier au 30 avril",null,null,null,"1er mai au 17 juillet"]
[null,null,"Policiers","Patrouille-gendarmerie","Patrouille-gendarmerie - Perfectionnement professionnel","Cinémomètre","C1","Français","206-701-20","ENPQ",null,"206-701-20","Cinémomètre laser - L'instructeur","C1",6,null,"22 au 24",null,null,null,null,null,null,null,null,null,null,"0+1","0+1","0+1"]
[null,null,"Policiers","Patrouille-gendarmerie","Patrouille-gendarmerie - Perfectionnement professionnel","Cinémomètre","C1","Français","206-702-20","ENPQ",null,"206-702-20","Cinémomètre laser - L'instructeur - Requalification","C1",6,null,15,null,null,null,null,2,null,24,null,null,null,null,"4+0","3+1"]
[null,null,"Policiers","Patrouille-gendarmerie","Patrouille-gendarmerie - Perfectionnement professionnel","Cinémomètre","HC1","Français","206-702-20","HC - Voir détail sous les dates",null,"206-702-20","Cinémomètre laser - L'instructeur - Requalification\nHors campus","HC1",6]
[null,null,"Policiers","Patrouille-gendarmerie","Patrouille-gendarmerie - Perfectionnement professionnel","Cinémomètre","C1","Français","206-207-25","ENPQ",null,"206-207-25","Cinémomètre Doppler","C1",6,"À la demande"]
[null,null,"Policiers","Patrouille-gendarmerie","Patrouille-gendarmerie - Perfectionnement professionnel","Cinémomètre","C1","Français","206-207-25","ENPQ",null,"206-207-25","Cinémomètre Doppler","C1",32,null,"29 septembre au 3 octobre",null,"24 au 28","15 au 19",null,"9 au 13","9 au 13","6 au 10",null,null,null,null,"4+0","4+7"]
[null,null,"Policiers","Patrouille-gendarmerie","Patrouille-gendarmerie - Perfectionnement professionnel","Cinémomètre",{"$f":"N257","v":"C1"},"Français",{"$f":"L257","v":"206-207-25"},"ENPQ",null,null,null,null,null,null,null,"27 au 31"]
[null,null,"Policiers","Patrouille-gendarmerie","Patrouille-gendarmerie - Perfectionnement professionnel","Cinémomètre","C1","Français",{"$f":"L259","v":"206-208-15"},"ENPQ",null,"206-208-15","Cinémomètre Doppler stationnaire","C1",6,"À la demande"]
[null,null,"Policiers","Patrouille-gendarmerie","Patrouille-gendarmerie - Perfectionnement professionnel","Cinémomètre","C1","Français","206-301-15","ENPQ",null,"206-301-15","Cinémomètre Doppler - Stationnaire et mobile rencontre - Requalification","C1",3,"À la demande"]
[null,null,"Policiers","Patrouille-gendarmerie","Patrouille-gendarmerie - Perfectionnement professionnel","Cinémomètre","C1","Français","206-305-15","ENPQ",null,"206-305-15","Cinémomètre Doppler stationnaire – Requalification","C1",3,"À la demande"]
[null,null,"Policiers","Patrouille-gendarmerie","Patrouille-gendarmerie - Perfectionnement professionnel","Cinémomètre","C1","Français","206-306-15","ENPQ",null,"206-306-15","Cinémomètre Doppler stationnaire – Mise à niveau et requalification","C1",4,"À la demande"]
[null,null,"Policiers","Patrouille-gendarmerie","Patrouille-gendarmerie - Perfectionnement professionnel","Cinémomètre","C1","Français","206-308-17","ENPQ",null,"206-308-17","Cinémomètre Doppler stationnaire et mobile rencontre – Mise à niveau et requalification","C1",4,"À la demande"]
[null,null,"Policiers","Patrouille-gendarmerie","Patrouille-gendarmerie - Perfectionnement professionnel","Cinémomètre","C1","Français","206-703-20","ENPQ",null,"206-703-20","Cinémomètre Doppler – L'instructeur","C1",6,null,null,"23 au 25",null,null,null,null,null,null,null,null,null,"1+1","1+1","1+1"]
[null,null,"Policiers","Patrouille-gendarmerie","Patrouille-gendarmerie - Perfectionnement professionnel","Cinémomètre","C1","Français","206-704-20","ENPQ",null,"206-704-20","Cinémomètre Doppler – L'instructeur - Requalification","C1",6,null,25,null,null,null,null,null,null,null,22,null,null,"1+1","1+1","1+1"]
[null,null,"Policiers","Patrouille-gendarmerie","Patrouille-gendarmerie - Perfectionnement professionnel","Cinémomètre","HC1","Français","206-704-20","BLAINVILLE",null,"206-704-20","Cinémomètre Doppler – L'instructeur - Requalification\nHors campus - BLAINVILLE","HC1",6]
[null,null,"Policiers","Patrouille-gendarmerie","Patrouille-gendarmerie - Perfectionnement professionnel","Photomètre","-","Français",null,null,null,"Photomètre"]
[null,null,"Policiers","Patrouille-gendarmerie","Patrouille-gendarmerie - Perfectionnement professionnel","Photomètre","C1","Français",{"$f":"L268","v":"207-201-07"},"ENPQ",null,"207-201-07","Photomètre","C1",6]
[null,null,"Policiers","Patrouille-gendarmerie","Patrouille-gendarmerie - Perfectionnement professionnel","Photomètre","C1","Français",{"$f":"L269","v":"207-701-20"},"ENPQ",null,"207-701-20","Photomètre - L'instructeur","C1",8,null,null,null,null,null,null,null,null,null,null,null,null,1,"0+1","0+1"]
[null,null,"Policiers","Patrouille-gendarmerie","Patrouille-gendarmerie - Perfectionnement professionnel","Photomètre","C1","Français",{"$f":"L270","v":"207-702-20"},"ENPQ",null,"207-702-20","Photomètre - L'instructeur - Requalification","C1",6,null,null,null,null,null,null,null,null,null,null,null,null,"1+1","1+1","0+1"]
[null,null,"Policiers","Patrouille-gendarmerie","Patrouille-gendarmerie - Perfectionnement professionnel","Enquête de collision","-","Français",null,null,null,"Enquête de collision"]
[null,null,"Policiers","Patrouille-gendarmerie","Patrouille-gendarmerie - Perfectionnement professionnel","Enquête de collision","C3","Français",{"$f":"L272","v":"208-201-18"},"ENPQ",null,"208-201-18","Techniques d’enquête de collision","C3",20,null,null,null,null,null,null,null,"9 au 13",null,null,null,null,"1+1","1+1","1+1"]
[null,null,"Policiers","Patrouille-gendarmerie","Patrouille-gendarmerie - Perfectionnement professionnel","Enquête de collision",{"$f":"N273","v":"C3"},"Français",{"$f":"L273","v":"208-102-24"},"ENPQ",null,"208-102-24","Dessin de scène d’événement assisté par ordinateur","C3",6,null,null,null,null,null,null,"23 au 27",null,null,null,null,null,"1+1","1+1","1+0"]
[null,null,"Policiers","Patrouille-gendarmerie","Patrouille-gendarmerie - Perfectionnement professionnel","Enquête de collision","C1","Français",{"$f":"L274","v":"208-203-12"},"ENPQ",null,"208-203-12","Relevé de scène d’événement à l’aide de l’appareil de mesure au laser","C1",12,"À la demande"]
[null,null,"Policiers","Patrouille-gendarmerie","Patrouille-gendarmerie - Perfectionnement professionnel","Enquête de collision","H3-[A-C]","Français",{"$f":"L275","v":"208-303-18"},"ENPQ",null,"208-303-18","Croquis et mesures                                                                                                         ","H3-[A-C]",20,null,null,null,null,null,null,null,"17 (13h) au \n19 (12h)",null,null,null,null,"1+1","1+1","1+1"]
[null,null,"Policiers","Patrouille-gendarmerie","Patrouille-gendarmerie - Perfectionnement professionnel","Enquête de collision","H3-[A-C]","Français",{"$f":"L276","v":"208-304-18"},"ENPQ",null,"208-304-18","Imagerie numérique judiciaire appliquée à l’enquête de collision              ","H3-[A-C]",10,null,null,null,null,null,null,"Act. Prép. En ligne (3,5 h)\nVolet 1","16 (13h) au \n17 (12h)",null,null,null,null,"0+1","1+1","1+1"]
[null,null,"Policiers","Patrouille-gendarmerie","Patrouille-gendarmerie - Perfectionnement professionnel","Enquête de collision",{"$f":"N276","v":"H3-[A-C]"},"Français",{"$f":"L276","v":"208-304-18"},"ENPQ",null,null,null,null,null,null,null,null,null,null,null,"Act. Prép. En ligne (3,5 h)\nVolet 1","19 (13h) au \n20 (12h)"]
[null,null,"Policiers","Patrouille-gendarmerie","Patrouille-gendarmerie - Perfectionnement professionnel","Intervention physique","-","Français",null,null,null,"Communication et intervention physique"]
[null,null,"Policiers","Patrouille-gendarmerie","Patrouille-gendarmerie - Perfectionnement professionnel","Intervention physique","C1","Français",{"$f":"L279","v":"214-104-24"},"ENPQ",null,"214-104-24","Arme à impulsions électriques - Transition","C1",8,"À la demande"]
[null,null,"Policiers","Patrouille-gendarmerie","Patrouille-gendarmerie - Perfectionnement professionnel","Intervention physique",{"$f":"N280","v":"HC1"},"Français",{"$f":"L280","v":"214-104-24"},null,null,"214-104-24","Arme à impulsions électriques - Transition","HC1",8,"À la demande"]
[null,null,"Policiers","Patrouille-gendarmerie","Patrouille-gendarmerie - Perfectionnement professionnel","Intervention physique","C1","Français",{"$f":"L281","v":"214-211-20"},"ENPQ",null,"214-211-20","Arme à impulsions électriques","C1",8,"À la demande"]
[null,null,"Policiers","Patrouille-gendarmerie","Patrouille-gendarmerie - Perfectionnement professionnel","Intervention physique","C1","Français",{"$f":"L282","v":"214-306-20"},"ENPQ",null,"214-306-20","Arme à impulsions électriques — Requalification","C1",8,"À la demande",null,null,null,18,null,null,null,null,null,null,null,"0+1","0+1","0+0"]
[null,null,"Policiers","Patrouille-gendarmerie","Patrouille-gendarmerie - Perfectionnement professionnel","Intervention physique",{"$f":"N283","v":"C1"},"Français",{"$f":"L283","v":"214-307-25"},"ENPQ",null,"214-307-25","Arme à impulsions électriques - Transition T10","C1",8,null,null,null,null,null,"14 au 15",null,"24 au 25"]
[null,null,"Policiers","Patrouille-gendarmerie","Patrouille-gendarmerie - Perfectionnement professionnel","Intervention physique",{"$f":"N284","v":0},"Français",{"$f":"L283","v":"214-307-25"},"ENPQ",null,null,null,null,null,null,null,null,null,null,"26 au 27"]
[null,null,"Policiers","Patrouille-gendarmerie","Patrouille-gendarmerie - Perfectionnement professionnel","Intervention physique",{"$f":"N285","v":"C1"},"Français",{"$f":"L285","v":"214-001-25"},"ENPQ",null,"214-001-25","Arme à impulsions électriques – Le maître-instructeur - Journée d'actualisation ","C1",10,null,null,null,null,null,null,null,null,null,22]
[null,null,"Policiers","Patrouille-gendarmerie","Patrouille-gendarmerie - Perfectionnement professionnel","Intervention physique","C1","Français",{"$f":"L286","v":"214-703-20"},"ENPQ",null,"214-703-20","Arme à impulsions électriques – L'instructeur (X2 et T7)","C1",8,null,null,null,null,"15 au 19",null,"23 au 27",null,null,null,null,null,"2+1","1+1","1+1"]
[null,null,"Policiers","Patrouille-gendarmerie","Patrouille-gendarmerie - Perfectionnement professionnel","Intervention physique",{"$f":"N287","v":"C1"},"Anglais",{"$f":"L287","v":"214-703-20"},"ENPQ",null,"214-703-20","Conducted Energy Weapon – Instructor (X2 and T7)","C1",8,null,null,null,null,null,null,null,null,null,null,"8 au 12",null,null,"1+0","0+0"]
[null,null,"Policiers","Patrouille-gendarmerie","Patrouille-gendarmerie - Perfectionnement professionnel","Intervention physique","C1","Français",{"$f":"L288","v":"214-704-20"},"ENPQ",null,"214-704-20","Arme à impulsions électriques – L'instructeur – Requalification ","C1",8,null,null,27,17,null,28,null,6,null,null,null,null,"2+3","2+2","1+2"]
[null,null,"Policiers","Patrouille-gendarmerie","Patrouille-gendarmerie - Perfectionnement professionnel","Intervention physique",{"$f":"N289","v":"C1"},"Anglais",{"$f":"L289","v":"214-704-20"},"ENPQ",null,"214-704-20","Conducted Energy Weapon – Instructor – Requalification","C1",8,null,null,null,null,null,null,null,null,null,null,null,null,null,"0+1","0+1"]
[null,null,"Policiers","Patrouille-gendarmerie","Patrouille-gendarmerie - Perfectionnement professionnel","Intervention physique",{"$f":"N290","v":"C1"},"Français","218-103-24","ENPQ",null,"218-103-24","Didactique de l'enseignement","C1",12,null,null,null,null,"1 au 2",null,"5 au 6",null,null,null,null,null,null,"1+0","0+0"]
[null,null,"Policiers","Patrouille-gendarmerie","Patrouille-gendarmerie - Perfectionnement professionnel","Emploi de la force - Autres","C1","Français","218-301-18","ENPQ",null,"218-301-18","Fondements théoriques de l'emploi de la force","C1",12,null,"8 au 12",null,null,null,null,null,null,null,null,null,null,"3+2","1+2","2+2"]
[null,null,"Policiers","Patrouille-gendarmerie","Patrouille-gendarmerie - Perfectionnement professionnel","Emploi de la force - Autres","HC1","Anglais","218-301-18","BLAINVILLE",null,"218-301-18","Theoretical Foundations of the Use of Force\nHors campus - BLAINVILLE ou ENPQ","HC1",6,null,null,"20 au 24\n(6 part.)",null,null,null,null,null,null,null,null,null,null,"1+0","1+0"]
[null,null,"Policiers","Patrouille-gendarmerie","Patrouille-gendarmerie - Perfectionnement professionnel","Emploi de la force - Autres",{"$f":"N293","v":"HC1"},"Français","218-301-18","BLAINVILLE",null,"218-301-18","Fondements théoriques de l'emploi de la force\nHors campus - BLAINVILLE","HC1",12,null,null,null,null,null,null,"16 au 20",null,null,null,null,null,"1+1","1+1","1+1"]
[null,null,"Policiers","Patrouille-gendarmerie","Patrouille-gendarmerie - Perfectionnement professionnel","Emploi de la force - Autres","HC1","Français","218-301-18","SHERBROOKE",null,"218-301-18","Fondements théoriques de l'emploi de la force\nHors campus - Sherbrooke","HC1",12,null,null,null,null,null,null,null,null,null,null,null,null,"0+1","1+1","0+1"]
[null,null,"Policiers","Patrouille-gendarmerie","Patrouille-gendarmerie - Perfectionnement professionnel","Intervention physique","C1","Français",{"$f":"L295","v":"214-716-23"},"ENPQ",null,"214-716-23","Didactique de l'intervention physique - L'instructeur","C1",12,null,null,null,"24 au 27 novembre, \n2 au 5 décembre et \n9 au 12 décembre",null,null,null,null,"28 avril au 1er mai,\n5 au 8 mai et\n11 au 14 mai",null,null,null,"1+1","1+2","1+2"]
[null,null,"Policiers","Patrouille-gendarmerie","Patrouille-gendarmerie - Perfectionnement professionnel","Intervention physique",{"$f":"N296","v":"C1"},"Anglais",{"$f":"L296","v":"214-716-23"},"ENPQ",null,"214-716-23","Didactics of Physical Intervention - Instructor ","C1",12,null,null,null,null,null,null,null,"3 au 6, \n10 au 13 et \n17 au 20",null,null,null,null,null,"0+0","0+1"]
[null,null,"Policiers","Patrouille-gendarmerie","Patrouille-gendarmerie - Perfectionnement professionnel","Intervention physique","C1","Français",{"$f":"L297","v":"214-717-23"},"ENPQ",null,"214-717-23","Didactique de l'intervention physique - L'instructeur - Requalification","C1",12,null,"9 au 12",null,"18 au 21",null,null,null,null,null,null,null,null,"3+1","3+1","3+1"]
[null,null,"Policiers","Patrouille-gendarmerie","Patrouille-gendarmerie - Perfectionnement professionnel","Intervention physique",{"$f":"N298","v":"C1"},"Français",{"$f":"L298","v":"214-002-25"},"ENPQ ",null,"214-002-25","Didactique de l'intervention physique - Le maître-instructeur - journée d'actualisation ","C1",8,null,null,null,null,null,null,null,16]
[null,null,"Policiers","Patrouille-gendarmerie","Patrouille-gendarmerie - Perfectionnement professionnel","Intervention physique","C1","Français","214-103-18","ENPQ",null,"214-103-18","Intervention avec le bouclier inversé (en milieu fermé)","C1",8,"À la demande"]
[null,null,"Policiers","Patrouille-gendarmerie","Patrouille-gendarmerie - Perfectionnement professionnel","Intervention physique","C1","Français","214-712-20","ENPQ",null,"214-712-20","Intervention avec le bouclier inversé - L'instructeur\n(sans requalification) (en milieu fermé)","C1",12,"À la demande",null,null,"7\n(6 part.)",null,null,null,null,null,null,null,null,"1+1","1+1","1+1"]
[null,null,"Policiers","Patrouille-gendarmerie","Patrouille-gendarmerie - Perfectionnement professionnel","Communication tactique","HC1","Français","217-105-23","DOMAINE SCOUT",null,"217-105-23","Réponse à un état mental perturbé (REMP)\nHors Campus - DOMAINE SCOUT \n(St-Louis de France)","HC1",8,"Dates à venir",null,null,null,null,null,null,null,null,null,null,null,"1+1"]
[null,null,"Policiers","Patrouille-gendarmerie","Patrouille-gendarmerie - Perfectionnement professionnel","Communication tactique","C1","Français","217-101-24","ENPQ",null,"217-101-24","Désescalade - État mental perturbé (volet pratique)","C1",6,"À la demande",26,null,null,null,null,null,null,null,null,null,null,null,"1+1","0+1"]
[null,null,"Policiers","Patrouille-gendarmerie","Patrouille-gendarmerie - Perfectionnement professionnel","Communication tactique","A1","Français","217-201-24","En Ligne",null,"217-201-24","Désescalade – État mental perturbé \nEn ligne","A1",25,"À la demande","23 septembre au 18 novembre"]
[null,null,"Policiers","Patrouille-gendarmerie","Patrouille-gendarmerie - Perfectionnement professionnel","Communication tactique","C1","Français","217-703-20","ENPQ",null,"217-703-20","Désescalade - État mental perturbé - L'instructeur (sans requalification)","C1",12,null,null,"21 au 22",null,"4 au 5",null,null,null,null,null,null,null,null,"1+1","0+2"]
[null,null,"Policiers","Patrouille-gendarmerie","Patrouille-gendarmerie - Perfectionnement professionnel","Contrôle de foule","C1","Français","221-102-08","ENPQ",null,"221-102-08","Contrôle de foule - Membre de peloton (cotes d'alerte 2 et 3)","C1",30,"À la demande - Dispensée par la Sûreté du Québec, le SPVM ou le SPVQ - Date à être déterminée"]
[null,null,"Policiers","Patrouille-gendarmerie","Patrouille-gendarmerie - Perfectionnement professionnel","Contrôle de foule","C1","Français","221-301-08","ENPQ",null,"221-301-08","Contrôle de foule - Chef de section ou de peloton (cotes d'alerte 1, 2 et 3)","C1",30,"À la demande - Dispensée par la Sûreté du Québec, le SPVM ou le SPVQ - Date à être déterminée"]
[null,null,"Policiers","Patrouille-gendarmerie","Patrouille-gendarmerie - Perfectionnement professionnel","Pédagogie","C1","Français","232-301-08","ENPQ",null,"232-301-08","Fondements stratégiques de l’emploi de la force","C1",12,null,null,"6 au 10 ",null,null,null,"9 au 13",null,null,null,null,null,"0+1","0+1","0+1"]
[null,null,"Policiers","Patrouille-gendarmerie","Patrouille-gendarmerie - Perfectionnement professionnel","Pédagogie",{"$f":"N308","v":"CM1"},"Français","232-301-08","ENPQ - Campus de Montréal",null,"232-301-08","Fondements stratégiques de l'emploi de la force\nCampus de Montréal","CM1",12,null,null,null,null,null,null,null,null,null,null,null,null,"2+0","2+0","2+0"]
[null,null,"Policiers","Patrouille-gendarmerie","Patrouille-gendarmerie - Perfectionnement professionnel","Intervention tactique","-","Français",null,null,null,"Intervention tactique"]
[null,null,"Policiers","Patrouille-gendarmerie","Patrouille-gendarmerie - Perfectionnement professionnel","Intervention tactique","C1","Français",{"$f":"L310","v":"215-105-18"},"ENPQ",null,"215-105-18","Évaluation du risque associé à une intervention planifiée","C1",20,null,5,null,null,1,28,null,null,null,null,null,null,"2+2","2+2","2+2"]
[null,null,"Policiers","Patrouille-gendarmerie","Patrouille-gendarmerie - Perfectionnement professionnel","Intervention tactique",{"$f":"N311","v":"CM1"},"Français","215-105-18","ENPQ - Campus de Montréal",null,"215-105-18","Évaluation du risque associé à une intervention planifiée\nCampus de Montréal","CM1",20]
[null,null,"Policiers","Patrouille-gendarmerie","Patrouille-gendarmerie - Perfectionnement professionnel","Intervention tactique",{"$f":"N312","v":"C1"},"Français","215-XXX-XX","ENPQ",null,"215-XXX-XX","Membre d'un groupe d'intervention - Le maître-instructeur - Journée d'actualisation","C1",9,null,null,null,21]
[null,null,"Policiers","Patrouille-gendarmerie","Patrouille-gendarmerie - Perfectionnement professionnel","Intervention tactique","HC1","Français","215-105-18","BLAINVILLE",null,"215-105-18","Évaluation du risque associé à une intervention planifiée\nHors campus - BLAINVILLE","HC1",20,null,null,null,10,15,null,23,null,null,null,null,null,"2+4","2+4","2+4"]
[null,null,"Policiers","Patrouille-gendarmerie","Patrouille-gendarmerie - Perfectionnement professionnel","Intervention tactique","A3","Français","215-108-21","En Ligne",null,"215-108-21","Tireur actif / Sensibilisation à une intrusion armée – RCSP / CPKN\nEn ligne","A3","s.o.","25 août au 19 décembre",null,null,null,null,"5 janvier au 30 avril",null,null,null,"1er mai au  17 juillet"]
[null,null,"Policiers","Patrouille-gendarmerie","Patrouille-gendarmerie - Perfectionnement professionnel","Intervention tactique","C1","Français","215-109-21","ENPQ",null,"215-109-21","Techniques d'immobilisation provoquée - Utilisation sécuritaire du hérisson à pointes creuses (HPC)","C1",12,"À la demande"]
[null,null,"Policiers","Patrouille-gendarmerie","Patrouille-gendarmerie - Perfectionnement professionnel","Intervention tactique","HC1","Français","215-109-21","HC - Voir détail sous les dates",null,"215-109-21","Techniques d'immobilisation provoquée - Utilisation sécuritaire du hérisson à pointes creuses (HPC)","HC1",12,"À la demande"]
[null,null,"Policiers","Patrouille-gendarmerie","Patrouille-gendarmerie - Perfectionnement professionnel","Intervention tactique","C1","Français","215-110-23","ENPQ",null,"215-110-23","Didactique de l’intervention tactique – L’instructeur – Mise à jour","C1",12,null,"3 au 5",null,null,null,null,null,null,null,null,null,null,null,"3+0","2+0"]
[null,null,"Policiers","Patrouille-gendarmerie","Patrouille-gendarmerie - Perfectionnement professionnel","Intervention tactique",{"$f":"N318","v":"C1"},"Anglais","215-201-10","ENPQ",null,"215-201-10","Low-risk Planned Dynamic Entry","C1",12,null,null,null,null,null,null,null,"23 au 25",null,null,null,null,null,"0+0","0+1"]
[null,null,"Policiers","Patrouille-gendarmerie","Patrouille-gendarmerie - Perfectionnement professionnel","Intervention tactique",null,"Français","215-201-10","ENPQ",null,"215-201-10","Entrée dynamique planifiée à risque faible","C1",12,null,null,"29 au 31","17 au 19","2 au 4","20 au 22","16 au 18","31 mars au 2 avril",null,"20 au 22","16 au 18","14 au 16","4+4","3+0","3+2"]
[null,null,"Policiers","Patrouille-gendarmerie","Patrouille-gendarmerie - Perfectionnement professionnel","Intervention tactique",{"$f":"N319","v":"C1"},"Français",{"$f":"L319","v":"215-201-10"},"ENPQ",null,null,null,null,null,null,null,null,null,null,null,null,null,"27 au 29"]
[null,null,"Policiers","Patrouille-gendarmerie","Patrouille-gendarmerie - Perfectionnement professionnel","Intervention tactique","C1","Français",{"$f":"L321","v":"215-305-22"},"ENPQ",null,"215-305-22","Officiel de sécurité au plateau d’exercice en combat rapproché","C1",8,null,null,null,null,null,null,null,null,null,null,null,null,"1+0","1+0","0+0"]
[null,null,"Policiers","Patrouille-gendarmerie","Patrouille-gendarmerie - Perfectionnement professionnel","Intervention tactique",{"$f":"N322","v":"C1"},"Anglais",{"$f":"L322","v":"215-718-23"},"ENPQ",null,"215-718-23","Didactics of Tactical Intervention - Instructor","C1",12,null,null,null,null,null,null,null,null,null,null,null,null,null,"0+1","0+0"]
[null,null,"Policiers","Patrouille-gendarmerie","Patrouille-gendarmerie - Perfectionnement professionnel","Intervention tactique","C1","Français",{"$f":"L323","v":"215-718-23"},"ENPQ",null,"215-718-23","Didactique de l'intervention tactique - L'instructeur","C1",12,null,null,"20 au 24 octobre et \n3 au 7 novembre",null,null,null,null,null,null,"4 au 8 et \n11 au 15","1 au 5 et \n8 au 12",null,"0+1","0+1","0+0"]
[null,null,"Policiers","Patrouille-gendarmerie","Patrouille-gendarmerie - Perfectionnement professionnel","Intervention tactique",{"$f":"N324","v":0},"Français",{"$f":"L323","v":"215-718-23"},"ENPQ",null,null,null,null,null,null,null,null,"10 au 14 et\n24 au 28"]
[null,null,"Policiers","Patrouille-gendarmerie","Patrouille-gendarmerie - Perfectionnement professionnel","Intervention tactique","C1","Français",{"$f":"L325","v":"215-719-23"},"ENPQ",null,"215-719-23","Didactique de l'intervention tactique - L'instructeur - Requalification","C1",12,null,null,null,"25 au 26","8 au 9",null,null,"30 au 31"]
[null,null,"Policiers","Patrouille-gendarmerie","Patrouille-gendarmerie - Perfectionnement professionnel","Intervention tactique","HC1","Français","215-720-23","SANAIR",null,"215-720-23","Didactique de l'intervention tactique - Poursuite et interception - L'instructeur\nHors campus - SANAIR","HC1",12,null,null,null,null,null,null,null,null,"2\nDates à venir",null,null,null,"1+1","0+0","0+0"]
[null,null,"Policiers","Patrouille-gendarmerie","Patrouille-gendarmerie - Perfectionnement professionnel","Intervention tactique","C1","Français","215-721-23","ENPQ",null,"215-721-23","Didactique de l'intervention tactique - Poursuite et interception - L'instructeur - Requalification","C1",12]
[null,null,"Policiers","Patrouille-gendarmerie","Patrouille-gendarmerie - Perfectionnement professionnel","Intervention tactique","HC1","Français","215-721-23","SANAIR",null,"215-721-23","Didactique de l'intervention tactique - Poursuite et interception - L'instructeur - Requalification\nHors campus - SANAIR","HC1",12,null,"3\nDates à venir",null,null,null,null,null,null,"3\nDates à venir",null,null,null,"2+2","0+0","0+0"]
[null,null,"Policiers","Patrouille-gendarmerie","Patrouille-gendarmerie - Perfectionnement professionnel","Intervention tactique","-","Français","215-707-20",null,null,"215-707-20","Membre d'un groupe d'intervention –  L'instructeur - Requalification","-",12,"Dates à confirmer"]
[null,null,"Policiers","Patrouille-gendarmerie","Patrouille-gendarmerie - Perfectionnement professionnel","Intervention tactique","-","Français","215-709-20",null,null,"215-709-20","Arme à impulsions électriques - L'instructeur GI - Requalification","-",12,"Dates à confirmer"]
[null,null,"Policiers","Patrouille-gendarmerie","Patrouille-gendarmerie - Perfectionnement professionnel","Intervention tactique","-","Français","215-713-20",null,null,"215-713-20","Arme de périmètre – L'instructeur GI – Requalification","-",8,"Dates à confirmer"]
[null,null,"Policiers","Patrouille-gendarmerie","Patrouille-gendarmerie - Perfectionnement professionnel","Intervention tactique","-","Français","215-717-20",null,null,"215-717-20","Armes intermédiaires d'impact –  L'instructeur GI –  Requalification","-",8,"Dates à confirmer"]
[null,null,"Policiers","Patrouille-gendarmerie","Patrouille-gendarmerie - Perfectionnement professionnel","Intervention tactique",{"$f":"N333","v":"C1"},"Français","XXX-XXX-XX","ENPQ",null,"XXX-XXX-XX","Didactique des mises en situation complexes","C1","?","Dates à venir"]
[null,null,"Policiers","Patrouille-gendarmerie","Patrouille-gendarmerie - Perfectionnement professionnel","Utilisation des armes à feu","-","Français",null,null,null,"Utilisation des armes à feu"]
[null,null,"Policiers","Patrouille-gendarmerie","Patrouille-gendarmerie - Perfectionnement professionnel","Utilisation des armes à feu",{"$f":"N335","v":"C1"},"Français",{"$f":"L335","v":"216-001-23"},"ENPQ",null,"216-001-23","Didactique du tir au pistolet – Le maître-instructeur – Journée d’actualisation","C1",20,null,null,null,null,10,null,null,null,null,null,null,null,"0+1","0+1","1+0"]
[null,null,"Policiers","Patrouille-gendarmerie","Patrouille-gendarmerie - Perfectionnement professionnel","Utilisation des armes à feu",{"$f":"N336","v":"HC1"},"Français","216-002-24","Pointe-du-Lac (Champ de tir Les Seigneurs)",null,"216-002-24","Carabine plateforme AR - Le Maître-instructeur - Journée d'actualisation\nHors campus - Champ de tir Les Seigneurs (Pointe-du-Lac)","HC1",14,null,null,null,null,null,null,null,null,null,null,4]
[null,null,"Policiers","Patrouille-gendarmerie","Patrouille-gendarmerie - Perfectionnement professionnel","Utilisation des armes à feu",{"$f":"N337","v":"C1"},"Français","216-101-19","ENPQ",null,"216-101-19","Gestion du déploiement des armes intermédiaires et de la carabine - Plateforme AR – Le superviseur","C1",12,null,5,null,null,null,null,null,null,null,null,null,null,null,"0+0","0+1"]
[null,null,"Policiers","Patrouille-gendarmerie","Patrouille-gendarmerie - Perfectionnement professionnel","Utilisation des armes à feu","A1","Français","216-103-19","En Ligne",null,"216-103-19","Officiel de sécurité du champ de tir\nEn ligne","A1","s.o.",null,"1er au 30","1er au 31","1er au 30","1er au 31","1er au 31","1er au 28","1er au 31","1er au 30","1er au 31","1er au 30"]
[null,null,"Policiers","Patrouille-gendarmerie","Patrouille-gendarmerie - Perfectionnement professionnel","Utilisation des armes à feu","HC1","Français","216-206-07",null,null,"216-206-07","Maniement du fusil de calibre 12\nHors campus \nDans les organisations","HC1",4,"À la demande"]
[null,null,"Policiers","Patrouille-gendarmerie","Patrouille-gendarmerie - Perfectionnement professionnel","Utilisation des armes à feu","HC1","Français"," 216-207-07",null,null," 216-207-07","Tir au pistolet - Requalification\nHors campus \nDans les organisations","HC1",4,"À la demande"]
[null,null,"Policiers","Patrouille-gendarmerie","Patrouille-gendarmerie - Perfectionnement professionnel","Utilisation des armes à feu",{"$f":"N341","v":"HC1"},"Anglais","216-209-18","Pointe-du-Lac (Champ de tir Les Seigneurs)",null,"216-209-18","Carbine – AR Platform – Block 1\nHors campus - Champ de tir Les Seigneurs (Pointe-du-Lac)","HC1",8,"On demand",null,null,null,null,null,null,null,null,null,null,null,null,"0+1","0+1"]
[null,null,"Policiers","Patrouille-gendarmerie","Patrouille-gendarmerie - Perfectionnement professionnel","Utilisation des armes à feu","HC1","Français","216-209-18","Pointe-du-Lac (Champ de tir Les Seigneurs)",null,"216-209-18","Carabine – Plateforme AR - Bloc 1\nHors campus - Champ de tir Les Seigneurs (Pointe-du-Lac)","HC1",8,"À la demande"]
[null,null,"Policiers","Patrouille-gendarmerie","Patrouille-gendarmerie - Perfectionnement professionnel","Utilisation des armes à feu","HC1","Français","216-102-18","Pointe-du-Lac (Champ de tir Les Seigneurs)",null,"216-102-18","Carabine - Plateforme AR - Bloc 2\nHors campus - Champ de tir Les Seigneurs (Pointe-du-Lac)","HC1",8,"À la demande"]
[null,null,"Policiers","Patrouille-gendarmerie","Patrouille-gendarmerie - Perfectionnement professionnel","Utilisation des armes à feu",{"$f":"N344","v":"HC1"},"Anglais","216-302-19","Pointe-du-Lac (Champ de tir Les Seigneurs)",null,"216-302-19","Carbine – AR Platform – Requalification\nHors campus - Champ de tir Les Seigneurs (Pointe-du-Lac)","HC1",8,"On demand",null,null,null,null,null,null,null,null,null,null,null,null,"0+1","0+1"]
[null,null,"Policiers","Patrouille-gendarmerie","Patrouille-gendarmerie - Perfectionnement professionnel","Utilisation des armes à feu","HC1","Français","216-302-19","Pointe-du-Lac (Champ de tir Les Seigneurs)",null,"216-302-19","Carabine – Plateforme AR - Requalification\nHors campus - Champ de tir Les Seigneurs (Pointe-du-Lac)","HC1",8,"À la demande"]
[null,null,"Policiers","Patrouille-gendarmerie","Patrouille-gendarmerie - Perfectionnement professionnel","Utilisation des armes à feu","HC1","Français","216-708-20","Pointe-du-Lac (Champ de tir Les Seigneurs)",null,"216-708-20","Carabine - Plateforme AR - L'instructeur - Mise à niveau\nHors campus - Champ de tir Les Seigneurs (Pointe-du-Lac)","HC1",8,"À la demande"]
[null,null,"Policiers","Patrouille-gendarmerie","Patrouille-gendarmerie - Perfectionnement professionnel","Utilisation des armes à feu","HC1","Français","216-609-11","Pointe-du-Lac (Champ de tir Les Seigneurs)",null,"216-609-11","Carabine - Plateforme AR - Le moniteur\nHors campus - Champ de tir Les Seigneurs (Pointe-du-Lac)","HC1",8,null,null,"27 au 31",null,null,null,null,null,null,null,null,null,"0+1","0+1","0+1"]
[null,null,"Policiers","Patrouille-gendarmerie","Patrouille-gendarmerie - Perfectionnement professionnel","Utilisation des armes à feu","HC1","Anglais","216-609-11","Pointe-du-Lac (Champ de tir Les Seigneurs)",null,"216-609-11","Carbine – AR Platform – The Monitor\nHors campus - Champ de tir Les Seigneurs (Pointe-du-Lac)","HC1",8,"25 au 29",null,null,null,null,null,null,null,null,null,null,null,null,"0+1","0+1"]
[null,null,"Policiers","Patrouille-gendarmerie","Patrouille-gendarmerie - Perfectionnement professionnel","Utilisation des armes à feu","HC1","Français","216-610-14","Pointe-du-Lac (Champ de tir Les Seigneurs)",null,"216-610-14","Carabine - Plateforme AR - Le moniteur - Requalification\nHors campus - Champ de tir Les Seigneurs (Pointe-du-Lac)","HC1",8,null,null,null,11,null,null,null,null,null,null,null,null,"0+1","0+1","0+1"]
[null,null,"Policiers","Patrouille-gendarmerie","Patrouille-gendarmerie - Perfectionnement professionnel","Utilisation des armes à feu",{"$f":"N350","v":"HC1"},"Anglais","216-709-20","Pointe-du-Lac (Champ de tir Les Seigneurs)",null,"216-709-20","Support Weapon - The Instructor\nHors campus - Champ de tir Les Seigneurs (Pointe-du-Lac)","HC1",8,null,null,null,"17 au 21",null,null,null,null,null,null,null,null,null,"0+1","0+1"]
[null,null,"Policiers","Patrouille-gendarmerie","Patrouille-gendarmerie - Perfectionnement professionnel","Utilisation des armes à feu","HC1","Français","216-709-20","Pointe-du-Lac (Champ de tir Les Seigneurs)",null,"216-709-20","Carabine – Plateforme AR - L'instructeur\nHors campus - Champ de tir Les Seigneurs (Pointe-du-Lac)","HC1",8,null,null,null,"3 au 7",null,null,null,null,null,"25 au 29",null,null,"1+1","1+1","1+1"]
[null,null,"Policiers","Patrouille-gendarmerie","Patrouille-gendarmerie - Perfectionnement professionnel","Utilisation des armes à feu","HC1","Français","216-710-20","Pointe-du-Lac (Champ de tir Les Seigneurs)",null,"216-710-20","Carabine – Plateforme AR - L'instructeur - Requalification\nHors campus - Champ de tir Les Seigneurs (Pointe-du-Lac)","HC1",8,null,null,null,12,null,null,null,null,null,null,null,null,"1+1","1+1","0+1"]
[null,null,"Policiers","Patrouille-gendarmerie","Patrouille-gendarmerie - Perfectionnement professionnel","Utilisation des armes à feu",{"$f":"N353","v":"HC1"},"Français","216-701-20","Pointe-du-Lac (Champ de tir Les Seigneurs)",null,"216-701-20","Maniement du fusil de calibre 12 –  L'instructeur \nChamp de tir Les Seigneurs\nPointe-du-Lac","HC1",8,"À la demande"]
[null,null,"Policiers","Patrouille-gendarmerie","Patrouille-gendarmerie - Perfectionnement professionnel","Utilisation des armes à feu","HC1","Français","216-706-20","Pointe-du-Lac (Champ de tir Les Seigneurs)",null,"216-706-20","Maniement du fusil de calibre 12 –  L'instructeur – Requalification \nHors campus - Champ de tir Les Seigneurs (Pointe-du-Lac)","HC1",8,"À la demande"]
[null,null,"Policiers","Patrouille-gendarmerie","Patrouille-gendarmerie - Perfectionnement professionnel","Utilisation des armes à feu",{"$f":"N355","v":"C1"},"Français","216-304-22","ENPQ",null,"216-304-22","Tir au pistolet - Mise à niveau et requalification ","C1",4,"À la demande"]
[null,null,"Policiers","Patrouille-gendarmerie","Patrouille-gendarmerie - Perfectionnement professionnel","Utilisation des armes à feu",{"$f":"N355","v":"C1"},"Français","216-305-22","ENPQ",null,"216-305-22","Tir au pistolet - Requalification adaptée","C1",8,null,null,null,null,null,null,null,null,null,null,null,null,"0+6","0+6","0+0"]
[null,null,"Policiers","Patrouille-gendarmerie","Patrouille-gendarmerie - Perfectionnement professionnel","Utilisation des armes à feu",{"$f":"N357","v":"C1"},"Français","216-711-23","ENPQ",null,"216-711-23","Didactique du tir au pistolet – L'instructeur","C1",8,null,null,null,"10 au 14 et \n17 au 21",null,null,null,null,"20 au 24 avril et \n27 avril au 1er mai",null,null,null,"1+1","1+1","1+1"]
[null,null,"Policiers","Patrouille-gendarmerie","Patrouille-gendarmerie - Perfectionnement professionnel","Utilisation des armes à feu","HC1","Français","216-711-23",null,null,"216-711-23","Didactique du tir au pistolet – L'instructeur","HC1",8]
[null,null,"Policiers","Patrouille-gendarmerie","Patrouille-gendarmerie - Perfectionnement professionnel","Utilisation des armes à feu","C1","Français","216-712-23","ENPQ",null,"216-712-23","Didactique du tir au pistolet – L'instructeur –  Requalification","C1",8,null,null,null,null,"17 au 18",null,null,null,null,"21 au 22",null,null,"3+3","3+3","3+3"]
[null,null,"Policiers","Patrouille-gendarmerie","Patrouille-gendarmerie - Perfectionnement professionnel","Utilisation des armes à feu","C1","Français","216-713-24","ENPQ",null,"216-713-24","Armes intermédiaires d'impact - L'instructeur ","C1",8,null,null,null,null,null,null,null,null,null,null,null,null,"0+1","0+0","0+0"]
[null,null,"Policiers","Patrouille-gendarmerie","Patrouille-gendarmerie - Perfectionnement professionnel","Utilisation des armes à feu","HC1","Français","216-004-25","Pointe-du-Lac (Champ de tir Les Seigneurs)",null,"216-004-25","Armes intermédiaires d'impact à projectiles - Le maître-instructeur - Journée d'actualisation\nHors campus - Champ de tir Les Seigneurs (Pointe-du-Lac)","HC1",4,null,null,null,10]
[null,null,"Policiers","Patrouille-gendarmerie","Patrouille-gendarmerie - Perfectionnement professionnel","Utilisation des armes à feu",{"$f":"N359","v":"C1"},"Français","216-210-23","Pointe-du-Lac (Champ de tir Les Seigneurs)",null,"216-210-23","Armes intermédiaires d'impact à projectiles – Bloc 1\nHors campus - Champ de tir Les Seigneurs (Pointe-du-Lac)","HC1",8,"À la demande",null,null,13,null,null,null,null,null,null,null,null,null,"1+0","1+1"]
[null,null,"Policiers","Patrouille-gendarmerie","Patrouille-gendarmerie - Perfectionnement professionnel","Utilisation des armes à feu",{"$f":"N363","v":"HC2"},"Français","216-210-23","Pointe-du-Lac (Champ de tir Les Seigneurs)",null,"216-210-23","Armes intermédiaires d'impact à projectiles – Bloc 1\nHors campus - Champ de tir Les Seigneurs (Pointe-du-Lac)","HC2",8,"À la demande"]
[null,null,"Policiers","Patrouille-gendarmerie","Patrouille-gendarmerie - Perfectionnement professionnel","Utilisation des armes à feu",{"$f":"N364","v":"HC1"},"Français","216-211-23","Pointe-du-Lac (Champ de tir Les Seigneurs)",null,"216-211-23","Armes intermédiaires d’impact à projectiles – Bloc 2 – Gendarmerie\nHors campus - Champ de tir Les Seigneurs (Pointe-du-Lac)","HC1",8,"À la demande",null,null,14,null,null,null,null,null,null,null,null,null,"1+0","1+1"]
[null,null,"Policiers","Patrouille-gendarmerie","Patrouille-gendarmerie - Perfectionnement professionnel","Utilisation des armes à feu",{"$f":"N365","v":"HC2"},"Français","216-211-23","Pointe-du-Lac (Champ de tir Les Seigneurs)",null,"216-211-23","Armes intermédiaires d’impact à projectiles – Bloc 2 – Gendarmerie\nHors campus - Champ de tir Les Seigneurs (Pointe-du-Lac)","HC2",8,"À la demande"]
[null,null,"Policiers","Patrouille-gendarmerie","Patrouille-gendarmerie - Perfectionnement professionnel","Utilisation des armes à feu",{"$f":"N366","v":"HC1"},"Français","216-713-24","Pointe-du-Lac (Champ de tir Les Seigneurs)",null,"216-713-24","Armes intermédiaires d'impact - L'instructeur \nHors campus - Champ de tir Les Seigneurs (Pointe-du-Lac)","HC1",8,null,null,"20 au 24",null,null,null,null,null,null,null,null,null,null,"1+1","1+1"]
[null,null,"Sécurité publique","Sécurité publique",null,null,"-","Français",null,null,null,null,null,null,null,null,null,null,null,null,"FORMATIONS EN SÉCURITÉ PUBLIQUE"]
[null,null,"Sécurité publique","Sécurité publique","Sécurité publique - Formation initiale",null,"-","Français",null,null,null,"n Formations initiales"]
[null,null,"Sécurité publique","Sécurité publique","Sécurité publique - Formation initiale",null,{"$f":"N369","v":"C1"},"Français",{"$f":"L369","v":"PFICS-2509-760"},"ENPQ",null,"PFICS-2509-760","PFICS (DSPJ) - 22e cohorte","C1",36,null,"27 au 29 août (En ligne),\n2 septembre au 11 novembre"]
[null,null,"Sécurité publique","Sécurité publique","Sécurité publique - Formation initiale",null,"C1","Français","PFICS-2509-760","ENPQ",null,"PFICS-2509-760","PFICS (DSPJ) - 23e cohorte","C1",36,null,null,null,"12 au 14 novembre (En ligne),\n18 novembre au 6 février"]
[null,null,"Sécurité publique","Sécurité publique","Sécurité publique - Formation initiale",null,"C1","Français","PFICS-2509-760","ENPQ",null,"PFICS-2509-760","PFICS (DSPJ) - 24e cohorte","C1",36,null,null,null,null,null,null,"11 au 13 février (En ligne),\n16 février au 23 avril"]
[null,null,"Sécurité publique","Sécurité publique","Sécurité publique - Formation initiale",null,"C1","Français","PFICS-2509-760","ENPQ",null,"PFICS-2509-760","PFICS (DSPJ) - 25e cohorte","C1",36,null,null,null,null,null,null,null,null,"29 au 30 avril et 1er mai (En ligne),\n4 mai au 8 juillet"]
[null,null,"Sécurité publique","Sécurité publique","Sécurité publique - Formation initiale",null,"MS1","Français","PFICR-2412-750",null,null,"PFICR-2412-750","CRQ - 27e cohorte","MS1",36,null,null,null,null,null,null,null,"12 mars au 15 juillet"]
[null,null,"Sécurité publique","Sécurité publique","Sécurité publique - Formation initiale",null,"MS1","Français","PFSTM-2305-761",null,null,"PFSTM-2305-761","STM - 6e cohorte","MS1",12,null,"9 septembre au 12 décembre"]
[null,null,"Sécurité publique","Sécurité publique","Sécurité publique - Formation initiale",null,"MS1","Français","PFSTM-2305-761",null,null,"PFSTM-2305-761","STM - 7e cohorte","MS1",24,null,null,null,null,null,null,null,"30 mars au 10 juillet"]
[null,null,"Sécurité publique","Sécurité Civile","Sécurité civile et privée - Perfectionnement professionnel","Psychologie",{"$f":"N376","v":"H1-[MX-MS]"},"Français","PSYRP-2501-028","UQTR - QUÉBEC",null,"PSYRP-2501-028","Comprendre la réalité policière pour mieux accompagner - 15e cohorte","H1-[MX-MS]",14,"durée totale : \n29 sept 2025 - 27 mars 2026",null,"Entre le 14 octobre 2025 et le 26 janvier 2026 \n(Volet 3 - Stage d'observation - COBRA)"]
[null,null,"Sécurité publique","Sécurité Civile","Sécurité civile et privée - Perfectionnement professionnel","Psychologie",{"$f":"N376","v":"H1-[MX-MS]"},"Français",{"$f":"L376","v":"PSYRP-2501-028"},"UQTR - QUÉBEC",null,null,null,null,null,null,"Act. Prép. En ligne (3 h)\nVolet 1","6\nVolet 2\n[ENPQ]",null,null,null,"24\nVolet 4\n[en ligne - S]"]
[null,null,"Sécurité publique","Sécurité Civile","Sécurité civile et privée - Perfectionnement professionnel","Psychologie","H1-[MX-MS]","Français",{"$f":"L378","v":"PSYRP-2501-028"},"BLAINVILLE",null,"PSYRP-2501-028","Comprendre la réalité policière pour mieux accompagner - 16e cohorte","H1-[MX-MS]",14,"durée totale : \n3 nov 2025 - 15 mai 2026",null,null,"Entre le 18 novembre 2025 et le 22 février 2026\n(Volet 3 - Stage d'observation - COBRA)"]
[null,null,"Sécurité publique","Sécurité Civile","Sécurité civile et privée - Perfectionnement professionnel","Psychologie",{"$f":"N378","v":"H1-[MX-MS]"},"Français",{"$f":"L378","v":"PSYRP-2501-028"},"BLAINVILLE",null,null,null,null,null,null,null,"Act. Prép. En ligne (3 h)\nVolet 1","10\nVolet 2\n[ENPQ]",null,null,null,"30\nVolet 4\n[en ligne - S]"]
[null,null,"Sécurité publique","Sécurité Civile","Sécurité civile et privée - Perfectionnement professionnel","Psychologie",{"$f":"N380","v":"H1-[MX-MS]"},"Français",{"$f":"L380","v":"PSYRP-2501-028"},"ENPQ",null,"PSYRP-2501-028","Comprendre la réalité policière pour mieux accompagner - 17e cohorte","H1-[MX-MS]",14,"durée totale : \n24 nov 2025 - 15 mai 2026",null,null,null,"Entre le 8 décembre 2025 et le 13 mars 2026\n(Volet 3 - Stage d'observation - COBRA)"]
[null,null,"Sécurité publique","Sécurité Civile","Sécurité civile et privée - Perfectionnement professionnel","Psychologie",{"$f":"N381","v":0},"Français",{"$f":"L380","v":"PSYRP-2501-028"},"ENPQ",null,null,null,null,null,null,null,"Act. Prép. En ligne (3 h)\nVolet 1","25\nVolet 2\n[HC1]",null,null,null,null,"17\nVolet 4\n[en ligne - S]"]
[null,null,"Sécurité publique","Sécurité Civile","Sécurité civile et privée - Perfectionnement professionnel","Psychologie","H1-[MX-MS]","Français",{"$f":"L382","v":"PSYRP-2501-028"},"ENPQ",null,"PSYRP-2501-028","Comprendre la réalité policière pour mieux accompagner - 18e cohorte","H1-[MX-MS]",14,"durée totale : 5 janv 2026 - 19 juin 2026",null,null,null,null,"Entre le 19 janvier et le 19 avril 2026\n(Volet 3 - Stage d'observation - COBRA)"]
[null,null,"Sécurité publique","Sécurité Civile","Sécurité civile et privée - Perfectionnement professionnel","Psychologie",{"$f":"N382","v":"H1-[MX-MS]"},"Français",{"$f":"L382","v":"PSYRP-2501-028"},"ENPQ",null,null,null,null,null,null,null,null,null,"Act. Prép. En ligne (3 h)\nVolet 1","14\nVolet 2\n[ENPQ]",null,null,null,"20\nVolet 4\n[en ligne - S]"]
[null,null,"Sécurité publique","Sécurité Civile","Sécurité civile et privée - Perfectionnement professionnel","Psychologie","H1-[MX-MS]","Français",{"$f":"L384","v":"PSYRP-2501-028"},"ENPQ",null,"PSYRP-2501-028","Comprendre la réalité policière pour mieux accompagner - 19e cohorte","H1-[MX-MS]",14,"durée totale : 2 fév 2026 - 17 juil 2026",null,null,null,null,null,"Entre le 23 février et le 17 mai 2026\n(Volet 3 - Stage d'observation - COBRA)"]
[null,null,"Sécurité publique","Sécurité Civile","Sécurité civile et privée - Perfectionnement professionnel","Psychologie",{"$f":"N384","v":"H1-[MX-MS]"},"Français",{"$f":"L384","v":"PSYRP-2501-028"},"ENPQ",null,null,null,null,null,null,null,null,null,null,"Act. Prép. En ligne (3 h)\nVolet 1","12\nVolet 2\n[ENPQ]",null,null,null,"18\nolet 4\n[en ligne - S]"]
[null,null,"Sécurité publique","Sécurité publique","Sécurité publique - Perfectionnement professionnel","Enquête","-","Français",null,null,null,"n ENQUÊTE"]
[null,null,"Sécurité publique","Sécurité civile","Sécurité civile et privée - Perfectionnement professionnel","Enquête - Autres",{"$f":"N387","v":"C1"},"Français",{"$f":"L387","v":"041-101-16"},"ENPQ",null,"041-101-16","Éléments d'enquête pour les intervenants en sécurité incendie","C1",12,null,null,null,null,null,null,null,"3 au 6\nÀ confirmer"]
[null,null,"Sécurité publique","Sécurité publique","Sécurité publique - Perfectionnement professionnel","Enquête ",{"$f":"N388","v":"MS1"},"Français","836-126-18",null,null,"836-126-18","Techniques d’entrevue de suspect (RQ)","MS1",12,null,null,"27 au 28 (HC) et 29 au 30 (ENPQ)\nÀ confirmer",null,null,null,null,null,null,null,null,null,null,"0+0","0+1"]
[null,null,"Sécurité publique","Sécurité publique","Sécurité publique - Perfectionnement professionnel","Enquête ",{"$f":"N389","v":"MS1"},"Français","836-127-19","ENPQ",null,"836-127-19","Techniques d’enquête (RBQ)","MS1",12,null,null,null,null,null,null,null,null,null,"19 au 22 mai (HC),\n25 au 28 mai (ENPQ),\n2 au 3 juin (HC),\n4 au 5 juin (ENPQ) et \n8 au 10 juin (HC)\nÀ confirmer",null,null,null,"1+1","1+1"]
[null,null,"Sécurité publique","Sécurité publique","Sécurité publique - Perfectionnement professionnel","Enquête ",{"$f":"N390","v":"C1"},"Français","836-137-23",null,null,"836-137-23","Tech entrevue suspect et témoignage à la cour (AMF)","C1",8,null,null,null,"4 au 5 nov (HC),\n6 au 7 nov (ENPQ) et\n10 au 12 nov (ENPQ)\nÀ confirmer"]
[null,null,"Sécurité publique","Sécurité publique","Sécurité publique - Perfectionnement professionnel","Enquête ","MS1","Français","836-141-19",null,null,"836-141-19","Planifier et exécuter une perquisition (Santé Canada)","MS1",12,"À la demande"]
[null,null,"Sécurité publique","Sécurité publique","Sécurité publique - Perfectionnement professionnel","Enquête ","MS1","Français","836-143-20",null,null,"836-143-20","Techniques d’entrevue de témoin et prise de déclaration (CCQ)","MS1",8,"À la demande"]
[null,null,"Sécurité publique","Sécurité publique","Sécurité publique - Perfectionnement professionnel","Enquête ","MS1","Français","836-146-20",null,null,"836-146-20","Processus d’enquête (ARC)","MS1",12,"À la demande"]
[null,null,"Sécurité publique","Sécurité publique","Sécurité publique - Perfectionnement professionnel","Enquête ","MS1","Français","836-147-21",null,null,"836-147-21","Techniques d’entrevue de témoins (ARC)","MS1",8,"À la demande"]
[null,null,"Sécurité publique","Sécurité publique","Sécurité publique - Perfectionnement professionnel","Enquête ","C1","Français","836-148-22",null,null,"836-148-22","Techniques d’entrevue de suspect (ARC)","C1",12]
[null,null,"Sécurité publique","Sécurité publique","Sécurité publique - Perfectionnement professionnel","Enquête de crimes majeurs","MS1","Français","837-101-24","ENPQ",null,"837-101-24","Enquête criminelle (MESS)\nAhuntsic (à confirmer)","MS1",8,null,null,null,null,null,"6 au 8 (HC), \n13 au 14 (ENPQ),\n20 au 21 (HC) et \n26 au 27 (ENPQ)\nÀ confirmer",null,null,null,null,null,null,null,"1+0","0+1"]
[null,null,"Sécurité publique","Sécurité publique","Sécurité publique - Perfectionnement professionnel","Enquête sur les activités économiques","MS1","Français","840-102-14","ENPQ",null,"840-102-14","Processus d’enquête (RQ)","MS1",8,null,"2 au 4 (HC),\n8 au 10 (ENPQ) et \n15 au 17 (ENPQ)\nÀ confirmer",null,null,null,null,null,null,null,null,null,null,null,"1+0","1+0"]
[null,null,"Sécurité publique","Sécurité publique","Sécurité publique - Perfectionnement professionnel","Enquête sur les activités économiques","MS1","Français","840-107-18",null,null,"840-107-18","Processus d'enquête (AMF)","MS1",8,null,null,"14 au 16 (HC) et 20 au 22\nÀ confirmer"]
[null,null,"Sécurité publique","Sécurité publique","Sécurité publique - Perfectionnement professionnel","Gestionnaires de 1er niveau","-","Français","À VENIR",null,null,"À VENIR","Technique d'entrevue de suspect (CCQ)","-",12,"À la demande"]
[null,null,"Sécurité publique","Sécurité publique","Sécurité publique - Perfectionnement professionnel","Inspection","-","Français",null,null,null,"n INSPECTION"]
[null,null,"Sécurité publique","Sécurité publique","Sécurité publique - Perfectionnement professionnel","Enquête sur les activités économiques",{"$f":"N401","v":"C1"},"Français",{"$f":"L401","v":"840-108-19"},null,null,"840-108-19","Inspection (RQ) ","C1",12,"À la demande"]
[null,null,"Sécurité publique","Sécurité publique","Sécurité publique - Perfectionnement professionnel","Pouvoirs et devoirs","-","Français",null,null,null,"n POUVOIRS ET DEVOIRS"]
[null,null,"Sécurité publique","Sécurité civile","Sécurité civile et privée - Perfectionnement professionnel","Enquête - Autres",{"$f":"N403","v":"HC1"},"Français",{"$f":"L403","v":"826-105-24"},null,null,"826-105-24","Pouvoirs et devoirs des constables spéciaux du MESS en matière d'arrestation\nDans les locaux du client","HC1",8,null,null,null,null,null,"13 au 14",null,"10 au 11","21 au 22",null,"16 au 17",null,null,"1+0","1+0"]
[null,null,"Sécurité publique","Sécurité civile","Sécurité civile et privée - Perfectionnement professionnel","Enquête - Autres",{"$f":"N404","v":0},null,{"$f":"L404","v":"826-110-19"},null,null,"826-110-19","Actualisation des connaissances juridiques des gardes du corps-chauffeurs (DPP)",null,null,"À la demande"]
[null,null,"Sécurité publique","Sécurité civile","Sécurité civile et privée - Perfectionnement professionnel","Enquête - Autres",{"$f":"N405","v":0},null,{"$f":"L405","v":"826-111-19"},null,null,"826-111-19","Pouvoirs et devoirs du constable spécial (Hydro-Québec)",null,null,"À la demande"]
[null,null,"Sécurité publique","Sécurité publique","Sécurité publique - Perfectionnement professionnel","Pouvoirs et devoirs",{"$f":"N406","v":"-"},"Français",{"$f":"L406","v":"826-112-21"},null,null,"826-112-21","Aspects légaux – Constables spéciaux STM","-",22,"À la demande"]
[null,null,"Sécurité publique","Sécurité publique","Sécurité publique - Perfectionnement professionnel","Pouvoirs et devoirs",{"$f":"N407","v":"HC1"},"Français",{"$f":"L407","v":"826-113-24"},null,null,"826-113-24","Droit pénal général et pouvoirs des agents de la sécurité publique","HC1",12,"À la demande",null,null,null,null,null,null,null,null,null,null,null,null,"0+0","1+0"]
[null,null,"Sécurité publique","Sécurité publique","Sécurité publique - Perfectionnement professionnel","Renseignemrnt","-","Français",null,null,null,"n RENSEIGNEMENT"]
[null,null,"Sécurité publique","Sécurité publique","Sécurité publique - Perfectionnement professionnel","Renseignement",{"$f":"N409","v":"C1"},"Français",{"$f":"L409","v":"839-301-16"},null,null,"839-301-16","Gestion des informateurs – Volet pratique","C1",16,"À la demande"]
[null,null,"Sécurité publique","Sécurité publique","Sécurité publique - Perfectionnement professionnel","Renseignement",{"$f":"N410","v":"C1"},"Français",{"$f":"L410","v":"839-302-17"},null,null,"839-302-17","Agent de renseignement criminel (RQ)","C1",8,null,"23 au 25 septembre (HC) et\n29 septembre au 3 octobre (ENPQ)\nÀ confirmer"]
[null,null,"Sécurité publique","Sécurité publique","Sécurité publique - Perfectionnement professionnel","Renseignement",{"$f":"N411","v":"MS1"},"Français",{"$f":"L411","v":"839-303-19"},null,null,"839-303-19","Agent de renseignement criminel (RBQ et CCQ)","MS1",12,"À la demande",null,null,null,null,null,null,null,null,null,null,null,null,"0+1","0+1"]
[null,null,"Sécurité publique","Sécurité publique","Sécurité publique - Perfectionnement professionnel","Gestionnaires de 1er niveau","-","Français",null,null,null,"n PROGRAMMES DE FORMATION EN GESTION"]
[null,null,"Sécurité publique","Sécurité publique","Sécurité publique - Perfectionnement professionnel","Gestionnaires de 1er niveau",{"$f":"N413","v":"C1"},"Français",{"$f":"L413","v":"🎓 PPU-010-38"},null,null,"🎓 PPU-010-38","Habiletés de supervision en sécurité publique","C1",16,null,"16 au 18 septembre et \n8 au 10 octobre\nÀ confirmer"]
[null,null,"Sécurité publique","Sécurité publique","Sécurité publique - Perfectionnement professionnel","Gestionnaires de 1er niveau","MS1","Français",{"$f":"L414","v":"🎓 PPU-010-47 "},null,null,"🎓 PPU-010-47 ","Activité d’immersion à la fonction de cadre de premier niveau en sécurité publique","MS1",16,null,null,"15 au 17 octobre et\n17 au 19 novembre\nÀ confirmer"]
[null,null,"Sécurité publique","Sécurité publique","Sécurité publique - Perfectionnement professionnel","Gestionnaires de 1er niveau","H1-[   ]","Français",{"$f":"L415","v":"🎓 PPU-010-48"},null,null,"🎓 PPU-010-48","Activité d'intégration en gestion de la sécurité publique","H1-[   ]",16]
[null,null,"Sécurité publique","Sécurité publique","Sécurité publique - Perfectionnement professionnel","Gestionnaires de 1er niveau","-","Français",{"$f":"L416","v":"🎓 PPU-010-49"},null,null,"🎓 PPU-010-49","Supervision opérationnelle et administrative","-",16,null,null,null,null,null,"6 au 8 janvier et\n3 au 5 février\nÀ confirmer"]
[null,null,"Sécurité publique","Sécurité publique","Sécurité publique - Perfectionnement professionnel","Santé psychologique au travail","-","Français",null,null,null,"n SANTÉ PSYCHOLOGIQUE AU TRAVAIL"]
[null,null,"Sécurité publique","Sécurité publique","Sécurité publique - Formation initiale","Formation des gestionnaires de premier niveau SC",{"$f":"N418","v":0},"Français",{"$f":"L418","v":"828-001-18"},null,null,"828-001-18","Colloque sur les enjeux en matière de santé psychologique dans la pratique des métiers d'urgence",null,36,"À la demande"]
[null,null,"Sécurité publique","Sécurité publique","Sécurité publique - Formation initiale","Formation des gestionnaires de premier niveau SC",{"$f":"N419","v":"HC1"},"Français",{"$f":"L419","v":"828-002-18"},null,null,"828-002-18","Séance d'information - La prévention des impacts psychologiques inhérents au métier des intervenants en situation d'urgence","HC1",36,"À la demande"]
[null,null,"Sécurité publique","Sécurité publique","Sécurité publique - Formation initiale","Formation des gestionnaires de premier niveau SC",{"$f":"N420","v":"HC1"},"Français",{"$f":"L420","v":"828-102-15"},null,null,"828-102-15","Prévention des impacts psychologiques (cadre)","HC1",14,"À la demande"]
[null,null,"Sécurité publique","Sécurité publique","Sécurité publique - Formation initiale","Formation des gestionnaires de premier niveau SC","HC1","Français",{"$f":"L421","v":"828-103-15"},null,null,"828-103-15","Prévention des impacts psychologiques\n(SUPERVISEUR)","HC1",14,null,null,"1 au 2\nQuébec",null,null,null,null,null,"14 au 15\nQuébec"]
[null,null,"Sécurité publique","Sécurité publique","Sécurité publique - Formation initiale","Formation des gestionnaires de premier niveau SC",{"$f":"N421","v":"HC1"},"Français",{"$f":"L421","v":"828-103-15"},null,null,null,null,null,null,null,null,"29 au 30\nlieu à confirmer",null,null,null,null,null,"22 au 23\nlieu à confirmer"]
[null,null,"Sécurité publique","Sécurité publique","Sécurité publique - Formation initiale","Formation des gestionnaires de premier niveau SC","CM1","Français",{"$f":"L423","v":"828-103-15"},null,null,"828-103-15","Prévention des impacts psychologiques\n(SUPERVISEUR)\nCampus de Montréal","CM1",14,"À la demande"]
[null,null,"Sécurité publique","Sécurité publique","Sécurité publique - Formation initiale","Formation des gestionnaires de premier niveau SC","C1","Français",{"$f":"L424","v":"828-103-15"},null,null,"828-103-15","Prévention des impacts psychologiques\n(SUPERVISEUR)","C1",14,"À la demande"]
[null,null,"Sécurité publique","Sécurité publique","Sécurité publique - Formation initiale","Formation des gestionnaires de premier niveau SC",{"$f":"N425","v":"A1"},"Français",{"$f":"L425","v":"828-105-16"},null,null,"828-105-16","Prévention des impacts psychologiques chez les ambulanciers (formation en ligne)","A1","s.o.","À la demande"]
[null,null,"Sécurité publique","Sécurité publique","Sécurité publique - Formation initiale","Formation des gestionnaires de premier niveau SC",{"$f":"N426","v":"A1"},"Français",{"$f":"L426","v":"828-106-17"},null,null,"828-106-17","Prévention des impacts psychologiques chez les pompiers (formation en ligne)","A1","s.o.","À la demande"]
[null,null,"Sécurité publique","Sécurité publique","Sécurité publique - Perfectionnement professionnel",null,"-","Français",null,null,null,"n PERFECTIONNEMENT"]
[null,null,"Sécurité publique","Sécurité publique","Sécurité publique - Perfectionnement professionnel","Autre","-","Français",null,null,null,"AUTRES"]
[null,null,"Sécurité publique","Sécurité publique","Patrouille-gendarmerie - Perfectionnement professionnel","Autre",null,"Français",{"$f":"L429","v":"441-203-25"},null,null,"441-203-25","Production et trafic de fentanyl – RCSP/CPKN (formation en ligne)","A1","s.o.","À la demande"]
[null,null,"Sécurité publique","Sécurité publique","Sécurité publique - Perfectionnement professionnel",null,"-","Français",null,null,null,"COMMUNICATION"]
[null,null,"Sécurité publique","Sécurité publique","Sécurité publique - Perfectionnement professionnel","Communication tactique",{"$f":"N431","v":"HC1"},"Français",{"$f":"L431","v":"817-002-23"},null,null,"817-002-23","Communication – Notions théoriques","HC1",20,"À la demande",null,null,null,null,null,null,null,null,null,null,null,null,"0+0","5+0"]
[null,null,"Sécurité publique","Sécurité publique","Sécurité publique - Perfectionnement professionnel","Communication tactique",{"$f":"N432","v":"-"},"Français",{"$f":"L432","v":"817-101-11"},null,null,"817-101-11","Gestion de situations menaçantes (ACIA)","-",20,"À la demande",null,null,null,null,null,null,null,null,null,null,null,null,"0+0","1+1"]
[null,null,"Sécurité publique","Sécurité publique","Patrouille-gendarmerie - Perfectionnement professionnel","Communication tactique",{"$f":"N433","v":"C1"},"Français",{"$f":"L433","v":"817-107-23"},null,null,"817-107-23","La communication (CCQ)","C1",10,"À la demande",null,null,null,null,null,null,null,null,null,null,null,null,"0+0","0+2"]
[null,null,"Sécurité publique","Sécurité publique","Patrouille-gendarmerie - Perfectionnement professionnel",null,"-","Français",null,null,null,"EMPLOI DE LA FORCE"]
[null,null,"Sécurité publique","Sécurité publique","Patrouille-gendarmerie - Perfectionnement professionnel","Utilisation des armes à feu",{"$f":"N435","v":"C1"},"Français",{"$f":"L435","v":"016-201-11"},null,null,"016-201-11","Tir au pistolet et emploi de la force - Sécurité privée","C1",8,"À la demande"]
[null,null,"Sécurité publique","Sécurité publique","Patrouille-gendarmerie - Perfectionnement professionnel","Utilisation des armes à feu","C1","Français","016-301-13",null,null,"016-301-13","Tir au pistolet et emploi de la force - Sécurité privée - Requalification","C1",8,"À la demande"]
[null,null,"Sécurité publique","Sécurité publique","Patrouille-gendarmerie - Perfectionnement professionnel","Intervention physique","C1","Français","214-103-18",null,null,"214-103-18","Intervention avec le bouclier inversé (DSPJ)","C1",12,"À la demande"]
[null,null,"Sécurité publique","Sécurité publique","Patrouille-gendarmerie - Perfectionnement professionnel","Intervention physique","C1","Français","214-712-20",null,null,"214-712-20","Intervention avec le bouclier inversé - L'instructeur (sans requalification) (DSPJ)","C1",12,"À la demande"]
[null,null,"Sécurité publique","Sécurité publique","Patrouille-gendarmerie - Perfectionnement professionnel","Utilisation des armes à feu","HC1","Français","216-711-23",null,null,"216-711-23","Didactique du tir au pistolet – L'instructeur","HC1",8,null,"8 au 12 et\n15 au 19\nQuébec","27 au 31 octobre et\n3 au 7 novembre\nQuébec"]
[null,null,"Sécurité publique","Sécurité publique","Patrouille-gendarmerie - Perfectionnement professionnel","Communication tactique","-","Anglais","217-103-19",null,null,"217-103-19","Communication – Transition (Projet communication ASFC) - Anglais","-",8,"À la demande"]
[null,null,"Sécurité publique","Sécurité publique","Patrouille-gendarmerie - Perfectionnement professionnel","Emploi de la force - Autres",{"$f":"N441","v":"HC1"},"Français","814-103-22",null,null,"814-103-22","Méthodes d'intervention (Centres jeunesse)","HC1",12,null,null,null,null,null,null,null,null,null,null,null,null,null,"0+0","0+0\n7 ajouts annulés"]
[null,null,"Sécurité publique","Sécurité publique","Sécurité publique - Perfectionnement professionnel","Emploi de la force - Autres",{"$f":"N442","v":"HC1"},"Français",{"$f":"L443","v":"814-110-18"},null,null,"814-108-16","Interventions verbales et physiques (Loto Québec)","HC1",10,"À la demande",null,null,null,null,null,null,null,null,null,null,null,null,"0+0","1+0"]
[null,null,"Sécurité publique","Sécurité publique","Sécurité publique - Perfectionnement professionnel","Emploi de la force - Autres",{"$f":"N443","v":"HC1"},"Français",{"$f":"L443","v":"814-110-18"},null,null,"814-110-18","Interventions physiques 2 (Société des casinos du Québec)","HC1",10,"À la demande",null,null,null,null,null,null,null,null,null,null,null,null,"0+0","1+0"]
[null,null,"Sécurité publique","Sécurité publique","Sécurité publique - Perfectionnement professionnel","Emploi de la force - Autres",{"$f":"N444","v":"HC1"},"Français",{"$f":"L444","v":"814-112-21"},null,null,"814-112-21","Révision des techniques d'intervention verbale et physique - Société des casinos du Québec","HC1",10,"À la demande",null,null,null,null,null,null,null,null,null,null,null,null,"0+0","2+0"]
[null,null,"Sécurité publique","Sécurité publique","Sécurité publique - Perfectionnement professionnel","Emploi de la force - Autres",{"$f":"N444","v":"HC1"},"Français",{"$f":"L444","v":"814-112-21"}]
[null,null,"Sécurité publique","Sécurité publique","Sécurité publique - Perfectionnement professionnel","Emploi de la force - Autres",{"$f":"N446","v":0},null,{"$f":"L446","v":"814-206-23"},null,null,"814-206-23","Contrôler une personne à l'aide de l'aérosol capsique",null,null,"À la demande"]
[null,null,"Sécurité publique","Sécurité publique","Patrouille-gendarmerie - Perfectionnement professionnel","Formation en pédagogie",null,"Français","Formation en pédagogie",null,null,"FORMATION EN PÉDAGOGIE"]
[null,null,"Sécurité publique","Sécurité publique","Patrouille-gendarmerie - Perfectionnement professionnel","Formation en pédagogie",{"$f":"N448","v":"HC1"},"Français",{"$f":"L448","v":"232-201-24"},null,null,"232-201-24","Interventions pédagogiques","HC1",8,"À la demande",null,null,null,null,null,null,null,null,null,null,null,null,"0+0","1+3"]
[null,null,"Sécurité publique","Sécurité publique","Patrouille-gendarmerie - Perfectionnement professionnel","Formation en pédagogie",{"$f":"N448","v":"HC1"},"Français",{"$f":"L448","v":"232-201-24"}]
[null,null,"Sécurité publique","Sécurité publique","Patrouille-gendarmerie - Perfectionnement professionnel","Moniteurs en convoyage de biens de valeurs",null,"Français","Formation en pédagogie",null,null,"MONITEURS EN CONVOYAGE DE BIENS DE VALEURS"]
[null,null,"Sécurité publique","Sécurité publique","Patrouille-gendarmerie - Perfectionnement professionnel","Convoyage de biens de valeurs",{"$f":"N451","v":"C1"},"Français",{"$f":"L451","v":"953-601-17"},null,null,"953-601-17","Emploi de la force - Sécurité privée - Le moniteur","C1",8,"À la demande"]
[null,null,"Sécurité publique","Sécurité publique","Patrouille-gendarmerie - Perfectionnement professionnel",null,"-","Français",null,null,null,"SÉCURITÉ ROUTIÈRE ET CONDUITE"]
[null,null,"Sécurité publique","Sécurité publique","Sécurité publique - Perfectionnement professionnel","Conduite",{"$f":"N453","v":"C1"},"Français",{"$f":"L453","v":"801-212-22"},null,null,"801-212-22","Conduite de véhicule en utilisant les techniques de base","C1",12,"À la demande"]
[null,null,"Sécurité publique","Sécurité publique","Sécurité publique - Perfectionnement professionnel","Patrouilles spécialisées",{"$f":"N454","v":"A1"},"Français",{"$f":"L454","v":"803-103-18"},"En Ligne",null,"803-103-18","Intervention en cas de surdose d'opioïdes\nEn ligne","A1","s.o.","À la demande"]
[null,null,"Sécurité publique","Sécurité publique","Patrouille-gendarmerie - Perfectionnement professionnel","Patrouilles spécialisées",{"$f":"N455","v":"S1"},"Français",{"$f":"L455","v":"810-201-18"},null,null,"810-201-18","Agent de surveillance de sentier FQCQ","S1",15,null,null,null,"8 au 9\nÀ confirmer",null,null,null,null,null,null,null,null,null,"0+0","2+0"]
[null,null,"Sécurité publique","Sécurité publique","Patrouille-gendarmerie - Perfectionnement professionnel","Patrouilles spécialisées",{"$f":"N455","v":"S1"},"Français",{"$f":"L455","v":"810-201-18"},null,null,null,null,null,null,null,null,null,"15 au 16\nÀ confirmer"]
[null,null,"Sécurité publique","Sécurité publique","Sécurité publique - Perfectionnement professionnel","Patrouilles spécialisées",{"$f":"N457","v":"HC1"},null,{"$f":"L457","v":"811-103-24"},null,null,"811-103-24","Contrôle de la vitesse en patrouille nautique","HC1",12,"À la demande"]
[null,null,"Sécurité publique","Sécurité publique","Patrouille-gendarmerie - Perfectionnement professionnel",null,"-","Français",null,null,null,"TECHNICIEN QUALIFIÉ EN ÉTHYLOMÈTRE"]
[null,null,"Sécurité publique","Sécurité publique","Patrouille-gendarmerie - Perfectionnement professionnel","Enquête capacité affaiblie",{"$f":"N459","v":"C1"},"Français",{"$f":"L459","v":"209-204-18"},null,null,"209-204-18","Technicien qualifié en éthylomètre - DataMaster DMT-C","C1",12,"À la demande"]
[null,null,"Sécurité publique","Sécurité publique","Patrouille-gendarmerie - Perfectionnement professionnel","Utilisation des armes à feu","-","Français",null,null,null,"UTILISATION DES ARMES À FEU"]
[null,null,"Sécurité publique","Sécurité publique","Patrouille-gendarmerie - Perfectionnement professionnel","Utilisation des armes à feu",{"$f":"N461","v":"C1"},"Français",{"$f":"L461","v":"216-207-07"},null,null,"216-207-07","Tir au pistolet - Requalification","C1",8,null,"3 AM \nÀ confirmer",null,"6 AM \nÀ confirmer",null,null,null,null,null,null,null,null,null,"0+0","5+0"]
[null,null,"Sécurité publique","Sécurité publique","Patrouille-gendarmerie - Perfectionnement professionnel","Utilisation des armes à feu",{"$f":"N461","v":"C1"},"Français",{"$f":"L461","v":"216-207-07"},null,null,null,null,null,null,null,"3 PM \nÀ confirmer",null,"6 PM \nÀ confirmer"]
[null,null,"Sécurité publique","Sécurité publique","Patrouille-gendarmerie - Perfectionnement professionnel","Utilisation des armes à feu",{"$f":"N461","v":"C1"},"Français",{"$f":"L461","v":"216-207-07"},null,null,null,null,null,null,null,"4 AM \nÀ confirmer",null,"7 AM \nÀ confirmer"]
[null,null,"Sécurité publique","Sécurité publique","Patrouille-gendarmerie - Perfectionnement professionnel","Utilisation des armes à feu",{"$f":"N461","v":"C1"},"Français",{"$f":"L461","v":"216-207-07"},null,null,null,null,null,null,null,"4 PM \nÀ confirmer"]
[null,null,"Sécurité publique","Sécurité publique","Patrouille-gendarmerie - Perfectionnement professionnel","Utilisation des armes à feu",{"$f":"N465","v":"HC1"},"Français",{"$f":"L465","v":"216-209-18"},"Pointe-du-Lac (Champ de tir Les Seigneurs)",null,"216-209-18","Carabine - Plateforme AR - Bloc 1\nHors campus - Champ de tir Les Seigneurs (Pointe-du-Lac)","HC1",8,"À la demande",null,null,null,null,null,null,null,null,null,null,null,null,"0+0","1+0"]
[null,null,"Sécurité publique","Sécurité publique","Patrouille-gendarmerie - Perfectionnement professionnel","Utilisation des armes à feu",{"$f":"N466","v":"HC1"},"Français",{"$f":"L466","v":"216-302-19"},"Pointe-du-Lac (Champ de tir Les Seigneurs)",null,"216-302-19","Carabine – Plateforme AR –  Requalification\nHors campus - Champ de tir Les Seigneurs (Pointe-du-Lac)","HC1",8,null,null,null,null,null,null,null,null,null,null,2]
[null,null,"Sécurité publique","Sécurité publique","Patrouille-gendarmerie - Perfectionnement professionnel","Utilisation des armes à feu",{"$f":"N466","v":"HC1"},"Français",{"$f":"L466","v":"216-302-19"},"Pointe-du-Lac (Champ de tir Les Seigneurs)",null,null,null,null,null,null,null,null,null,null,null,null,null,null,null,3]
[null,null,"Sécurité publique","Sécurité publique","Patrouille-gendarmerie - Perfectionnement professionnel","Utilisation des armes à feu",{"$f":"N466","v":"HC1"},"Français",{"$f":"L466","v":"216-302-19"},"Pointe-du-Lac (Champ de tir Les Seigneurs)",null,null,null,null,null,null,null,null,null,null,null,null,null,null,null,16]
[null,null,"Sécurité publique","Sécurité publique","Patrouille-gendarmerie - Perfectionnement professionnel","Utilisation des armes à feu",{"$f":"N466","v":"HC1"},"Français",{"$f":"L466","v":"216-302-19"},"Pointe-du-Lac (Champ de tir Les Seigneurs)",null,null,null,null,null,null,null,null,null,null,null,null,null,null,null,17]
[null,null,"Sécurité publique","Sécurité publique","Patrouille-gendarmerie - Perfectionnement professionnel","Utilisation des armes à feu",{"$f":"N470","v":"HC1"},"Français",{"$f":"L470","v":"816-205-24"},"Club de tir de Lanaudière",null,"816-205-24","Mise à niveau – Tir au pistolet et introduction au processus de prise de décision","HC1",8,"À la demande"]
[null,null,"Sécurité publique","Sécurité publique","Patrouille-gendarmerie - Perfectionnement professionnel","Utilisation des armes à feu",{"$f":"N471","v":"HC1"},"Français",{"$f":"L471","v":"818-701-25"},null,null,"818-701-25","Didactique de prise de décision - L'instructeur","HC1",12,"À la demande",null," "," ","2 au 3 \nLaval","20 au 21\nLaval"]
[null,null,"Sécurité publique","Sécurité publique","Patrouille-gendarmerie - Perfectionnement professionnel","Utilisation des armes à feu",{"$f":"N471","v":"HC1"},"Français",{"$f":"L471","v":"818-701-25"},null,null,null,null,null,null,null,null,null,null,"16 au 17\nQuébec"]
[null,null,"Sécurité publique","Sécurité publique","Patrouille-gendarmerie - Perfectionnement professionnel","Tir-Services correctionnels",null,"Français",null,null,null,"MISE À NIVEAU - TIR SERVICES CORRECTIONNELS"]
[null,null,"Sécurité publique","Sécurité publique","Patrouille-gendarmerie - Perfectionnement professionnel","Utilisation des armes à feu",{"$f":"N474","v":"HC1"},"Français",{"$f":"L474","v":"816-205-24"},"Club de tir de Lanaudière",null,"816-205-24","Mise à niveau – Tir au pistolet et introduction au processus de prise de décision","HC1",8,"À la demande"]
[null,null,"Sécurité publique","Sécurité publique","Patrouille-gendarmerie - Perfectionnement professionnel","Utilisation des armes à feu",{"$f":"N475","v":"HC1"},"Français",{"$f":"L475","v":"XXX-XXX-XX"},null,null,"XXX-XXX-XX","Didactique de la garde et contrôle de l'arme à feu - L'instructeur\n","HC1",6,null,null,null,null,"1\nLaval","19\nQuébec"]
[null,null,"Sécurité publique","Sécurité publique","Patrouille-gendarmerie - Perfectionnement professionnel","Utilisation des armes à feu",{"$f":"N475","v":"HC1"},"Français",{"$f":"L475","v":"XXX-XXX-XX"},null,null,null,null,null,null,null,null,null,null,"4\nLaval"]
[null,null,"Sécurité publique","Sécurité publique","Patrouille-gendarmerie - Perfectionnement professionnel","Utilisation des armes à feu",{"$f":"N475","v":"HC1"},"Français",{"$f":"L475","v":"XXX-XXX-XX"},null,null,null,null,null,null,null,null,null,null,"15\nQuébec"]
[null,null,"Sécurité publique","Sécurité publique","Patrouille-gendarmerie - Perfectionnement professionnel","Utilisation des armes à feu",{"$f":"N475","v":"HC1"},"Français",{"$f":"L475","v":"XXX-XXX-XX"},null,null,null,null,null,null,null,null,null,null,"18\nQuébec"]
[null,null,null,null,null,null,"-","Français",null,null,null,null,null,null,null,null,null,null,null,null,"ÉVÉNEMENTS"]
[null,null,"Service aux collectivités",null,"Service aux collectiivités",null,"-","Français",null,null,null,"n Service aux collectivités"]
[null,null,"Service aux collectivités",null,"Service aux collectiivités",null,{"$f":"N481","v":0},null,null,null,null,null,"ADPQ - Journée sécurité routière",null,null,null,null,null,5]
[null,null,"Service aux collectivités",null,"Service aux collectiivités",null,0,null,null,null,null,null,"SRCQ-Évaluation provinciale de la menace",null,null,null,null,15]
[null,null,"Service aux collectivités",null,"Service aux collectiivités",null,0,null,null,null,null,null,"Comité SAAQ-COPS",null,null,null,18,null,6]
[null,null,"Service aux collectivités",null,"Service aux collectiivités",null,"C1","Français",null,"ENPQ",null,null,"Séminaire chaire de recherche UQTR-ENPQ","C1","s.o."]
[null,null,"Service aux collectivités",null,"Service aux collectiivités",null,"C1","Français",null,"ENPQ",null,null,"50 ans femmes policières","C1",250,null,10]
[null,null,"Service aux collectivités",null,"Service aux collectiivités",null,"C1","Français",null,"ENPQ",null,null,"Séminaire Intersection","C1",225,null,null,null,"27 au 28\nÀ confirmer"]
[null,null,"Service aux collectivités",null,"Service aux collectiivités",null,{"$f":"N487","v":"C1"},"Français",null,"ENPQ",null,null,"Formation PIMS","C1",30,null,"22 au 26"]
[null,null,null,null,"Bureau du registraire et des communication",null,"-","Français",null,null,null,"n BRC"]
[null,null,null,null,"Bureau du registraire et des communication",null,{"$f":"N489","v":"C"},"Français",{"$f":"L489","v":"JRP"},"ENPQ",null,"JRP","Journée de reconnaissance policière","C",null,null,null,null,null,null,null,null,null,null,"11",null,null,null,null,"0+1 (mai)"]
[null,null,null,null,"Bureau du registraire et des communication",null,{"$f":"N490","v":"C"},"Français",{"$f":"L490","v":"JPO"},"ENPQ",null,"JPO","Journée porte ouverte","C",null,null,null,null,"17",null,null,null,null,null,null,null,null,null,null,"1+0 (nov)"]
[null,null,"Futurs policiers","Patrouille-gendarmerie","Bureau du registraire et des communication",null,{"$f":"N491","v":"C1"},"Français",{"$f":"L491","v":"ESAP"},"ENPQ",null,"ESAP","Épreuve standardisée d'aptitude physique","C1",null,null,"4","27 au 28",null,"1 au 2","19 au 20","23 au 25","30 au 31",null,"4 au 5","8 au 9","13 au 14",null,null,"6+11"]
[null,null,"Futurs policiers","Patrouille-gendarmerie","Bureau du registraire et des communication",null,{"$f":"N491","v":"C1"},"Français",{"$f":"L493","v":"ESAP"},"ENPQ",null,null,null,null,null,null,"22 au 23"]
[null,null,"Futurs policiers","Patrouille-gendarmerie","Bureau du registraire et des communication",null,{"$f":"N493","v":"HC1"},"Français",{"$f":"L493","v":"ESAP"},"UNIVERSITÉ DE MONTRÉAL",null,"ESAP","Épreuve standardisée d'aptitude physique\nUniversité de Montréal","HC1",null,"26 au 27",null,"20 au 21",null,null,null,null,"Date à venir",null,null,null,null,null,null,"4+1"]
[null,null,"Futurs policiers","Patrouille-gendarmerie","Bureau du registraire et des communication",null,{"$f":"N493","v":"HC1"},"Français",{"$f":"L493","v":"ESAP"},"UNIVERSITÉ DE MONTRÉAL"]
[null,null,null,null,"Direction de la recherche, de l'expertise et de la pédagogie",null,"-","Français",null,null,null,"n DREP"]
[null,null,"Policiers",null,"Direction de la recherche, de l'expertise et de la pédagogie",null,{"$f":"N496","v":"C1"},"Français",{"$f":"L496","v":"JAC"},"ENPQ",null,"JAC","Journées d'actualisation des connaissances","C1"]
[null,null,"Formateurs","Journée pédagogique ","Direction de la recherche, de l'expertise et de la pédagogie","Intervention tactique",{"$f":"N497","v":"C1"},"Français","JP-TACT","ENPQ",null,"JP-TACT","Journée pédagogique - Tactique","C1",null,null,"29"]
[null,null,"Formateurs","Journée pédagogique ","Direction de la recherche, de l'expertise et de la pédagogie","Utilisation des armes à feu","C1","Français","JP-TIR","ENPQ",null,"JP-TIR","Journée pédagogique - TIR","C1",null,null,null,null,null,null,"5",null,null,null,null,null,null,null,null,"0+1(mars)"]
[null,null,"Formateurs","Journée pédagogique ","Direction de la recherche, de l'expertise et de la pédagogie","Intervention physique","C1","Français","JP-IP","ENPQ",null,"JP-IP","Journée pédagogique - INTERVENTION PHYSIQUE","C1",null,null,null,null,null,"8",null,null,null,null,null,null,null,null,null,"1+0(sept)"]
[null,null,"Formateurs","Journée pédagogique ","Direction de la recherche, de l'expertise et de la pédagogie","Conduite","C1","Français","JP-COND","ENPQ",null,"JP-COND","Journée pédagogique - CONDUITE","C1",null,null,null,null,null,null,null,"9",null,null,null,null,null,null,null,"0+1(fév)"]
[null,null,"Formateurs","Journée pédagogique ","Direction de la recherche, de l'expertise et de la pédagogie","Sécurité routière  - Auitre","C1","Français","JP-SR","ENPQ",null,"JP-SR","Journée pédagogique - SÉCURITÉ ROUTIÈRE","C1",null,null,"4"]
[null,null,"Formateurs","Journée pédagogique ","Direction de la recherche, de l'expertise et de la pédagogie","Gestion","C1","Français","JP-GEST","ENPQ",null,"JP-GEST","Journée pédagogique - GESTION","C1",null,null,null,null,null,null,null,null,"2",null,"4"]
[null,null,"Formateurs","Journée pédagogique ","Direction de la recherche, de l'expertise et de la pédagogie","Enquête - Autres","C1","Français","JP-ENQ","ENPQ",null,"JP-ENQ","Journée pédagogique - ENQUËTE","C1",null,"25","29",null,null,null,null,"9",null,null,null,null,null,null,null,"2+1"]
[null,null,"Formateurs","Journée pédagogique ","Direction de la recherche, de l'expertise et de la pédagogie","Enquête - Autres",{"$f":"N504","v":"C1"},"Français","JP-NICHD","ENPQ",null,"JP-NICHD","Journée pédagogique - NICHD","C1",null,null,"15"]
[null,null,"Formateurs","Journée pédagogique ","Direction de la recherche, de l'expertise et de la pédagogie","PFIPG","C1","Français","JP-PFIPG","ENPQ",null,"JP-PFIPG","Journée pédagogique - PFIPG\n* 1 groupe en formation ","C1",null,"25 *","29 *",null,"3 *","8 *","5","9","2 *","20","11 *",null,null,null,null,"5+6"]
[null,null,"Formateurs","Journée pédagogique ","Direction de la recherche, de l'expertise et de la pédagogie","PFIPG",{"$f":"N505","v":"C1"},"Français","JP-PFIPG","ENPQ",null,null,null,null,null,null,null,null,"17",null,"26 *"]

{"sheet":"PN_","index":1,"n_rows":1,"n_cols":1,"rows_kept":1,"cut":false,"hidden":true,"merged":[[0,0,13,0]]}
["PN : 203-119-23 : 13fr (Fiche d'interprétation policière (FIN) - Collecte de données sur les interpellations policières.  EST-CE QU'ON DONNE CE COURS?  EST-CE CPKN?  c'est un code de cours actif, mais pas de recette, pas d'offre passée\n\nPN : 203-207-23 : 21fr Loi sur la protection des personnes dont l’état mental présente un danger pour elles-mêmes ou pour autrui (LPP)\n\nPN : 209-115-21 : 6fr ENPQ ou HC (en ligne?) Maintient de compétence périodique - TQE DataMaster DMT-C\n\nPN : CPS-002-22 : 8fr | 61eng (CAPSULE en ligne)\n\nPN : 828-104-15 : 30fr - PAS DE FICHE DE COURS.  "]

{"sheet":"Rapport_Volum","index":2,"n_rows":268,"n_cols":13,"rows_kept":268,"cut":false,"hidden":true,"merged":[[3,4,3,12],[27,10,27,12],[5,10,5,12]]}
[]
[null,null,null,null,null,null,null,null,null,null,null,null,"Programmes de formation initiale et perfectionnement policier"]
[null,null,null,null,null,null,null,null,null,null,null,null,"Calendrier des cours 2024-2025"]
[null,null,null,null,"VOLUMÉTRIE DES DEMANDES ADRESSÉES"]
[null,null,2,3,4,5,6,null,7,null,10,null,11]
[null,null,null,null,null,null,null,null,null,null,"Autochtones"]
[null,null,null,null,null,null,"# diffusions",null,"Hres/an",null,"Franco",null,"Anglo"]
[null,null,null,null,{"$f":"F42","v":"Sous total FORMATION INTIALE EN ENQUÊTE"},null,{"$f":"G42","v":{"$error":"#REF!"}},null,{"$f":"I42","v":{"$error":"#REF!"}},null,{"$f":"K42","v":{"$error":"#REF!"}},null,{"$f":"M42","v":{"$error":"#REF!"}}]
[null,null,null,null,{"$f":"F87","v":"Sous total PERFECTIONNEMENT PROFESSIONNEL EN ENQUÊTE"},null,{"$f":"G87","v":{"$error":"#REF!"}},null,{"$f":"I87","v":{"$error":"#REF!"}},null,{"$f":"K87","v":{"$error":"#REF!"}},null,{"$f":"M87","v":{"$error":"#REF!"}}]
[null,null,null,null,{"$f":"F106","v":"Sous total FORMATION INTIALE EN GESTION POLICIÈRE"},null,{"$f":"G106","v":{"$error":"#REF!"}},null,{"$f":"I106","v":{"$error":"#REF!"}},null,{"$f":"K106","v":{"$error":"#REF!"}},null,{"$f":"M106","v":{"$error":"#REF!"}}]
[null,null,null,null,{"$f":"F113","v":"Sous total CECAP"},null,{"$f":"G113","v":{"$error":"#REF!"}},null,{"$f":"I113","v":{"$error":"#REF!"}},null,{"$f":"K113","v":{"$error":"#REF!"}},null,{"$f":"M113","v":{"$error":"#REF!"}}]
[null,null,null,null,{"$f":"F122","v":"Sous total PROGRAMME ACCES"},null,{"$f":"G122","v":{"$error":"#REF!"}},null,{"$f":"I122","v":{"$error":"#REF!"}},null,{"$f":"K122","v":{"$error":"#REF!"}},null,{"$f":"M122","v":{"$error":"#REF!"}}]
[null,null,null,null,{"$f":"F126","v":"Sous total FORMATIONS AUTOCHTONES"},null,{"$f":"G126","v":{"$error":"#REF!"}},null,{"$f":"I126","v":{"$error":"#REF!"}},null,{"$f":"K126","v":{"$error":"#REF!"}},null,{"$f":"M126","v":{"$error":"#REF!"}}]
[null,null,null,null,{"$f":"D128","v":{"$error":"#REF!"}},null,{"$f":"G128","v":{"$error":"#REF!"}},null,{"$f":"I128","v":{"$error":"#REF!"}},null,{"$f":"K128","v":{"$error":"#REF!"}},null,{"$f":"M128","v":{"$error":"#REF!"}}]
[null,null,null,null,{"$f":"F135","v":"Sous total FORMATIONEN PÉDAGOGIE"},null,{"$f":"G135","v":{"$error":"#REF!"}},null,{"$f":"I135","v":{"$error":"#REF!"}},null,{"$f":"K135","v":{"$error":"#REF!"}},null,{"$f":"M135","v":{"$error":"#REF!"}}]
[null,null,null,null,{"$f":"F211","v":"Sous total PERFECTIONNEMENT PROFESSIONNEL PATROUILLEUR"},null,{"$f":"G211","v":{"$error":"#REF!"}},null,{"$f":"I211","v":{"$error":"#REF!"}},null,{"$f":"K211","v":{"$error":"#REF!"}},null,{"$f":"M211","v":{"$error":"#REF!"}}]
[null,null,null,null,{"$f":"F219","v":"Sous total ENQUÊTE COLLISION"},null,{"$f":"G219","v":{"$error":"#REF!"}},null,{"$f":"I219","v":{"$error":"#REF!"}},null,{"$f":"K219","v":{"$error":"#REF!"}},null,{"$f":"M219","v":{"$error":"#REF!"}}]
[null,null,null,null,{"$f":"F268","v":"Sous total EMPLOI DE LA FORCE ET TACTIQUE"},null,{"$f":"G268","v":{"$error":"#REF!"}},null,{"$f":"I268","v":{"$error":"#REF!"}},null,{"$f":"K268","v":{"$error":"#REF!"}},null,{"$f":"M268","v":{"$error":"#REF!"}}]
[]
[null,null,null,null,null,"TOTAL DES DEMANDES ADRESSÉES",{"$f":"SUM(G8:G18)","v":{"$error":"#REF!"}},null,{"$f":"SUM(I8:I18)","v":{"$error":"#REF!"}},"Totaux DEMANDES IND.",{"$f":"SUM(K8:K18)","v":{"$error":"#REF!"}},null,{"$f":"SUM(M8:M18)","v":{"$error":"#REF!"}}]
[]
[]
[]
[]
[]
[null,null,2,3,4,5,6,null,7]
[1,{"$f":"VLOOKUP(A27,'2025-2026'!#REF!,9,FALSE)","v":{"$error":"#REF!"}},{"$f":"VLOOKUP($A27,'2025-2026'!#REF!,C$26,FALSE)","v":{"$error":"#REF!"}},{"$f":"IF($B27=\"*\",\"\",VLOOKUP($A27,'2025-2026'!#REF!,D$26,FALSE))","v":{"$error":"#REF!"}},{"$f":"IF($B27=\"*\",\"\",VLOOKUP($A27,'2025-2026'!#REF!,E$26,FALSE))","v":{"$error":"#REF!"}},{"$f":"IF($B27=\"*\",\"\",VLOOKUP($A27,'2025-2026'!#REF!,F$26,FALSE))","v":{"$error":"#REF!"}},{"$f":"IF($B27=\"*\",\"\",VLOOKUP($A27,'2025-2026'!#REF!,G$26,FALSE))","v":{"$error":"#REF!"}},null,{"$f":"IF($B27=\"*\",\"\",VLOOKUP($A27,'2025-2026'!#REF!,I$26,FALSE))","v":{"$error":"#REF!"}}]
[{"$f":"A27+1","v":2},{"$f":"VLOOKUP(A28,'2025-2026'!#REF!,9,FALSE)","v":{"$error":"#REF!"}},{"$f":"VLOOKUP($A28,'2025-2026'!#REF!,C$26,FALSE)","v":{"$error":"#REF!"}},null,null,null,null,null,null,null,"Autochtones"]
[{"$f":"A28+1","v":3},{"$f":"VLOOKUP(A29,'2025-2026'!#REF!,9,FALSE)","v":{"$error":"#REF!"}},{"$f":"VLOOKUP($A29,'2025-2026'!#REF!,C$26,FALSE)","v":{"$error":"#REF!"}},null,null,null,null,null,null,null,"Franco",null,"Anglo"]
[4,{"$f":"VLOOKUP(A30,'2025-2026'!#REF!,9,FALSE)","v":{"$error":"#REF!"}},{"$f":"VLOOKUP($A30,'2025-2026'!#REF!,C$26,FALSE)","v":{"$error":"#REF!"}},{"$f":"IF($B30=\"*\",\"\",VLOOKUP($A30,'2025-2026'!#REF!,D$26,FALSE))","v":{"$error":"#REF!"}},{"$f":"IF($B30=\"*\",\"\",VLOOKUP($A30,'2025-2026'!#REF!,E$26,FALSE))","v":{"$error":"#REF!"}},{"$f":"IF($B30=\"*\",\"\",VLOOKUP($A30,'2025-2026'!#REF!,F$26,FALSE))","v":{"$error":"#REF!"}},{"$f":"IF($B30=\"*\",\"\",VLOOKUP($A30,'2025-2026'!#REF!,G$26,FALSE))","v":{"$error":"#REF!"}},null,{"$f":"IF($B30=\"*\",\"\",VLOOKUP($A30,'2025-2026'!#REF!,I$26,FALSE))","v":{"$error":"#REF!"}},null,{"$f":"IF($B30=\"*\",\"\",VLOOKUP($A30,'2025-2026'!#REF!,K$5,FALSE))","v":{"$error":"#REF!"}},null,{"$f":"IF($B30=\"*\",\"\",VLOOKUP($A30,'2025-2026'!#REF!,M$5,FALSE))","v":{"$error":"#REF!"}}]
[5,{"$f":"VLOOKUP(A31,'2025-2026'!#REF!,9,FALSE)","v":{"$error":"#REF!"}},{"$f":"VLOOKUP($A31,'2025-2026'!#REF!,C$26,FALSE)","v":{"$error":"#REF!"}},null,null,null,null,null,null,null,{"$f":"IF($B31=\"*\",\"\",VLOOKUP($A31,'2025-2026'!#REF!,K$5,FALSE))","v":{"$error":"#REF!"}},null,{"$f":"IF($B31=\"*\",\"\",VLOOKUP($A31,'2025-2026'!#REF!,M$5,FALSE))","v":{"$error":"#REF!"}}]
[6,{"$f":"VLOOKUP(A32,'2025-2026'!#REF!,9,FALSE)","v":{"$error":"#REF!"}},{"$f":"VLOOKUP($A32,'2025-2026'!#REF!,C$26,FALSE)","v":{"$error":"#REF!"}},null,null,null,null,null,null,null,{"$f":"IF($B32=\"*\",\"\",VLOOKUP($A32,'2025-2026'!#REF!,K$5,FALSE))","v":{"$error":"#REF!"}},null,{"$f":"IF($B32=\"*\",\"\",VLOOKUP($A32,'2025-2026'!#REF!,M$5,FALSE))","v":{"$error":"#REF!"}}]
[7,{"$f":"VLOOKUP(A33,'2025-2026'!#REF!,9,FALSE)","v":{"$error":"#REF!"}},{"$f":"VLOOKUP($A33,'2025-2026'!#REF!,C$26,FALSE)","v":{"$error":"#REF!"}},{"$f":"IF($B33=\"*\",\"\",VLOOKUP($A33,'2025-2026'!#REF!,D$26,FALSE))","v":{"$error":"#REF!"}},{"$f":"IF($B33=\"*\",\"\",VLOOKUP($A33,'2025-2026'!#REF!,E$26,FALSE))","v":{"$error":"#REF!"}},{"$f":"IF($B33=\"*\",\"\",VLOOKUP($A33,'2025-2026'!#REF!,F$26,FALSE))","v":{"$error":"#REF!"}},{"$f":"IF($B33=\"*\",\"\",VLOOKUP($A33,'2025-2026'!#REF!,G$26,FALSE))","v":{"$error":"#REF!"}},null,{"$f":"IF($B33=\"*\",\"\",VLOOKUP($A33,'2025-2026'!#REF!,I$26,FALSE))","v":{"$error":"#REF!"}},null,{"$f":"IF($B33=\"*\",\"\",VLOOKUP($A33,'2025-2026'!#REF!,K$5,FALSE))","v":{"$error":"#REF!"}},null,{"$f":"IF($B33=\"*\",\"\",VLOOKUP($A33,'2025-2026'!#REF!,M$5,FALSE))","v":{"$error":"#REF!"}}]
[8,{"$f":"VLOOKUP(A34,'2025-2026'!#REF!,9,FALSE)","v":{"$error":"#REF!"}},{"$f":"VLOOKUP($A34,'2025-2026'!#REF!,C$26,FALSE)","v":{"$error":"#REF!"}},null,null,null,null,null,null,null,{"$f":"IF($B34=\"*\",\"\",VLOOKUP($A34,'2025-2026'!#REF!,K$5,FALSE))","v":{"$error":"#REF!"}},null,{"$f":"IF($B34=\"*\",\"\",VLOOKUP($A34,'2025-2026'!#REF!,M$5,FALSE))","v":{"$error":"#REF!"}}]
[9,{"$f":"VLOOKUP(A35,'2025-2026'!#REF!,9,FALSE)","v":{"$error":"#REF!"}},{"$f":"VLOOKUP($A35,'2025-2026'!#REF!,C$26,FALSE)","v":{"$error":"#REF!"}},{"$f":"IF($B35=\"*\",\"\",VLOOKUP($A35,'2025-2026'!#REF!,D$26,FALSE))","v":{"$error":"#REF!"}},{"$f":"IF($B35=\"*\",\"\",VLOOKUP($A35,'2025-2026'!#REF!,E$26,FALSE))","v":{"$error":"#REF!"}},{"$f":"IF($B35=\"*\",\"\",VLOOKUP($A35,'2025-2026'!#REF!,F$26,FALSE))","v":{"$error":"#REF!"}},{"$f":"IF($B35=\"*\",\"\",VLOOKUP($A35,'2025-2026'!#REF!,G$26,FALSE))","v":{"$error":"#REF!"}},null,{"$f":"IF($B35=\"*\",\"\",VLOOKUP($A35,'2025-2026'!#REF!,I$26,FALSE))","v":{"$error":"#REF!"}},null,{"$f":"IF($B35=\"*\",\"\",VLOOKUP($A35,'2025-2026'!#REF!,K$5,FALSE))","v":{"$error":"#REF!"}},null,{"$f":"IF($B35=\"*\",\"\",VLOOKUP($A35,'2025-2026'!#REF!,M$5,FALSE))","v":{"$error":"#REF!"}}]
[10,{"$f":"VLOOKUP(A36,'2025-2026'!#REF!,9,FALSE)","v":{"$error":"#REF!"}},{"$f":"VLOOKUP($A36,'2025-2026'!#REF!,C$26,FALSE)","v":{"$error":"#REF!"}},null,null,null,null,null,null,null,{"$f":"IF($B36=\"*\",\"\",VLOOKUP($A36,'2025-2026'!#REF!,K$5,FALSE))","v":{"$error":"#REF!"}},null,{"$f":"IF($B36=\"*\",\"\",VLOOKUP($A36,'2025-2026'!#REF!,M$5,FALSE))","v":{"$error":"#REF!"}}]
[11,{"$f":"VLOOKUP(A37,'2025-2026'!#REF!,9,FALSE)","v":{"$error":"#REF!"}},{"$f":"VLOOKUP($A37,'2025-2026'!#REF!,C$26,FALSE)","v":{"$error":"#REF!"}},{"$f":"IF($B37=\"*\",\"\",VLOOKUP($A37,'2025-2026'!#REF!,D$26,FALSE))","v":{"$error":"#REF!"}},{"$f":"IF($B37=\"*\",\"\",VLOOKUP($A37,'2025-2026'!#REF!,E$26,FALSE))","v":{"$error":"#REF!"}},{"$f":"IF($B37=\"*\",\"\",VLOOKUP($A37,'2025-2026'!#REF!,F$26,FALSE))","v":{"$error":"#REF!"}},{"$f":"IF($B37=\"*\",\"\",VLOOKUP($A37,'2025-2026'!#REF!,G$26,FALSE))","v":{"$error":"#REF!"}},null,{"$f":"IF($B37=\"*\",\"\",VLOOKUP($A37,'2025-2026'!#REF!,I$26,FALSE))","v":{"$error":"#REF!"}},null,{"$f":"IF($B37=\"*\",\"\",VLOOKUP($A37,'2025-2026'!#REF!,K$5,FALSE))","v":{"$error":"#REF!"}},null,{"$f":"IF($B37=\"*\",\"\",VLOOKUP($A37,'2025-2026'!#REF!,M$5,FALSE))","v":{"$error":"#REF!"}}]
[12,{"$f":"VLOOKUP(A38,'2025-2026'!#REF!,9,FALSE)","v":{"$error":"#REF!"}},{"$f":"VLOOKUP($A38,'2025-2026'!#REF!,C$26,FALSE)","v":{"$error":"#REF!"}},null,null,null,null,null,null,null,{"$f":"IF($B38=\"*\",\"\",VLOOKUP($A38,'2025-2026'!#REF!,K$5,FALSE))","v":{"$error":"#REF!"}},null,{"$f":"IF($B38=\"*\",\"\",VLOOKUP($A38,'2025-2026'!#REF!,M$5,FALSE))","v":{"$error":"#REF!"}}]
[13,{"$f":"VLOOKUP(A39,'2025-2026'!#REF!,9,FALSE)","v":{"$error":"#REF!"}},{"$f":"VLOOKUP($A39,'2025-2026'!#REF!,C$26,FALSE)","v":{"$error":"#REF!"}},{"$f":"IF($B39=\"*\",\"\",VLOOKUP($A39,'2025-2026'!#REF!,D$26,FALSE))","v":{"$error":"#REF!"}},{"$f":"IF($B39=\"*\",\"\",VLOOKUP($A39,'2025-2026'!#REF!,E$26,FALSE))","v":{"$error":"#REF!"}},{"$f":"IF($B39=\"*\",\"\",VLOOKUP($A39,'2025-2026'!#REF!,F$26,FALSE))","v":{"$error":"#REF!"}},{"$f":"IF($B39=\"*\",\"\",VLOOKUP($A39,'2025-2026'!#REF!,G$26,FALSE))","v":{"$error":"#REF!"}},null,{"$f":"IF($B39=\"*\",\"\",VLOOKUP($A39,'2025-2026'!#REF!,I$26,FALSE))","v":{"$error":"#REF!"}},null,{"$f":"IF($B39=\"*\",\"\",VLOOKUP($A39,'2025-2026'!#REF!,K$5,FALSE))","v":{"$error":"#REF!"}},null,{"$f":"IF($B39=\"*\",\"\",VLOOKUP($A39,'2025-2026'!#REF!,M$5,FALSE))","v":{"$error":"#REF!"}}]
[14,{"$f":"VLOOKUP(A40,'2025-2026'!#REF!,9,FALSE)","v":{"$error":"#REF!"}},{"$f":"VLOOKUP($A40,'2025-2026'!#REF!,C$26,FALSE)","v":{"$error":"#REF!"}},null,null,null,null,null,null,null,{"$f":"IF($B40=\"*\",\"\",VLOOKUP($A40,'2025-2026'!#REF!,K$5,FALSE))","v":{"$error":"#REF!"}},null,{"$f":"IF($B40=\"*\",\"\",VLOOKUP($A40,'2025-2026'!#REF!,M$5,FALSE))","v":{"$error":"#REF!"}}]
[15,{"$f":"VLOOKUP(A41,'2025-2026'!#REF!,9,FALSE)","v":{"$error":"#REF!"}},{"$f":"VLOOKUP($A41,'2025-2026'!#REF!,C$26,FALSE)","v":{"$error":"#REF!"}},{"$f":"IF($B41=\"*\",\"\",VLOOKUP($A41,'2025-2026'!#REF!,D$26,FALSE))","v":{"$error":"#REF!"}},{"$f":"IF($B41=\"*\",\"\",VLOOKUP($A41,'2025-2026'!#REF!,E$26,FALSE))","v":{"$error":"#REF!"}},{"$f":"IF($B41=\"*\",\"\",VLOOKUP($A41,'2025-2026'!#REF!,F$26,FALSE))","v":{"$error":"#REF!"}},{"$f":"IF($B41=\"*\",\"\",VLOOKUP($A41,'2025-2026'!#REF!,G$26,FALSE))","v":{"$error":"#REF!"}},null,{"$f":"IF($B41=\"*\",\"\",VLOOKUP($A41,'2025-2026'!#REF!,I$26,FALSE))","v":{"$error":"#REF!"}},null,{"$f":"IF($B41=\"*\",\"\",VLOOKUP($A41,'2025-2026'!#REF!,K$5,FALSE))","v":{"$error":"#REF!"}},null,{"$f":"IF($B41=\"*\",\"\",VLOOKUP($A41,'2025-2026'!#REF!,M$5,FALSE))","v":{"$error":"#REF!"}}]
[null,null,null,null,null,"Sous total FORMATION INTIALE EN ENQUÊTE",{"$f":"SUM(G28:G41)","v":{"$error":"#REF!"}},null,{"$f":"SUM(I28:I41)","v":{"$error":"#REF!"}},null,{"$f":"SUM(K30:K41)","v":{"$error":"#REF!"}},null,{"$f":"SUM(M30:M41)","v":{"$error":"#REF!"}}]
[{"$f":"A41+1","v":16},{"$f":"VLOOKUP(A43,'2025-2026'!#REF!,9,FALSE)","v":{"$error":"#REF!"}},{"$f":"VLOOKUP($A43,'2025-2026'!#REF!,C$26,FALSE)","v":{"$error":"#REF!"}},null,null,null,null,null,null,null,{"$f":"IF($B43=\"*\",\"\",VLOOKUP($A43,'2025-2026'!#REF!,K$5,FALSE))","v":{"$error":"#REF!"}},null,{"$f":"IF($B43=\"*\",\"\",VLOOKUP($A43,'2025-2026'!#REF!,M$5,FALSE))","v":{"$error":"#REF!"}}]
[17,{"$f":"VLOOKUP(A44,'2025-2026'!#REF!,9,FALSE)","v":{"$error":"#REF!"}},{"$f":"VLOOKUP($A44,'2025-2026'!#REF!,C$26,FALSE)","v":{"$error":"#REF!"}},null,null,null,null,null,null,null,{"$f":"IF($B44=\"*\",\"\",VLOOKUP($A44,'2025-2026'!#REF!,K$5,FALSE))","v":{"$error":"#REF!"}},null,{"$f":"IF($B44=\"*\",\"\",VLOOKUP($A44,'2025-2026'!#REF!,M$5,FALSE))","v":{"$error":"#REF!"}}]
[18,{"$f":"VLOOKUP(A45,'2025-2026'!#REF!,9,FALSE)","v":{"$error":"#REF!"}},{"$f":"VLOOKUP($A45,'2025-2026'!#REF!,C$26,FALSE)","v":{"$error":"#REF!"}},{"$f":"IF($B45=\"*\",\"\",VLOOKUP($A45,'2025-2026'!#REF!,D$26,FALSE))","v":{"$error":"#REF!"}},{"$f":"IF($B45=\"*\",\"\",VLOOKUP($A45,'2025-2026'!#REF!,E$26,FALSE))","v":{"$error":"#REF!"}},{"$f":"IF($B45=\"*\",\"\",VLOOKUP($A45,'2025-2026'!#REF!,F$26,FALSE))","v":{"$error":"#REF!"}},{"$f":"IF($B45=\"*\",\"\",VLOOKUP($A45,'2025-2026'!#REF!,G$26,FALSE))","v":{"$error":"#REF!"}},null,{"$f":"IF($B45=\"*\",\"\",VLOOKUP($A45,'2025-2026'!#REF!,I$26,FALSE))","v":{"$error":"#REF!"}},null,{"$f":"IF($B45=\"*\",\"\",VLOOKUP($A45,'2025-2026'!#REF!,K$5,FALSE))","v":{"$error":"#REF!"}},null,{"$f":"IF($B45=\"*\",\"\",VLOOKUP($A45,'2025-2026'!#REF!,M$5,FALSE))","v":{"$error":"#REF!"}}]
[19,{"$f":"VLOOKUP(A46,'2025-2026'!#REF!,9,FALSE)","v":{"$error":"#REF!"}},{"$f":"VLOOKUP($A46,'2025-2026'!#REF!,C$26,FALSE)","v":{"$error":"#REF!"}},{"$f":"IF($B46=\"*\",\"\",VLOOKUP($A46,'2025-2026'!#REF!,D$26,FALSE))","v":{"$error":"#REF!"}},{"$f":"IF($B46=\"*\",\"\",VLOOKUP($A46,'2025-2026'!#REF!,E$26,FALSE))","v":{"$error":"#REF!"}},{"$f":"IF($B46=\"*\",\"\",VLOOKUP($A46,'2025-2026'!#REF!,F$26,FALSE))","v":{"$error":"#REF!"}},{"$f":"IF($B46=\"*\",\"\",VLOOKUP($A46,'2025-2026'!#REF!,G$26,FALSE))","v":{"$error":"#REF!"}},null,{"$f":"IF($B46=\"*\",\"\",VLOOKUP($A46,'2025-2026'!#REF!,I$26,FALSE))","v":{"$error":"#REF!"}},null,{"$f":"IF($B46=\"*\",\"\",VLOOKUP($A46,'2025-2026'!#REF!,K$5,FALSE))","v":{"$error":"#REF!"}},null,{"$f":"IF($B46=\"*\",\"\",VLOOKUP($A46,'2025-2026'!#REF!,M$5,FALSE))","v":{"$error":"#REF!"}}]
[20,{"$f":"VLOOKUP(A47,'2025-2026'!#REF!,9,FALSE)","v":{"$error":"#REF!"}},{"$f":"VLOOKUP($A47,'2025-2026'!#REF!,C$26,FALSE)","v":{"$error":"#REF!"}},{"$f":"IF($B47=\"*\",\"\",VLOOKUP($A47,'2025-2026'!#REF!,D$26,FALSE))","v":{"$error":"#REF!"}},{"$f":"IF($B47=\"*\",\"\",VLOOKUP($A47,'2025-2026'!#REF!,E$26,FALSE))","v":{"$error":"#REF!"}},{"$f":"IF($B47=\"*\",\"\",VLOOKUP($A47,'2025-2026'!#REF!,F$26,FALSE))","v":{"$error":"#REF!"}},{"$f":"IF($B47=\"*\",\"\",VLOOKUP($A47,'2025-2026'!#REF!,G$26,FALSE))","v":{"$error":"#REF!"}},null,{"$f":"IF($B47=\"*\",\"\",VLOOKUP($A47,'2025-2026'!#REF!,I$26,FALSE))","v":{"$error":"#REF!"}},null,{"$f":"IF($B47=\"*\",\"\",VLOOKUP($A47,'2025-2026'!#REF!,K$5,FALSE))","v":{"$error":"#REF!"}},null,{"$f":"IF($B47=\"*\",\"\",VLOOKUP($A47,'2025-2026'!#REF!,M$5,FALSE))","v":{"$error":"#REF!"}}]
[21,{"$f":"VLOOKUP(A48,'2025-2026'!#REF!,9,FALSE)","v":{"$error":"#REF!"}},{"$f":"VLOOKUP($A48,'2025-2026'!#REF!,C$26,FALSE)","v":{"$error":"#REF!"}},{"$f":"IF($B48=\"*\",\"\",VLOOKUP($A48,'2025-2026'!#REF!,D$26,FALSE))","v":{"$error":"#REF!"}},{"$f":"IF($B48=\"*\",\"\",VLOOKUP($A48,'2025-2026'!#REF!,E$26,FALSE))","v":{"$error":"#REF!"}},{"$f":"IF($B48=\"*\",\"\",VLOOKUP($A48,'2025-2026'!#REF!,F$26,FALSE))","v":{"$error":"#REF!"}},{"$f":"IF($B48=\"*\",\"\",VLOOKUP($A48,'2025-2026'!#REF!,G$26,FALSE))","v":{"$error":"#REF!"}},null,{"$f":"IF($B48=\"*\",\"\",VLOOKUP($A48,'2025-2026'!#REF!,I$26,FALSE))","v":{"$error":"#REF!"}},null,{"$f":"IF($B48=\"*\",\"\",VLOOKUP($A48,'2025-2026'!#REF!,K$5,FALSE))","v":{"$error":"#REF!"}},null,{"$f":"IF($B48=\"*\",\"\",VLOOKUP($A48,'2025-2026'!#REF!,M$5,FALSE))","v":{"$error":"#REF!"}}]
[22,{"$f":"VLOOKUP(A49,'2025-2026'!#REF!,9,FALSE)","v":{"$error":"#REF!"}},{"$f":"VLOOKUP($A49,'2025-2026'!#REF!,C$26,FALSE)","v":{"$error":"#REF!"}},{"$f":"IF($B49=\"*\",\"\",VLOOKUP($A49,'2025-2026'!#REF!,D$26,FALSE))","v":{"$error":"#REF!"}},{"$f":"IF($B49=\"*\",\"\",VLOOKUP($A49,'2025-2026'!#REF!,E$26,FALSE))","v":{"$error":"#REF!"}},{"$f":"IF($B49=\"*\",\"\",VLOOKUP($A49,'2025-2026'!#REF!,F$26,FALSE))","v":{"$error":"#REF!"}},{"$f":"IF($B49=\"*\",\"\",VLOOKUP($A49,'2025-2026'!#REF!,G$26,FALSE))","v":{"$error":"#REF!"}},null,{"$f":"IF($B49=\"*\",\"\",VLOOKUP($A49,'2025-2026'!#REF!,I$26,FALSE))","v":{"$error":"#REF!"}},null,{"$f":"IF($B49=\"*\",\"\",VLOOKUP($A49,'2025-2026'!#REF!,K$5,FALSE))","v":{"$error":"#REF!"}},null,{"$f":"IF($B49=\"*\",\"\",VLOOKUP($A49,'2025-2026'!#REF!,M$5,FALSE))","v":{"$error":"#REF!"}}]
[23,{"$f":"VLOOKUP(A50,'2025-2026'!#REF!,9,FALSE)","v":{"$error":"#REF!"}},{"$f":"VLOOKUP($A50,'2025-2026'!#REF!,C$26,FALSE)","v":{"$error":"#REF!"}},{"$f":"IF($B50=\"*\",\"\",VLOOKUP($A50,'2025-2026'!#REF!,D$26,FALSE))","v":{"$error":"#REF!"}},{"$f":"IF($B50=\"*\",\"\",VLOOKUP($A50,'2025-2026'!#REF!,E$26,FALSE))","v":{"$error":"#REF!"}},{"$f":"IF($B50=\"*\",\"\",VLOOKUP($A50,'2025-2026'!#REF!,F$26,FALSE))","v":{"$error":"#REF!"}},{"$f":"IF($B50=\"*\",\"\",VLOOKUP($A50,'2025-2026'!#REF!,G$26,FALSE))","v":{"$error":"#REF!"}},null,{"$f":"IF($B50=\"*\",\"\",VLOOKUP($A50,'2025-2026'!#REF!,I$26,FALSE))","v":{"$error":"#REF!"}},null,{"$f":"IF($B50=\"*\",\"\",VLOOKUP($A50,'2025-2026'!#REF!,K$5,FALSE))","v":{"$error":"#REF!"}},null,{"$f":"IF($B50=\"*\",\"\",VLOOKUP($A50,'2025-2026'!#REF!,M$5,FALSE))","v":{"$error":"#REF!"}}]
[24,{"$f":"VLOOKUP(A51,'2025-2026'!#REF!,9,FALSE)","v":{"$error":"#REF!"}},{"$f":"VLOOKUP($A51,'2025-2026'!#REF!,C$26,FALSE)","v":{"$error":"#REF!"}},{"$f":"IF($B51=\"*\",\"\",VLOOKUP($A51,'2025-2026'!#REF!,D$26,FALSE))","v":{"$error":"#REF!"}},{"$f":"IF($B51=\"*\",\"\",VLOOKUP($A51,'2025-2026'!#REF!,E$26,FALSE))","v":{"$error":"#REF!"}},{"$f":"IF($B51=\"*\",\"\",VLOOKUP($A51,'2025-2026'!#REF!,F$26,FALSE))","v":{"$error":"#REF!"}},{"$f":"IF($B51=\"*\",\"\",VLOOKUP($A51,'2025-2026'!#REF!,G$26,FALSE))","v":{"$error":"#REF!"}},null,{"$f":"IF($B51=\"*\",\"\",VLOOKUP($A51,'2025-2026'!#REF!,I$26,FALSE))","v":{"$error":"#REF!"}},null,{"$f":"IF($B51=\"*\",\"\",VLOOKUP($A51,'2025-2026'!#REF!,K$5,FALSE))","v":{"$error":"#REF!"}},null,{"$f":"IF($B51=\"*\",\"\",VLOOKUP($A51,'2025-2026'!#REF!,M$5,FALSE))","v":{"$error":"#REF!"}}]
[25,{"$f":"VLOOKUP(A52,'2025-2026'!#REF!,9,FALSE)","v":{"$error":"#REF!"}},{"$f":"VLOOKUP($A52,'2025-2026'!#REF!,C$26,FALSE)","v":{"$error":"#REF!"}},{"$f":"IF($B52=\"*\",\"\",VLOOKUP($A52,'2025-2026'!#REF!,D$26,FALSE))","v":{"$error":"#REF!"}},{"$f":"IF($B52=\"*\",\"\",VLOOKUP($A52,'2025-2026'!#REF!,E$26,FALSE))","v":{"$error":"#REF!"}},{"$f":"IF($B52=\"*\",\"\",VLOOKUP($A52,'2025-2026'!#REF!,F$26,FALSE))","v":{"$error":"#REF!"}},{"$f":"IF($B52=\"*\",\"\",VLOOKUP($A52,'2025-2026'!#REF!,G$26,FALSE))","v":{"$error":"#REF!"}},null,{"$f":"IF($B52=\"*\",\"\",VLOOKUP($A52,'2025-2026'!#REF!,I$26,FALSE))","v":{"$error":"#REF!"}},null,{"$f":"IF($B52=\"*\",\"\",VLOOKUP($A52,'2025-2026'!#REF!,K$5,FALSE))","v":{"$error":"#REF!"}},null,{"$f":"IF($B52=\"*\",\"\",VLOOKUP($A52,'2025-2026'!#REF!,M$5,FALSE))","v":{"$error":"#REF!"}}]
[26,{"$f":"VLOOKUP(A53,'2025-2026'!#REF!,9,FALSE)","v":{"$error":"#REF!"}},{"$f":"VLOOKUP($A53,'2025-2026'!#REF!,C$26,FALSE)","v":{"$error":"#REF!"}},{"$f":"IF($B53=\"*\",\"\",VLOOKUP($A53,'2025-2026'!#REF!,D$26,FALSE))","v":{"$error":"#REF!"}},{"$f":"IF($B53=\"*\",\"\",VLOOKUP($A53,'2025-2026'!#REF!,E$26,FALSE))","v":{"$error":"#REF!"}},{"$f":"IF($B53=\"*\",\"\",VLOOKUP($A53,'2025-2026'!#REF!,F$26,FALSE))","v":{"$error":"#REF!"}},{"$f":"IF($B53=\"*\",\"\",VLOOKUP($A53,'2025-2026'!#REF!,G$26,FALSE))","v":{"$error":"#REF!"}},null,{"$f":"IF($B53=\"*\",\"\",VLOOKUP($A53,'2025-2026'!#REF!,I$26,FALSE))","v":{"$error":"#REF!"}},null,{"$f":"IF($B53=\"*\",\"\",VLOOKUP($A53,'2025-2026'!#REF!,K$5,FALSE))","v":{"$error":"#REF!"}},null,{"$f":"IF($B53=\"*\",\"\",VLOOKUP($A53,'2025-2026'!#REF!,M$5,FALSE))","v":{"$error":"#REF!"}}]
[27,{"$f":"VLOOKUP(A54,'2025-2026'!#REF!,9,FALSE)","v":{"$error":"#REF!"}},{"$f":"VLOOKUP($A54,'2025-2026'!#REF!,C$26,FALSE)","v":{"$error":"#REF!"}},{"$f":"IF($B54=\"*\",\"\",VLOOKUP($A54,'2025-2026'!#REF!,D$26,FALSE))","v":{"$error":"#REF!"}},{"$f":"IF($B54=\"*\",\"\",VLOOKUP($A54,'2025-2026'!#REF!,E$26,FALSE))","v":{"$error":"#REF!"}},{"$f":"IF($B54=\"*\",\"\",VLOOKUP($A54,'2025-2026'!#REF!,F$26,FALSE))","v":{"$error":"#REF!"}},{"$f":"IF($B54=\"*\",\"\",VLOOKUP($A54,'2025-2026'!#REF!,G$26,FALSE))","v":{"$error":"#REF!"}},null,{"$f":"IF($B54=\"*\",\"\",VLOOKUP($A54,'2025-2026'!#REF!,I$26,FALSE))","v":{"$error":"#REF!"}},null,{"$f":"IF($B54=\"*\",\"\",VLOOKUP($A54,'2025-2026'!#REF!,K$5,FALSE))","v":{"$error":"#REF!"}},null,{"$f":"IF($B54=\"*\",\"\",VLOOKUP($A54,'2025-2026'!#REF!,M$5,FALSE))","v":{"$error":"#REF!"}}]
[28,{"$f":"VLOOKUP(A55,'2025-2026'!#REF!,9,FALSE)","v":{"$error":"#REF!"}},{"$f":"VLOOKUP($A55,'2025-2026'!#REF!,C$26,FALSE)","v":{"$error":"#REF!"}},{"$f":"IF($B55=\"*\",\"\",VLOOKUP($A55,'2025-2026'!#REF!,D$26,FALSE))","v":{"$error":"#REF!"}},{"$f":"IF($B55=\"*\",\"\",VLOOKUP($A55,'2025-2026'!#REF!,E$26,FALSE))","v":{"$error":"#REF!"}},{"$f":"IF($B55=\"*\",\"\",VLOOKUP($A55,'2025-2026'!#REF!,F$26,FALSE))","v":{"$error":"#REF!"}},{"$f":"IF($B55=\"*\",\"\",VLOOKUP($A55,'2025-2026'!#REF!,G$26,FALSE))","v":{"$error":"#REF!"}},null,{"$f":"IF($B55=\"*\",\"\",VLOOKUP($A55,'2025-2026'!#REF!,I$26,FALSE))","v":{"$error":"#REF!"}},null,{"$f":"IF($B55=\"*\",\"\",VLOOKUP($A55,'2025-2026'!#REF!,K$5,FALSE))","v":{"$error":"#REF!"}},null,{"$f":"IF($B55=\"*\",\"\",VLOOKUP($A55,'2025-2026'!#REF!,M$5,FALSE))","v":{"$error":"#REF!"}}]
[29,{"$f":"VLOOKUP(A56,'2025-2026'!#REF!,9,FALSE)","v":{"$error":"#REF!"}},{"$f":"VLOOKUP($A56,'2025-2026'!#REF!,C$26,FALSE)","v":{"$error":"#REF!"}},{"$f":"IF($B56=\"*\",\"\",VLOOKUP($A56,'2025-2026'!#REF!,D$26,FALSE))","v":{"$error":"#REF!"}},{"$f":"IF($B56=\"*\",\"\",VLOOKUP($A56,'2025-2026'!#REF!,E$26,FALSE))","v":{"$error":"#REF!"}},{"$f":"IF($B56=\"*\",\"\",VLOOKUP($A56,'2025-2026'!#REF!,F$26,FALSE))","v":{"$error":"#REF!"}},{"$f":"IF($B56=\"*\",\"\",VLOOKUP($A56,'2025-2026'!#REF!,G$26,FALSE))","v":{"$error":"#REF!"}},null,{"$f":"IF($B56=\"*\",\"\",VLOOKUP($A56,'2025-2026'!#REF!,I$26,FALSE))","v":{"$error":"#REF!"}},null,{"$f":"IF($B56=\"*\",\"\",VLOOKUP($A56,'2025-2026'!#REF!,K$5,FALSE))","v":{"$error":"#REF!"}},null,{"$f":"IF($B56=\"*\",\"\",VLOOKUP($A56,'2025-2026'!#REF!,M$5,FALSE))","v":{"$error":"#REF!"}}]
[30,{"$f":"VLOOKUP(A57,'2025-2026'!#REF!,9,FALSE)","v":{"$error":"#REF!"}},{"$f":"VLOOKUP($A57,'2025-2026'!#REF!,C$26,FALSE)","v":{"$error":"#REF!"}},{"$f":"IF($B57=\"*\",\"\",VLOOKUP($A57,'2025-2026'!#REF!,D$26,FALSE))","v":{"$error":"#REF!"}},{"$f":"IF($B57=\"*\",\"\",VLOOKUP($A57,'2025-2026'!#REF!,E$26,FALSE))","v":{"$error":"#REF!"}},{"$f":"IF($B57=\"*\",\"\",VLOOKUP($A57,'2025-2026'!#REF!,F$26,FALSE))","v":{"$error":"#REF!"}},{"$f":"IF($B57=\"*\",\"\",VLOOKUP($A57,'2025-2026'!#REF!,G$26,FALSE))","v":{"$error":"#REF!"}},null,{"$f":"IF($B57=\"*\",\"\",VLOOKUP($A57,'2025-2026'!#REF!,I$26,FALSE))","v":{"$error":"#REF!"}},null,{"$f":"IF($B57=\"*\",\"\",VLOOKUP($A57,'2025-2026'!#REF!,K$5,FALSE))","v":{"$error":"#REF!"}},null,{"$f":"IF($B57=\"*\",\"\",VLOOKUP($A57,'2025-2026'!#REF!,M$5,FALSE))","v":{"$error":"#REF!"}}]
[31,{"$f":"VLOOKUP(A58,'2025-2026'!#REF!,9,FALSE)","v":{"$error":"#REF!"}},{"$f":"VLOOKUP($A58,'2025-2026'!#REF!,C$26,FALSE)","v":{"$error":"#REF!"}},{"$f":"IF($B58=\"*\",\"\",VLOOKUP($A58,'2025-2026'!#REF!,D$26,FALSE))","v":{"$error":"#REF!"}},{"$f":"IF($B58=\"*\",\"\",VLOOKUP($A58,'2025-2026'!#REF!,E$26,FALSE))","v":{"$error":"#REF!"}},{"$f":"IF($B58=\"*\",\"\",VLOOKUP($A58,'2025-2026'!#REF!,F$26,FALSE))","v":{"$error":"#REF!"}},{"$f":"IF($B58=\"*\",\"\",VLOOKUP($A58,'2025-2026'!#REF!,G$26,FALSE))","v":{"$error":"#REF!"}},null,{"$f":"IF($B58=\"*\",\"\",VLOOKUP($A58,'2025-2026'!#REF!,I$26,FALSE))","v":{"$error":"#REF!"}},null,{"$f":"IF($B58=\"*\",\"\",VLOOKUP($A58,'2025-2026'!#REF!,K$5,FALSE))","v":{"$error":"#REF!"}},null,{"$f":"IF($B58=\"*\",\"\",VLOOKUP($A58,'2025-2026'!#REF!,M$5,FALSE))","v":{"$error":"#REF!"}}]
[32,{"$f":"VLOOKUP(A59,'2025-2026'!#REF!,9,FALSE)","v":{"$error":"#REF!"}},{"$f":"VLOOKUP($A59,'2025-2026'!#REF!,C$26,FALSE)","v":{"$error":"#REF!"}},{"$f":"IF($B59=\"*\",\"\",VLOOKUP($A59,'2025-2026'!#REF!,D$26,FALSE))","v":{"$error":"#REF!"}},{"$f":"IF($B59=\"*\",\"\",VLOOKUP($A59,'2025-2026'!#REF!,E$26,FALSE))","v":{"$error":"#REF!"}},{"$f":"IF($B59=\"*\",\"\",VLOOKUP($A59,'2025-2026'!#REF!,F$26,FALSE))","v":{"$error":"#REF!"}},{"$f":"IF($B59=\"*\",\"\",VLOOKUP($A59,'2025-2026'!#REF!,G$26,FALSE))","v":{"$error":"#REF!"}},null,{"$f":"IF($B59=\"*\",\"\",VLOOKUP($A59,'2025-2026'!#REF!,I$26,FALSE))","v":{"$error":"#REF!"}},null,{"$f":"IF($B59=\"*\",\"\",VLOOKUP($A59,'2025-2026'!#REF!,K$5,FALSE))","v":{"$error":"#REF!"}},null,{"$f":"IF($B59=\"*\",\"\",VLOOKUP($A59,'2025-2026'!#REF!,M$5,FALSE))","v":{"$error":"#REF!"}}]
[33,{"$f":"VLOOKUP(A60,'2025-2026'!#REF!,9,FALSE)","v":{"$error":"#REF!"}},{"$f":"VLOOKUP($A60,'2025-2026'!#REF!,C$26,FALSE)","v":{"$error":"#REF!"}},{"$f":"IF($B60=\"*\",\"\",VLOOKUP($A60,'2025-2026'!#REF!,D$26,FALSE))","v":{"$error":"#REF!"}},{"$f":"IF($B60=\"*\",\"\",VLOOKUP($A60,'2025-2026'!#REF!,E$26,FALSE))","v":{"$error":"#REF!"}},{"$f":"IF($B60=\"*\",\"\",VLOOKUP($A60,'2025-2026'!#REF!,F$26,FALSE))","v":{"$error":"#REF!"}},{"$f":"IF($B60=\"*\",\"\",VLOOKUP($A60,'2025-2026'!#REF!,G$26,FALSE))","v":{"$error":"#REF!"}},null,{"$f":"IF($B60=\"*\",\"\",VLOOKUP($A60,'2025-2026'!#REF!,I$26,FALSE))","v":{"$error":"#REF!"}},null,{"$f":"IF($B60=\"*\",\"\",VLOOKUP($A60,'2025-2026'!#REF!,K$5,FALSE))","v":{"$error":"#REF!"}},null,{"$f":"IF($B60=\"*\",\"\",VLOOKUP($A60,'2025-2026'!#REF!,M$5,FALSE))","v":{"$error":"#REF!"}}]
[34,{"$f":"VLOOKUP(A61,'2025-2026'!#REF!,9,FALSE)","v":{"$error":"#REF!"}},{"$f":"VLOOKUP($A61,'2025-2026'!#REF!,C$26,FALSE)","v":{"$error":"#REF!"}},{"$f":"IF($B61=\"*\",\"\",VLOOKUP($A61,'2025-2026'!#REF!,D$26,FALSE))","v":{"$error":"#REF!"}},{"$f":"IF($B61=\"*\",\"\",VLOOKUP($A61,'2025-2026'!#REF!,E$26,FALSE))","v":{"$error":"#REF!"}},{"$f":"IF($B61=\"*\",\"\",VLOOKUP($A61,'2025-2026'!#REF!,F$26,FALSE))","v":{"$error":"#REF!"}},{"$f":"IF($B61=\"*\",\"\",VLOOKUP($A61,'2025-2026'!#REF!,G$26,FALSE))","v":{"$error":"#REF!"}},null,{"$f":"IF($B61=\"*\",\"\",VLOOKUP($A61,'2025-2026'!#REF!,I$26,FALSE))","v":{"$error":"#REF!"}},null,{"$f":"IF($B61=\"*\",\"\",VLOOKUP($A61,'2025-2026'!#REF!,K$5,FALSE))","v":{"$error":"#REF!"}},null,{"$f":"IF($B61=\"*\",\"\",VLOOKUP($A61,'2025-2026'!#REF!,M$5,FALSE))","v":{"$error":"#REF!"}}]
[35,{"$f":"VLOOKUP(A62,'2025-2026'!#REF!,9,FALSE)","v":{"$error":"#REF!"}},{"$f":"VLOOKUP($A62,'2025-2026'!#REF!,C$26,FALSE)","v":{"$error":"#REF!"}},{"$f":"IF($B62=\"*\",\"\",VLOOKUP($A62,'2025-2026'!#REF!,D$26,FALSE))","v":{"$error":"#REF!"}},{"$f":"IF($B62=\"*\",\"\",VLOOKUP($A62,'2025-2026'!#REF!,E$26,FALSE))","v":{"$error":"#REF!"}},{"$f":"IF($B62=\"*\",\"\",VLOOKUP($A62,'2025-2026'!#REF!,F$26,FALSE))","v":{"$error":"#REF!"}},{"$f":"IF($B62=\"*\",\"\",VLOOKUP($A62,'2025-2026'!#REF!,G$26,FALSE))","v":{"$error":"#REF!"}},null,{"$f":"IF($B62=\"*\",\"\",VLOOKUP($A62,'2025-2026'!#REF!,I$26,FALSE))","v":{"$error":"#REF!"}},null,{"$f":"IF($B62=\"*\",\"\",VLOOKUP($A62,'2025-2026'!#REF!,K$5,FALSE))","v":{"$error":"#REF!"}},null,{"$f":"IF($B62=\"*\",\"\",VLOOKUP($A62,'2025-2026'!#REF!,M$5,FALSE))","v":{"$error":"#REF!"}}]
[36,{"$f":"VLOOKUP(A63,'2025-2026'!#REF!,9,FALSE)","v":{"$error":"#REF!"}},{"$f":"VLOOKUP($A63,'2025-2026'!#REF!,C$26,FALSE)","v":{"$error":"#REF!"}},{"$f":"IF($B63=\"*\",\"\",VLOOKUP($A63,'2025-2026'!#REF!,D$26,FALSE))","v":{"$error":"#REF!"}},{"$f":"IF($B63=\"*\",\"\",VLOOKUP($A63,'2025-2026'!#REF!,E$26,FALSE))","v":{"$error":"#REF!"}},{"$f":"IF($B63=\"*\",\"\",VLOOKUP($A63,'2025-2026'!#REF!,F$26,FALSE))","v":{"$error":"#REF!"}},{"$f":"IF($B63=\"*\",\"\",VLOOKUP($A63,'2025-2026'!#REF!,G$26,FALSE))","v":{"$error":"#REF!"}},null,{"$f":"IF($B63=\"*\",\"\",VLOOKUP($A63,'2025-2026'!#REF!,I$26,FALSE))","v":{"$error":"#REF!"}},null,{"$f":"IF($B63=\"*\",\"\",VLOOKUP($A63,'2025-2026'!#REF!,K$5,FALSE))","v":{"$error":"#REF!"}},null,{"$f":"IF($B63=\"*\",\"\",VLOOKUP($A63,'2025-2026'!#REF!,M$5,FALSE))","v":{"$error":"#REF!"}}]
[37,{"$f":"VLOOKUP(A64,'2025-2026'!#REF!,9,FALSE)","v":{"$error":"#REF!"}},{"$f":"VLOOKUP($A64,'2025-2026'!#REF!,C$26,FALSE)","v":{"$error":"#REF!"}},{"$f":"IF($B64=\"*\",\"\",VLOOKUP($A64,'2025-2026'!#REF!,D$26,FALSE))","v":{"$error":"#REF!"}},{"$f":"IF($B64=\"*\",\"\",VLOOKUP($A64,'2025-2026'!#REF!,E$26,FALSE))","v":{"$error":"#REF!"}},{"$f":"IF($B64=\"*\",\"\",VLOOKUP($A64,'2025-2026'!#REF!,F$26,FALSE))","v":{"$error":"#REF!"}},{"$f":"IF($B64=\"*\",\"\",VLOOKUP($A64,'2025-2026'!#REF!,G$26,FALSE))","v":{"$error":"#REF!"}},null,{"$f":"IF($B64=\"*\",\"\",VLOOKUP($A64,'2025-2026'!#REF!,I$26,FALSE))","v":{"$error":"#REF!"}},null,{"$f":"IF($B64=\"*\",\"\",VLOOKUP($A64,'2025-2026'!#REF!,K$5,FALSE))","v":{"$error":"#REF!"}},null,{"$f":"IF($B64=\"*\",\"\",VLOOKUP($A64,'2025-2026'!#REF!,M$5,FALSE))","v":{"$error":"#REF!"}}]
[38,{"$f":"VLOOKUP(A65,'2025-2026'!#REF!,9,FALSE)","v":{"$error":"#REF!"}},{"$f":"VLOOKUP($A65,'2025-2026'!#REF!,C$26,FALSE)","v":{"$error":"#REF!"}},{"$f":"IF($B65=\"*\",\"\",VLOOKUP($A65,'2025-2026'!#REF!,D$26,FALSE))","v":{"$error":"#REF!"}},{"$f":"IF($B65=\"*\",\"\",VLOOKUP($A65,'2025-2026'!#REF!,E$26,FALSE))","v":{"$error":"#REF!"}},{"$f":"IF($B65=\"*\",\"\",VLOOKUP($A65,'2025-2026'!#REF!,F$26,FALSE))","v":{"$error":"#REF!"}},{"$f":"IF($B65=\"*\",\"\",VLOOKUP($A65,'2025-2026'!#REF!,G$26,FALSE))","v":{"$error":"#REF!"}},null,{"$f":"IF($B65=\"*\",\"\",VLOOKUP($A65,'2025-2026'!#REF!,I$26,FALSE))","v":{"$error":"#REF!"}},null,{"$f":"IF($B65=\"*\",\"\",VLOOKUP($A65,'2025-2026'!#REF!,K$5,FALSE))","v":{"$error":"#REF!"}},null,{"$f":"IF($B65=\"*\",\"\",VLOOKUP($A65,'2025-2026'!#REF!,M$5,FALSE))","v":{"$error":"#REF!"}}]
[39,{"$f":"VLOOKUP(A66,'2025-2026'!#REF!,9,FALSE)","v":{"$error":"#REF!"}},{"$f":"VLOOKUP($A66,'2025-2026'!#REF!,C$26,FALSE)","v":{"$error":"#REF!"}},{"$f":"IF($B66=\"*\",\"\",VLOOKUP($A66,'2025-2026'!#REF!,D$26,FALSE))","v":{"$error":"#REF!"}},{"$f":"IF($B66=\"*\",\"\",VLOOKUP($A66,'2025-2026'!#REF!,E$26,FALSE))","v":{"$error":"#REF!"}},{"$f":"IF($B66=\"*\",\"\",VLOOKUP($A66,'2025-2026'!#REF!,F$26,FALSE))","v":{"$error":"#REF!"}},{"$f":"IF($B66=\"*\",\"\",VLOOKUP($A66,'2025-2026'!#REF!,G$26,FALSE))","v":{"$error":"#REF!"}},null,{"$f":"IF($B66=\"*\",\"\",VLOOKUP($A66,'2025-2026'!#REF!,I$26,FALSE))","v":{"$error":"#REF!"}},null,{"$f":"IF($B66=\"*\",\"\",VLOOKUP($A66,'2025-2026'!#REF!,K$5,FALSE))","v":{"$error":"#REF!"}},null,{"$f":"IF($B66=\"*\",\"\",VLOOKUP($A66,'2025-2026'!#REF!,M$5,FALSE))","v":{"$error":"#REF!"}}]
[40,{"$f":"VLOOKUP(A67,'2025-2026'!#REF!,9,FALSE)","v":{"$error":"#REF!"}},{"$f":"VLOOKUP($A67,'2025-2026'!#REF!,C$26,FALSE)","v":{"$error":"#REF!"}},{"$f":"IF($B67=\"*\",\"\",VLOOKUP($A67,'2025-2026'!#REF!,D$26,FALSE))","v":{"$error":"#REF!"}},{"$f":"IF($B67=\"*\",\"\",VLOOKUP($A67,'2025-2026'!#REF!,E$26,FALSE))","v":{"$error":"#REF!"}},{"$f":"IF($B67=\"*\",\"\",VLOOKUP($A67,'2025-2026'!#REF!,F$26,FALSE))","v":{"$error":"#REF!"}},{"$f":"IF($B67=\"*\",\"\",VLOOKUP($A67,'2025-2026'!#REF!,G$26,FALSE))","v":{"$error":"#REF!"}},null,{"$f":"IF($B67=\"*\",\"\",VLOOKUP($A67,'2025-2026'!#REF!,I$26,FALSE))","v":{"$error":"#REF!"}},null,{"$f":"IF($B67=\"*\",\"\",VLOOKUP($A67,'2025-2026'!#REF!,K$5,FALSE))","v":{"$error":"#REF!"}},null,{"$f":"IF($B67=\"*\",\"\",VLOOKUP($A67,'2025-2026'!#REF!,M$5,FALSE))","v":{"$error":"#REF!"}}]
[41,{"$f":"VLOOKUP(A68,'2025-2026'!#REF!,9,FALSE)","v":{"$error":"#REF!"}},{"$f":"VLOOKUP($A68,'2025-2026'!#REF!,C$26,FALSE)","v":{"$error":"#REF!"}},{"$f":"IF($B68=\"*\",\"\",VLOOKUP($A68,'2025-2026'!#REF!,D$26,FALSE))","v":{"$error":"#REF!"}},{"$f":"IF($B68=\"*\",\"\",VLOOKUP($A68,'2025-2026'!#REF!,E$26,FALSE))","v":{"$error":"#REF!"}},{"$f":"IF($B68=\"*\",\"\",VLOOKUP($A68,'2025-2026'!#REF!,F$26,FALSE))","v":{"$error":"#REF!"}},{"$f":"IF($B68=\"*\",\"\",VLOOKUP($A68,'2025-2026'!#REF!,G$26,FALSE))","v":{"$error":"#REF!"}},null,{"$f":"IF($B68=\"*\",\"\",VLOOKUP($A68,'2025-2026'!#REF!,I$26,FALSE))","v":{"$error":"#REF!"}},null,{"$f":"IF($B68=\"*\",\"\",VLOOKUP($A68,'2025-2026'!#REF!,K$5,FALSE))","v":{"$error":"#REF!"}},null,{"$f":"IF($B68=\"*\",\"\",VLOOKUP($A68,'2025-2026'!#REF!,M$5,FALSE))","v":{"$error":"#REF!"}}]
[42,{"$f":"VLOOKUP(A69,'2025-2026'!#REF!,9,FALSE)","v":{"$error":"#REF!"}},{"$f":"VLOOKUP($A69,'2025-2026'!#REF!,C$26,FALSE)","v":{"$error":"#REF!"}},{"$f":"IF($B69=\"*\",\"\",VLOOKUP($A69,'2025-2026'!#REF!,D$26,FALSE))","v":{"$error":"#REF!"}},{"$f":"IF($B69=\"*\",\"\",VLOOKUP($A69,'2025-2026'!#REF!,E$26,FALSE))","v":{"$error":"#REF!"}},{"$f":"IF($B69=\"*\",\"\",VLOOKUP($A69,'2025-2026'!#REF!,F$26,FALSE))","v":{"$error":"#REF!"}},{"$f":"IF($B69=\"*\",\"\",VLOOKUP($A69,'2025-2026'!#REF!,G$26,FALSE))","v":{"$error":"#REF!"}},null,{"$f":"IF($B69=\"*\",\"\",VLOOKUP($A69,'2025-2026'!#REF!,I$26,FALSE))","v":{"$error":"#REF!"}},null,{"$f":"IF($B69=\"*\",\"\",VLOOKUP($A69,'2025-2026'!#REF!,K$5,FALSE))","v":{"$error":"#REF!"}},null,{"$f":"IF($B69=\"*\",\"\",VLOOKUP($A69,'2025-2026'!#REF!,M$5,FALSE))","v":{"$error":"#REF!"}}]
[43,{"$f":"VLOOKUP(A70,'2025-2026'!#REF!,9,FALSE)","v":{"$error":"#REF!"}},{"$f":"VLOOKUP($A70,'2025-2026'!#REF!,C$26,FALSE)","v":{"$error":"#REF!"}},{"$f":"IF($B70=\"*\",\"\",VLOOKUP($A70,'2025-2026'!#REF!,D$26,FALSE))","v":{"$error":"#REF!"}},{"$f":"IF($B70=\"*\",\"\",VLOOKUP($A70,'2025-2026'!#REF!,E$26,FALSE))","v":{"$error":"#REF!"}},{"$f":"IF($B70=\"*\",\"\",VLOOKUP($A70,'2025-2026'!#REF!,F$26,FALSE))","v":{"$error":"#REF!"}},{"$f":"IF($B70=\"*\",\"\",VLOOKUP($A70,'2025-2026'!#REF!,G$26,FALSE))","v":{"$error":"#REF!"}},null,{"$f":"IF($B70=\"*\",\"\",VLOOKUP($A70,'2025-2026'!#REF!,I$26,FALSE))","v":{"$error":"#REF!"}},null,{"$f":"IF($B70=\"*\",\"\",VLOOKUP($A70,'2025-2026'!#REF!,K$5,FALSE))","v":{"$error":"#REF!"}},null,{"$f":"IF($B70=\"*\",\"\",VLOOKUP($A70,'2025-2026'!#REF!,M$5,FALSE))","v":{"$error":"#REF!"}}]
[44,{"$f":"VLOOKUP(A71,'2025-2026'!#REF!,9,FALSE)","v":{"$error":"#REF!"}},{"$f":"VLOOKUP($A71,'2025-2026'!#REF!,C$26,FALSE)","v":{"$error":"#REF!"}},{"$f":"IF($B71=\"*\",\"\",VLOOKUP($A71,'2025-2026'!#REF!,D$26,FALSE))","v":{"$error":"#REF!"}},{"$f":"IF($B71=\"*\",\"\",VLOOKUP($A71,'2025-2026'!#REF!,E$26,FALSE))","v":{"$error":"#REF!"}},{"$f":"IF($B71=\"*\",\"\",VLOOKUP($A71,'2025-2026'!#REF!,F$26,FALSE))","v":{"$error":"#REF!"}},{"$f":"IF($B71=\"*\",\"\",VLOOKUP($A71,'2025-2026'!#REF!,G$26,FALSE))","v":{"$error":"#REF!"}},null,{"$f":"IF($B71=\"*\",\"\",VLOOKUP($A71,'2025-2026'!#REF!,I$26,FALSE))","v":{"$error":"#REF!"}},null,{"$f":"IF($B71=\"*\",\"\",VLOOKUP($A71,'2025-2026'!#REF!,K$5,FALSE))","v":{"$error":"#REF!"}},null,{"$f":"IF($B71=\"*\",\"\",VLOOKUP($A71,'2025-2026'!#REF!,M$5,FALSE))","v":{"$error":"#REF!"}}]
[45,{"$f":"VLOOKUP(A72,'2025-2026'!#REF!,9,FALSE)","v":{"$error":"#REF!"}},{"$f":"VLOOKUP($A72,'2025-2026'!#REF!,C$26,FALSE)","v":{"$error":"#REF!"}},{"$f":"IF($B72=\"*\",\"\",VLOOKUP($A72,'2025-2026'!#REF!,D$26,FALSE))","v":{"$error":"#REF!"}},{"$f":"IF($B72=\"*\",\"\",VLOOKUP($A72,'2025-2026'!#REF!,E$26,FALSE))","v":{"$error":"#REF!"}},{"$f":"IF($B72=\"*\",\"\",VLOOKUP($A72,'2025-2026'!#REF!,F$26,FALSE))","v":{"$error":"#REF!"}},{"$f":"IF($B72=\"*\",\"\",VLOOKUP($A72,'2025-2026'!#REF!,G$26,FALSE))","v":{"$error":"#REF!"}},null,{"$f":"IF($B72=\"*\",\"\",VLOOKUP($A72,'2025-2026'!#REF!,I$26,FALSE))","v":{"$error":"#REF!"}},null,{"$f":"IF($B72=\"*\",\"\",VLOOKUP($A72,'2025-2026'!#REF!,K$5,FALSE))","v":{"$error":"#REF!"}},null,{"$f":"IF($B72=\"*\",\"\",VLOOKUP($A72,'2025-2026'!#REF!,M$5,FALSE))","v":{"$error":"#REF!"}}]
[46,{"$f":"VLOOKUP(A73,'2025-2026'!#REF!,9,FALSE)","v":{"$error":"#REF!"}},{"$f":"VLOOKUP($A73,'2025-2026'!#REF!,C$26,FALSE)","v":{"$error":"#REF!"}},{"$f":"IF($B73=\"*\",\"\",VLOOKUP($A73,'2025-2026'!#REF!,D$26,FALSE))","v":{"$error":"#REF!"}},{"$f":"IF($B73=\"*\",\"\",VLOOKUP($A73,'2025-2026'!#REF!,E$26,FALSE))","v":{"$error":"#REF!"}},{"$f":"IF($B73=\"*\",\"\",VLOOKUP($A73,'2025-2026'!#REF!,F$26,FALSE))","v":{"$error":"#REF!"}},{"$f":"IF($B73=\"*\",\"\",VLOOKUP($A73,'2025-2026'!#REF!,G$26,FALSE))","v":{"$error":"#REF!"}},null,{"$f":"IF($B73=\"*\",\"\",VLOOKUP($A73,'2025-2026'!#REF!,I$26,FALSE))","v":{"$error":"#REF!"}},null,{"$f":"IF($B73=\"*\",\"\",VLOOKUP($A73,'2025-2026'!#REF!,K$5,FALSE))","v":{"$error":"#REF!"}},null,{"$f":"IF($B73=\"*\",\"\",VLOOKUP($A73,'2025-2026'!#REF!,M$5,FALSE))","v":{"$error":"#REF!"}}]
[47,{"$f":"VLOOKUP(A74,'2025-2026'!#REF!,9,FALSE)","v":{"$error":"#REF!"}},{"$f":"VLOOKUP($A74,'2025-2026'!#REF!,C$26,FALSE)","v":{"$error":"#REF!"}},{"$f":"IF($B74=\"*\",\"\",VLOOKUP($A74,'2025-2026'!#REF!,D$26,FALSE))","v":{"$error":"#REF!"}},{"$f":"IF($B74=\"*\",\"\",VLOOKUP($A74,'2025-2026'!#REF!,E$26,FALSE))","v":{"$error":"#REF!"}},{"$f":"IF($B74=\"*\",\"\",VLOOKUP($A74,'2025-2026'!#REF!,F$26,FALSE))","v":{"$error":"#REF!"}},{"$f":"IF($B74=\"*\",\"\",VLOOKUP($A74,'2025-2026'!#REF!,G$26,FALSE))","v":{"$error":"#REF!"}},null,{"$f":"IF($B74=\"*\",\"\",VLOOKUP($A74,'2025-2026'!#REF!,I$26,FALSE))","v":{"$error":"#REF!"}},null,{"$f":"IF($B74=\"*\",\"\",VLOOKUP($A74,'2025-2026'!#REF!,K$5,FALSE))","v":{"$error":"#REF!"}},null,{"$f":"IF($B74=\"*\",\"\",VLOOKUP($A74,'2025-2026'!#REF!,M$5,FALSE))","v":{"$error":"#REF!"}}]
[48,{"$f":"VLOOKUP(A75,'2025-2026'!#REF!,9,FALSE)","v":{"$error":"#REF!"}},{"$f":"VLOOKUP($A75,'2025-2026'!#REF!,C$26,FALSE)","v":{"$error":"#REF!"}},{"$f":"IF($B75=\"*\",\"\",VLOOKUP($A75,'2025-2026'!#REF!,D$26,FALSE))","v":{"$error":"#REF!"}},{"$f":"IF($B75=\"*\",\"\",VLOOKUP($A75,'2025-2026'!#REF!,E$26,FALSE))","v":{"$error":"#REF!"}},{"$f":"IF($B75=\"*\",\"\",VLOOKUP($A75,'2025-2026'!#REF!,F$26,FALSE))","v":{"$error":"#REF!"}},{"$f":"IF($B75=\"*\",\"\",VLOOKUP($A75,'2025-2026'!#REF!,G$26,FALSE))","v":{"$error":"#REF!"}},null,{"$f":"IF($B75=\"*\",\"\",VLOOKUP($A75,'2025-2026'!#REF!,I$26,FALSE))","v":{"$error":"#REF!"}},null,{"$f":"IF($B75=\"*\",\"\",VLOOKUP($A75,'2025-2026'!#REF!,K$5,FALSE))","v":{"$error":"#REF!"}},null,{"$f":"IF($B75=\"*\",\"\",VLOOKUP($A75,'2025-2026'!#REF!,M$5,FALSE))","v":{"$error":"#REF!"}}]
[49,{"$f":"VLOOKUP(A76,'2025-2026'!#REF!,9,FALSE)","v":{"$error":"#REF!"}},{"$f":"VLOOKUP($A76,'2025-2026'!#REF!,C$26,FALSE)","v":{"$error":"#REF!"}},{"$f":"IF($B76=\"*\",\"\",VLOOKUP($A76,'2025-2026'!#REF!,D$26,FALSE))","v":{"$error":"#REF!"}},{"$f":"IF($B76=\"*\",\"\",VLOOKUP($A76,'2025-2026'!#REF!,E$26,FALSE))","v":{"$error":"#REF!"}},{"$f":"IF($B76=\"*\",\"\",VLOOKUP($A76,'2025-2026'!#REF!,F$26,FALSE))","v":{"$error":"#REF!"}},{"$f":"IF($B76=\"*\",\"\",VLOOKUP($A76,'2025-2026'!#REF!,G$26,FALSE))","v":{"$error":"#REF!"}},null,{"$f":"IF($B76=\"*\",\"\",VLOOKUP($A76,'2025-2026'!#REF!,I$26,FALSE))","v":{"$error":"#REF!"}},null,{"$f":"IF($B76=\"*\",\"\",VLOOKUP($A76,'2025-2026'!#REF!,K$5,FALSE))","v":{"$error":"#REF!"}},null,{"$f":"IF($B76=\"*\",\"\",VLOOKUP($A76,'2025-2026'!#REF!,M$5,FALSE))","v":{"$error":"#REF!"}}]
[50,{"$f":"VLOOKUP(A77,'2025-2026'!#REF!,9,FALSE)","v":{"$error":"#REF!"}},{"$f":"VLOOKUP($A77,'2025-2026'!#REF!,C$26,FALSE)","v":{"$error":"#REF!"}},{"$f":"IF($B77=\"*\",\"\",VLOOKUP($A77,'2025-2026'!#REF!,D$26,FALSE))","v":{"$error":"#REF!"}},{"$f":"IF($B77=\"*\",\"\",VLOOKUP($A77,'2025-2026'!#REF!,E$26,FALSE))","v":{"$error":"#REF!"}},{"$f":"IF($B77=\"*\",\"\",VLOOKUP($A77,'2025-2026'!#REF!,F$26,FALSE))","v":{"$error":"#REF!"}},{"$f":"IF($B77=\"*\",\"\",VLOOKUP($A77,'2025-2026'!#REF!,G$26,FALSE))","v":{"$error":"#REF!"}},null,{"$f":"IF($B77=\"*\",\"\",VLOOKUP($A77,'2025-2026'!#REF!,I$26,FALSE))","v":{"$error":"#REF!"}},null,{"$f":"IF($B77=\"*\",\"\",VLOOKUP($A77,'2025-2026'!#REF!,K$5,FALSE))","v":{"$error":"#REF!"}},null,{"$f":"IF($B77=\"*\",\"\",VLOOKUP($A77,'2025-2026'!#REF!,M$5,FALSE))","v":{"$error":"#REF!"}}]
[51,{"$f":"VLOOKUP(A78,'2025-2026'!#REF!,9,FALSE)","v":{"$error":"#REF!"}},{"$f":"VLOOKUP($A78,'2025-2026'!#REF!,C$26,FALSE)","v":{"$error":"#REF!"}},{"$f":"IF($B78=\"*\",\"\",VLOOKUP($A78,'2025-2026'!#REF!,D$26,FALSE))","v":{"$error":"#REF!"}},{"$f":"IF($B78=\"*\",\"\",VLOOKUP($A78,'2025-2026'!#REF!,E$26,FALSE))","v":{"$error":"#REF!"}},{"$f":"IF($B78=\"*\",\"\",VLOOKUP($A78,'2025-2026'!#REF!,F$26,FALSE))","v":{"$error":"#REF!"}},{"$f":"IF($B78=\"*\",\"\",VLOOKUP($A78,'2025-2026'!#REF!,G$26,FALSE))","v":{"$error":"#REF!"}},null,{"$f":"IF($B78=\"*\",\"\",VLOOKUP($A78,'2025-2026'!#REF!,I$26,FALSE))","v":{"$error":"#REF!"}},null,{"$f":"IF($B78=\"*\",\"\",VLOOKUP($A78,'2025-2026'!#REF!,K$5,FALSE))","v":{"$error":"#REF!"}},null,{"$f":"IF($B78=\"*\",\"\",VLOOKUP($A78,'2025-2026'!#REF!,M$5,FALSE))","v":{"$error":"#REF!"}}]
[52,{"$f":"VLOOKUP(A79,'2025-2026'!#REF!,9,FALSE)","v":{"$error":"#REF!"}},{"$f":"VLOOKUP($A79,'2025-2026'!#REF!,C$26,FALSE)","v":{"$error":"#REF!"}},{"$f":"IF($B79=\"*\",\"\",VLOOKUP($A79,'2025-2026'!#REF!,D$26,FALSE))","v":{"$error":"#REF!"}},{"$f":"IF($B79=\"*\",\"\",VLOOKUP($A79,'2025-2026'!#REF!,E$26,FALSE))","v":{"$error":"#REF!"}},{"$f":"IF($B79=\"*\",\"\",VLOOKUP($A79,'2025-2026'!#REF!,F$26,FALSE))","v":{"$error":"#REF!"}},{"$f":"IF($B79=\"*\",\"\",VLOOKUP($A79,'2025-2026'!#REF!,G$26,FALSE))","v":{"$error":"#REF!"}},null,{"$f":"IF($B79=\"*\",\"\",VLOOKUP($A79,'2025-2026'!#REF!,I$26,FALSE))","v":{"$error":"#REF!"}},null,{"$f":"IF($B79=\"*\",\"\",VLOOKUP($A79,'2025-2026'!#REF!,K$5,FALSE))","v":{"$error":"#REF!"}},null,{"$f":"IF($B79=\"*\",\"\",VLOOKUP($A79,'2025-2026'!#REF!,M$5,FALSE))","v":{"$error":"#REF!"}}]
[53,{"$f":"VLOOKUP(A80,'2025-2026'!#REF!,9,FALSE)","v":{"$error":"#REF!"}},{"$f":"VLOOKUP($A80,'2025-2026'!#REF!,C$26,FALSE)","v":{"$error":"#REF!"}},{"$f":"IF($B80=\"*\",\"\",VLOOKUP($A80,'2025-2026'!#REF!,D$26,FALSE))","v":{"$error":"#REF!"}},{"$f":"IF($B80=\"*\",\"\",VLOOKUP($A80,'2025-2026'!#REF!,E$26,FALSE))","v":{"$error":"#REF!"}},{"$f":"IF($B80=\"*\",\"\",VLOOKUP($A80,'2025-2026'!#REF!,F$26,FALSE))","v":{"$error":"#REF!"}},{"$f":"IF($B80=\"*\",\"\",VLOOKUP($A80,'2025-2026'!#REF!,G$26,FALSE))","v":{"$error":"#REF!"}},null,{"$f":"IF($B80=\"*\",\"\",VLOOKUP($A80,'2025-2026'!#REF!,I$26,FALSE))","v":{"$error":"#REF!"}},null,{"$f":"IF($B80=\"*\",\"\",VLOOKUP($A80,'2025-2026'!#REF!,K$5,FALSE))","v":{"$error":"#REF!"}},null,{"$f":"IF($B80=\"*\",\"\",VLOOKUP($A80,'2025-2026'!#REF!,M$5,FALSE))","v":{"$error":"#REF!"}}]
[54,{"$f":"VLOOKUP(A81,'2025-2026'!#REF!,9,FALSE)","v":{"$error":"#REF!"}},{"$f":"VLOOKUP($A81,'2025-2026'!#REF!,C$26,FALSE)","v":{"$error":"#REF!"}},{"$f":"IF($B81=\"*\",\"\",VLOOKUP($A81,'2025-2026'!#REF!,D$26,FALSE))","v":{"$error":"#REF!"}},{"$f":"IF($B81=\"*\",\"\",VLOOKUP($A81,'2025-2026'!#REF!,E$26,FALSE))","v":{"$error":"#REF!"}},{"$f":"IF($B81=\"*\",\"\",VLOOKUP($A81,'2025-2026'!#REF!,F$26,FALSE))","v":{"$error":"#REF!"}},{"$f":"IF($B81=\"*\",\"\",VLOOKUP($A81,'2025-2026'!#REF!,G$26,FALSE))","v":{"$error":"#REF!"}},null,{"$f":"IF($B81=\"*\",\"\",VLOOKUP($A81,'2025-2026'!#REF!,I$26,FALSE))","v":{"$error":"#REF!"}},null,{"$f":"IF($B81=\"*\",\"\",VLOOKUP($A81,'2025-2026'!#REF!,K$5,FALSE))","v":{"$error":"#REF!"}},null,{"$f":"IF($B81=\"*\",\"\",VLOOKUP($A81,'2025-2026'!#REF!,M$5,FALSE))","v":{"$error":"#REF!"}}]
[55,{"$f":"VLOOKUP(A82,'2025-2026'!#REF!,9,FALSE)","v":{"$error":"#REF!"}},{"$f":"VLOOKUP($A82,'2025-2026'!#REF!,C$26,FALSE)","v":{"$error":"#REF!"}},{"$f":"IF($B82=\"*\",\"\",VLOOKUP($A82,'2025-2026'!#REF!,D$26,FALSE))","v":{"$error":"#REF!"}},{"$f":"IF($B82=\"*\",\"\",VLOOKUP($A82,'2025-2026'!#REF!,E$26,FALSE))","v":{"$error":"#REF!"}},{"$f":"IF($B82=\"*\",\"\",VLOOKUP($A82,'2025-2026'!#REF!,F$26,FALSE))","v":{"$error":"#REF!"}},{"$f":"IF($B82=\"*\",\"\",VLOOKUP($A82,'2025-2026'!#REF!,G$26,FALSE))","v":{"$error":"#REF!"}},null,{"$f":"IF($B82=\"*\",\"\",VLOOKUP($A82,'2025-2026'!#REF!,I$26,FALSE))","v":{"$error":"#REF!"}},null,{"$f":"IF($B82=\"*\",\"\",VLOOKUP($A82,'2025-2026'!#REF!,K$5,FALSE))","v":{"$error":"#REF!"}},null,{"$f":"IF($B82=\"*\",\"\",VLOOKUP($A82,'2025-2026'!#REF!,M$5,FALSE))","v":{"$error":"#REF!"}}]
[56,{"$f":"VLOOKUP(A83,'2025-2026'!#REF!,9,FALSE)","v":{"$error":"#REF!"}},{"$f":"VLOOKUP($A83,'2025-2026'!#REF!,C$26,FALSE)","v":{"$error":"#REF!"}},{"$f":"IF($B83=\"*\",\"\",VLOOKUP($A83,'2025-2026'!#REF!,D$26,FALSE))","v":{"$error":"#REF!"}},{"$f":"IF($B83=\"*\",\"\",VLOOKUP($A83,'2025-2026'!#REF!,E$26,FALSE))","v":{"$error":"#REF!"}},{"$f":"IF($B83=\"*\",\"\",VLOOKUP($A83,'2025-2026'!#REF!,F$26,FALSE))","v":{"$error":"#REF!"}},{"$f":"IF($B83=\"*\",\"\",VLOOKUP($A83,'2025-2026'!#REF!,G$26,FALSE))","v":{"$error":"#REF!"}},null,{"$f":"IF($B83=\"*\",\"\",VLOOKUP($A83,'2025-2026'!#REF!,I$26,FALSE))","v":{"$error":"#REF!"}},null,{"$f":"IF($B83=\"*\",\"\",VLOOKUP($A83,'2025-2026'!#REF!,K$5,FALSE))","v":{"$error":"#REF!"}},null,{"$f":"IF($B83=\"*\",\"\",VLOOKUP($A83,'2025-2026'!#REF!,M$5,FALSE))","v":{"$error":"#REF!"}}]
[57,{"$f":"VLOOKUP(A84,'2025-2026'!#REF!,9,FALSE)","v":{"$error":"#REF!"}},{"$f":"VLOOKUP($A84,'2025-2026'!#REF!,C$26,FALSE)","v":{"$error":"#REF!"}},{"$f":"IF($B84=\"*\",\"\",VLOOKUP($A84,'2025-2026'!#REF!,D$26,FALSE))","v":{"$error":"#REF!"}},{"$f":"IF($B84=\"*\",\"\",VLOOKUP($A84,'2025-2026'!#REF!,E$26,FALSE))","v":{"$error":"#REF!"}},{"$f":"IF($B84=\"*\",\"\",VLOOKUP($A84,'2025-2026'!#REF!,F$26,FALSE))","v":{"$error":"#REF!"}},{"$f":"IF($B84=\"*\",\"\",VLOOKUP($A84,'2025-2026'!#REF!,G$26,FALSE))","v":{"$error":"#REF!"}},null,{"$f":"IF($B84=\"*\",\"\",VLOOKUP($A84,'2025-2026'!#REF!,I$26,FALSE))","v":{"$error":"#REF!"}},null,{"$f":"IF($B84=\"*\",\"\",VLOOKUP($A84,'2025-2026'!#REF!,K$5,FALSE))","v":{"$error":"#REF!"}},null,{"$f":"IF($B84=\"*\",\"\",VLOOKUP($A84,'2025-2026'!#REF!,M$5,FALSE))","v":{"$error":"#REF!"}}]
[58,{"$f":"VLOOKUP(A85,'2025-2026'!#REF!,9,FALSE)","v":{"$error":"#REF!"}},{"$f":"VLOOKUP($A85,'2025-2026'!#REF!,C$26,FALSE)","v":{"$error":"#REF!"}},{"$f":"IF($B85=\"*\",\"\",VLOOKUP($A85,'2025-2026'!#REF!,D$26,FALSE))","v":{"$error":"#REF!"}},{"$f":"IF($B85=\"*\",\"\",VLOOKUP($A85,'2025-2026'!#REF!,E$26,FALSE))","v":{"$error":"#REF!"}},{"$f":"IF($B85=\"*\",\"\",VLOOKUP($A85,'2025-2026'!#REF!,F$26,FALSE))","v":{"$error":"#REF!"}},{"$f":"IF($B85=\"*\",\"\",VLOOKUP($A85,'2025-2026'!#REF!,G$26,FALSE))","v":{"$error":"#REF!"}},null,{"$f":"IF($B85=\"*\",\"\",VLOOKUP($A85,'2025-2026'!#REF!,I$26,FALSE))","v":{"$error":"#REF!"}},null,{"$f":"IF($B85=\"*\",\"\",VLOOKUP($A85,'2025-2026'!#REF!,K$5,FALSE))","v":{"$error":"#REF!"}},null,{"$f":"IF($B85=\"*\",\"\",VLOOKUP($A85,'2025-2026'!#REF!,M$5,FALSE))","v":{"$error":"#REF!"}}]
[59,{"$f":"VLOOKUP(A86,'2025-2026'!#REF!,9,FALSE)","v":{"$error":"#REF!"}},{"$f":"VLOOKUP($A86,'2025-2026'!#REF!,C$26,FALSE)","v":{"$error":"#REF!"}},{"$f":"IF($B86=\"*\",\"\",VLOOKUP($A86,'2025-2026'!#REF!,D$26,FALSE))","v":{"$error":"#REF!"}},{"$f":"IF($B86=\"*\",\"\",VLOOKUP($A86,'2025-2026'!#REF!,E$26,FALSE))","v":{"$error":"#REF!"}},{"$f":"IF($B86=\"*\",\"\",VLOOKUP($A86,'2025-2026'!#REF!,F$26,FALSE))","v":{"$error":"#REF!"}},{"$f":"IF($B86=\"*\",\"\",VLOOKUP($A86,'2025-2026'!#REF!,G$26,FALSE))","v":{"$error":"#REF!"}},null,{"$f":"IF($B86=\"*\",\"\",VLOOKUP($A86,'2025-2026'!#REF!,I$26,FALSE))","v":{"$error":"#REF!"}},null,{"$f":"IF($B86=\"*\",\"\",VLOOKUP($A86,'2025-2026'!#REF!,K$5,FALSE))","v":{"$error":"#REF!"}},null,{"$f":"IF($B86=\"*\",\"\",VLOOKUP($A86,'2025-2026'!#REF!,M$5,FALSE))","v":{"$error":"#REF!"}}]
[null,null,null,null,null,"Sous total PERFECTIONNEMENT PROFESSIONNEL EN ENQUÊTE",{"$f":"SUM(G45:G86)","v":{"$error":"#REF!"}},null,{"$f":"SUM(I45:I86)","v":{"$error":"#REF!"}},null,{"$f":"SUM(K45:K86)","v":{"$error":"#REF!"}},null,{"$f":"SUM(M45:M86)","v":{"$error":"#REF!"}}]
[{"$f":"A86+1","v":60},{"$f":"VLOOKUP(A88,'2025-2026'!#REF!,9,FALSE)","v":{"$error":"#REF!"}},{"$f":"VLOOKUP($A88,'2025-2026'!#REF!,C$26,FALSE)","v":{"$error":"#REF!"}},null,null,null,null,null,null,null,{"$f":"IF($B88=\"*\",\"\",VLOOKUP($A88,'2025-2026'!#REF!,K$5,FALSE))","v":{"$error":"#REF!"}},null,{"$f":"IF($B88=\"*\",\"\",VLOOKUP($A88,'2025-2026'!#REF!,M$5,FALSE))","v":{"$error":"#REF!"}}]
[61,{"$f":"VLOOKUP(A89,'2025-2026'!#REF!,9,FALSE)","v":{"$error":"#REF!"}},{"$f":"VLOOKUP($A89,'2025-2026'!#REF!,C$26,FALSE)","v":{"$error":"#REF!"}},null,null,null,null,null,null,null,{"$f":"IF($B89=\"*\",\"\",VLOOKUP($A89,'2025-2026'!#REF!,K$5,FALSE))","v":{"$error":"#REF!"}},null,{"$f":"IF($B89=\"*\",\"\",VLOOKUP($A89,'2025-2026'!#REF!,M$5,FALSE))","v":{"$error":"#REF!"}}]
[62,{"$f":"VLOOKUP(A90,'2025-2026'!#REF!,9,FALSE)","v":{"$error":"#REF!"}},{"$f":"VLOOKUP($A90,'2025-2026'!#REF!,C$26,FALSE)","v":{"$error":"#REF!"}},{"$f":"IF($B90=\"*\",\"\",VLOOKUP($A90,'2025-2026'!#REF!,D$26,FALSE))","v":{"$error":"#REF!"}},{"$f":"IF($B90=\"*\",\"\",VLOOKUP($A90,'2025-2026'!#REF!,E$26,FALSE))","v":{"$error":"#REF!"}},{"$f":"IF($B90=\"*\",\"\",VLOOKUP($A90,'2025-2026'!#REF!,F$26,FALSE))","v":{"$error":"#REF!"}},{"$f":"IF($B90=\"*\",\"\",VLOOKUP($A90,'2025-2026'!#REF!,G$26,FALSE))","v":{"$error":"#REF!"}},null,{"$f":"IF($B90=\"*\",\"\",VLOOKUP($A90,'2025-2026'!#REF!,I$26,FALSE))","v":{"$error":"#REF!"}},null,{"$f":"IF($B90=\"*\",\"\",VLOOKUP($A90,'2025-2026'!#REF!,K$5,FALSE))","v":{"$error":"#REF!"}},null,{"$f":"IF($B90=\"*\",\"\",VLOOKUP($A90,'2025-2026'!#REF!,M$5,FALSE))","v":{"$error":"#REF!"}}]
[63,{"$f":"VLOOKUP(A91,'2025-2026'!#REF!,9,FALSE)","v":{"$error":"#REF!"}},{"$f":"VLOOKUP($A91,'2025-2026'!#REF!,C$26,FALSE)","v":{"$error":"#REF!"}},{"$f":"IF($B91=\"*\",\"\",VLOOKUP($A91,'2025-2026'!#REF!,D$26,FALSE))","v":{"$error":"#REF!"}},{"$f":"IF($B91=\"*\",\"\",VLOOKUP($A91,'2025-2026'!#REF!,E$26,FALSE))","v":{"$error":"#REF!"}},{"$f":"IF($B91=\"*\",\"\",VLOOKUP($A91,'2025-2026'!#REF!,F$26,FALSE))","v":{"$error":"#REF!"}},{"$f":"IF($B91=\"*\",\"\",VLOOKUP($A91,'2025-2026'!#REF!,G$26,FALSE))","v":{"$error":"#REF!"}},null,{"$f":"IF($B91=\"*\",\"\",VLOOKUP($A91,'2025-2026'!#REF!,I$26,FALSE))","v":{"$error":"#REF!"}},null,{"$f":"IF($B91=\"*\",\"\",VLOOKUP($A91,'2025-2026'!#REF!,K$5,FALSE))","v":{"$error":"#REF!"}},null,{"$f":"IF($B91=\"*\",\"\",VLOOKUP($A91,'2025-2026'!#REF!,M$5,FALSE))","v":{"$error":"#REF!"}}]
[64,{"$f":"VLOOKUP(A92,'2025-2026'!#REF!,9,FALSE)","v":{"$error":"#REF!"}},{"$f":"VLOOKUP($A92,'2025-2026'!#REF!,C$26,FALSE)","v":{"$error":"#REF!"}},{"$f":"IF($B92=\"*\",\"\",VLOOKUP($A92,'2025-2026'!#REF!,D$26,FALSE))","v":{"$error":"#REF!"}},{"$f":"IF($B92=\"*\",\"\",VLOOKUP($A92,'2025-2026'!#REF!,E$26,FALSE))","v":{"$error":"#REF!"}},{"$f":"IF($B92=\"*\",\"\",VLOOKUP($A92,'2025-2026'!#REF!,F$26,FALSE))","v":{"$error":"#REF!"}},{"$f":"IF($B92=\"*\",\"\",VLOOKUP($A92,'2025-2026'!#REF!,G$26,FALSE))","v":{"$error":"#REF!"}},null,{"$f":"IF($B92=\"*\",\"\",VLOOKUP($A92,'2025-2026'!#REF!,I$26,FALSE))","v":{"$error":"#REF!"}},null,{"$f":"IF($B92=\"*\",\"\",VLOOKUP($A92,'2025-2026'!#REF!,K$5,FALSE))","v":{"$error":"#REF!"}},null,{"$f":"IF($B92=\"*\",\"\",VLOOKUP($A92,'2025-2026'!#REF!,M$5,FALSE))","v":{"$error":"#REF!"}}]
[65,{"$f":"VLOOKUP(A93,'2025-2026'!#REF!,9,FALSE)","v":{"$error":"#REF!"}},{"$f":"VLOOKUP($A93,'2025-2026'!#REF!,C$26,FALSE)","v":{"$error":"#REF!"}},null,null,null,null,null,null,null,{"$f":"IF($B93=\"*\",\"\",VLOOKUP($A93,'2025-2026'!#REF!,K$5,FALSE))","v":{"$error":"#REF!"}},null,{"$f":"IF($B93=\"*\",\"\",VLOOKUP($A93,'2025-2026'!#REF!,M$5,FALSE))","v":{"$error":"#REF!"}}]
[66,{"$f":"VLOOKUP(A94,'2025-2026'!#REF!,9,FALSE)","v":{"$error":"#REF!"}},{"$f":"VLOOKUP($A94,'2025-2026'!#REF!,C$26,FALSE)","v":{"$error":"#REF!"}},{"$f":"IF($B94=\"*\",\"\",VLOOKUP($A94,'2025-2026'!#REF!,D$26,FALSE))","v":{"$error":"#REF!"}},{"$f":"IF($B94=\"*\",\"\",VLOOKUP($A94,'2025-2026'!#REF!,E$26,FALSE))","v":{"$error":"#REF!"}},{"$f":"IF($B94=\"*\",\"\",VLOOKUP($A94,'2025-2026'!#REF!,F$26,FALSE))","v":{"$error":"#REF!"}},{"$f":"IF($B94=\"*\",\"\",VLOOKUP($A94,'2025-2026'!#REF!,G$26,FALSE))","v":{"$error":"#REF!"}},null,{"$f":"IF($B94=\"*\",\"\",VLOOKUP($A94,'2025-2026'!#REF!,I$26,FALSE))","v":{"$error":"#REF!"}},null,{"$f":"IF($B94=\"*\",\"\",VLOOKUP($A94,'2025-2026'!#REF!,K$5,FALSE))","v":{"$error":"#REF!"}},null,{"$f":"IF($B94=\"*\",\"\",VLOOKUP($A94,'2025-2026'!#REF!,M$5,FALSE))","v":{"$error":"#REF!"}}]
[{"$f":"A94+1","v":67},{"$f":"VLOOKUP(A95,'2025-2026'!#REF!,9,FALSE)","v":{"$error":"#REF!"}},{"$f":"VLOOKUP($A95,'2025-2026'!#REF!,C$26,FALSE)","v":{"$error":"#REF!"}},{"$f":"IF($B95=\"*\",\"\",VLOOKUP($A95,'2025-2026'!#REF!,D$26,FALSE))","v":{"$error":"#REF!"}},{"$f":"IF($B95=\"*\",\"\",VLOOKUP($A95,'2025-2026'!#REF!,E$26,FALSE))","v":{"$error":"#REF!"}},{"$f":"IF($B95=\"*\",\"\",VLOOKUP($A95,'2025-2026'!#REF!,F$26,FALSE))","v":{"$error":"#REF!"}},{"$f":"IF($B95=\"*\",\"\",VLOOKUP($A95,'2025-2026'!#REF!,G$26,FALSE))","v":{"$error":"#REF!"}},null,{"$f":"IF($B95=\"*\",\"\",VLOOKUP($A95,'2025-2026'!#REF!,I$26,FALSE))","v":{"$error":"#REF!"}},null,{"$f":"IF($B95=\"*\",\"\",VLOOKUP($A95,'2025-2026'!#REF!,K$5,FALSE))","v":{"$error":"#REF!"}},null,{"$f":"IF($B95=\"*\",\"\",VLOOKUP($A95,'2025-2026'!#REF!,M$5,FALSE))","v":{"$error":"#REF!"}}]
[68,{"$f":"VLOOKUP(A96,'2025-2026'!#REF!,9,FALSE)","v":{"$error":"#REF!"}},{"$f":"VLOOKUP($A96,'2025-2026'!#REF!,C$26,FALSE)","v":{"$error":"#REF!"}},{"$f":"IF($B96=\"*\",\"\",VLOOKUP($A96,'2025-2026'!#REF!,D$26,FALSE))","v":{"$error":"#REF!"}},{"$f":"IF($B96=\"*\",\"\",VLOOKUP($A96,'2025-2026'!#REF!,E$26,FALSE))","v":{"$error":"#REF!"}},{"$f":"IF($B96=\"*\",\"\",VLOOKUP($A96,'2025-2026'!#REF!,F$26,FALSE))","v":{"$error":"#REF!"}},{"$f":"IF($B96=\"*\",\"\",VLOOKUP($A96,'2025-2026'!#REF!,G$26,FALSE))","v":{"$error":"#REF!"}},null,{"$f":"IF($B96=\"*\",\"\",VLOOKUP($A96,'2025-2026'!#REF!,I$26,FALSE))","v":{"$error":"#REF!"}},null,{"$f":"IF($B96=\"*\",\"\",VLOOKUP($A96,'2025-2026'!#REF!,K$5,FALSE))","v":{"$error":"#REF!"}},null,{"$f":"IF($B96=\"*\",\"\",VLOOKUP($A96,'2025-2026'!#REF!,M$5,FALSE))","v":{"$error":"#REF!"}}]
[69,{"$f":"VLOOKUP(A97,'2025-2026'!#REF!,9,FALSE)","v":{"$error":"#REF!"}},{"$f":"VLOOKUP($A97,'2025-2026'!#REF!,C$26,FALSE)","v":{"$error":"#REF!"}},{"$f":"IF($B97=\"*\",\"\",VLOOKUP($A97,'2025-2026'!#REF!,D$26,FALSE))","v":{"$error":"#REF!"}},{"$f":"IF($B97=\"*\",\"\",VLOOKUP($A97,'2025-2026'!#REF!,E$26,FALSE))","v":{"$error":"#REF!"}},{"$f":"IF($B97=\"*\",\"\",VLOOKUP($A97,'2025-2026'!#REF!,F$26,FALSE))","v":{"$error":"#REF!"}},{"$f":"IF($B97=\"*\",\"\",VLOOKUP($A97,'2025-2026'!#REF!,G$26,FALSE))","v":{"$error":"#REF!"}},null,{"$f":"IF($B97=\"*\",\"\",VLOOKUP($A97,'2025-2026'!#REF!,I$26,FALSE))","v":{"$error":"#REF!"}},null,{"$f":"IF($B97=\"*\",\"\",VLOOKUP($A97,'2025-2026'!#REF!,K$5,FALSE))","v":{"$error":"#REF!"}},null,{"$f":"IF($B97=\"*\",\"\",VLOOKUP($A97,'2025-2026'!#REF!,M$5,FALSE))","v":{"$error":"#REF!"}}]
[70,{"$f":"VLOOKUP(A98,'2025-2026'!#REF!,9,FALSE)","v":{"$error":"#REF!"}},{"$f":"VLOOKUP($A98,'2025-2026'!#REF!,C$26,FALSE)","v":{"$error":"#REF!"}},{"$f":"IF($B98=\"*\",\"\",VLOOKUP($A98,'2025-2026'!#REF!,D$26,FALSE))","v":{"$error":"#REF!"}},{"$f":"IF($B98=\"*\",\"\",VLOOKUP($A98,'2025-2026'!#REF!,E$26,FALSE))","v":{"$error":"#REF!"}},{"$f":"IF($B98=\"*\",\"\",VLOOKUP($A98,'2025-2026'!#REF!,F$26,FALSE))","v":{"$error":"#REF!"}},{"$f":"IF($B98=\"*\",\"\",VLOOKUP($A98,'2025-2026'!#REF!,G$26,FALSE))","v":{"$error":"#REF!"}},null,{"$f":"IF($B98=\"*\",\"\",VLOOKUP($A98,'2025-2026'!#REF!,I$26,FALSE))","v":{"$error":"#REF!"}},null,{"$f":"IF($B98=\"*\",\"\",VLOOKUP($A98,'2025-2026'!#REF!,K$5,FALSE))","v":{"$error":"#REF!"}},null,{"$f":"IF($B98=\"*\",\"\",VLOOKUP($A98,'2025-2026'!#REF!,M$5,FALSE))","v":{"$error":"#REF!"}}]
[71,{"$f":"VLOOKUP(A99,'2025-2026'!#REF!,9,FALSE)","v":{"$error":"#REF!"}},{"$f":"VLOOKUP($A99,'2025-2026'!#REF!,C$26,FALSE)","v":{"$error":"#REF!"}},{"$f":"IF($B99=\"*\",\"\",VLOOKUP($A99,'2025-2026'!#REF!,D$26,FALSE))","v":{"$error":"#REF!"}},{"$f":"IF($B99=\"*\",\"\",VLOOKUP($A99,'2025-2026'!#REF!,E$26,FALSE))","v":{"$error":"#REF!"}},{"$f":"IF($B99=\"*\",\"\",VLOOKUP($A99,'2025-2026'!#REF!,F$26,FALSE))","v":{"$error":"#REF!"}},{"$f":"IF($B99=\"*\",\"\",VLOOKUP($A99,'2025-2026'!#REF!,G$26,FALSE))","v":{"$error":"#REF!"}},null,{"$f":"IF($B99=\"*\",\"\",VLOOKUP($A99,'2025-2026'!#REF!,I$26,FALSE))","v":{"$error":"#REF!"}},null,{"$f":"IF($B99=\"*\",\"\",VLOOKUP($A99,'2025-2026'!#REF!,K$5,FALSE))","v":{"$error":"#REF!"}},null,{"$f":"IF($B99=\"*\",\"\",VLOOKUP($A99,'2025-2026'!#REF!,M$5,FALSE))","v":{"$error":"#REF!"}}]
[72,{"$f":"VLOOKUP(A100,'2025-2026'!#REF!,9,FALSE)","v":{"$error":"#REF!"}},{"$f":"VLOOKUP($A100,'2025-2026'!#REF!,C$26,FALSE)","v":{"$error":"#REF!"}},{"$f":"IF($B100=\"*\",\"\",VLOOKUP($A100,'2025-2026'!#REF!,D$26,FALSE))","v":{"$error":"#REF!"}},{"$f":"IF($B100=\"*\",\"\",VLOOKUP($A100,'2025-2026'!#REF!,E$26,FALSE))","v":{"$error":"#REF!"}},{"$f":"IF($B100=\"*\",\"\",VLOOKUP($A100,'2025-2026'!#REF!,F$26,FALSE))","v":{"$error":"#REF!"}},{"$f":"IF($B100=\"*\",\"\",VLOOKUP($A100,'2025-2026'!#REF!,G$26,FALSE))","v":{"$error":"#REF!"}},null,{"$f":"IF($B100=\"*\",\"\",VLOOKUP($A100,'2025-2026'!#REF!,I$26,FALSE))","v":{"$error":"#REF!"}},null,{"$f":"IF($B100=\"*\",\"\",VLOOKUP($A100,'2025-2026'!#REF!,K$5,FALSE))","v":{"$error":"#REF!"}},null,{"$f":"IF($B100=\"*\",\"\",VLOOKUP($A100,'2025-2026'!#REF!,M$5,FALSE))","v":{"$error":"#REF!"}}]
[73,{"$f":"VLOOKUP(A101,'2025-2026'!#REF!,9,FALSE)","v":{"$error":"#REF!"}},{"$f":"VLOOKUP($A101,'2025-2026'!#REF!,C$26,FALSE)","v":{"$error":"#REF!"}},{"$f":"IF($B101=\"*\",\"\",VLOOKUP($A101,'2025-2026'!#REF!,D$26,FALSE))","v":{"$error":"#REF!"}},{"$f":"IF($B101=\"*\",\"\",VLOOKUP($A101,'2025-2026'!#REF!,E$26,FALSE))","v":{"$error":"#REF!"}},{"$f":"IF($B101=\"*\",\"\",VLOOKUP($A101,'2025-2026'!#REF!,F$26,FALSE))","v":{"$error":"#REF!"}},{"$f":"IF($B101=\"*\",\"\",VLOOKUP($A101,'2025-2026'!#REF!,G$26,FALSE))","v":{"$error":"#REF!"}},null,{"$f":"IF($B101=\"*\",\"\",VLOOKUP($A101,'2025-2026'!#REF!,I$26,FALSE))","v":{"$error":"#REF!"}},null,{"$f":"IF($B101=\"*\",\"\",VLOOKUP($A101,'2025-2026'!#REF!,K$5,FALSE))","v":{"$error":"#REF!"}},null,{"$f":"IF($B101=\"*\",\"\",VLOOKUP($A101,'2025-2026'!#REF!,M$5,FALSE))","v":{"$error":"#REF!"}}]
[74,{"$f":"VLOOKUP(A102,'2025-2026'!#REF!,9,FALSE)","v":{"$error":"#REF!"}},{"$f":"VLOOKUP($A102,'2025-2026'!#REF!,C$26,FALSE)","v":{"$error":"#REF!"}},{"$f":"IF($B102=\"*\",\"\",VLOOKUP($A102,'2025-2026'!#REF!,D$26,FALSE))","v":{"$error":"#REF!"}},{"$f":"IF($B102=\"*\",\"\",VLOOKUP($A102,'2025-2026'!#REF!,E$26,FALSE))","v":{"$error":"#REF!"}},{"$f":"IF($B102=\"*\",\"\",VLOOKUP($A102,'2025-2026'!#REF!,F$26,FALSE))","v":{"$error":"#REF!"}},{"$f":"IF($B102=\"*\",\"\",VLOOKUP($A102,'2025-2026'!#REF!,G$26,FALSE))","v":{"$error":"#REF!"}},null,{"$f":"IF($B102=\"*\",\"\",VLOOKUP($A102,'2025-2026'!#REF!,I$26,FALSE))","v":{"$error":"#REF!"}},null,{"$f":"IF($B102=\"*\",\"\",VLOOKUP($A102,'2025-2026'!#REF!,K$5,FALSE))","v":{"$error":"#REF!"}},null,{"$f":"IF($B102=\"*\",\"\",VLOOKUP($A102,'2025-2026'!#REF!,M$5,FALSE))","v":{"$error":"#REF!"}}]
[75,{"$f":"VLOOKUP(A103,'2025-2026'!#REF!,9,FALSE)","v":{"$error":"#REF!"}},{"$f":"VLOOKUP($A103,'2025-2026'!#REF!,C$26,FALSE)","v":{"$error":"#REF!"}},{"$f":"IF($B103=\"*\",\"\",VLOOKUP($A103,'2025-2026'!#REF!,D$26,FALSE))","v":{"$error":"#REF!"}},{"$f":"IF($B103=\"*\",\"\",VLOOKUP($A103,'2025-2026'!#REF!,E$26,FALSE))","v":{"$error":"#REF!"}},{"$f":"IF($B103=\"*\",\"\",VLOOKUP($A103,'2025-2026'!#REF!,F$26,FALSE))","v":{"$error":"#REF!"}},{"$f":"IF($B103=\"*\",\"\",VLOOKUP($A103,'2025-2026'!#REF!,G$26,FALSE))","v":{"$error":"#REF!"}},null,{"$f":"IF($B103=\"*\",\"\",VLOOKUP($A103,'2025-2026'!#REF!,I$26,FALSE))","v":{"$error":"#REF!"}},null,{"$f":"IF($B103=\"*\",\"\",VLOOKUP($A103,'2025-2026'!#REF!,K$5,FALSE))","v":{"$error":"#REF!"}},null,{"$f":"IF($B103=\"*\",\"\",VLOOKUP($A103,'2025-2026'!#REF!,M$5,FALSE))","v":{"$error":"#REF!"}}]
[76,{"$f":"VLOOKUP(A104,'2025-2026'!#REF!,9,FALSE)","v":{"$error":"#REF!"}},{"$f":"VLOOKUP($A104,'2025-2026'!#REF!,C$26,FALSE)","v":{"$error":"#REF!"}},{"$f":"IF($B104=\"*\",\"\",VLOOKUP($A104,'2025-2026'!#REF!,D$26,FALSE))","v":{"$error":"#REF!"}},{"$f":"IF($B104=\"*\",\"\",VLOOKUP($A104,'2025-2026'!#REF!,E$26,FALSE))","v":{"$error":"#REF!"}},{"$f":"IF($B104=\"*\",\"\",VLOOKUP($A104,'2025-2026'!#REF!,F$26,FALSE))","v":{"$error":"#REF!"}},{"$f":"IF($B104=\"*\",\"\",VLOOKUP($A104,'2025-2026'!#REF!,G$26,FALSE))","v":{"$error":"#REF!"}},null,{"$f":"IF($B104=\"*\",\"\",VLOOKUP($A104,'2025-2026'!#REF!,I$26,FALSE))","v":{"$error":"#REF!"}},null,{"$f":"IF($B104=\"*\",\"\",VLOOKUP($A104,'2025-2026'!#REF!,K$5,FALSE))","v":{"$error":"#REF!"}},null,{"$f":"IF($B104=\"*\",\"\",VLOOKUP($A104,'2025-2026'!#REF!,M$5,FALSE))","v":{"$error":"#REF!"}}]
[77,{"$f":"VLOOKUP(A105,'2025-2026'!#REF!,9,FALSE)","v":{"$error":"#REF!"}},{"$f":"VLOOKUP($A105,'2025-2026'!#REF!,C$26,FALSE)","v":{"$error":"#REF!"}},{"$f":"IF($B105=\"*\",\"\",VLOOKUP($A105,'2025-2026'!#REF!,D$26,FALSE))","v":{"$error":"#REF!"}},{"$f":"IF($B105=\"*\",\"\",VLOOKUP($A105,'2025-2026'!#REF!,E$26,FALSE))","v":{"$error":"#REF!"}},{"$f":"IF($B105=\"*\",\"\",VLOOKUP($A105,'2025-2026'!#REF!,F$26,FALSE))","v":{"$error":"#REF!"}},{"$f":"IF($B105=\"*\",\"\",VLOOKUP($A105,'2025-2026'!#REF!,G$26,FALSE))","v":{"$error":"#REF!"}},null,{"$f":"IF($B105=\"*\",\"\",VLOOKUP($A105,'2025-2026'!#REF!,I$26,FALSE))","v":{"$error":"#REF!"}},null,{"$f":"IF($B105=\"*\",\"\",VLOOKUP($A105,'2025-2026'!#REF!,K$5,FALSE))","v":{"$error":"#REF!"}},null,{"$f":"IF($B105=\"*\",\"\",VLOOKUP($A105,'2025-2026'!#REF!,M$5,FALSE))","v":{"$error":"#REF!"}}]
[null,null,null,null,null,"Sous total FORMATION INTIALE EN GESTION POLICIÈRE",{"$f":"SUM(G90:G105)","v":{"$error":"#REF!"}},null,{"$f":"SUM(I90:I105)","v":{"$error":"#REF!"}},null,{"$f":"SUM(K90:K105)","v":{"$error":"#REF!"}},null,{"$f":"SUM(M90:M105)","v":{"$error":"#REF!"}}]
[{"$f":"A105+1","v":78},{"$f":"VLOOKUP(A107,'2025-2026'!#REF!,9,FALSE)","v":{"$error":"#REF!"}},{"$f":"VLOOKUP($A107,'2025-2026'!#REF!,C$26,FALSE)","v":{"$error":"#REF!"}},null,null,null,null,null,null,null,{"$f":"IF($B107=\"*\",\"\",VLOOKUP($A107,'2025-2026'!#REF!,K$5,FALSE))","v":{"$error":"#REF!"}},null,{"$f":"IF($B107=\"*\",\"\",VLOOKUP($A107,'2025-2026'!#REF!,M$5,FALSE))","v":{"$error":"#REF!"}}]
[79,{"$f":"VLOOKUP(A108,'2025-2026'!#REF!,9,FALSE)","v":{"$error":"#REF!"}},{"$f":"VLOOKUP($A108,'2025-2026'!#REF!,C$26,FALSE)","v":{"$error":"#REF!"}},null,null,null,null,null,null,null,{"$f":"IF($B108=\"*\",\"\",VLOOKUP($A108,'2025-2026'!#REF!,K$5,FALSE))","v":{"$error":"#REF!"}},null,{"$f":"IF($B108=\"*\",\"\",VLOOKUP($A108,'2025-2026'!#REF!,M$5,FALSE))","v":{"$error":"#REF!"}}]
[80,{"$f":"VLOOKUP(A109,'2025-2026'!#REF!,9,FALSE)","v":{"$error":"#REF!"}},{"$f":"VLOOKUP($A109,'2025-2026'!#REF!,C$26,FALSE)","v":{"$error":"#REF!"}},{"$f":"IF($B109=\"*\",\"\",VLOOKUP($A109,'2025-2026'!#REF!,D$26,FALSE))","v":{"$error":"#REF!"}},{"$f":"IF($B109=\"*\",\"\",VLOOKUP($A109,'2025-2026'!#REF!,E$26,FALSE))","v":{"$error":"#REF!"}},{"$f":"IF($B109=\"*\",\"\",VLOOKUP($A109,'2025-2026'!#REF!,F$26,FALSE))","v":{"$error":"#REF!"}},{"$f":"IF($B109=\"*\",\"\",VLOOKUP($A109,'2025-2026'!#REF!,G$26,FALSE))","v":{"$error":"#REF!"}},null,{"$f":"IF($B109=\"*\",\"\",VLOOKUP($A109,'2025-2026'!#REF!,I$26,FALSE))","v":{"$error":"#REF!"}},null,{"$f":"IF($B109=\"*\",\"\",VLOOKUP($A109,'2025-2026'!#REF!,K$5,FALSE))","v":{"$error":"#REF!"}},null,{"$f":"IF($B109=\"*\",\"\",VLOOKUP($A109,'2025-2026'!#REF!,M$5,FALSE))","v":{"$error":"#REF!"}}]
[81,{"$f":"VLOOKUP(A110,'2025-2026'!#REF!,9,FALSE)","v":{"$error":"#REF!"}},{"$f":"VLOOKUP($A110,'2025-2026'!#REF!,C$26,FALSE)","v":{"$error":"#REF!"}},{"$f":"IF($B110=\"*\",\"\",VLOOKUP($A110,'2025-2026'!#REF!,D$26,FALSE))","v":{"$error":"#REF!"}},{"$f":"IF($B110=\"*\",\"\",VLOOKUP($A110,'2025-2026'!#REF!,E$26,FALSE))","v":{"$error":"#REF!"}},{"$f":"IF($B110=\"*\",\"\",VLOOKUP($A110,'2025-2026'!#REF!,F$26,FALSE))","v":{"$error":"#REF!"}},{"$f":"IF($B110=\"*\",\"\",VLOOKUP($A110,'2025-2026'!#REF!,G$26,FALSE))","v":{"$error":"#REF!"}},null,{"$f":"IF($B110=\"*\",\"\",VLOOKUP($A110,'2025-2026'!#REF!,I$26,FALSE))","v":{"$error":"#REF!"}},null,{"$f":"IF($B110=\"*\",\"\",VLOOKUP($A110,'2025-2026'!#REF!,K$5,FALSE))","v":{"$error":"#REF!"}},null,{"$f":"IF($B110=\"*\",\"\",VLOOKUP($A110,'2025-2026'!#REF!,M$5,FALSE))","v":{"$error":"#REF!"}}]
[82,{"$f":"VLOOKUP(A111,'2025-2026'!#REF!,9,FALSE)","v":{"$error":"#REF!"}},{"$f":"VLOOKUP($A111,'2025-2026'!#REF!,C$26,FALSE)","v":{"$error":"#REF!"}},{"$f":"IF($B111=\"*\",\"\",VLOOKUP($A111,'2025-2026'!#REF!,D$26,FALSE))","v":{"$error":"#REF!"}},{"$f":"IF($B111=\"*\",\"\",VLOOKUP($A111,'2025-2026'!#REF!,E$26,FALSE))","v":{"$error":"#REF!"}},{"$f":"IF($B111=\"*\",\"\",VLOOKUP($A111,'2025-2026'!#REF!,F$26,FALSE))","v":{"$error":"#REF!"}},{"$f":"IF($B111=\"*\",\"\",VLOOKUP($A111,'2025-2026'!#REF!,G$26,FALSE))","v":{"$error":"#REF!"}},null,{"$f":"IF($B111=\"*\",\"\",VLOOKUP($A111,'2025-2026'!#REF!,I$26,FALSE))","v":{"$error":"#REF!"}},null,{"$f":"IF($B111=\"*\",\"\",VLOOKUP($A111,'2025-2026'!#REF!,K$5,FALSE))","v":{"$error":"#REF!"}},null,{"$f":"IF($B111=\"*\",\"\",VLOOKUP($A111,'2025-2026'!#REF!,M$5,FALSE))","v":{"$error":"#REF!"}}]
[83,{"$f":"VLOOKUP(A112,'2025-2026'!#REF!,9,FALSE)","v":{"$error":"#REF!"}},{"$f":"VLOOKUP($A112,'2025-2026'!#REF!,C$26,FALSE)","v":{"$error":"#REF!"}},{"$f":"IF($B112=\"*\",\"\",VLOOKUP($A112,'2025-2026'!#REF!,D$26,FALSE))","v":{"$error":"#REF!"}},{"$f":"IF($B112=\"*\",\"\",VLOOKUP($A112,'2025-2026'!#REF!,E$26,FALSE))","v":{"$error":"#REF!"}},{"$f":"IF($B112=\"*\",\"\",VLOOKUP($A112,'2025-2026'!#REF!,F$26,FALSE))","v":{"$error":"#REF!"}},{"$f":"IF($B112=\"*\",\"\",VLOOKUP($A112,'2025-2026'!#REF!,G$26,FALSE))","v":{"$error":"#REF!"}},null,{"$f":"IF($B112=\"*\",\"\",VLOOKUP($A112,'2025-2026'!#REF!,I$26,FALSE))","v":{"$error":"#REF!"}},null,{"$f":"IF($B112=\"*\",\"\",VLOOKUP($A112,'2025-2026'!#REF!,K$5,FALSE))","v":{"$error":"#REF!"}},null,{"$f":"IF($B112=\"*\",\"\",VLOOKUP($A112,'2025-2026'!#REF!,M$5,FALSE))","v":{"$error":"#REF!"}}]
[null,null,null,null,null,"Sous total CECAP",{"$f":"SUM(G109:G112)","v":{"$error":"#REF!"}},null,{"$f":"SUM(I109:I112)","v":{"$error":"#REF!"}},null,{"$f":"SUM(K109:K112)","v":{"$error":"#REF!"}},null,{"$f":"SUM(M109:M112)","v":{"$error":"#REF!"}}]
[{"$f":"A112+1","v":84},{"$f":"VLOOKUP(A114,'2025-2026'!#REF!,9,FALSE)","v":{"$error":"#REF!"}},{"$f":"VLOOKUP($A114,'2025-2026'!#REF!,C$26,FALSE)","v":{"$error":"#REF!"}},null,null,null,null,null,null,null,{"$f":"IF($B114=\"*\",\"\",VLOOKUP($A114,'2025-2026'!#REF!,K$5,FALSE))","v":{"$error":"#REF!"}},null,{"$f":"IF($B114=\"*\",\"\",VLOOKUP($A114,'2025-2026'!#REF!,M$5,FALSE))","v":{"$error":"#REF!"}}]
[85,{"$f":"VLOOKUP(A115,'2025-2026'!#REF!,9,FALSE)","v":{"$error":"#REF!"}},{"$f":"VLOOKUP($A115,'2025-2026'!#REF!,C$26,FALSE)","v":{"$error":"#REF!"}},null,null,null,null,null,null,null,{"$f":"IF($B115=\"*\",\"\",VLOOKUP($A115,'2025-2026'!#REF!,K$5,FALSE))","v":{"$error":"#REF!"}},null,{"$f":"IF($B115=\"*\",\"\",VLOOKUP($A115,'2025-2026'!#REF!,M$5,FALSE))","v":{"$error":"#REF!"}}]
[86,{"$f":"VLOOKUP(A116,'2025-2026'!#REF!,9,FALSE)","v":{"$error":"#REF!"}},{"$f":"VLOOKUP($A116,'2025-2026'!#REF!,C$26,FALSE)","v":{"$error":"#REF!"}},{"$f":"IF($B116=\"*\",\"\",VLOOKUP($A116,'2025-2026'!#REF!,D$26,FALSE))","v":{"$error":"#REF!"}},{"$f":"IF($B116=\"*\",\"\",VLOOKUP($A116,'2025-2026'!#REF!,E$26,FALSE))","v":{"$error":"#REF!"}},{"$f":"IF($B116=\"*\",\"\",VLOOKUP($A116,'2025-2026'!#REF!,F$26,FALSE))","v":{"$error":"#REF!"}},{"$f":"IF($B116=\"*\",\"\",VLOOKUP($A116,'2025-2026'!#REF!,G$26,FALSE))","v":{"$error":"#REF!"}},null,{"$f":"IF($B116=\"*\",\"\",VLOOKUP($A116,'2025-2026'!#REF!,I$26,FALSE))","v":{"$error":"#REF!"}},null,{"$f":"IF($B116=\"*\",\"\",VLOOKUP($A116,'2025-2026'!#REF!,K$5,FALSE))","v":{"$error":"#REF!"}},null,{"$f":"IF($B116=\"*\",\"\",VLOOKUP($A116,'2025-2026'!#REF!,M$5,FALSE))","v":{"$error":"#REF!"}}]
[87,{"$f":"VLOOKUP(A117,'2025-2026'!#REF!,9,FALSE)","v":{"$error":"#REF!"}},{"$f":"VLOOKUP($A117,'2025-2026'!#REF!,C$26,FALSE)","v":{"$error":"#REF!"}},{"$f":"IF($B117=\"*\",\"\",VLOOKUP($A117,'2025-2026'!#REF!,D$26,FALSE))","v":{"$error":"#REF!"}},{"$f":"IF($B117=\"*\",\"\",VLOOKUP($A117,'2025-2026'!#REF!,E$26,FALSE))","v":{"$error":"#REF!"}},{"$f":"IF($B117=\"*\",\"\",VLOOKUP($A117,'2025-2026'!#REF!,F$26,FALSE))","v":{"$error":"#REF!"}},{"$f":"IF($B117=\"*\",\"\",VLOOKUP($A117,'2025-2026'!#REF!,G$26,FALSE))","v":{"$error":"#REF!"}},null,{"$f":"IF($B117=\"*\",\"\",VLOOKUP($A117,'2025-2026'!#REF!,I$26,FALSE))","v":{"$error":"#REF!"}},null,{"$f":"IF($B117=\"*\",\"\",VLOOKUP($A117,'2025-2026'!#REF!,K$5,FALSE))","v":{"$error":"#REF!"}},null,{"$f":"IF($B117=\"*\",\"\",VLOOKUP($A117,'2025-2026'!#REF!,M$5,FALSE))","v":{"$error":"#REF!"}}]
[88,{"$f":"VLOOKUP(A118,'2025-2026'!#REF!,9,FALSE)","v":{"$error":"#REF!"}},{"$f":"VLOOKUP($A118,'2025-2026'!#REF!,C$26,FALSE)","v":{"$error":"#REF!"}},{"$f":"IF($B118=\"*\",\"\",VLOOKUP($A118,'2025-2026'!#REF!,D$26,FALSE))","v":{"$error":"#REF!"}},{"$f":"IF($B118=\"*\",\"\",VLOOKUP($A118,'2025-2026'!#REF!,E$26,FALSE))","v":{"$error":"#REF!"}},{"$f":"IF($B118=\"*\",\"\",VLOOKUP($A118,'2025-2026'!#REF!,F$26,FALSE))","v":{"$error":"#REF!"}},{"$f":"IF($B118=\"*\",\"\",VLOOKUP($A118,'2025-2026'!#REF!,G$26,FALSE))","v":{"$error":"#REF!"}},null,{"$f":"IF($B118=\"*\",\"\",VLOOKUP($A118,'2025-2026'!#REF!,I$26,FALSE))","v":{"$error":"#REF!"}},null,{"$f":"IF($B118=\"*\",\"\",VLOOKUP($A118,'2025-2026'!#REF!,K$5,FALSE))","v":{"$error":"#REF!"}},null,{"$f":"IF($B118=\"*\",\"\",VLOOKUP($A118,'2025-2026'!#REF!,M$5,FALSE))","v":{"$error":"#REF!"}}]
[89,{"$f":"VLOOKUP(A119,'2025-2026'!#REF!,9,FALSE)","v":{"$error":"#REF!"}},{"$f":"VLOOKUP($A119,'2025-2026'!#REF!,C$26,FALSE)","v":{"$error":"#REF!"}},{"$f":"IF($B119=\"*\",\"\",VLOOKUP($A119,'2025-2026'!#REF!,D$26,FALSE))","v":{"$error":"#REF!"}},{"$f":"IF($B119=\"*\",\"\",VLOOKUP($A119,'2025-2026'!#REF!,E$26,FALSE))","v":{"$error":"#REF!"}},{"$f":"IF($B119=\"*\",\"\",VLOOKUP($A119,'2025-2026'!#REF!,F$26,FALSE))","v":{"$error":"#REF!"}},{"$f":"IF($B119=\"*\",\"\",VLOOKUP($A119,'2025-2026'!#REF!,G$26,FALSE))","v":{"$error":"#REF!"}},null,{"$f":"IF($B119=\"*\",\"\",VLOOKUP($A119,'2025-2026'!#REF!,I$26,FALSE))","v":{"$error":"#REF!"}},null,{"$f":"IF($B119=\"*\",\"\",VLOOKUP($A119,'2025-2026'!#REF!,K$5,FALSE))","v":{"$error":"#REF!"}},null,{"$f":"IF($B119=\"*\",\"\",VLOOKUP($A119,'2025-2026'!#REF!,M$5,FALSE))","v":{"$error":"#REF!"}}]
[90,{"$f":"VLOOKUP(A120,'2025-2026'!#REF!,9,FALSE)","v":{"$error":"#REF!"}},{"$f":"VLOOKUP($A120,'2025-2026'!#REF!,C$26,FALSE)","v":{"$error":"#REF!"}},{"$f":"IF($B120=\"*\",\"\",VLOOKUP($A120,'2025-2026'!#REF!,D$26,FALSE))","v":{"$error":"#REF!"}},{"$f":"IF($B120=\"*\",\"\",VLOOKUP($A120,'2025-2026'!#REF!,E$26,FALSE))","v":{"$error":"#REF!"}},{"$f":"IF($B120=\"*\",\"\",VLOOKUP($A120,'2025-2026'!#REF!,F$26,FALSE))","v":{"$error":"#REF!"}},{"$f":"IF($B120=\"*\",\"\",VLOOKUP($A120,'2025-2026'!#REF!,G$26,FALSE))","v":{"$error":"#REF!"}},null,{"$f":"IF($B120=\"*\",\"\",VLOOKUP($A120,'2025-2026'!#REF!,I$26,FALSE))","v":{"$error":"#REF!"}},null,{"$f":"IF($B120=\"*\",\"\",VLOOKUP($A120,'2025-2026'!#REF!,K$5,FALSE))","v":{"$error":"#REF!"}},null,{"$f":"IF($B120=\"*\",\"\",VLOOKUP($A120,'2025-2026'!#REF!,M$5,FALSE))","v":{"$error":"#REF!"}}]
[91,{"$f":"VLOOKUP(A121,'2025-2026'!#REF!,9,FALSE)","v":{"$error":"#REF!"}},{"$f":"VLOOKUP($A121,'2025-2026'!#REF!,C$26,FALSE)","v":{"$error":"#REF!"}},{"$f":"IF($B121=\"*\",\"\",VLOOKUP($A121,'2025-2026'!#REF!,D$26,FALSE))","v":{"$error":"#REF!"}},{"$f":"IF($B121=\"*\",\"\",VLOOKUP($A121,'2025-2026'!#REF!,E$26,FALSE))","v":{"$error":"#REF!"}},{"$f":"IF($B121=\"*\",\"\",VLOOKUP($A121,'2025-2026'!#REF!,F$26,FALSE))","v":{"$error":"#REF!"}},{"$f":"IF($B121=\"*\",\"\",VLOOKUP($A121,'2025-2026'!#REF!,G$26,FALSE))","v":{"$error":"#REF!"}},null,{"$f":"IF($B121=\"*\",\"\",VLOOKUP($A121,'2025-2026'!#REF!,I$26,FALSE))","v":{"$error":"#REF!"}},null,{"$f":"IF($B121=\"*\",\"\",VLOOKUP($A121,'2025-2026'!#REF!,K$5,FALSE))","v":{"$error":"#REF!"}},null,{"$f":"IF($B121=\"*\",\"\",VLOOKUP($A121,'2025-2026'!#REF!,M$5,FALSE))","v":{"$error":"#REF!"}}]
[92,{"$f":"VLOOKUP(A122,'2025-2026'!#REF!,9,FALSE)","v":{"$error":"#REF!"}},null,null,null,"Sous total PROGRAMME ACCES",{"$f":"SUM(G116:G121)","v":{"$error":"#REF!"}},null,{"$f":"SUM(I116:I121)","v":{"$error":"#REF!"}},null,{"$f":"SUM(K116:K121)","v":{"$error":"#REF!"}},null,{"$f":"SUM(M116:M121)","v":{"$error":"#REF!"}}]
[93,{"$f":"VLOOKUP(A123,'2025-2026'!#REF!,9,FALSE)","v":{"$error":"#REF!"}},{"$f":"VLOOKUP($A123,'2025-2026'!#REF!,C$26,FALSE)","v":{"$error":"#REF!"}},null,null,null,null,null,null,null,{"$f":"IF($B123=\"*\",\"\",VLOOKUP($A123,'2025-2026'!#REF!,K$5,FALSE))","v":{"$error":"#REF!"}},null,{"$f":"IF($B123=\"*\",\"\",VLOOKUP($A123,'2025-2026'!#REF!,M$5,FALSE))","v":{"$error":"#REF!"}}]
[94,{"$f":"VLOOKUP(A124,'2025-2026'!#REF!,9,FALSE)","v":{"$error":"#REF!"}},{"$f":"VLOOKUP($A124,'2025-2026'!#REF!,C$26,FALSE)","v":{"$error":"#REF!"}},{"$f":"IF($B124=\"*\",\"\",VLOOKUP($A124,'2025-2026'!#REF!,D$26,FALSE))","v":{"$error":"#REF!"}},{"$f":"IF($B124=\"*\",\"\",VLOOKUP($A124,'2025-2026'!#REF!,E$26,FALSE))","v":{"$error":"#REF!"}},{"$f":"IF($B124=\"*\",\"\",VLOOKUP($A124,'2025-2026'!#REF!,F$26,FALSE))","v":{"$error":"#REF!"}},{"$f":"IF($B124=\"*\",\"\",VLOOKUP($A124,'2025-2026'!#REF!,G$26,FALSE))","v":{"$error":"#REF!"}},null,{"$f":"IF($B124=\"*\",\"\",VLOOKUP($A124,'2025-2026'!#REF!,I$26,FALSE))","v":{"$error":"#REF!"}},null,{"$f":"IF($B124=\"*\",\"\",VLOOKUP($A124,'2025-2026'!#REF!,K$5,FALSE))","v":{"$error":"#REF!"}},null,{"$f":"IF($B124=\"*\",\"\",VLOOKUP($A124,'2025-2026'!#REF!,M$5,FALSE))","v":{"$error":"#REF!"}}]
[95,{"$f":"VLOOKUP(A125,'2025-2026'!#REF!,9,FALSE)","v":{"$error":"#REF!"}},{"$f":"VLOOKUP($A125,'2025-2026'!#REF!,C$26,FALSE)","v":{"$error":"#REF!"}},{"$f":"IF($B125=\"*\",\"\",VLOOKUP($A125,'2025-2026'!#REF!,D$26,FALSE))","v":{"$error":"#REF!"}},{"$f":"IF($B125=\"*\",\"\",VLOOKUP($A125,'2025-2026'!#REF!,E$26,FALSE))","v":{"$error":"#REF!"}},{"$f":"IF($B125=\"*\",\"\",VLOOKUP($A125,'2025-2026'!#REF!,F$26,FALSE))","v":{"$error":"#REF!"}},{"$f":"IF($B125=\"*\",\"\",VLOOKUP($A125,'2025-2026'!#REF!,G$26,FALSE))","v":{"$error":"#REF!"}},null,{"$f":"IF($B125=\"*\",\"\",VLOOKUP($A125,'2025-2026'!#REF!,I$26,FALSE))","v":{"$error":"#REF!"}},null,{"$f":"IF($B125=\"*\",\"\",VLOOKUP($A125,'2025-2026'!#REF!,K$5,FALSE))","v":{"$error":"#REF!"}},null,{"$f":"IF($B125=\"*\",\"\",VLOOKUP($A125,'2025-2026'!#REF!,M$5,FALSE))","v":{"$error":"#REF!"}}]
[null,null,null,null,null,"Sous total FORMATIONS AUTOCHTONES",{"$f":"SUM(G124:G125)","v":{"$error":"#REF!"}},null,{"$f":"SUM(I124:I125)","v":{"$error":"#REF!"}},null,{"$f":"SUM(K124:K125)","v":{"$error":"#REF!"}},null,{"$f":"SUM(M124:M125)","v":{"$error":"#REF!"}}]
[{"$f":"A125+1","v":96},{"$f":"VLOOKUP(A127,'2025-2026'!#REF!,9,FALSE)","v":{"$error":"#REF!"}},{"$f":"VLOOKUP($A127,'2025-2026'!#REF!,C$26,FALSE)","v":{"$error":"#REF!"}},null,null,null,null,null,null,null,{"$f":"IF($B127=\"*\",\"\",VLOOKUP($A127,'2025-2026'!#REF!,K$5,FALSE))","v":{"$error":"#REF!"}},null,{"$f":"IF($B127=\"*\",\"\",VLOOKUP($A127,'2025-2026'!#REF!,M$5,FALSE))","v":{"$error":"#REF!"}}]
[97,{"$f":"VLOOKUP(A128,'2025-2026'!#REF!,9,FALSE)","v":{"$error":"#REF!"}},{"$f":"VLOOKUP($A128,'2025-2026'!#REF!,C$26,FALSE)","v":{"$error":"#REF!"}},{"$f":"IF($B128=\"*\",\"\",VLOOKUP($A128,'2025-2026'!#REF!,D$26,FALSE))","v":{"$error":"#REF!"}},{"$f":"IF($B128=\"*\",\"\",VLOOKUP($A128,'2025-2026'!#REF!,E$26,FALSE))","v":{"$error":"#REF!"}},{"$f":"IF($B128=\"*\",\"\",VLOOKUP($A128,'2025-2026'!#REF!,F$26,FALSE))","v":{"$error":"#REF!"}},{"$f":"IF($B128=\"*\",\"\",VLOOKUP($A128,'2025-2026'!#REF!,G$26,FALSE))","v":{"$error":"#REF!"}},null,{"$f":"IF($B128=\"*\",\"\",VLOOKUP($A128,'2025-2026'!#REF!,I$26,FALSE))","v":{"$error":"#REF!"}},null,{"$f":"IF($B128=\"*\",\"\",VLOOKUP($A128,'2025-2026'!#REF!,K$5,FALSE))","v":{"$error":"#REF!"}},null,{"$f":"IF($B128=\"*\",\"\",VLOOKUP($A128,'2025-2026'!#REF!,M$5,FALSE))","v":{"$error":"#REF!"}}]
[]
[{"$f":"A128+1","v":98},{"$f":"VLOOKUP(A130,'2025-2026'!#REF!,9,FALSE)","v":{"$error":"#REF!"}},{"$f":"VLOOKUP($A130,'2025-2026'!#REF!,C$26,FALSE)","v":{"$error":"#REF!"}},null,null,null,null,null,null,null,{"$f":"IF($B130=\"*\",\"\",VLOOKUP($A130,'2025-2026'!#REF!,K$5,FALSE))","v":{"$error":"#REF!"}},null,{"$f":"IF($B130=\"*\",\"\",VLOOKUP($A130,'2025-2026'!#REF!,M$5,FALSE))","v":{"$error":"#REF!"}}]
[99,{"$f":"VLOOKUP(A131,'2025-2026'!#REF!,9,FALSE)","v":{"$error":"#REF!"}},{"$f":"VLOOKUP($A131,'2025-2026'!#REF!,C$26,FALSE)","v":{"$error":"#REF!"}},null,null,null,null,null,null,null,{"$f":"IF($B131=\"*\",\"\",VLOOKUP($A131,'2025-2026'!#REF!,K$5,FALSE))","v":{"$error":"#REF!"}},null,{"$f":"IF($B131=\"*\",\"\",VLOOKUP($A131,'2025-2026'!#REF!,M$5,FALSE))","v":{"$error":"#REF!"}}]
[100,{"$f":"VLOOKUP(A132,'2025-2026'!#REF!,9,FALSE)","v":{"$error":"#REF!"}},{"$f":"VLOOKUP($A132,'2025-2026'!#REF!,C$26,FALSE)","v":{"$error":"#REF!"}},null,null,null,null,null,null,null,{"$f":"IF($B132=\"*\",\"\",VLOOKUP($A132,'2025-2026'!#REF!,K$5,FALSE))","v":{"$error":"#REF!"}},null,{"$f":"IF($B132=\"*\",\"\",VLOOKUP($A132,'2025-2026'!#REF!,M$5,FALSE))","v":{"$error":"#REF!"}}]
[101,{"$f":"VLOOKUP(A133,'2025-2026'!#REF!,9,FALSE)","v":{"$error":"#REF!"}},{"$f":"VLOOKUP($A133,'2025-2026'!#REF!,C$26,FALSE)","v":{"$error":"#REF!"}},{"$f":"IF($B133=\"*\",\"\",VLOOKUP($A133,'2025-2026'!#REF!,D$26,FALSE))","v":{"$error":"#REF!"}},{"$f":"IF($B133=\"*\",\"\",VLOOKUP($A133,'2025-2026'!#REF!,E$26,FALSE))","v":{"$error":"#REF!"}},{"$f":"IF($B133=\"*\",\"\",VLOOKUP($A133,'2025-2026'!#REF!,F$26,FALSE))","v":{"$error":"#REF!"}},{"$f":"IF($B133=\"*\",\"\",VLOOKUP($A133,'2025-2026'!#REF!,G$26,FALSE))","v":{"$error":"#REF!"}},null,{"$f":"IF($B133=\"*\",\"\",VLOOKUP($A133,'2025-2026'!#REF!,I$26,FALSE))","v":{"$error":"#REF!"}},null,{"$f":"IF($B133=\"*\",\"\",VLOOKUP($A133,'2025-2026'!#REF!,K$5,FALSE))","v":{"$error":"#REF!"}},null,{"$f":"IF($B133=\"*\",\"\",VLOOKUP($A133,'2025-2026'!#REF!,M$5,FALSE))","v":{"$error":"#REF!"}}]
[102,{"$f":"VLOOKUP(A134,'2025-2026'!#REF!,9,FALSE)","v":{"$error":"#REF!"}},{"$f":"VLOOKUP($A134,'2025-2026'!#REF!,C$26,FALSE)","v":{"$error":"#REF!"}},{"$f":"IF($B134=\"*\",\"\",VLOOKUP($A134,'2025-2026'!#REF!,D$26,FALSE))","v":{"$error":"#REF!"}},{"$f":"IF($B134=\"*\",\"\",VLOOKUP($A134,'2025-2026'!#REF!,E$26,FALSE))","v":{"$error":"#REF!"}},{"$f":"IF($B134=\"*\",\"\",VLOOKUP($A134,'2025-2026'!#REF!,F$26,FALSE))","v":{"$error":"#REF!"}},{"$f":"IF($B134=\"*\",\"\",VLOOKUP($A134,'2025-2026'!#REF!,G$26,FALSE))","v":{"$error":"#REF!"}},null,{"$f":"IF($B134=\"*\",\"\",VLOOKUP($A134,'2025-2026'!#REF!,I$26,FALSE))","v":{"$error":"#REF!"}},null,{"$f":"IF($B134=\"*\",\"\",VLOOKUP($A134,'2025-2026'!#REF!,K$5,FALSE))","v":{"$error":"#REF!"}},null,{"$f":"IF($B134=\"*\",\"\",VLOOKUP($A134,'2025-2026'!#REF!,M$5,FALSE))","v":{"$error":"#REF!"}}]
[null,null,null,null,null,"Sous total FORMATIONEN PÉDAGOGIE",{"$f":"SUM(G133:G134)","v":{"$error":"#REF!"}},null,{"$f":"SUM(I133:I134)","v":{"$error":"#REF!"}},null,{"$f":"SUM(K133:K134)","v":{"$error":"#REF!"}},null,{"$f":"SUM(M133:M134)","v":{"$error":"#REF!"}}]
[{"$f":"A134+1","v":103},{"$f":"VLOOKUP(A136,'2025-2026'!#REF!,9,FALSE)","v":{"$error":"#REF!"}},{"$f":"VLOOKUP($A136,'2025-2026'!#REF!,C$26,FALSE)","v":{"$error":"#REF!"}},null,null,null,null,null,null,null,{"$f":"IF($B136=\"*\",\"\",VLOOKUP($A136,'2025-2026'!#REF!,K$5,FALSE))","v":{"$error":"#REF!"}},null,{"$f":"IF($B136=\"*\",\"\",VLOOKUP($A136,'2025-2026'!#REF!,M$5,FALSE))","v":{"$error":"#REF!"}}]
[104,{"$f":"VLOOKUP(A137,'2025-2026'!#REF!,9,FALSE)","v":{"$error":"#REF!"}},{"$f":"VLOOKUP($A137,'2025-2026'!#REF!,C$26,FALSE)","v":{"$error":"#REF!"}},{"$f":"IF($B137=\"*\",\"\",VLOOKUP($A137,'2025-2026'!#REF!,D$26,FALSE))","v":{"$error":"#REF!"}},{"$f":"IF($B137=\"*\",\"\",VLOOKUP($A137,'2025-2026'!#REF!,E$26,FALSE))","v":{"$error":"#REF!"}},{"$f":"IF($B137=\"*\",\"\",VLOOKUP($A137,'2025-2026'!#REF!,F$26,FALSE))","v":{"$error":"#REF!"}},{"$f":"IF($B137=\"*\",\"\",VLOOKUP($A137,'2025-2026'!#REF!,G$26,FALSE))","v":{"$error":"#REF!"}},null,{"$f":"IF($B137=\"*\",\"\",VLOOKUP($A137,'2025-2026'!#REF!,I$26,FALSE))","v":{"$error":"#REF!"}},null,{"$f":"IF($B137=\"*\",\"\",VLOOKUP($A137,'2025-2026'!#REF!,K$5,FALSE))","v":{"$error":"#REF!"}},null,{"$f":"IF($B137=\"*\",\"\",VLOOKUP($A137,'2025-2026'!#REF!,M$5,FALSE))","v":{"$error":"#REF!"}}]
[105,{"$f":"VLOOKUP(A138,'2025-2026'!#REF!,9,FALSE)","v":{"$error":"#REF!"}},{"$f":"VLOOKUP($A138,'2025-2026'!#REF!,C$26,FALSE)","v":{"$error":"#REF!"}},{"$f":"IF($B138=\"*\",\"\",VLOOKUP($A138,'2025-2026'!#REF!,D$26,FALSE))","v":{"$error":"#REF!"}},{"$f":"IF($B138=\"*\",\"\",VLOOKUP($A138,'2025-2026'!#REF!,E$26,FALSE))","v":{"$error":"#REF!"}},{"$f":"IF($B138=\"*\",\"\",VLOOKUP($A138,'2025-2026'!#REF!,F$26,FALSE))","v":{"$error":"#REF!"}},{"$f":"IF($B138=\"*\",\"\",VLOOKUP($A138,'2025-2026'!#REF!,G$26,FALSE))","v":{"$error":"#REF!"}},null,{"$f":"IF($B138=\"*\",\"\",VLOOKUP($A138,'2025-2026'!#REF!,I$26,FALSE))","v":{"$error":"#REF!"}},null,{"$f":"IF($B138=\"*\",\"\",VLOOKUP($A138,'2025-2026'!#REF!,K$5,FALSE))","v":{"$error":"#REF!"}},null,{"$f":"IF($B138=\"*\",\"\",VLOOKUP($A138,'2025-2026'!#REF!,M$5,FALSE))","v":{"$error":"#REF!"}}]
[106,{"$f":"VLOOKUP(A139,'2025-2026'!#REF!,9,FALSE)","v":{"$error":"#REF!"}},{"$f":"VLOOKUP($A139,'2025-2026'!#REF!,C$26,FALSE)","v":{"$error":"#REF!"}},{"$f":"IF($B139=\"*\",\"\",VLOOKUP($A139,'2025-2026'!#REF!,D$26,FALSE))","v":{"$error":"#REF!"}},{"$f":"IF($B139=\"*\",\"\",VLOOKUP($A139,'2025-2026'!#REF!,E$26,FALSE))","v":{"$error":"#REF!"}},{"$f":"IF($B139=\"*\",\"\",VLOOKUP($A139,'2025-2026'!#REF!,F$26,FALSE))","v":{"$error":"#REF!"}},{"$f":"IF($B139=\"*\",\"\",VLOOKUP($A139,'2025-2026'!#REF!,G$26,FALSE))","v":{"$error":"#REF!"}},null,{"$f":"IF($B139=\"*\",\"\",VLOOKUP($A139,'2025-2026'!#REF!,I$26,FALSE))","v":{"$error":"#REF!"}},null,{"$f":"IF($B139=\"*\",\"\",VLOOKUP($A139,'2025-2026'!#REF!,K$5,FALSE))","v":{"$error":"#REF!"}},null,{"$f":"IF($B139=\"*\",\"\",VLOOKUP($A139,'2025-2026'!#REF!,M$5,FALSE))","v":{"$error":"#REF!"}}]
[107,{"$f":"VLOOKUP(A140,'2025-2026'!#REF!,9,FALSE)","v":{"$error":"#REF!"}},{"$f":"VLOOKUP($A140,'2025-2026'!#REF!,C$26,FALSE)","v":{"$error":"#REF!"}},{"$f":"IF($B140=\"*\",\"\",VLOOKUP($A140,'2025-2026'!#REF!,D$26,FALSE))","v":{"$error":"#REF!"}},{"$f":"IF($B140=\"*\",\"\",VLOOKUP($A140,'2025-2026'!#REF!,E$26,FALSE))","v":{"$error":"#REF!"}},{"$f":"IF($B140=\"*\",\"\",VLOOKUP($A140,'2025-2026'!#REF!,F$26,FALSE))","v":{"$error":"#REF!"}},{"$f":"IF($B140=\"*\",\"\",VLOOKUP($A140,'2025-2026'!#REF!,G$26,FALSE))","v":{"$error":"#REF!"}},null,{"$f":"IF($B140=\"*\",\"\",VLOOKUP($A140,'2025-2026'!#REF!,I$26,FALSE))","v":{"$error":"#REF!"}},null,{"$f":"IF($B140=\"*\",\"\",VLOOKUP($A140,'2025-2026'!#REF!,K$5,FALSE))","v":{"$error":"#REF!"}},null,{"$f":"IF($B140=\"*\",\"\",VLOOKUP($A140,'2025-2026'!#REF!,M$5,FALSE))","v":{"$error":"#REF!"}}]
[108,{"$f":"VLOOKUP(A141,'2025-2026'!#REF!,9,FALSE)","v":{"$error":"#REF!"}},{"$f":"VLOOKUP($A141,'2025-2026'!#REF!,C$26,FALSE)","v":{"$error":"#REF!"}},{"$f":"IF($B141=\"*\",\"\",VLOOKUP($A141,'2025-2026'!#REF!,D$26,FALSE))","v":{"$error":"#REF!"}},{"$f":"IF($B141=\"*\",\"\",VLOOKUP($A141,'2025-2026'!#REF!,E$26,FALSE))","v":{"$error":"#REF!"}},{"$f":"IF($B141=\"*\",\"\",VLOOKUP($A141,'2025-2026'!#REF!,F$26,FALSE))","v":{"$error":"#REF!"}},{"$f":"IF($B141=\"*\",\"\",VLOOKUP($A141,'2025-2026'!#REF!,G$26,FALSE))","v":{"$error":"#REF!"}},null,{"$f":"IF($B141=\"*\",\"\",VLOOKUP($A141,'2025-2026'!#REF!,I$26,FALSE))","v":{"$error":"#REF!"}},null,{"$f":"IF($B141=\"*\",\"\",VLOOKUP($A141,'2025-2026'!#REF!,K$5,FALSE))","v":{"$error":"#REF!"}},null,{"$f":"IF($B141=\"*\",\"\",VLOOKUP($A141,'2025-2026'!#REF!,M$5,FALSE))","v":{"$error":"#REF!"}}]
[109,{"$f":"VLOOKUP(A142,'2025-2026'!#REF!,9,FALSE)","v":{"$error":"#REF!"}},{"$f":"VLOOKUP($A142,'2025-2026'!#REF!,C$26,FALSE)","v":{"$error":"#REF!"}},{"$f":"IF($B142=\"*\",\"\",VLOOKUP($A142,'2025-2026'!#REF!,D$26,FALSE))","v":{"$error":"#REF!"}},{"$f":"IF($B142=\"*\",\"\",VLOOKUP($A142,'2025-2026'!#REF!,E$26,FALSE))","v":{"$error":"#REF!"}},{"$f":"IF($B142=\"*\",\"\",VLOOKUP($A142,'2025-2026'!#REF!,F$26,FALSE))","v":{"$error":"#REF!"}},{"$f":"IF($B142=\"*\",\"\",VLOOKUP($A142,'2025-2026'!#REF!,G$26,FALSE))","v":{"$error":"#REF!"}},null,{"$f":"IF($B142=\"*\",\"\",VLOOKUP($A142,'2025-2026'!#REF!,I$26,FALSE))","v":{"$error":"#REF!"}},null,{"$f":"IF($B142=\"*\",\"\",VLOOKUP($A142,'2025-2026'!#REF!,K$5,FALSE))","v":{"$error":"#REF!"}},null,{"$f":"IF($B142=\"*\",\"\",VLOOKUP($A142,'2025-2026'!#REF!,M$5,FALSE))","v":{"$error":"#REF!"}}]
[110,{"$f":"VLOOKUP(A143,'2025-2026'!#REF!,9,FALSE)","v":{"$error":"#REF!"}},{"$f":"VLOOKUP($A143,'2025-2026'!#REF!,C$26,FALSE)","v":{"$error":"#REF!"}},{"$f":"IF($B143=\"*\",\"\",VLOOKUP($A143,'2025-2026'!#REF!,D$26,FALSE))","v":{"$error":"#REF!"}},{"$f":"IF($B143=\"*\",\"\",VLOOKUP($A143,'2025-2026'!#REF!,E$26,FALSE))","v":{"$error":"#REF!"}},{"$f":"IF($B143=\"*\",\"\",VLOOKUP($A143,'2025-2026'!#REF!,F$26,FALSE))","v":{"$error":"#REF!"}},{"$f":"IF($B143=\"*\",\"\",VLOOKUP($A143,'2025-2026'!#REF!,G$26,FALSE))","v":{"$error":"#REF!"}},null,{"$f":"IF($B143=\"*\",\"\",VLOOKUP($A143,'2025-2026'!#REF!,I$26,FALSE))","v":{"$error":"#REF!"}},null,{"$f":"IF($B143=\"*\",\"\",VLOOKUP($A143,'2025-2026'!#REF!,K$5,FALSE))","v":{"$error":"#REF!"}},null,{"$f":"IF($B143=\"*\",\"\",VLOOKUP($A143,'2025-2026'!#REF!,M$5,FALSE))","v":{"$error":"#REF!"}}]
[111,{"$f":"VLOOKUP(A144,'2025-2026'!#REF!,9,FALSE)","v":{"$error":"#REF!"}},{"$f":"VLOOKUP($A144,'2025-2026'!#REF!,C$26,FALSE)","v":{"$error":"#REF!"}},{"$f":"IF($B144=\"*\",\"\",VLOOKUP($A144,'2025-2026'!#REF!,D$26,FALSE))","v":{"$error":"#REF!"}},{"$f":"IF($B144=\"*\",\"\",VLOOKUP($A144,'2025-2026'!#REF!,E$26,FALSE))","v":{"$error":"#REF!"}},{"$f":"IF($B144=\"*\",\"\",VLOOKUP($A144,'2025-2026'!#REF!,F$26,FALSE))","v":{"$error":"#REF!"}},{"$f":"IF($B144=\"*\",\"\",VLOOKUP($A144,'2025-2026'!#REF!,G$26,FALSE))","v":{"$error":"#REF!"}},null,{"$f":"IF($B144=\"*\",\"\",VLOOKUP($A144,'2025-2026'!#REF!,I$26,FALSE))","v":{"$error":"#REF!"}},null,{"$f":"IF($B144=\"*\",\"\",VLOOKUP($A144,'2025-2026'!#REF!,K$5,FALSE))","v":{"$error":"#REF!"}},null,{"$f":"IF($B144=\"*\",\"\",VLOOKUP($A144,'2025-2026'!#REF!,M$5,FALSE))","v":{"$error":"#REF!"}}]
[112,{"$f":"VLOOKUP(A145,'2025-2026'!#REF!,9,FALSE)","v":{"$error":"#REF!"}},{"$f":"VLOOKUP($A145,'2025-2026'!#REF!,C$26,FALSE)","v":{"$error":"#REF!"}},{"$f":"IF($B145=\"*\",\"\",VLOOKUP($A145,'2025-2026'!#REF!,D$26,FALSE))","v":{"$error":"#REF!"}},{"$f":"IF($B145=\"*\",\"\",VLOOKUP($A145,'2025-2026'!#REF!,E$26,FALSE))","v":{"$error":"#REF!"}},{"$f":"IF($B145=\"*\",\"\",VLOOKUP($A145,'2025-2026'!#REF!,F$26,FALSE))","v":{"$error":"#REF!"}},{"$f":"IF($B145=\"*\",\"\",VLOOKUP($A145,'2025-2026'!#REF!,G$26,FALSE))","v":{"$error":"#REF!"}},null,{"$f":"IF($B145=\"*\",\"\",VLOOKUP($A145,'2025-2026'!#REF!,I$26,FALSE))","v":{"$error":"#REF!"}},null,{"$f":"IF($B145=\"*\",\"\",VLOOKUP($A145,'2025-2026'!#REF!,K$5,FALSE))","v":{"$error":"#REF!"}},null,{"$f":"IF($B145=\"*\",\"\",VLOOKUP($A145,'2025-2026'!#REF!,M$5,FALSE))","v":{"$error":"#REF!"}}]
[113,{"$f":"VLOOKUP(A146,'2025-2026'!#REF!,9,FALSE)","v":{"$error":"#REF!"}},{"$f":"VLOOKUP($A146,'2025-2026'!#REF!,C$26,FALSE)","v":{"$error":"#REF!"}},{"$f":"IF($B146=\"*\",\"\",VLOOKUP($A146,'2025-2026'!#REF!,D$26,FALSE))","v":{"$error":"#REF!"}},{"$f":"IF($B146=\"*\",\"\",VLOOKUP($A146,'2025-2026'!#REF!,E$26,FALSE))","v":{"$error":"#REF!"}},{"$f":"IF($B146=\"*\",\"\",VLOOKUP($A146,'2025-2026'!#REF!,F$26,FALSE))","v":{"$error":"#REF!"}},{"$f":"IF($B146=\"*\",\"\",VLOOKUP($A146,'2025-2026'!#REF!,G$26,FALSE))","v":{"$error":"#REF!"}},null,{"$f":"IF($B146=\"*\",\"\",VLOOKUP($A146,'2025-2026'!#REF!,I$26,FALSE))","v":{"$error":"#REF!"}},null,{"$f":"IF($B146=\"*\",\"\",VLOOKUP($A146,'2025-2026'!#REF!,K$5,FALSE))","v":{"$error":"#REF!"}},null,{"$f":"IF($B146=\"*\",\"\",VLOOKUP($A146,'2025-2026'!#REF!,M$5,FALSE))","v":{"$error":"#REF!"}}]
[114,{"$f":"VLOOKUP(A147,'2025-2026'!#REF!,9,FALSE)","v":{"$error":"#REF!"}},{"$f":"VLOOKUP($A147,'2025-2026'!#REF!,C$26,FALSE)","v":{"$error":"#REF!"}},{"$f":"IF($B147=\"*\",\"\",VLOOKUP($A147,'2025-2026'!#REF!,D$26,FALSE))","v":{"$error":"#REF!"}},{"$f":"IF($B147=\"*\",\"\",VLOOKUP($A147,'2025-2026'!#REF!,E$26,FALSE))","v":{"$error":"#REF!"}},{"$f":"IF($B147=\"*\",\"\",VLOOKUP($A147,'2025-2026'!#REF!,F$26,FALSE))","v":{"$error":"#REF!"}},{"$f":"IF($B147=\"*\",\"\",VLOOKUP($A147,'2025-2026'!#REF!,G$26,FALSE))","v":{"$error":"#REF!"}},null,{"$f":"IF($B147=\"*\",\"\",VLOOKUP($A147,'2025-2026'!#REF!,I$26,FALSE))","v":{"$error":"#REF!"}},null,{"$f":"IF($B147=\"*\",\"\",VLOOKUP($A147,'2025-2026'!#REF!,K$5,FALSE))","v":{"$error":"#REF!"}},null,{"$f":"IF($B147=\"*\",\"\",VLOOKUP($A147,'2025-2026'!#REF!,M$5,FALSE))","v":{"$error":"#REF!"}}]
[115,{"$f":"VLOOKUP(A148,'2025-2026'!#REF!,9,FALSE)","v":{"$error":"#REF!"}},{"$f":"VLOOKUP($A148,'2025-2026'!#REF!,C$26,FALSE)","v":{"$error":"#REF!"}},{"$f":"IF($B148=\"*\",\"\",VLOOKUP($A148,'2025-2026'!#REF!,D$26,FALSE))","v":{"$error":"#REF!"}},{"$f":"IF($B148=\"*\",\"\",VLOOKUP($A148,'2025-2026'!#REF!,E$26,FALSE))","v":{"$error":"#REF!"}},{"$f":"IF($B148=\"*\",\"\",VLOOKUP($A148,'2025-2026'!#REF!,F$26,FALSE))","v":{"$error":"#REF!"}},{"$f":"IF($B148=\"*\",\"\",VLOOKUP($A148,'2025-2026'!#REF!,G$26,FALSE))","v":{"$error":"#REF!"}},null,{"$f":"IF($B148=\"*\",\"\",VLOOKUP($A148,'2025-2026'!#REF!,I$26,FALSE))","v":{"$error":"#REF!"}},null,{"$f":"IF($B148=\"*\",\"\",VLOOKUP($A148,'2025-2026'!#REF!,K$5,FALSE))","v":{"$error":"#REF!"}},null,{"$f":"IF($B148=\"*\",\"\",VLOOKUP($A148,'2025-2026'!#REF!,M$5,FALSE))","v":{"$error":"#REF!"}}]
[116,{"$f":"VLOOKUP(A149,'2025-2026'!#REF!,9,FALSE)","v":{"$error":"#REF!"}},{"$f":"VLOOKUP($A149,'2025-2026'!#REF!,C$26,FALSE)","v":{"$error":"#REF!"}},{"$f":"IF($B149=\"*\",\"\",VLOOKUP($A149,'2025-2026'!#REF!,D$26,FALSE))","v":{"$error":"#REF!"}},{"$f":"IF($B149=\"*\",\"\",VLOOKUP($A149,'2025-2026'!#REF!,E$26,FALSE))","v":{"$error":"#REF!"}},{"$f":"IF($B149=\"*\",\"\",VLOOKUP($A149,'2025-2026'!#REF!,F$26,FALSE))","v":{"$error":"#REF!"}},{"$f":"IF($B149=\"*\",\"\",VLOOKUP($A149,'2025-2026'!#REF!,G$26,FALSE))","v":{"$error":"#REF!"}},null,{"$f":"IF($B149=\"*\",\"\",VLOOKUP($A149,'2025-2026'!#REF!,I$26,FALSE))","v":{"$error":"#REF!"}},null,{"$f":"IF($B149=\"*\",\"\",VLOOKUP($A149,'2025-2026'!#REF!,K$5,FALSE))","v":{"$error":"#REF!"}},null,{"$f":"IF($B149=\"*\",\"\",VLOOKUP($A149,'2025-2026'!#REF!,M$5,FALSE))","v":{"$error":"#REF!"}}]
[117,{"$f":"VLOOKUP(A150,'2025-2026'!#REF!,9,FALSE)","v":{"$error":"#REF!"}},{"$f":"VLOOKUP($A150,'2025-2026'!#REF!,C$26,FALSE)","v":{"$error":"#REF!"}},{"$f":"IF($B150=\"*\",\"\",VLOOKUP($A150,'2025-2026'!#REF!,D$26,FALSE))","v":{"$error":"#REF!"}},{"$f":"IF($B150=\"*\",\"\",VLOOKUP($A150,'2025-2026'!#REF!,E$26,FALSE))","v":{"$error":"#REF!"}},{"$f":"IF($B150=\"*\",\"\",VLOOKUP($A150,'2025-2026'!#REF!,F$26,FALSE))","v":{"$error":"#REF!"}},{"$f":"IF($B150=\"*\",\"\",VLOOKUP($A150,'2025-2026'!#REF!,G$26,FALSE))","v":{"$error":"#REF!"}},null,{"$f":"IF($B150=\"*\",\"\",VLOOKUP($A150,'2025-2026'!#REF!,I$26,FALSE))","v":{"$error":"#REF!"}},null,{"$f":"IF($B150=\"*\",\"\",VLOOKUP($A150,'2025-2026'!#REF!,K$5,FALSE))","v":{"$error":"#REF!"}},null,{"$f":"IF($B150=\"*\",\"\",VLOOKUP($A150,'2025-2026'!#REF!,M$5,FALSE))","v":{"$error":"#REF!"}}]
[118,{"$f":"VLOOKUP(A151,'2025-2026'!#REF!,9,FALSE)","v":{"$error":"#REF!"}},{"$f":"VLOOKUP($A151,'2025-2026'!#REF!,C$26,FALSE)","v":{"$error":"#REF!"}},{"$f":"IF($B151=\"*\",\"\",VLOOKUP($A151,'2025-2026'!#REF!,D$26,FALSE))","v":{"$error":"#REF!"}},{"$f":"IF($B151=\"*\",\"\",VLOOKUP($A151,'2025-2026'!#REF!,E$26,FALSE))","v":{"$error":"#REF!"}},{"$f":"IF($B151=\"*\",\"\",VLOOKUP($A151,'2025-2026'!#REF!,F$26,FALSE))","v":{"$error":"#REF!"}},{"$f":"IF($B151=\"*\",\"\",VLOOKUP($A151,'2025-2026'!#REF!,G$26,FALSE))","v":{"$error":"#REF!"}},null,{"$f":"IF($B151=\"*\",\"\",VLOOKUP($A151,'2025-2026'!#REF!,I$26,FALSE))","v":{"$error":"#REF!"}},null,{"$f":"IF($B151=\"*\",\"\",VLOOKUP($A151,'2025-2026'!#REF!,K$5,FALSE))","v":{"$error":"#REF!"}},null,{"$f":"IF($B151=\"*\",\"\",VLOOKUP($A151,'2025-2026'!#REF!,M$5,FALSE))","v":{"$error":"#REF!"}}]
[119,{"$f":"VLOOKUP(A152,'2025-2026'!#REF!,9,FALSE)","v":{"$error":"#REF!"}},{"$f":"VLOOKUP($A152,'2025-2026'!#REF!,C$26,FALSE)","v":{"$error":"#REF!"}},{"$f":"IF($B152=\"*\",\"\",VLOOKUP($A152,'2025-2026'!#REF!,D$26,FALSE))","v":{"$error":"#REF!"}},{"$f":"IF($B152=\"*\",\"\",VLOOKUP($A152,'2025-2026'!#REF!,E$26,FALSE))","v":{"$error":"#REF!"}},{"$f":"IF($B152=\"*\",\"\",VLOOKUP($A152,'2025-2026'!#REF!,F$26,FALSE))","v":{"$error":"#REF!"}},{"$f":"IF($B152=\"*\",\"\",VLOOKUP($A152,'2025-2026'!#REF!,G$26,FALSE))","v":{"$error":"#REF!"}},null,{"$f":"IF($B152=\"*\",\"\",VLOOKUP($A152,'2025-2026'!#REF!,I$26,FALSE))","v":{"$error":"#REF!"}},null,{"$f":"IF($B152=\"*\",\"\",VLOOKUP($A152,'2025-2026'!#REF!,K$5,FALSE))","v":{"$error":"#REF!"}},null,{"$f":"IF($B152=\"*\",\"\",VLOOKUP($A152,'2025-2026'!#REF!,M$5,FALSE))","v":{"$error":"#REF!"}}]
[120,{"$f":"VLOOKUP(A153,'2025-2026'!#REF!,9,FALSE)","v":{"$error":"#REF!"}},{"$f":"VLOOKUP($A153,'2025-2026'!#REF!,C$26,FALSE)","v":{"$error":"#REF!"}},{"$f":"IF($B153=\"*\",\"\",VLOOKUP($A153,'2025-2026'!#REF!,D$26,FALSE))","v":{"$error":"#REF!"}},{"$f":"IF($B153=\"*\",\"\",VLOOKUP($A153,'2025-2026'!#REF!,E$26,FALSE))","v":{"$error":"#REF!"}},{"$f":"IF($B153=\"*\",\"\",VLOOKUP($A153,'2025-2026'!#REF!,F$26,FALSE))","v":{"$error":"#REF!"}},{"$f":"IF($B153=\"*\",\"\",VLOOKUP($A153,'2025-2026'!#REF!,G$26,FALSE))","v":{"$error":"#REF!"}},null,{"$f":"IF($B153=\"*\",\"\",VLOOKUP($A153,'2025-2026'!#REF!,I$26,FALSE))","v":{"$error":"#REF!"}},null,{"$f":"IF($B153=\"*\",\"\",VLOOKUP($A153,'2025-2026'!#REF!,K$5,FALSE))","v":{"$error":"#REF!"}},null,{"$f":"IF($B153=\"*\",\"\",VLOOKUP($A153,'2025-2026'!#REF!,M$5,FALSE))","v":{"$error":"#REF!"}}]
[121,{"$f":"VLOOKUP(A154,'2025-2026'!#REF!,9,FALSE)","v":{"$error":"#REF!"}},{"$f":"VLOOKUP($A154,'2025-2026'!#REF!,C$26,FALSE)","v":{"$error":"#REF!"}},{"$f":"IF($B154=\"*\",\"\",VLOOKUP($A154,'2025-2026'!#REF!,D$26,FALSE))","v":{"$error":"#REF!"}},{"$f":"IF($B154=\"*\",\"\",VLOOKUP($A154,'2025-2026'!#REF!,E$26,FALSE))","v":{"$error":"#REF!"}},{"$f":"IF($B154=\"*\",\"\",VLOOKUP($A154,'2025-2026'!#REF!,F$26,FALSE))","v":{"$error":"#REF!"}},{"$f":"IF($B154=\"*\",\"\",VLOOKUP($A154,'2025-2026'!#REF!,G$26,FALSE))","v":{"$error":"#REF!"}},null,{"$f":"IF($B154=\"*\",\"\",VLOOKUP($A154,'2025-2026'!#REF!,I$26,FALSE))","v":{"$error":"#REF!"}},null,{"$f":"IF($B154=\"*\",\"\",VLOOKUP($A154,'2025-2026'!#REF!,K$5,FALSE))","v":{"$error":"#REF!"}},null,{"$f":"IF($B154=\"*\",\"\",VLOOKUP($A154,'2025-2026'!#REF!,M$5,FALSE))","v":{"$error":"#REF!"}}]
[122,{"$f":"VLOOKUP(A155,'2025-2026'!#REF!,9,FALSE)","v":{"$error":"#REF!"}},{"$f":"VLOOKUP($A155,'2025-2026'!#REF!,C$26,FALSE)","v":{"$error":"#REF!"}},{"$f":"IF($B155=\"*\",\"\",VLOOKUP($A155,'2025-2026'!#REF!,D$26,FALSE))","v":{"$error":"#REF!"}},{"$f":"IF($B155=\"*\",\"\",VLOOKUP($A155,'2025-2026'!#REF!,E$26,FALSE))","v":{"$error":"#REF!"}},{"$f":"IF($B155=\"*\",\"\",VLOOKUP($A155,'2025-2026'!#REF!,F$26,FALSE))","v":{"$error":"#REF!"}},{"$f":"IF($B155=\"*\",\"\",VLOOKUP($A155,'2025-2026'!#REF!,G$26,FALSE))","v":{"$error":"#REF!"}},null,{"$f":"IF($B155=\"*\",\"\",VLOOKUP($A155,'2025-2026'!#REF!,I$26,FALSE))","v":{"$error":"#REF!"}},null,{"$f":"IF($B155=\"*\",\"\",VLOOKUP($A155,'2025-2026'!#REF!,K$5,FALSE))","v":{"$error":"#REF!"}},null,{"$f":"IF($B155=\"*\",\"\",VLOOKUP($A155,'2025-2026'!#REF!,M$5,FALSE))","v":{"$error":"#REF!"}}]
[123,{"$f":"VLOOKUP(A156,'2025-2026'!#REF!,9,FALSE)","v":{"$error":"#REF!"}},{"$f":"VLOOKUP($A156,'2025-2026'!#REF!,C$26,FALSE)","v":{"$error":"#REF!"}},{"$f":"IF($B156=\"*\",\"\",VLOOKUP($A156,'2025-2026'!#REF!,D$26,FALSE))","v":{"$error":"#REF!"}},{"$f":"IF($B156=\"*\",\"\",VLOOKUP($A156,'2025-2026'!#REF!,E$26,FALSE))","v":{"$error":"#REF!"}},{"$f":"IF($B156=\"*\",\"\",VLOOKUP($A156,'2025-2026'!#REF!,F$26,FALSE))","v":{"$error":"#REF!"}},{"$f":"IF($B156=\"*\",\"\",VLOOKUP($A156,'2025-2026'!#REF!,G$26,FALSE))","v":{"$error":"#REF!"}},null,{"$f":"IF($B156=\"*\",\"\",VLOOKUP($A156,'2025-2026'!#REF!,I$26,FALSE))","v":{"$error":"#REF!"}},null,{"$f":"IF($B156=\"*\",\"\",VLOOKUP($A156,'2025-2026'!#REF!,K$5,FALSE))","v":{"$error":"#REF!"}},null,{"$f":"IF($B156=\"*\",\"\",VLOOKUP($A156,'2025-2026'!#REF!,M$5,FALSE))","v":{"$error":"#REF!"}}]
[124,{"$f":"VLOOKUP(A157,'2025-2026'!#REF!,9,FALSE)","v":{"$error":"#REF!"}},{"$f":"VLOOKUP($A157,'2025-2026'!#REF!,C$26,FALSE)","v":{"$error":"#REF!"}},{"$f":"IF($B157=\"*\",\"\",VLOOKUP($A157,'2025-2026'!#REF!,D$26,FALSE))","v":{"$error":"#REF!"}},{"$f":"IF($B157=\"*\",\"\",VLOOKUP($A157,'2025-2026'!#REF!,E$26,FALSE))","v":{"$error":"#REF!"}},{"$f":"IF($B157=\"*\",\"\",VLOOKUP($A157,'2025-2026'!#REF!,F$26,FALSE))","v":{"$error":"#REF!"}},{"$f":"IF($B157=\"*\",\"\",VLOOKUP($A157,'2025-2026'!#REF!,G$26,FALSE))","v":{"$error":"#REF!"}},null,{"$f":"IF($B157=\"*\",\"\",VLOOKUP($A157,'2025-2026'!#REF!,I$26,FALSE))","v":{"$error":"#REF!"}},null,{"$f":"IF($B157=\"*\",\"\",VLOOKUP($A157,'2025-2026'!#REF!,K$5,FALSE))","v":{"$error":"#REF!"}},null,{"$f":"IF($B157=\"*\",\"\",VLOOKUP($A157,'2025-2026'!#REF!,M$5,FALSE))","v":{"$error":"#REF!"}}]
[125,{"$f":"VLOOKUP(A158,'2025-2026'!#REF!,9,FALSE)","v":{"$error":"#REF!"}},{"$f":"VLOOKUP($A158,'2025-2026'!#REF!,C$26,FALSE)","v":{"$error":"#REF!"}},{"$f":"IF($B158=\"*\",\"\",VLOOKUP($A158,'2025-2026'!#REF!,D$26,FALSE))","v":{"$error":"#REF!"}},{"$f":"IF($B158=\"*\",\"\",VLOOKUP($A158,'2025-2026'!#REF!,E$26,FALSE))","v":{"$error":"#REF!"}},{"$f":"IF($B158=\"*\",\"\",VLOOKUP($A158,'2025-2026'!#REF!,F$26,FALSE))","v":{"$error":"#REF!"}},{"$f":"IF($B158=\"*\",\"\",VLOOKUP($A158,'2025-2026'!#REF!,G$26,FALSE))","v":{"$error":"#REF!"}},null,{"$f":"IF($B158=\"*\",\"\",VLOOKUP($A158,'2025-2026'!#REF!,I$26,FALSE))","v":{"$error":"#REF!"}},null,{"$f":"IF($B158=\"*\",\"\",VLOOKUP($A158,'2025-2026'!#REF!,K$5,FALSE))","v":{"$error":"#REF!"}},null,{"$f":"IF($B158=\"*\",\"\",VLOOKUP($A158,'2025-2026'!#REF!,M$5,FALSE))","v":{"$error":"#REF!"}}]
[126,{"$f":"VLOOKUP(A159,'2025-2026'!#REF!,9,FALSE)","v":{"$error":"#REF!"}},{"$f":"VLOOKUP($A159,'2025-2026'!#REF!,C$26,FALSE)","v":{"$error":"#REF!"}},{"$f":"IF($B159=\"*\",\"\",VLOOKUP($A159,'2025-2026'!#REF!,D$26,FALSE))","v":{"$error":"#REF!"}},{"$f":"IF($B159=\"*\",\"\",VLOOKUP($A159,'2025-2026'!#REF!,E$26,FALSE))","v":{"$error":"#REF!"}},{"$f":"IF($B159=\"*\",\"\",VLOOKUP($A159,'2025-2026'!#REF!,F$26,FALSE))","v":{"$error":"#REF!"}},{"$f":"IF($B159=\"*\",\"\",VLOOKUP($A159,'2025-2026'!#REF!,G$26,FALSE))","v":{"$error":"#REF!"}},null,{"$f":"IF($B159=\"*\",\"\",VLOOKUP($A159,'2025-2026'!#REF!,I$26,FALSE))","v":{"$error":"#REF!"}},null,{"$f":"IF($B159=\"*\",\"\",VLOOKUP($A159,'2025-2026'!#REF!,K$5,FALSE))","v":{"$error":"#REF!"}},null,{"$f":"IF($B159=\"*\",\"\",VLOOKUP($A159,'2025-2026'!#REF!,M$5,FALSE))","v":{"$error":"#REF!"}}]
[127,{"$f":"VLOOKUP(A160,'2025-2026'!#REF!,9,FALSE)","v":{"$error":"#REF!"}},{"$f":"VLOOKUP($A160,'2025-2026'!#REF!,C$26,FALSE)","v":{"$error":"#REF!"}},{"$f":"IF($B160=\"*\",\"\",VLOOKUP($A160,'2025-2026'!#REF!,D$26,FALSE))","v":{"$error":"#REF!"}},{"$f":"IF($B160=\"*\",\"\",VLOOKUP($A160,'2025-2026'!#REF!,E$26,FALSE))","v":{"$error":"#REF!"}},{"$f":"IF($B160=\"*\",\"\",VLOOKUP($A160,'2025-2026'!#REF!,F$26,FALSE))","v":{"$error":"#REF!"}},{"$f":"IF($B160=\"*\",\"\",VLOOKUP($A160,'2025-2026'!#REF!,G$26,FALSE))","v":{"$error":"#REF!"}},null,{"$f":"IF($B160=\"*\",\"\",VLOOKUP($A160,'2025-2026'!#REF!,I$26,FALSE))","v":{"$error":"#REF!"}},null,{"$f":"IF($B160=\"*\",\"\",VLOOKUP($A160,'2025-2026'!#REF!,K$5,FALSE))","v":{"$error":"#REF!"}},null,{"$f":"IF($B160=\"*\",\"\",VLOOKUP($A160,'2025-2026'!#REF!,M$5,FALSE))","v":{"$error":"#REF!"}}]
[128,{"$f":"VLOOKUP(A161,'2025-2026'!#REF!,9,FALSE)","v":{"$error":"#REF!"}},{"$f":"VLOOKUP($A161,'2025-2026'!#REF!,C$26,FALSE)","v":{"$error":"#REF!"}},{"$f":"IF($B161=\"*\",\"\",VLOOKUP($A161,'2025-2026'!#REF!,D$26,FALSE))","v":{"$error":"#REF!"}},{"$f":"IF($B161=\"*\",\"\",VLOOKUP($A161,'2025-2026'!#REF!,E$26,FALSE))","v":{"$error":"#REF!"}},{"$f":"IF($B161=\"*\",\"\",VLOOKUP($A161,'2025-2026'!#REF!,F$26,FALSE))","v":{"$error":"#REF!"}},{"$f":"IF($B161=\"*\",\"\",VLOOKUP($A161,'2025-2026'!#REF!,G$26,FALSE))","v":{"$error":"#REF!"}},null,{"$f":"IF($B161=\"*\",\"\",VLOOKUP($A161,'2025-2026'!#REF!,I$26,FALSE))","v":{"$error":"#REF!"}},null,{"$f":"IF($B161=\"*\",\"\",VLOOKUP($A161,'2025-2026'!#REF!,K$5,FALSE))","v":{"$error":"#REF!"}},null,{"$f":"IF($B161=\"*\",\"\",VLOOKUP($A161,'2025-2026'!#REF!,M$5,FALSE))","v":{"$error":"#REF!"}}]
[129,{"$f":"VLOOKUP(A162,'2025-2026'!#REF!,9,FALSE)","v":{"$error":"#REF!"}},{"$f":"VLOOKUP($A162,'2025-2026'!#REF!,C$26,FALSE)","v":{"$error":"#REF!"}},{"$f":"IF($B162=\"*\",\"\",VLOOKUP($A162,'2025-2026'!#REF!,D$26,FALSE))","v":{"$error":"#REF!"}},{"$f":"IF($B162=\"*\",\"\",VLOOKUP($A162,'2025-2026'!#REF!,E$26,FALSE))","v":{"$error":"#REF!"}},{"$f":"IF($B162=\"*\",\"\",VLOOKUP($A162,'2025-2026'!#REF!,F$26,FALSE))","v":{"$error":"#REF!"}},{"$f":"IF($B162=\"*\",\"\",VLOOKUP($A162,'2025-2026'!#REF!,G$26,FALSE))","v":{"$error":"#REF!"}},null,{"$f":"IF($B162=\"*\",\"\",VLOOKUP($A162,'2025-2026'!#REF!,I$26,FALSE))","v":{"$error":"#REF!"}},null,{"$f":"IF($B162=\"*\",\"\",VLOOKUP($A162,'2025-2026'!#REF!,K$5,FALSE))","v":{"$error":"#REF!"}},null,{"$f":"IF($B162=\"*\",\"\",VLOOKUP($A162,'2025-2026'!#REF!,M$5,FALSE))","v":{"$error":"#REF!"}}]
[130,{"$f":"VLOOKUP(A163,'2025-2026'!#REF!,9,FALSE)","v":{"$error":"#REF!"}},{"$f":"VLOOKUP($A163,'2025-2026'!#REF!,C$26,FALSE)","v":{"$error":"#REF!"}},{"$f":"IF($B163=\"*\",\"\",VLOOKUP($A163,'2025-2026'!#REF!,D$26,FALSE))","v":{"$error":"#REF!"}},{"$f":"IF($B163=\"*\",\"\",VLOOKUP($A163,'2025-2026'!#REF!,E$26,FALSE))","v":{"$error":"#REF!"}},{"$f":"IF($B163=\"*\",\"\",VLOOKUP($A163,'2025-2026'!#REF!,F$26,FALSE))","v":{"$error":"#REF!"}},{"$f":"IF($B163=\"*\",\"\",VLOOKUP($A163,'2025-2026'!#REF!,G$26,FALSE))","v":{"$error":"#REF!"}},null,{"$f":"IF($B163=\"*\",\"\",VLOOKUP($A163,'2025-2026'!#REF!,I$26,FALSE))","v":{"$error":"#REF!"}},null,{"$f":"IF($B163=\"*\",\"\",VLOOKUP($A163,'2025-2026'!#REF!,K$5,FALSE))","v":{"$error":"#REF!"}},null,{"$f":"IF($B163=\"*\",\"\",VLOOKUP($A163,'2025-2026'!#REF!,M$5,FALSE))","v":{"$error":"#REF!"}}]
[{"$f":"A163+1","v":131},{"$f":"VLOOKUP(A164,'2025-2026'!#REF!,9,FALSE)","v":{"$error":"#REF!"}},{"$f":"VLOOKUP($A164,'2025-2026'!#REF!,C$26,FALSE)","v":{"$error":"#REF!"}},{"$f":"IF($B164=\"*\",\"\",VLOOKUP($A164,'2025-2026'!#REF!,D$26,FALSE))","v":{"$error":"#REF!"}},{"$f":"IF($B164=\"*\",\"\",VLOOKUP($A164,'2025-2026'!#REF!,E$26,FALSE))","v":{"$error":"#REF!"}},{"$f":"IF($B164=\"*\",\"\",VLOOKUP($A164,'2025-2026'!#REF!,F$26,FALSE))","v":{"$error":"#REF!"}},{"$f":"IF($B164=\"*\",\"\",VLOOKUP($A164,'2025-2026'!#REF!,G$26,FALSE))","v":{"$error":"#REF!"}},null,{"$f":"IF($B164=\"*\",\"\",VLOOKUP($A164,'2025-2026'!#REF!,I$26,FALSE))","v":{"$error":"#REF!"}},null,{"$f":"IF($B164=\"*\",\"\",VLOOKUP($A164,'2025-2026'!#REF!,K$5,FALSE))","v":{"$error":"#REF!"}},null,{"$f":"IF($B164=\"*\",\"\",VLOOKUP($A164,'2025-2026'!#REF!,M$5,FALSE))","v":{"$error":"#REF!"}}]
[132,{"$f":"VLOOKUP(A165,'2025-2026'!#REF!,9,FALSE)","v":{"$error":"#REF!"}},{"$f":"VLOOKUP($A165,'2025-2026'!#REF!,C$26,FALSE)","v":{"$error":"#REF!"}},{"$f":"IF($B165=\"*\",\"\",VLOOKUP($A165,'2025-2026'!#REF!,D$26,FALSE))","v":{"$error":"#REF!"}},{"$f":"IF($B165=\"*\",\"\",VLOOKUP($A165,'2025-2026'!#REF!,E$26,FALSE))","v":{"$error":"#REF!"}},{"$f":"IF($B165=\"*\",\"\",VLOOKUP($A165,'2025-2026'!#REF!,F$26,FALSE))","v":{"$error":"#REF!"}},{"$f":"IF($B165=\"*\",\"\",VLOOKUP($A165,'2025-2026'!#REF!,G$26,FALSE))","v":{"$error":"#REF!"}},null,{"$f":"IF($B165=\"*\",\"\",VLOOKUP($A165,'2025-2026'!#REF!,I$26,FALSE))","v":{"$error":"#REF!"}},null,{"$f":"IF($B165=\"*\",\"\",VLOOKUP($A165,'2025-2026'!#REF!,K$5,FALSE))","v":{"$error":"#REF!"}},null,{"$f":"IF($B165=\"*\",\"\",VLOOKUP($A165,'2025-2026'!#REF!,M$5,FALSE))","v":{"$error":"#REF!"}}]
[133,{"$f":"VLOOKUP(A166,'2025-2026'!#REF!,9,FALSE)","v":{"$error":"#REF!"}},{"$f":"VLOOKUP($A166,'2025-2026'!#REF!,C$26,FALSE)","v":{"$error":"#REF!"}},null,null,null,null,null,null,null,{"$f":"IF($B166=\"*\",\"\",VLOOKUP($A166,'2025-2026'!#REF!,K$5,FALSE))","v":{"$error":"#REF!"}},null,{"$f":"IF($B166=\"*\",\"\",VLOOKUP($A166,'2025-2026'!#REF!,M$5,FALSE))","v":{"$error":"#REF!"}}]
[134,{"$f":"VLOOKUP(A167,'2025-2026'!#REF!,9,FALSE)","v":{"$error":"#REF!"}},{"$f":"VLOOKUP($A167,'2025-2026'!#REF!,C$26,FALSE)","v":{"$error":"#REF!"}},{"$f":"IF($B167=\"*\",\"\",VLOOKUP($A167,'2025-2026'!#REF!,D$26,FALSE))","v":{"$error":"#REF!"}},{"$f":"IF($B167=\"*\",\"\",VLOOKUP($A167,'2025-2026'!#REF!,E$26,FALSE))","v":{"$error":"#REF!"}},{"$f":"IF($B167=\"*\",\"\",VLOOKUP($A167,'2025-2026'!#REF!,F$26,FALSE))","v":{"$error":"#REF!"}},{"$f":"IF($B167=\"*\",\"\",VLOOKUP($A167,'2025-2026'!#REF!,G$26,FALSE))","v":{"$error":"#REF!"}},null,{"$f":"IF($B167=\"*\",\"\",VLOOKUP($A167,'2025-2026'!#REF!,I$26,FALSE))","v":{"$error":"#REF!"}},null,{"$f":"IF($B167=\"*\",\"\",VLOOKUP($A167,'2025-2026'!#REF!,K$5,FALSE))","v":{"$error":"#REF!"}},null,{"$f":"IF($B167=\"*\",\"\",VLOOKUP($A167,'2025-2026'!#REF!,M$5,FALSE))","v":{"$error":"#REF!"}}]
[135,{"$f":"VLOOKUP(A168,'2025-2026'!#REF!,9,FALSE)","v":{"$error":"#REF!"}},{"$f":"VLOOKUP($A168,'2025-2026'!#REF!,C$26,FALSE)","v":{"$error":"#REF!"}},{"$f":"IF($B168=\"*\",\"\",VLOOKUP($A168,'2025-2026'!#REF!,D$26,FALSE))","v":{"$error":"#REF!"}},{"$f":"IF($B168=\"*\",\"\",VLOOKUP($A168,'2025-2026'!#REF!,E$26,FALSE))","v":{"$error":"#REF!"}},{"$f":"IF($B168=\"*\",\"\",VLOOKUP($A168,'2025-2026'!#REF!,F$26,FALSE))","v":{"$error":"#REF!"}},{"$f":"IF($B168=\"*\",\"\",VLOOKUP($A168,'2025-2026'!#REF!,G$26,FALSE))","v":{"$error":"#REF!"}},null,{"$f":"IF($B168=\"*\",\"\",VLOOKUP($A168,'2025-2026'!#REF!,I$26,FALSE))","v":{"$error":"#REF!"}},null,{"$f":"IF($B168=\"*\",\"\",VLOOKUP($A168,'2025-2026'!#REF!,K$5,FALSE))","v":{"$error":"#REF!"}},null,{"$f":"IF($B168=\"*\",\"\",VLOOKUP($A168,'2025-2026'!#REF!,M$5,FALSE))","v":{"$error":"#REF!"}}]
[136,{"$f":"VLOOKUP(A169,'2025-2026'!#REF!,9,FALSE)","v":{"$error":"#REF!"}},{"$f":"VLOOKUP($A169,'2025-2026'!#REF!,C$26,FALSE)","v":{"$error":"#REF!"}},{"$f":"IF($B169=\"*\",\"\",VLOOKUP($A169,'2025-2026'!#REF!,D$26,FALSE))","v":{"$error":"#REF!"}},{"$f":"IF($B169=\"*\",\"\",VLOOKUP($A169,'2025-2026'!#REF!,E$26,FALSE))","v":{"$error":"#REF!"}},{"$f":"IF($B169=\"*\",\"\",VLOOKUP($A169,'2025-2026'!#REF!,F$26,FALSE))","v":{"$error":"#REF!"}},{"$f":"IF($B169=\"*\",\"\",VLOOKUP($A169,'2025-2026'!#REF!,G$26,FALSE))","v":{"$error":"#REF!"}},null,{"$f":"IF($B169=\"*\",\"\",VLOOKUP($A169,'2025-2026'!#REF!,I$26,FALSE))","v":{"$error":"#REF!"}},null,{"$f":"IF($B169=\"*\",\"\",VLOOKUP($A169,'2025-2026'!#REF!,K$5,FALSE))","v":{"$error":"#REF!"}},null,{"$f":"IF($B169=\"*\",\"\",VLOOKUP($A169,'2025-2026'!#REF!,M$5,FALSE))","v":{"$error":"#REF!"}}]
[137,{"$f":"VLOOKUP(A170,'2025-2026'!#REF!,9,FALSE)","v":{"$error":"#REF!"}},{"$f":"VLOOKUP($A170,'2025-2026'!#REF!,C$26,FALSE)","v":{"$error":"#REF!"}},{"$f":"IF($B170=\"*\",\"\",VLOOKUP($A170,'2025-2026'!#REF!,D$26,FALSE))","v":{"$error":"#REF!"}},{"$f":"IF($B170=\"*\",\"\",VLOOKUP($A170,'2025-2026'!#REF!,E$26,FALSE))","v":{"$error":"#REF!"}},{"$f":"IF($B170=\"*\",\"\",VLOOKUP($A170,'2025-2026'!#REF!,F$26,FALSE))","v":{"$error":"#REF!"}},{"$f":"IF($B170=\"*\",\"\",VLOOKUP($A170,'2025-2026'!#REF!,G$26,FALSE))","v":{"$error":"#REF!"}},null,{"$f":"IF($B170=\"*\",\"\",VLOOKUP($A170,'2025-2026'!#REF!,I$26,FALSE))","v":{"$error":"#REF!"}},null,{"$f":"IF($B170=\"*\",\"\",VLOOKUP($A170,'2025-2026'!#REF!,K$5,FALSE))","v":{"$error":"#REF!"}},null,{"$f":"IF($B170=\"*\",\"\",VLOOKUP($A170,'2025-2026'!#REF!,M$5,FALSE))","v":{"$error":"#REF!"}}]
[138,{"$f":"VLOOKUP(A171,'2025-2026'!#REF!,9,FALSE)","v":{"$error":"#REF!"}},{"$f":"VLOOKUP($A171,'2025-2026'!#REF!,C$26,FALSE)","v":{"$error":"#REF!"}},{"$f":"IF($B171=\"*\",\"\",VLOOKUP($A171,'2025-2026'!#REF!,D$26,FALSE))","v":{"$error":"#REF!"}},{"$f":"IF($B171=\"*\",\"\",VLOOKUP($A171,'2025-2026'!#REF!,E$26,FALSE))","v":{"$error":"#REF!"}},{"$f":"IF($B171=\"*\",\"\",VLOOKUP($A171,'2025-2026'!#REF!,F$26,FALSE))","v":{"$error":"#REF!"}},{"$f":"IF($B171=\"*\",\"\",VLOOKUP($A171,'2025-2026'!#REF!,G$26,FALSE))","v":{"$error":"#REF!"}},null,{"$f":"IF($B171=\"*\",\"\",VLOOKUP($A171,'2025-2026'!#REF!,I$26,FALSE))","v":{"$error":"#REF!"}},null,{"$f":"IF($B171=\"*\",\"\",VLOOKUP($A171,'2025-2026'!#REF!,K$5,FALSE))","v":{"$error":"#REF!"}},null,{"$f":"IF($B171=\"*\",\"\",VLOOKUP($A171,'2025-2026'!#REF!,M$5,FALSE))","v":{"$error":"#REF!"}}]
[139,{"$f":"VLOOKUP(A172,'2025-2026'!#REF!,9,FALSE)","v":{"$error":"#REF!"}},{"$f":"VLOOKUP($A172,'2025-2026'!#REF!,C$26,FALSE)","v":{"$error":"#REF!"}},{"$f":"IF($B172=\"*\",\"\",VLOOKUP($A172,'2025-2026'!#REF!,D$26,FALSE))","v":{"$error":"#REF!"}},{"$f":"IF($B172=\"*\",\"\",VLOOKUP($A172,'2025-2026'!#REF!,E$26,FALSE))","v":{"$error":"#REF!"}},{"$f":"IF($B172=\"*\",\"\",VLOOKUP($A172,'2025-2026'!#REF!,F$26,FALSE))","v":{"$error":"#REF!"}},{"$f":"IF($B172=\"*\",\"\",VLOOKUP($A172,'2025-2026'!#REF!,G$26,FALSE))","v":{"$error":"#REF!"}},null,{"$f":"IF($B172=\"*\",\"\",VLOOKUP($A172,'2025-2026'!#REF!,I$26,FALSE))","v":{"$error":"#REF!"}},null,{"$f":"IF($B172=\"*\",\"\",VLOOKUP($A172,'2025-2026'!#REF!,K$5,FALSE))","v":{"$error":"#REF!"}},null,{"$f":"IF($B172=\"*\",\"\",VLOOKUP($A172,'2025-2026'!#REF!,M$5,FALSE))","v":{"$error":"#REF!"}}]
[140,{"$f":"VLOOKUP(A173,'2025-2026'!#REF!,9,FALSE)","v":{"$error":"#REF!"}},{"$f":"VLOOKUP($A173,'2025-2026'!#REF!,C$26,FALSE)","v":{"$error":"#REF!"}},{"$f":"IF($B173=\"*\",\"\",VLOOKUP($A173,'2025-2026'!#REF!,D$26,FALSE))","v":{"$error":"#REF!"}},{"$f":"IF($B173=\"*\",\"\",VLOOKUP($A173,'2025-2026'!#REF!,E$26,FALSE))","v":{"$error":"#REF!"}},{"$f":"IF($B173=\"*\",\"\",VLOOKUP($A173,'2025-2026'!#REF!,F$26,FALSE))","v":{"$error":"#REF!"}},{"$f":"IF($B173=\"*\",\"\",VLOOKUP($A173,'2025-2026'!#REF!,G$26,FALSE))","v":{"$error":"#REF!"}},null,{"$f":"IF($B173=\"*\",\"\",VLOOKUP($A173,'2025-2026'!#REF!,I$26,FALSE))","v":{"$error":"#REF!"}},null,{"$f":"IF($B173=\"*\",\"\",VLOOKUP($A173,'2025-2026'!#REF!,K$5,FALSE))","v":{"$error":"#REF!"}},null,{"$f":"IF($B173=\"*\",\"\",VLOOKUP($A173,'2025-2026'!#REF!,M$5,FALSE))","v":{"$error":"#REF!"}}]
[141,{"$f":"VLOOKUP(A174,'2025-2026'!#REF!,9,FALSE)","v":{"$error":"#REF!"}},{"$f":"VLOOKUP($A174,'2025-2026'!#REF!,C$26,FALSE)","v":{"$error":"#REF!"}},{"$f":"IF($B174=\"*\",\"\",VLOOKUP($A174,'2025-2026'!#REF!,D$26,FALSE))","v":{"$error":"#REF!"}},{"$f":"IF($B174=\"*\",\"\",VLOOKUP($A174,'2025-2026'!#REF!,E$26,FALSE))","v":{"$error":"#REF!"}},{"$f":"IF($B174=\"*\",\"\",VLOOKUP($A174,'2025-2026'!#REF!,F$26,FALSE))","v":{"$error":"#REF!"}},{"$f":"IF($B174=\"*\",\"\",VLOOKUP($A174,'2025-2026'!#REF!,G$26,FALSE))","v":{"$error":"#REF!"}},null,{"$f":"IF($B174=\"*\",\"\",VLOOKUP($A174,'2025-2026'!#REF!,I$26,FALSE))","v":{"$error":"#REF!"}},null,{"$f":"IF($B174=\"*\",\"\",VLOOKUP($A174,'2025-2026'!#REF!,K$5,FALSE))","v":{"$error":"#REF!"}},null,{"$f":"IF($B174=\"*\",\"\",VLOOKUP($A174,'2025-2026'!#REF!,M$5,FALSE))","v":{"$error":"#REF!"}}]
[142,{"$f":"VLOOKUP(A175,'2025-2026'!#REF!,9,FALSE)","v":{"$error":"#REF!"}},{"$f":"VLOOKUP($A175,'2025-2026'!#REF!,C$26,FALSE)","v":{"$error":"#REF!"}},{"$f":"IF($B175=\"*\",\"\",VLOOKUP($A175,'2025-2026'!#REF!,D$26,FALSE))","v":{"$error":"#REF!"}},{"$f":"IF($B175=\"*\",\"\",VLOOKUP($A175,'2025-2026'!#REF!,E$26,FALSE))","v":{"$error":"#REF!"}},{"$f":"IF($B175=\"*\",\"\",VLOOKUP($A175,'2025-2026'!#REF!,F$26,FALSE))","v":{"$error":"#REF!"}},{"$f":"IF($B175=\"*\",\"\",VLOOKUP($A175,'2025-2026'!#REF!,G$26,FALSE))","v":{"$error":"#REF!"}},null,{"$f":"IF($B175=\"*\",\"\",VLOOKUP($A175,'2025-2026'!#REF!,I$26,FALSE))","v":{"$error":"#REF!"}},null,{"$f":"IF($B175=\"*\",\"\",VLOOKUP($A175,'2025-2026'!#REF!,K$5,FALSE))","v":{"$error":"#REF!"}},null,{"$f":"IF($B175=\"*\",\"\",VLOOKUP($A175,'2025-2026'!#REF!,M$5,FALSE))","v":{"$error":"#REF!"}}]
[143,{"$f":"VLOOKUP(A176,'2025-2026'!#REF!,9,FALSE)","v":{"$error":"#REF!"}},{"$f":"VLOOKUP($A176,'2025-2026'!#REF!,C$26,FALSE)","v":{"$error":"#REF!"}},{"$f":"IF($B176=\"*\",\"\",VLOOKUP($A176,'2025-2026'!#REF!,D$26,FALSE))","v":{"$error":"#REF!"}},{"$f":"IF($B176=\"*\",\"\",VLOOKUP($A176,'2025-2026'!#REF!,E$26,FALSE))","v":{"$error":"#REF!"}},{"$f":"IF($B176=\"*\",\"\",VLOOKUP($A176,'2025-2026'!#REF!,F$26,FALSE))","v":{"$error":"#REF!"}},{"$f":"IF($B176=\"*\",\"\",VLOOKUP($A176,'2025-2026'!#REF!,G$26,FALSE))","v":{"$error":"#REF!"}},null,{"$f":"IF($B176=\"*\",\"\",VLOOKUP($A176,'2025-2026'!#REF!,I$26,FALSE))","v":{"$error":"#REF!"}},null,{"$f":"IF($B176=\"*\",\"\",VLOOKUP($A176,'2025-2026'!#REF!,K$5,FALSE))","v":{"$error":"#REF!"}},null,{"$f":"IF($B176=\"*\",\"\",VLOOKUP($A176,'2025-2026'!#REF!,M$5,FALSE))","v":{"$error":"#REF!"}}]
[144,{"$f":"VLOOKUP(A177,'2025-2026'!#REF!,9,FALSE)","v":{"$error":"#REF!"}},{"$f":"VLOOKUP($A177,'2025-2026'!#REF!,C$26,FALSE)","v":{"$error":"#REF!"}},{"$f":"IF($B177=\"*\",\"\",VLOOKUP($A177,'2025-2026'!#REF!,D$26,FALSE))","v":{"$error":"#REF!"}},{"$f":"IF($B177=\"*\",\"\",VLOOKUP($A177,'2025-2026'!#REF!,E$26,FALSE))","v":{"$error":"#REF!"}},{"$f":"IF($B177=\"*\",\"\",VLOOKUP($A177,'2025-2026'!#REF!,F$26,FALSE))","v":{"$error":"#REF!"}},{"$f":"IF($B177=\"*\",\"\",VLOOKUP($A177,'2025-2026'!#REF!,G$26,FALSE))","v":{"$error":"#REF!"}},null,{"$f":"IF($B177=\"*\",\"\",VLOOKUP($A177,'2025-2026'!#REF!,I$26,FALSE))","v":{"$error":"#REF!"}},null,{"$f":"IF($B177=\"*\",\"\",VLOOKUP($A177,'2025-2026'!#REF!,K$5,FALSE))","v":{"$error":"#REF!"}},null,{"$f":"IF($B177=\"*\",\"\",VLOOKUP($A177,'2025-2026'!#REF!,M$5,FALSE))","v":{"$error":"#REF!"}}]
[145,{"$f":"VLOOKUP(A178,'2025-2026'!#REF!,9,FALSE)","v":{"$error":"#REF!"}},{"$f":"VLOOKUP($A178,'2025-2026'!#REF!,C$26,FALSE)","v":{"$error":"#REF!"}},{"$f":"IF($B178=\"*\",\"\",VLOOKUP($A178,'2025-2026'!#REF!,D$26,FALSE))","v":{"$error":"#REF!"}},{"$f":"IF($B178=\"*\",\"\",VLOOKUP($A178,'2025-2026'!#REF!,E$26,FALSE))","v":{"$error":"#REF!"}},{"$f":"IF($B178=\"*\",\"\",VLOOKUP($A178,'2025-2026'!#REF!,F$26,FALSE))","v":{"$error":"#REF!"}},{"$f":"IF($B178=\"*\",\"\",VLOOKUP($A178,'2025-2026'!#REF!,G$26,FALSE))","v":{"$error":"#REF!"}},null,{"$f":"IF($B178=\"*\",\"\",VLOOKUP($A178,'2025-2026'!#REF!,I$26,FALSE))","v":{"$error":"#REF!"}},null,{"$f":"IF($B178=\"*\",\"\",VLOOKUP($A178,'2025-2026'!#REF!,K$5,FALSE))","v":{"$error":"#REF!"}},null,{"$f":"IF($B178=\"*\",\"\",VLOOKUP($A178,'2025-2026'!#REF!,M$5,FALSE))","v":{"$error":"#REF!"}}]
[146,{"$f":"VLOOKUP(A179,'2025-2026'!#REF!,9,FALSE)","v":{"$error":"#REF!"}},{"$f":"VLOOKUP($A179,'2025-2026'!#REF!,C$26,FALSE)","v":{"$error":"#REF!"}},null,null,null,null,null,null,null,{"$f":"IF($B179=\"*\",\"\",VLOOKUP($A179,'2025-2026'!#REF!,K$5,FALSE))","v":{"$error":"#REF!"}},null,{"$f":"IF($B179=\"*\",\"\",VLOOKUP($A179,'2025-2026'!#REF!,M$5,FALSE))","v":{"$error":"#REF!"}}]
[147,{"$f":"VLOOKUP(A180,'2025-2026'!#REF!,9,FALSE)","v":{"$error":"#REF!"}},{"$f":"VLOOKUP($A180,'2025-2026'!#REF!,C$26,FALSE)","v":{"$error":"#REF!"}},{"$f":"IF($B180=\"*\",\"\",VLOOKUP($A180,'2025-2026'!#REF!,D$26,FALSE))","v":{"$error":"#REF!"}},{"$f":"IF($B180=\"*\",\"\",VLOOKUP($A180,'2025-2026'!#REF!,E$26,FALSE))","v":{"$error":"#REF!"}},{"$f":"IF($B180=\"*\",\"\",VLOOKUP($A180,'2025-2026'!#REF!,F$26,FALSE))","v":{"$error":"#REF!"}},{"$f":"IF($B180=\"*\",\"\",VLOOKUP($A180,'2025-2026'!#REF!,G$26,FALSE))","v":{"$error":"#REF!"}},null,{"$f":"IF($B180=\"*\",\"\",VLOOKUP($A180,'2025-2026'!#REF!,I$26,FALSE))","v":{"$error":"#REF!"}},null,{"$f":"IF($B180=\"*\",\"\",VLOOKUP($A180,'2025-2026'!#REF!,K$5,FALSE))","v":{"$error":"#REF!"}},null,{"$f":"IF($B180=\"*\",\"\",VLOOKUP($A180,'2025-2026'!#REF!,M$5,FALSE))","v":{"$error":"#REF!"}}]
[148,{"$f":"VLOOKUP(A181,'2025-2026'!#REF!,9,FALSE)","v":{"$error":"#REF!"}},{"$f":"VLOOKUP($A181,'2025-2026'!#REF!,C$26,FALSE)","v":{"$error":"#REF!"}},{"$f":"IF($B181=\"*\",\"\",VLOOKUP($A181,'2025-2026'!#REF!,D$26,FALSE))","v":{"$error":"#REF!"}},{"$f":"IF($B181=\"*\",\"\",VLOOKUP($A181,'2025-2026'!#REF!,E$26,FALSE))","v":{"$error":"#REF!"}},{"$f":"IF($B181=\"*\",\"\",VLOOKUP($A181,'2025-2026'!#REF!,F$26,FALSE))","v":{"$error":"#REF!"}},{"$f":"IF($B181=\"*\",\"\",VLOOKUP($A181,'2025-2026'!#REF!,G$26,FALSE))","v":{"$error":"#REF!"}},null,{"$f":"IF($B181=\"*\",\"\",VLOOKUP($A181,'2025-2026'!#REF!,I$26,FALSE))","v":{"$error":"#REF!"}},null,{"$f":"IF($B181=\"*\",\"\",VLOOKUP($A181,'2025-2026'!#REF!,K$5,FALSE))","v":{"$error":"#REF!"}},null,{"$f":"IF($B181=\"*\",\"\",VLOOKUP($A181,'2025-2026'!#REF!,M$5,FALSE))","v":{"$error":"#REF!"}}]
[149,{"$f":"VLOOKUP(A182,'2025-2026'!#REF!,9,FALSE)","v":{"$error":"#REF!"}},{"$f":"VLOOKUP($A182,'2025-2026'!#REF!,C$26,FALSE)","v":{"$error":"#REF!"}},{"$f":"IF($B182=\"*\",\"\",VLOOKUP($A182,'2025-2026'!#REF!,D$26,FALSE))","v":{"$error":"#REF!"}},{"$f":"IF($B182=\"*\",\"\",VLOOKUP($A182,'2025-2026'!#REF!,E$26,FALSE))","v":{"$error":"#REF!"}},{"$f":"IF($B182=\"*\",\"\",VLOOKUP($A182,'2025-2026'!#REF!,F$26,FALSE))","v":{"$error":"#REF!"}},{"$f":"IF($B182=\"*\",\"\",VLOOKUP($A182,'2025-2026'!#REF!,G$26,FALSE))","v":{"$error":"#REF!"}},null,{"$f":"IF($B182=\"*\",\"\",VLOOKUP($A182,'2025-2026'!#REF!,I$26,FALSE))","v":{"$error":"#REF!"}},null,{"$f":"IF($B182=\"*\",\"\",VLOOKUP($A182,'2025-2026'!#REF!,K$5,FALSE))","v":{"$error":"#REF!"}},null,{"$f":"IF($B182=\"*\",\"\",VLOOKUP($A182,'2025-2026'!#REF!,M$5,FALSE))","v":{"$error":"#REF!"}}]
[150,{"$f":"VLOOKUP(A183,'2025-2026'!#REF!,9,FALSE)","v":{"$error":"#REF!"}},{"$f":"VLOOKUP($A183,'2025-2026'!#REF!,C$26,FALSE)","v":{"$error":"#REF!"}},{"$f":"IF($B183=\"*\",\"\",VLOOKUP($A183,'2025-2026'!#REF!,D$26,FALSE))","v":{"$error":"#REF!"}},{"$f":"IF($B183=\"*\",\"\",VLOOKUP($A183,'2025-2026'!#REF!,E$26,FALSE))","v":{"$error":"#REF!"}},{"$f":"IF($B183=\"*\",\"\",VLOOKUP($A183,'2025-2026'!#REF!,F$26,FALSE))","v":{"$error":"#REF!"}},{"$f":"IF($B183=\"*\",\"\",VLOOKUP($A183,'2025-2026'!#REF!,G$26,FALSE))","v":{"$error":"#REF!"}},null,{"$f":"IF($B183=\"*\",\"\",VLOOKUP($A183,'2025-2026'!#REF!,I$26,FALSE))","v":{"$error":"#REF!"}},null,{"$f":"IF($B183=\"*\",\"\",VLOOKUP($A183,'2025-2026'!#REF!,K$5,FALSE))","v":{"$error":"#REF!"}},null,{"$f":"IF($B183=\"*\",\"\",VLOOKUP($A183,'2025-2026'!#REF!,M$5,FALSE))","v":{"$error":"#REF!"}}]
[151,{"$f":"VLOOKUP(A184,'2025-2026'!#REF!,9,FALSE)","v":{"$error":"#REF!"}},{"$f":"VLOOKUP($A184,'2025-2026'!#REF!,C$26,FALSE)","v":{"$error":"#REF!"}},{"$f":"IF($B184=\"*\",\"\",VLOOKUP($A184,'2025-2026'!#REF!,D$26,FALSE))","v":{"$error":"#REF!"}},{"$f":"IF($B184=\"*\",\"\",VLOOKUP($A184,'2025-2026'!#REF!,E$26,FALSE))","v":{"$error":"#REF!"}},{"$f":"IF($B184=\"*\",\"\",VLOOKUP($A184,'2025-2026'!#REF!,F$26,FALSE))","v":{"$error":"#REF!"}},{"$f":"IF($B184=\"*\",\"\",VLOOKUP($A184,'2025-2026'!#REF!,G$26,FALSE))","v":{"$error":"#REF!"}},null,{"$f":"IF($B184=\"*\",\"\",VLOOKUP($A184,'2025-2026'!#REF!,I$26,FALSE))","v":{"$error":"#REF!"}},null,{"$f":"IF($B184=\"*\",\"\",VLOOKUP($A184,'2025-2026'!#REF!,K$5,FALSE))","v":{"$error":"#REF!"}},null,{"$f":"IF($B184=\"*\",\"\",VLOOKUP($A184,'2025-2026'!#REF!,M$5,FALSE))","v":{"$error":"#REF!"}}]
[152,{"$f":"VLOOKUP(A185,'2025-2026'!#REF!,9,FALSE)","v":{"$error":"#REF!"}},{"$f":"VLOOKUP($A185,'2025-2026'!#REF!,C$26,FALSE)","v":{"$error":"#REF!"}},null,null,null,null,null,null,null,{"$f":"IF($B185=\"*\",\"\",VLOOKUP($A185,'2025-2026'!#REF!,K$5,FALSE))","v":{"$error":"#REF!"}},null,{"$f":"IF($B185=\"*\",\"\",VLOOKUP($A185,'2025-2026'!#REF!,M$5,FALSE))","v":{"$error":"#REF!"}}]
[153,{"$f":"VLOOKUP(A186,'2025-2026'!#REF!,9,FALSE)","v":{"$error":"#REF!"}},{"$f":"VLOOKUP($A186,'2025-2026'!#REF!,C$26,FALSE)","v":{"$error":"#REF!"}},{"$f":"IF($B186=\"*\",\"\",VLOOKUP($A186,'2025-2026'!#REF!,D$26,FALSE))","v":{"$error":"#REF!"}},{"$f":"IF($B186=\"*\",\"\",VLOOKUP($A186,'2025-2026'!#REF!,E$26,FALSE))","v":{"$error":"#REF!"}},{"$f":"IF($B186=\"*\",\"\",VLOOKUP($A186,'2025-2026'!#REF!,F$26,FALSE))","v":{"$error":"#REF!"}},{"$f":"IF($B186=\"*\",\"\",VLOOKUP($A186,'2025-2026'!#REF!,G$26,FALSE))","v":{"$error":"#REF!"}},null,{"$f":"IF($B186=\"*\",\"\",VLOOKUP($A186,'2025-2026'!#REF!,I$26,FALSE))","v":{"$error":"#REF!"}},null,{"$f":"IF($B186=\"*\",\"\",VLOOKUP($A186,'2025-2026'!#REF!,K$5,FALSE))","v":{"$error":"#REF!"}},null,{"$f":"IF($B186=\"*\",\"\",VLOOKUP($A186,'2025-2026'!#REF!,M$5,FALSE))","v":{"$error":"#REF!"}}]
[154,{"$f":"VLOOKUP(A187,'2025-2026'!#REF!,9,FALSE)","v":{"$error":"#REF!"}},{"$f":"VLOOKUP($A187,'2025-2026'!#REF!,C$26,FALSE)","v":{"$error":"#REF!"}},{"$f":"IF($B187=\"*\",\"\",VLOOKUP($A187,'2025-2026'!#REF!,D$26,FALSE))","v":{"$error":"#REF!"}},{"$f":"IF($B187=\"*\",\"\",VLOOKUP($A187,'2025-2026'!#REF!,E$26,FALSE))","v":{"$error":"#REF!"}},{"$f":"IF($B187=\"*\",\"\",VLOOKUP($A187,'2025-2026'!#REF!,F$26,FALSE))","v":{"$error":"#REF!"}},{"$f":"IF($B187=\"*\",\"\",VLOOKUP($A187,'2025-2026'!#REF!,G$26,FALSE))","v":{"$error":"#REF!"}},null,{"$f":"IF($B187=\"*\",\"\",VLOOKUP($A187,'2025-2026'!#REF!,I$26,FALSE))","v":{"$error":"#REF!"}},null,{"$f":"IF($B187=\"*\",\"\",VLOOKUP($A187,'2025-2026'!#REF!,K$5,FALSE))","v":{"$error":"#REF!"}},null,{"$f":"IF($B187=\"*\",\"\",VLOOKUP($A187,'2025-2026'!#REF!,M$5,FALSE))","v":{"$error":"#REF!"}}]
[155,{"$f":"VLOOKUP(A188,'2025-2026'!#REF!,9,FALSE)","v":{"$error":"#REF!"}},{"$f":"VLOOKUP($A188,'2025-2026'!#REF!,C$26,FALSE)","v":{"$error":"#REF!"}},{"$f":"IF($B188=\"*\",\"\",VLOOKUP($A188,'2025-2026'!#REF!,D$26,FALSE))","v":{"$error":"#REF!"}},{"$f":"IF($B188=\"*\",\"\",VLOOKUP($A188,'2025-2026'!#REF!,E$26,FALSE))","v":{"$error":"#REF!"}},{"$f":"IF($B188=\"*\",\"\",VLOOKUP($A188,'2025-2026'!#REF!,F$26,FALSE))","v":{"$error":"#REF!"}},{"$f":"IF($B188=\"*\",\"\",VLOOKUP($A188,'2025-2026'!#REF!,G$26,FALSE))","v":{"$error":"#REF!"}},null,{"$f":"IF($B188=\"*\",\"\",VLOOKUP($A188,'2025-2026'!#REF!,I$26,FALSE))","v":{"$error":"#REF!"}},null,{"$f":"IF($B188=\"*\",\"\",VLOOKUP($A188,'2025-2026'!#REF!,K$5,FALSE))","v":{"$error":"#REF!"}},null,{"$f":"IF($B188=\"*\",\"\",VLOOKUP($A188,'2025-2026'!#REF!,M$5,FALSE))","v":{"$error":"#REF!"}}]
[156,{"$f":"VLOOKUP(A189,'2025-2026'!#REF!,9,FALSE)","v":{"$error":"#REF!"}},{"$f":"VLOOKUP($A189,'2025-2026'!#REF!,C$26,FALSE)","v":{"$error":"#REF!"}},null,null,null,null,null,null,null,{"$f":"IF($B189=\"*\",\"\",VLOOKUP($A189,'2025-2026'!#REF!,K$5,FALSE))","v":{"$error":"#REF!"}},null,{"$f":"IF($B189=\"*\",\"\",VLOOKUP($A189,'2025-2026'!#REF!,M$5,FALSE))","v":{"$error":"#REF!"}}]
[157,{"$f":"VLOOKUP(A190,'2025-2026'!#REF!,9,FALSE)","v":{"$error":"#REF!"}},{"$f":"VLOOKUP($A190,'2025-2026'!#REF!,C$26,FALSE)","v":{"$error":"#REF!"}},{"$f":"IF($B190=\"*\",\"\",VLOOKUP($A190,'2025-2026'!#REF!,D$26,FALSE))","v":{"$error":"#REF!"}},{"$f":"IF($B190=\"*\",\"\",VLOOKUP($A190,'2025-2026'!#REF!,E$26,FALSE))","v":{"$error":"#REF!"}},{"$f":"IF($B190=\"*\",\"\",VLOOKUP($A190,'2025-2026'!#REF!,F$26,FALSE))","v":{"$error":"#REF!"}},{"$f":"IF($B190=\"*\",\"\",VLOOKUP($A190,'2025-2026'!#REF!,G$26,FALSE))","v":{"$error":"#REF!"}},null,{"$f":"IF($B190=\"*\",\"\",VLOOKUP($A190,'2025-2026'!#REF!,I$26,FALSE))","v":{"$error":"#REF!"}},null,{"$f":"IF($B190=\"*\",\"\",VLOOKUP($A190,'2025-2026'!#REF!,K$5,FALSE))","v":{"$error":"#REF!"}},null,{"$f":"IF($B190=\"*\",\"\",VLOOKUP($A190,'2025-2026'!#REF!,M$5,FALSE))","v":{"$error":"#REF!"}}]
[158,{"$f":"VLOOKUP(A191,'2025-2026'!#REF!,9,FALSE)","v":{"$error":"#REF!"}},{"$f":"VLOOKUP($A191,'2025-2026'!#REF!,C$26,FALSE)","v":{"$error":"#REF!"}},{"$f":"IF($B191=\"*\",\"\",VLOOKUP($A191,'2025-2026'!#REF!,D$26,FALSE))","v":{"$error":"#REF!"}},{"$f":"IF($B191=\"*\",\"\",VLOOKUP($A191,'2025-2026'!#REF!,E$26,FALSE))","v":{"$error":"#REF!"}},{"$f":"IF($B191=\"*\",\"\",VLOOKUP($A191,'2025-2026'!#REF!,F$26,FALSE))","v":{"$error":"#REF!"}},{"$f":"IF($B191=\"*\",\"\",VLOOKUP($A191,'2025-2026'!#REF!,G$26,FALSE))","v":{"$error":"#REF!"}},null,{"$f":"IF($B191=\"*\",\"\",VLOOKUP($A191,'2025-2026'!#REF!,I$26,FALSE))","v":{"$error":"#REF!"}},null,{"$f":"IF($B191=\"*\",\"\",VLOOKUP($A191,'2025-2026'!#REF!,K$5,FALSE))","v":{"$error":"#REF!"}},null,{"$f":"IF($B191=\"*\",\"\",VLOOKUP($A191,'2025-2026'!#REF!,M$5,FALSE))","v":{"$error":"#REF!"}}]
[159,{"$f":"VLOOKUP(A192,'2025-2026'!#REF!,9,FALSE)","v":{"$error":"#REF!"}},{"$f":"VLOOKUP($A192,'2025-2026'!#REF!,C$26,FALSE)","v":{"$error":"#REF!"}},{"$f":"IF($B192=\"*\",\"\",VLOOKUP($A192,'2025-2026'!#REF!,D$26,FALSE))","v":{"$error":"#REF!"}},{"$f":"IF($B192=\"*\",\"\",VLOOKUP($A192,'2025-2026'!#REF!,E$26,FALSE))","v":{"$error":"#REF!"}},{"$f":"IF($B192=\"*\",\"\",VLOOKUP($A192,'2025-2026'!#REF!,F$26,FALSE))","v":{"$error":"#REF!"}},{"$f":"IF($B192=\"*\",\"\",VLOOKUP($A192,'2025-2026'!#REF!,G$26,FALSE))","v":{"$error":"#REF!"}},null,{"$f":"IF($B192=\"*\",\"\",VLOOKUP($A192,'2025-2026'!#REF!,I$26,FALSE))","v":{"$error":"#REF!"}},null,{"$f":"IF($B192=\"*\",\"\",VLOOKUP($A192,'2025-2026'!#REF!,K$5,FALSE))","v":{"$error":"#REF!"}},null,{"$f":"IF($B192=\"*\",\"\",VLOOKUP($A192,'2025-2026'!#REF!,M$5,FALSE))","v":{"$error":"#REF!"}}]
[160,{"$f":"VLOOKUP(A193,'2025-2026'!#REF!,9,FALSE)","v":{"$error":"#REF!"}},{"$f":"VLOOKUP($A193,'2025-2026'!#REF!,C$26,FALSE)","v":{"$error":"#REF!"}},{"$f":"IF($B193=\"*\",\"\",VLOOKUP($A193,'2025-2026'!#REF!,D$26,FALSE))","v":{"$error":"#REF!"}},{"$f":"IF($B193=\"*\",\"\",VLOOKUP($A193,'2025-2026'!#REF!,E$26,FALSE))","v":{"$error":"#REF!"}},{"$f":"IF($B193=\"*\",\"\",VLOOKUP($A193,'2025-2026'!#REF!,F$26,FALSE))","v":{"$error":"#REF!"}},{"$f":"IF($B193=\"*\",\"\",VLOOKUP($A193,'2025-2026'!#REF!,G$26,FALSE))","v":{"$error":"#REF!"}},null,{"$f":"IF($B193=\"*\",\"\",VLOOKUP($A193,'2025-2026'!#REF!,I$26,FALSE))","v":{"$error":"#REF!"}},null,{"$f":"IF($B193=\"*\",\"\",VLOOKUP($A193,'2025-2026'!#REF!,K$5,FALSE))","v":{"$error":"#REF!"}},null,{"$f":"IF($B193=\"*\",\"\",VLOOKUP($A193,'2025-2026'!#REF!,M$5,FALSE))","v":{"$error":"#REF!"}}]
[161,{"$f":"VLOOKUP(A194,'2025-2026'!#REF!,9,FALSE)","v":{"$error":"#REF!"}},{"$f":"VLOOKUP($A194,'2025-2026'!#REF!,C$26,FALSE)","v":{"$error":"#REF!"}},{"$f":"IF($B194=\"*\",\"\",VLOOKUP($A194,'2025-2026'!#REF!,D$26,FALSE))","v":{"$error":"#REF!"}},{"$f":"IF($B194=\"*\",\"\",VLOOKUP($A194,'2025-2026'!#REF!,E$26,FALSE))","v":{"$error":"#REF!"}},{"$f":"IF($B194=\"*\",\"\",VLOOKUP($A194,'2025-2026'!#REF!,F$26,FALSE))","v":{"$error":"#REF!"}},{"$f":"IF($B194=\"*\",\"\",VLOOKUP($A194,'2025-2026'!#REF!,G$26,FALSE))","v":{"$error":"#REF!"}},null,{"$f":"IF($B194=\"*\",\"\",VLOOKUP($A194,'2025-2026'!#REF!,I$26,FALSE))","v":{"$error":"#REF!"}},null,{"$f":"IF($B194=\"*\",\"\",VLOOKUP($A194,'2025-2026'!#REF!,K$5,FALSE))","v":{"$error":"#REF!"}},null,{"$f":"IF($B194=\"*\",\"\",VLOOKUP($A194,'2025-2026'!#REF!,M$5,FALSE))","v":{"$error":"#REF!"}}]
[162,{"$f":"VLOOKUP(A195,'2025-2026'!#REF!,9,FALSE)","v":{"$error":"#REF!"}},{"$f":"VLOOKUP($A195,'2025-2026'!#REF!,C$26,FALSE)","v":{"$error":"#REF!"}},{"$f":"IF($B195=\"*\",\"\",VLOOKUP($A195,'2025-2026'!#REF!,D$26,FALSE))","v":{"$error":"#REF!"}},{"$f":"IF($B195=\"*\",\"\",VLOOKUP($A195,'2025-2026'!#REF!,E$26,FALSE))","v":{"$error":"#REF!"}},{"$f":"IF($B195=\"*\",\"\",VLOOKUP($A195,'2025-2026'!#REF!,F$26,FALSE))","v":{"$error":"#REF!"}},{"$f":"IF($B195=\"*\",\"\",VLOOKUP($A195,'2025-2026'!#REF!,G$26,FALSE))","v":{"$error":"#REF!"}},null,{"$f":"IF($B195=\"*\",\"\",VLOOKUP($A195,'2025-2026'!#REF!,I$26,FALSE))","v":{"$error":"#REF!"}},null,{"$f":"IF($B195=\"*\",\"\",VLOOKUP($A195,'2025-2026'!#REF!,K$5,FALSE))","v":{"$error":"#REF!"}},null,{"$f":"IF($B195=\"*\",\"\",VLOOKUP($A195,'2025-2026'!#REF!,M$5,FALSE))","v":{"$error":"#REF!"}}]
[163,{"$f":"VLOOKUP(A196,'2025-2026'!#REF!,9,FALSE)","v":{"$error":"#REF!"}},{"$f":"VLOOKUP($A196,'2025-2026'!#REF!,C$26,FALSE)","v":{"$error":"#REF!"}},{"$f":"IF($B196=\"*\",\"\",VLOOKUP($A196,'2025-2026'!#REF!,D$26,FALSE))","v":{"$error":"#REF!"}},{"$f":"IF($B196=\"*\",\"\",VLOOKUP($A196,'2025-2026'!#REF!,E$26,FALSE))","v":{"$error":"#REF!"}},{"$f":"IF($B196=\"*\",\"\",VLOOKUP($A196,'2025-2026'!#REF!,F$26,FALSE))","v":{"$error":"#REF!"}},{"$f":"IF($B196=\"*\",\"\",VLOOKUP($A196,'2025-2026'!#REF!,G$26,FALSE))","v":{"$error":"#REF!"}},null,{"$f":"IF($B196=\"*\",\"\",VLOOKUP($A196,'2025-2026'!#REF!,I$26,FALSE))","v":{"$error":"#REF!"}},null,{"$f":"IF($B196=\"*\",\"\",VLOOKUP($A196,'2025-2026'!#REF!,K$5,FALSE))","v":{"$error":"#REF!"}},null,{"$f":"IF($B196=\"*\",\"\",VLOOKUP($A196,'2025-2026'!#REF!,M$5,FALSE))","v":{"$error":"#REF!"}}]
[164,{"$f":"VLOOKUP(A197,'2025-2026'!#REF!,9,FALSE)","v":{"$error":"#REF!"}},{"$f":"VLOOKUP($A197,'2025-2026'!#REF!,C$26,FALSE)","v":{"$error":"#REF!"}},{"$f":"IF($B197=\"*\",\"\",VLOOKUP($A197,'2025-2026'!#REF!,D$26,FALSE))","v":{"$error":"#REF!"}},{"$f":"IF($B197=\"*\",\"\",VLOOKUP($A197,'2025-2026'!#REF!,E$26,FALSE))","v":{"$error":"#REF!"}},{"$f":"IF($B197=\"*\",\"\",VLOOKUP($A197,'2025-2026'!#REF!,F$26,FALSE))","v":{"$error":"#REF!"}},{"$f":"IF($B197=\"*\",\"\",VLOOKUP($A197,'2025-2026'!#REF!,G$26,FALSE))","v":{"$error":"#REF!"}},null,{"$f":"IF($B197=\"*\",\"\",VLOOKUP($A197,'2025-2026'!#REF!,I$26,FALSE))","v":{"$error":"#REF!"}},null,{"$f":"IF($B197=\"*\",\"\",VLOOKUP($A197,'2025-2026'!#REF!,K$5,FALSE))","v":{"$error":"#REF!"}},null,{"$f":"IF($B197=\"*\",\"\",VLOOKUP($A197,'2025-2026'!#REF!,M$5,FALSE))","v":{"$error":"#REF!"}}]
[165,{"$f":"VLOOKUP(A198,'2025-2026'!#REF!,9,FALSE)","v":{"$error":"#REF!"}},{"$f":"VLOOKUP($A198,'2025-2026'!#REF!,C$26,FALSE)","v":{"$error":"#REF!"}},{"$f":"IF($B198=\"*\",\"\",VLOOKUP($A198,'2025-2026'!#REF!,D$26,FALSE))","v":{"$error":"#REF!"}},{"$f":"IF($B198=\"*\",\"\",VLOOKUP($A198,'2025-2026'!#REF!,E$26,FALSE))","v":{"$error":"#REF!"}},{"$f":"IF($B198=\"*\",\"\",VLOOKUP($A198,'2025-2026'!#REF!,F$26,FALSE))","v":{"$error":"#REF!"}},{"$f":"IF($B198=\"*\",\"\",VLOOKUP($A198,'2025-2026'!#REF!,G$26,FALSE))","v":{"$error":"#REF!"}},null,{"$f":"IF($B198=\"*\",\"\",VLOOKUP($A198,'2025-2026'!#REF!,I$26,FALSE))","v":{"$error":"#REF!"}},null,{"$f":"IF($B198=\"*\",\"\",VLOOKUP($A198,'2025-2026'!#REF!,K$5,FALSE))","v":{"$error":"#REF!"}},null,{"$f":"IF($B198=\"*\",\"\",VLOOKUP($A198,'2025-2026'!#REF!,M$5,FALSE))","v":{"$error":"#REF!"}}]
[166,{"$f":"VLOOKUP(A199,'2025-2026'!#REF!,9,FALSE)","v":{"$error":"#REF!"}},{"$f":"VLOOKUP($A199,'2025-2026'!#REF!,C$26,FALSE)","v":{"$error":"#REF!"}},{"$f":"IF($B199=\"*\",\"\",VLOOKUP($A199,'2025-2026'!#REF!,D$26,FALSE))","v":{"$error":"#REF!"}},{"$f":"IF($B199=\"*\",\"\",VLOOKUP($A199,'2025-2026'!#REF!,E$26,FALSE))","v":{"$error":"#REF!"}},{"$f":"IF($B199=\"*\",\"\",VLOOKUP($A199,'2025-2026'!#REF!,F$26,FALSE))","v":{"$error":"#REF!"}},{"$f":"IF($B199=\"*\",\"\",VLOOKUP($A199,'2025-2026'!#REF!,G$26,FALSE))","v":{"$error":"#REF!"}},null,{"$f":"IF($B199=\"*\",\"\",VLOOKUP($A199,'2025-2026'!#REF!,I$26,FALSE))","v":{"$error":"#REF!"}},null,{"$f":"IF($B199=\"*\",\"\",VLOOKUP($A199,'2025-2026'!#REF!,K$5,FALSE))","v":{"$error":"#REF!"}},null,{"$f":"IF($B199=\"*\",\"\",VLOOKUP($A199,'2025-2026'!#REF!,M$5,FALSE))","v":{"$error":"#REF!"}}]
[167,{"$f":"VLOOKUP(A200,'2025-2026'!#REF!,9,FALSE)","v":{"$error":"#REF!"}},{"$f":"VLOOKUP($A200,'2025-2026'!#REF!,C$26,FALSE)","v":{"$error":"#REF!"}},{"$f":"IF($B200=\"*\",\"\",VLOOKUP($A200,'2025-2026'!#REF!,D$26,FALSE))","v":{"$error":"#REF!"}},{"$f":"IF($B200=\"*\",\"\",VLOOKUP($A200,'2025-2026'!#REF!,E$26,FALSE))","v":{"$error":"#REF!"}},{"$f":"IF($B200=\"*\",\"\",VLOOKUP($A200,'2025-2026'!#REF!,F$26,FALSE))","v":{"$error":"#REF!"}},{"$f":"IF($B200=\"*\",\"\",VLOOKUP($A200,'2025-2026'!#REF!,G$26,FALSE))","v":{"$error":"#REF!"}},null,{"$f":"IF($B200=\"*\",\"\",VLOOKUP($A200,'2025-2026'!#REF!,I$26,FALSE))","v":{"$error":"#REF!"}},null,{"$f":"IF($B200=\"*\",\"\",VLOOKUP($A200,'2025-2026'!#REF!,K$5,FALSE))","v":{"$error":"#REF!"}},null,{"$f":"IF($B200=\"*\",\"\",VLOOKUP($A200,'2025-2026'!#REF!,M$5,FALSE))","v":{"$error":"#REF!"}}]
[168,{"$f":"VLOOKUP(A201,'2025-2026'!#REF!,9,FALSE)","v":{"$error":"#REF!"}},{"$f":"VLOOKUP($A201,'2025-2026'!#REF!,C$26,FALSE)","v":{"$error":"#REF!"}},{"$f":"IF($B201=\"*\",\"\",VLOOKUP($A201,'2025-2026'!#REF!,D$26,FALSE))","v":{"$error":"#REF!"}},{"$f":"IF($B201=\"*\",\"\",VLOOKUP($A201,'2025-2026'!#REF!,E$26,FALSE))","v":{"$error":"#REF!"}},{"$f":"IF($B201=\"*\",\"\",VLOOKUP($A201,'2025-2026'!#REF!,F$26,FALSE))","v":{"$error":"#REF!"}},{"$f":"IF($B201=\"*\",\"\",VLOOKUP($A201,'2025-2026'!#REF!,G$26,FALSE))","v":{"$error":"#REF!"}},null,{"$f":"IF($B201=\"*\",\"\",VLOOKUP($A201,'2025-2026'!#REF!,I$26,FALSE))","v":{"$error":"#REF!"}},null,{"$f":"IF($B201=\"*\",\"\",VLOOKUP($A201,'2025-2026'!#REF!,K$5,FALSE))","v":{"$error":"#REF!"}},null,{"$f":"IF($B201=\"*\",\"\",VLOOKUP($A201,'2025-2026'!#REF!,M$5,FALSE))","v":{"$error":"#REF!"}}]
[169,{"$f":"VLOOKUP(A202,'2025-2026'!#REF!,9,FALSE)","v":{"$error":"#REF!"}},{"$f":"VLOOKUP($A202,'2025-2026'!#REF!,C$26,FALSE)","v":{"$error":"#REF!"}},{"$f":"IF($B202=\"*\",\"\",VLOOKUP($A202,'2025-2026'!#REF!,D$26,FALSE))","v":{"$error":"#REF!"}},{"$f":"IF($B202=\"*\",\"\",VLOOKUP($A202,'2025-2026'!#REF!,E$26,FALSE))","v":{"$error":"#REF!"}},{"$f":"IF($B202=\"*\",\"\",VLOOKUP($A202,'2025-2026'!#REF!,F$26,FALSE))","v":{"$error":"#REF!"}},{"$f":"IF($B202=\"*\",\"\",VLOOKUP($A202,'2025-2026'!#REF!,G$26,FALSE))","v":{"$error":"#REF!"}},null,{"$f":"IF($B202=\"*\",\"\",VLOOKUP($A202,'2025-2026'!#REF!,I$26,FALSE))","v":{"$error":"#REF!"}},null,{"$f":"IF($B202=\"*\",\"\",VLOOKUP($A202,'2025-2026'!#REF!,K$5,FALSE))","v":{"$error":"#REF!"}},null,{"$f":"IF($B202=\"*\",\"\",VLOOKUP($A202,'2025-2026'!#REF!,M$5,FALSE))","v":{"$error":"#REF!"}}]
[170,{"$f":"VLOOKUP(A203,'2025-2026'!#REF!,9,FALSE)","v":{"$error":"#REF!"}},{"$f":"VLOOKUP($A203,'2025-2026'!#REF!,C$26,FALSE)","v":{"$error":"#REF!"}},{"$f":"IF($B203=\"*\",\"\",VLOOKUP($A203,'2025-2026'!#REF!,D$26,FALSE))","v":{"$error":"#REF!"}},{"$f":"IF($B203=\"*\",\"\",VLOOKUP($A203,'2025-2026'!#REF!,E$26,FALSE))","v":{"$error":"#REF!"}},{"$f":"IF($B203=\"*\",\"\",VLOOKUP($A203,'2025-2026'!#REF!,F$26,FALSE))","v":{"$error":"#REF!"}},{"$f":"IF($B203=\"*\",\"\",VLOOKUP($A203,'2025-2026'!#REF!,G$26,FALSE))","v":{"$error":"#REF!"}},null,{"$f":"IF($B203=\"*\",\"\",VLOOKUP($A203,'2025-2026'!#REF!,I$26,FALSE))","v":{"$error":"#REF!"}},null,{"$f":"IF($B203=\"*\",\"\",VLOOKUP($A203,'2025-2026'!#REF!,K$5,FALSE))","v":{"$error":"#REF!"}},null,{"$f":"IF($B203=\"*\",\"\",VLOOKUP($A203,'2025-2026'!#REF!,M$5,FALSE))","v":{"$error":"#REF!"}}]
[171,{"$f":"VLOOKUP(A204,'2025-2026'!#REF!,9,FALSE)","v":{"$error":"#REF!"}},{"$f":"VLOOKUP($A204,'2025-2026'!#REF!,C$26,FALSE)","v":{"$error":"#REF!"}},{"$f":"IF($B204=\"*\",\"\",VLOOKUP($A204,'2025-2026'!#REF!,D$26,FALSE))","v":{"$error":"#REF!"}},{"$f":"IF($B204=\"*\",\"\",VLOOKUP($A204,'2025-2026'!#REF!,E$26,FALSE))","v":{"$error":"#REF!"}},{"$f":"IF($B204=\"*\",\"\",VLOOKUP($A204,'2025-2026'!#REF!,F$26,FALSE))","v":{"$error":"#REF!"}},{"$f":"IF($B204=\"*\",\"\",VLOOKUP($A204,'2025-2026'!#REF!,G$26,FALSE))","v":{"$error":"#REF!"}},null,{"$f":"IF($B204=\"*\",\"\",VLOOKUP($A204,'2025-2026'!#REF!,I$26,FALSE))","v":{"$error":"#REF!"}},null,{"$f":"IF($B204=\"*\",\"\",VLOOKUP($A204,'2025-2026'!#REF!,K$5,FALSE))","v":{"$error":"#REF!"}},null,{"$f":"IF($B204=\"*\",\"\",VLOOKUP($A204,'2025-2026'!#REF!,M$5,FALSE))","v":{"$error":"#REF!"}}]
[172,{"$f":"VLOOKUP(A205,'2025-2026'!#REF!,9,FALSE)","v":{"$error":"#REF!"}},{"$f":"VLOOKUP($A205,'2025-2026'!#REF!,C$26,FALSE)","v":{"$error":"#REF!"}},{"$f":"IF($B205=\"*\",\"\",VLOOKUP($A205,'2025-2026'!#REF!,D$26,FALSE))","v":{"$error":"#REF!"}},{"$f":"IF($B205=\"*\",\"\",VLOOKUP($A205,'2025-2026'!#REF!,E$26,FALSE))","v":{"$error":"#REF!"}},{"$f":"IF($B205=\"*\",\"\",VLOOKUP($A205,'2025-2026'!#REF!,F$26,FALSE))","v":{"$error":"#REF!"}},{"$f":"IF($B205=\"*\",\"\",VLOOKUP($A205,'2025-2026'!#REF!,G$26,FALSE))","v":{"$error":"#REF!"}},null,{"$f":"IF($B205=\"*\",\"\",VLOOKUP($A205,'2025-2026'!#REF!,I$26,FALSE))","v":{"$error":"#REF!"}},null,{"$f":"IF($B205=\"*\",\"\",VLOOKUP($A205,'2025-2026'!#REF!,K$5,FALSE))","v":{"$error":"#REF!"}},null,{"$f":"IF($B205=\"*\",\"\",VLOOKUP($A205,'2025-2026'!#REF!,M$5,FALSE))","v":{"$error":"#REF!"}}]
[173,{"$f":"VLOOKUP(A206,'2025-2026'!#REF!,9,FALSE)","v":{"$error":"#REF!"}},{"$f":"VLOOKUP($A206,'2025-2026'!#REF!,C$26,FALSE)","v":{"$error":"#REF!"}},{"$f":"IF($B206=\"*\",\"\",VLOOKUP($A206,'2025-2026'!#REF!,D$26,FALSE))","v":{"$error":"#REF!"}},{"$f":"IF($B206=\"*\",\"\",VLOOKUP($A206,'2025-2026'!#REF!,E$26,FALSE))","v":{"$error":"#REF!"}},{"$f":"IF($B206=\"*\",\"\",VLOOKUP($A206,'2025-2026'!#REF!,F$26,FALSE))","v":{"$error":"#REF!"}},{"$f":"IF($B206=\"*\",\"\",VLOOKUP($A206,'2025-2026'!#REF!,G$26,FALSE))","v":{"$error":"#REF!"}},null,{"$f":"IF($B206=\"*\",\"\",VLOOKUP($A206,'2025-2026'!#REF!,I$26,FALSE))","v":{"$error":"#REF!"}},null,{"$f":"IF($B206=\"*\",\"\",VLOOKUP($A206,'2025-2026'!#REF!,K$5,FALSE))","v":{"$error":"#REF!"}},null,{"$f":"IF($B206=\"*\",\"\",VLOOKUP($A206,'2025-2026'!#REF!,M$5,FALSE))","v":{"$error":"#REF!"}}]
[174,{"$f":"VLOOKUP(A207,'2025-2026'!#REF!,9,FALSE)","v":{"$error":"#REF!"}},{"$f":"VLOOKUP($A207,'2025-2026'!#REF!,C$26,FALSE)","v":{"$error":"#REF!"}},null,null,null,null,null,null,null,{"$f":"IF($B207=\"*\",\"\",VLOOKUP($A207,'2025-2026'!#REF!,K$5,FALSE))","v":{"$error":"#REF!"}},null,{"$f":"IF($B207=\"*\",\"\",VLOOKUP($A207,'2025-2026'!#REF!,M$5,FALSE))","v":{"$error":"#REF!"}}]
[175,{"$f":"VLOOKUP(A208,'2025-2026'!#REF!,9,FALSE)","v":{"$error":"#REF!"}},{"$f":"VLOOKUP($A208,'2025-2026'!#REF!,C$26,FALSE)","v":{"$error":"#REF!"}},{"$f":"IF($B208=\"*\",\"\",VLOOKUP($A208,'2025-2026'!#REF!,D$26,FALSE))","v":{"$error":"#REF!"}},{"$f":"IF($B208=\"*\",\"\",VLOOKUP($A208,'2025-2026'!#REF!,E$26,FALSE))","v":{"$error":"#REF!"}},{"$f":"IF($B208=\"*\",\"\",VLOOKUP($A208,'2025-2026'!#REF!,F$26,FALSE))","v":{"$error":"#REF!"}},{"$f":"IF($B208=\"*\",\"\",VLOOKUP($A208,'2025-2026'!#REF!,G$26,FALSE))","v":{"$error":"#REF!"}},null,{"$f":"IF($B208=\"*\",\"\",VLOOKUP($A208,'2025-2026'!#REF!,I$26,FALSE))","v":{"$error":"#REF!"}},null,{"$f":"IF($B208=\"*\",\"\",VLOOKUP($A208,'2025-2026'!#REF!,K$5,FALSE))","v":{"$error":"#REF!"}},null,{"$f":"IF($B208=\"*\",\"\",VLOOKUP($A208,'2025-2026'!#REF!,M$5,FALSE))","v":{"$error":"#REF!"}}]
[176,{"$f":"VLOOKUP(A209,'2025-2026'!#REF!,9,FALSE)","v":{"$error":"#REF!"}},{"$f":"VLOOKUP($A209,'2025-2026'!#REF!,C$26,FALSE)","v":{"$error":"#REF!"}},{"$f":"IF($B209=\"*\",\"\",VLOOKUP($A209,'2025-2026'!#REF!,D$26,FALSE))","v":{"$error":"#REF!"}},{"$f":"IF($B209=\"*\",\"\",VLOOKUP($A209,'2025-2026'!#REF!,E$26,FALSE))","v":{"$error":"#REF!"}},{"$f":"IF($B209=\"*\",\"\",VLOOKUP($A209,'2025-2026'!#REF!,F$26,FALSE))","v":{"$error":"#REF!"}},{"$f":"IF($B209=\"*\",\"\",VLOOKUP($A209,'2025-2026'!#REF!,G$26,FALSE))","v":{"$error":"#REF!"}},null,{"$f":"IF($B209=\"*\",\"\",VLOOKUP($A209,'2025-2026'!#REF!,I$26,FALSE))","v":{"$error":"#REF!"}},null,{"$f":"IF($B209=\"*\",\"\",VLOOKUP($A209,'2025-2026'!#REF!,K$5,FALSE))","v":{"$error":"#REF!"}},null,{"$f":"IF($B209=\"*\",\"\",VLOOKUP($A209,'2025-2026'!#REF!,M$5,FALSE))","v":{"$error":"#REF!"}}]
[177,{"$f":"VLOOKUP(A210,'2025-2026'!#REF!,9,FALSE)","v":{"$error":"#REF!"}},{"$f":"VLOOKUP($A210,'2025-2026'!#REF!,C$26,FALSE)","v":{"$error":"#REF!"}},{"$f":"IF($B210=\"*\",\"\",VLOOKUP($A210,'2025-2026'!#REF!,D$26,FALSE))","v":{"$error":"#REF!"}},{"$f":"IF($B210=\"*\",\"\",VLOOKUP($A210,'2025-2026'!#REF!,E$26,FALSE))","v":{"$error":"#REF!"}},{"$f":"IF($B210=\"*\",\"\",VLOOKUP($A210,'2025-2026'!#REF!,F$26,FALSE))","v":{"$error":"#REF!"}},{"$f":"IF($B210=\"*\",\"\",VLOOKUP($A210,'2025-2026'!#REF!,G$26,FALSE))","v":{"$error":"#REF!"}},null,{"$f":"IF($B210=\"*\",\"\",VLOOKUP($A210,'2025-2026'!#REF!,I$26,FALSE))","v":{"$error":"#REF!"}},null,{"$f":"IF($B210=\"*\",\"\",VLOOKUP($A210,'2025-2026'!#REF!,K$5,FALSE))","v":{"$error":"#REF!"}},null,{"$f":"IF($B210=\"*\",\"\",VLOOKUP($A210,'2025-2026'!#REF!,M$5,FALSE))","v":{"$error":"#REF!"}}]
[null,null,null,null,null,"Sous total PERFECTIONNEMENT PROFESSIONNEL PATROUILLEUR",{"$f":"SUM(G137:G210)","v":{"$error":"#REF!"}},null,{"$f":"SUM(I137:I210)","v":{"$error":"#REF!"}},null,{"$f":"SUM(K137:K210)","v":{"$error":"#REF!"}},null,{"$f":"SUM(M137:M210)","v":{"$error":"#REF!"}}]
[{"$f":"A210+1","v":178},{"$f":"VLOOKUP(A212,'2025-2026'!#REF!,9,FALSE)","v":{"$error":"#REF!"}},{"$f":"VLOOKUP($A212,'2025-2026'!#REF!,C$26,FALSE)","v":{"$error":"#REF!"}},null,null,null,null,null,null,null,{"$f":"IF($B212=\"*\",\"\",VLOOKUP($A212,'2025-2026'!#REF!,K$5,FALSE))","v":{"$error":"#REF!"}},null,{"$f":"IF($B212=\"*\",\"\",VLOOKUP($A212,'2025-2026'!#REF!,M$5,FALSE))","v":{"$error":"#REF!"}}]
[179,{"$f":"VLOOKUP(A213,'2025-2026'!#REF!,9,FALSE)","v":{"$error":"#REF!"}},{"$f":"VLOOKUP($A213,'2025-2026'!#REF!,C$26,FALSE)","v":{"$error":"#REF!"}},{"$f":"IF($B213=\"*\",\"\",VLOOKUP($A213,'2025-2026'!#REF!,D$26,FALSE))","v":{"$error":"#REF!"}},{"$f":"IF($B213=\"*\",\"\",VLOOKUP($A213,'2025-2026'!#REF!,E$26,FALSE))","v":{"$error":"#REF!"}},{"$f":"IF($B213=\"*\",\"\",VLOOKUP($A213,'2025-2026'!#REF!,F$26,FALSE))","v":{"$error":"#REF!"}},{"$f":"IF($B213=\"*\",\"\",VLOOKUP($A213,'2025-2026'!#REF!,G$26,FALSE))","v":{"$error":"#REF!"}},null,{"$f":"IF($B213=\"*\",\"\",VLOOKUP($A213,'2025-2026'!#REF!,I$26,FALSE))","v":{"$error":"#REF!"}},null,{"$f":"IF($B213=\"*\",\"\",VLOOKUP($A213,'2025-2026'!#REF!,K$5,FALSE))","v":{"$error":"#REF!"}},null,{"$f":"IF($B213=\"*\",\"\",VLOOKUP($A213,'2025-2026'!#REF!,M$5,FALSE))","v":{"$error":"#REF!"}}]
[180,{"$f":"VLOOKUP(A214,'2025-2026'!#REF!,9,FALSE)","v":{"$error":"#REF!"}},{"$f":"VLOOKUP($A214,'2025-2026'!#REF!,C$26,FALSE)","v":{"$error":"#REF!"}},{"$f":"IF($B214=\"*\",\"\",VLOOKUP($A214,'2025-2026'!#REF!,D$26,FALSE))","v":{"$error":"#REF!"}},{"$f":"IF($B214=\"*\",\"\",VLOOKUP($A214,'2025-2026'!#REF!,E$26,FALSE))","v":{"$error":"#REF!"}},{"$f":"IF($B214=\"*\",\"\",VLOOKUP($A214,'2025-2026'!#REF!,F$26,FALSE))","v":{"$error":"#REF!"}},{"$f":"IF($B214=\"*\",\"\",VLOOKUP($A214,'2025-2026'!#REF!,G$26,FALSE))","v":{"$error":"#REF!"}},null,{"$f":"IF($B214=\"*\",\"\",VLOOKUP($A214,'2025-2026'!#REF!,I$26,FALSE))","v":{"$error":"#REF!"}},null,{"$f":"IF($B214=\"*\",\"\",VLOOKUP($A214,'2025-2026'!#REF!,K$5,FALSE))","v":{"$error":"#REF!"}},null,{"$f":"IF($B214=\"*\",\"\",VLOOKUP($A214,'2025-2026'!#REF!,M$5,FALSE))","v":{"$error":"#REF!"}}]
[181,{"$f":"VLOOKUP(A215,'2025-2026'!#REF!,9,FALSE)","v":{"$error":"#REF!"}},{"$f":"VLOOKUP($A215,'2025-2026'!#REF!,C$26,FALSE)","v":{"$error":"#REF!"}},{"$f":"IF($B215=\"*\",\"\",VLOOKUP($A215,'2025-2026'!#REF!,D$26,FALSE))","v":{"$error":"#REF!"}},{"$f":"IF($B215=\"*\",\"\",VLOOKUP($A215,'2025-2026'!#REF!,E$26,FALSE))","v":{"$error":"#REF!"}},{"$f":"IF($B215=\"*\",\"\",VLOOKUP($A215,'2025-2026'!#REF!,F$26,FALSE))","v":{"$error":"#REF!"}},{"$f":"IF($B215=\"*\",\"\",VLOOKUP($A215,'2025-2026'!#REF!,G$26,FALSE))","v":{"$error":"#REF!"}},null,{"$f":"IF($B215=\"*\",\"\",VLOOKUP($A215,'2025-2026'!#REF!,I$26,FALSE))","v":{"$error":"#REF!"}},null,{"$f":"IF($B215=\"*\",\"\",VLOOKUP($A215,'2025-2026'!#REF!,K$5,FALSE))","v":{"$error":"#REF!"}},null,{"$f":"IF($B215=\"*\",\"\",VLOOKUP($A215,'2025-2026'!#REF!,M$5,FALSE))","v":{"$error":"#REF!"}}]
[182,{"$f":"VLOOKUP(A216,'2025-2026'!#REF!,9,FALSE)","v":{"$error":"#REF!"}},{"$f":"VLOOKUP($A216,'2025-2026'!#REF!,C$26,FALSE)","v":{"$error":"#REF!"}},{"$f":"IF($B216=\"*\",\"\",VLOOKUP($A216,'2025-2026'!#REF!,D$26,FALSE))","v":{"$error":"#REF!"}},{"$f":"IF($B216=\"*\",\"\",VLOOKUP($A216,'2025-2026'!#REF!,E$26,FALSE))","v":{"$error":"#REF!"}},{"$f":"IF($B216=\"*\",\"\",VLOOKUP($A216,'2025-2026'!#REF!,F$26,FALSE))","v":{"$error":"#REF!"}},{"$f":"IF($B216=\"*\",\"\",VLOOKUP($A216,'2025-2026'!#REF!,G$26,FALSE))","v":{"$error":"#REF!"}},null,{"$f":"IF($B216=\"*\",\"\",VLOOKUP($A216,'2025-2026'!#REF!,I$26,FALSE))","v":{"$error":"#REF!"}},null,{"$f":"IF($B216=\"*\",\"\",VLOOKUP($A216,'2025-2026'!#REF!,K$5,FALSE))","v":{"$error":"#REF!"}},null,{"$f":"IF($B216=\"*\",\"\",VLOOKUP($A216,'2025-2026'!#REF!,M$5,FALSE))","v":{"$error":"#REF!"}}]
[183,{"$f":"VLOOKUP(A217,'2025-2026'!#REF!,9,FALSE)","v":{"$error":"#REF!"}},{"$f":"VLOOKUP($A217,'2025-2026'!#REF!,C$26,FALSE)","v":{"$error":"#REF!"}},{"$f":"IF($B217=\"*\",\"\",VLOOKUP($A217,'2025-2026'!#REF!,D$26,FALSE))","v":{"$error":"#REF!"}},{"$f":"IF($B217=\"*\",\"\",VLOOKUP($A217,'2025-2026'!#REF!,E$26,FALSE))","v":{"$error":"#REF!"}},{"$f":"IF($B217=\"*\",\"\",VLOOKUP($A217,'2025-2026'!#REF!,F$26,FALSE))","v":{"$error":"#REF!"}},{"$f":"IF($B217=\"*\",\"\",VLOOKUP($A217,'2025-2026'!#REF!,G$26,FALSE))","v":{"$error":"#REF!"}},null,{"$f":"IF($B217=\"*\",\"\",VLOOKUP($A217,'2025-2026'!#REF!,I$26,FALSE))","v":{"$error":"#REF!"}},null,{"$f":"IF($B217=\"*\",\"\",VLOOKUP($A217,'2025-2026'!#REF!,K$5,FALSE))","v":{"$error":"#REF!"}},null,{"$f":"IF($B217=\"*\",\"\",VLOOKUP($A217,'2025-2026'!#REF!,M$5,FALSE))","v":{"$error":"#REF!"}}]
[184,{"$f":"VLOOKUP(A218,'2025-2026'!#REF!,9,FALSE)","v":{"$error":"#REF!"}},{"$f":"VLOOKUP($A218,'2025-2026'!#REF!,C$26,FALSE)","v":{"$error":"#REF!"}},{"$f":"IF($B218=\"*\",\"\",VLOOKUP($A218,'2025-2026'!#REF!,D$26,FALSE))","v":{"$error":"#REF!"}},{"$f":"IF($B218=\"*\",\"\",VLOOKUP($A218,'2025-2026'!#REF!,E$26,FALSE))","v":{"$error":"#REF!"}},{"$f":"IF($B218=\"*\",\"\",VLOOKUP($A218,'2025-2026'!#REF!,F$26,FALSE))","v":{"$error":"#REF!"}},{"$f":"IF($B218=\"*\",\"\",VLOOKUP($A218,'2025-2026'!#REF!,G$26,FALSE))","v":{"$error":"#REF!"}},null,{"$f":"IF($B218=\"*\",\"\",VLOOKUP($A218,'2025-2026'!#REF!,I$26,FALSE))","v":{"$error":"#REF!"}},null,{"$f":"IF($B218=\"*\",\"\",VLOOKUP($A218,'2025-2026'!#REF!,K$5,FALSE))","v":{"$error":"#REF!"}},null,{"$f":"IF($B218=\"*\",\"\",VLOOKUP($A218,'2025-2026'!#REF!,M$5,FALSE))","v":{"$error":"#REF!"}}]
[null,null,null,null,null,"Sous total ENQUÊTE COLLISION",{"$f":"SUM(G213:G218)","v":{"$error":"#REF!"}},null,{"$f":"SUM(I213:I218)","v":{"$error":"#REF!"}},null,{"$f":"SUM(K213:K218)","v":{"$error":"#REF!"}},null,{"$f":"SUM(M213:M218)","v":{"$error":"#REF!"}}]
[{"$f":"A218+1","v":185},{"$f":"VLOOKUP(A220,'2025-2026'!#REF!,9,FALSE)","v":{"$error":"#REF!"}},{"$f":"VLOOKUP($A220,'2025-2026'!#REF!,C$26,FALSE)","v":{"$error":"#REF!"}},null,null,null,null,null,null,null,{"$f":"IF($B220=\"*\",\"\",VLOOKUP($A220,'2025-2026'!#REF!,K$5,FALSE))","v":{"$error":"#REF!"}},null,{"$f":"IF($B220=\"*\",\"\",VLOOKUP($A220,'2025-2026'!#REF!,M$5,FALSE))","v":{"$error":"#REF!"}}]
[186,{"$f":"VLOOKUP(A221,'2025-2026'!#REF!,9,FALSE)","v":{"$error":"#REF!"}},{"$f":"VLOOKUP($A221,'2025-2026'!#REF!,C$26,FALSE)","v":{"$error":"#REF!"}},{"$f":"IF($B221=\"*\",\"\",VLOOKUP($A221,'2025-2026'!#REF!,D$26,FALSE))","v":{"$error":"#REF!"}},{"$f":"IF($B221=\"*\",\"\",VLOOKUP($A221,'2025-2026'!#REF!,E$26,FALSE))","v":{"$error":"#REF!"}},{"$f":"IF($B221=\"*\",\"\",VLOOKUP($A221,'2025-2026'!#REF!,F$26,FALSE))","v":{"$error":"#REF!"}},{"$f":"IF($B221=\"*\",\"\",VLOOKUP($A221,'2025-2026'!#REF!,G$26,FALSE))","v":{"$error":"#REF!"}},null,{"$f":"IF($B221=\"*\",\"\",VLOOKUP($A221,'2025-2026'!#REF!,I$26,FALSE))","v":{"$error":"#REF!"}},null,{"$f":"IF($B221=\"*\",\"\",VLOOKUP($A221,'2025-2026'!#REF!,K$5,FALSE))","v":{"$error":"#REF!"}},null,{"$f":"IF($B221=\"*\",\"\",VLOOKUP($A221,'2025-2026'!#REF!,M$5,FALSE))","v":{"$error":"#REF!"}}]
[187,{"$f":"VLOOKUP(A222,'2025-2026'!#REF!,9,FALSE)","v":{"$error":"#REF!"}},{"$f":"VLOOKUP($A222,'2025-2026'!#REF!,C$26,FALSE)","v":{"$error":"#REF!"}},{"$f":"IF($B222=\"*\",\"\",VLOOKUP($A222,'2025-2026'!#REF!,D$26,FALSE))","v":{"$error":"#REF!"}},{"$f":"IF($B222=\"*\",\"\",VLOOKUP($A222,'2025-2026'!#REF!,E$26,FALSE))","v":{"$error":"#REF!"}},{"$f":"IF($B222=\"*\",\"\",VLOOKUP($A222,'2025-2026'!#REF!,F$26,FALSE))","v":{"$error":"#REF!"}},{"$f":"IF($B222=\"*\",\"\",VLOOKUP($A222,'2025-2026'!#REF!,G$26,FALSE))","v":{"$error":"#REF!"}},null,{"$f":"IF($B222=\"*\",\"\",VLOOKUP($A222,'2025-2026'!#REF!,I$26,FALSE))","v":{"$error":"#REF!"}},null,{"$f":"IF($B222=\"*\",\"\",VLOOKUP($A222,'2025-2026'!#REF!,K$5,FALSE))","v":{"$error":"#REF!"}},null,{"$f":"IF($B222=\"*\",\"\",VLOOKUP($A222,'2025-2026'!#REF!,M$5,FALSE))","v":{"$error":"#REF!"}}]
[188,{"$f":"VLOOKUP(A223,'2025-2026'!#REF!,9,FALSE)","v":{"$error":"#REF!"}},{"$f":"VLOOKUP($A223,'2025-2026'!#REF!,C$26,FALSE)","v":{"$error":"#REF!"}},{"$f":"IF($B223=\"*\",\"\",VLOOKUP($A223,'2025-2026'!#REF!,D$26,FALSE))","v":{"$error":"#REF!"}},{"$f":"IF($B223=\"*\",\"\",VLOOKUP($A223,'2025-2026'!#REF!,E$26,FALSE))","v":{"$error":"#REF!"}},{"$f":"IF($B223=\"*\",\"\",VLOOKUP($A223,'2025-2026'!#REF!,F$26,FALSE))","v":{"$error":"#REF!"}},{"$f":"IF($B223=\"*\",\"\",VLOOKUP($A223,'2025-2026'!#REF!,G$26,FALSE))","v":{"$error":"#REF!"}},null,{"$f":"IF($B223=\"*\",\"\",VLOOKUP($A223,'2025-2026'!#REF!,I$26,FALSE))","v":{"$error":"#REF!"}},null,{"$f":"IF($B223=\"*\",\"\",VLOOKUP($A223,'2025-2026'!#REF!,K$5,FALSE))","v":{"$error":"#REF!"}},null,{"$f":"IF($B223=\"*\",\"\",VLOOKUP($A223,'2025-2026'!#REF!,M$5,FALSE))","v":{"$error":"#REF!"}}]
[189,{"$f":"VLOOKUP(A224,'2025-2026'!#REF!,9,FALSE)","v":{"$error":"#REF!"}},{"$f":"VLOOKUP($A224,'2025-2026'!#REF!,C$26,FALSE)","v":{"$error":"#REF!"}},{"$f":"IF($B224=\"*\",\"\",VLOOKUP($A224,'2025-2026'!#REF!,D$26,FALSE))","v":{"$error":"#REF!"}},{"$f":"IF($B224=\"*\",\"\",VLOOKUP($A224,'2025-2026'!#REF!,E$26,FALSE))","v":{"$error":"#REF!"}},{"$f":"IF($B224=\"*\",\"\",VLOOKUP($A224,'2025-2026'!#REF!,F$26,FALSE))","v":{"$error":"#REF!"}},{"$f":"IF($B224=\"*\",\"\",VLOOKUP($A224,'2025-2026'!#REF!,G$26,FALSE))","v":{"$error":"#REF!"}},null,{"$f":"IF($B224=\"*\",\"\",VLOOKUP($A224,'2025-2026'!#REF!,I$26,FALSE))","v":{"$error":"#REF!"}},null,{"$f":"IF($B224=\"*\",\"\",VLOOKUP($A224,'2025-2026'!#REF!,K$5,FALSE))","v":{"$error":"#REF!"}},null,{"$f":"IF($B224=\"*\",\"\",VLOOKUP($A224,'2025-2026'!#REF!,M$5,FALSE))","v":{"$error":"#REF!"}}]
[190,{"$f":"VLOOKUP(A225,'2025-2026'!#REF!,9,FALSE)","v":{"$error":"#REF!"}},{"$f":"VLOOKUP($A225,'2025-2026'!#REF!,C$26,FALSE)","v":{"$error":"#REF!"}},{"$f":"IF($B225=\"*\",\"\",VLOOKUP($A225,'2025-2026'!#REF!,D$26,FALSE))","v":{"$error":"#REF!"}},{"$f":"IF($B225=\"*\",\"\",VLOOKUP($A225,'2025-2026'!#REF!,E$26,FALSE))","v":{"$error":"#REF!"}},{"$f":"IF($B225=\"*\",\"\",VLOOKUP($A225,'2025-2026'!#REF!,F$26,FALSE))","v":{"$error":"#REF!"}},{"$f":"IF($B225=\"*\",\"\",VLOOKUP($A225,'2025-2026'!#REF!,G$26,FALSE))","v":{"$error":"#REF!"}},null,{"$f":"IF($B225=\"*\",\"\",VLOOKUP($A225,'2025-2026'!#REF!,I$26,FALSE))","v":{"$error":"#REF!"}},null,{"$f":"IF($B225=\"*\",\"\",VLOOKUP($A225,'2025-2026'!#REF!,K$5,FALSE))","v":{"$error":"#REF!"}},null,{"$f":"IF($B225=\"*\",\"\",VLOOKUP($A225,'2025-2026'!#REF!,M$5,FALSE))","v":{"$error":"#REF!"}}]
[191,{"$f":"VLOOKUP(A226,'2025-2026'!#REF!,9,FALSE)","v":{"$error":"#REF!"}},{"$f":"VLOOKUP($A226,'2025-2026'!#REF!,C$26,FALSE)","v":{"$error":"#REF!"}},{"$f":"IF($B226=\"*\",\"\",VLOOKUP($A226,'2025-2026'!#REF!,D$26,FALSE))","v":{"$error":"#REF!"}},{"$f":"IF($B226=\"*\",\"\",VLOOKUP($A226,'2025-2026'!#REF!,E$26,FALSE))","v":{"$error":"#REF!"}},{"$f":"IF($B226=\"*\",\"\",VLOOKUP($A226,'2025-2026'!#REF!,F$26,FALSE))","v":{"$error":"#REF!"}},{"$f":"IF($B226=\"*\",\"\",VLOOKUP($A226,'2025-2026'!#REF!,G$26,FALSE))","v":{"$error":"#REF!"}},null,{"$f":"IF($B226=\"*\",\"\",VLOOKUP($A226,'2025-2026'!#REF!,I$26,FALSE))","v":{"$error":"#REF!"}},null,{"$f":"IF($B226=\"*\",\"\",VLOOKUP($A226,'2025-2026'!#REF!,K$5,FALSE))","v":{"$error":"#REF!"}},null,{"$f":"IF($B226=\"*\",\"\",VLOOKUP($A226,'2025-2026'!#REF!,M$5,FALSE))","v":{"$error":"#REF!"}}]
[192,{"$f":"VLOOKUP(A227,'2025-2026'!#REF!,9,FALSE)","v":{"$error":"#REF!"}},{"$f":"VLOOKUP($A227,'2025-2026'!#REF!,C$26,FALSE)","v":{"$error":"#REF!"}},{"$f":"IF($B227=\"*\",\"\",VLOOKUP($A227,'2025-2026'!#REF!,D$26,FALSE))","v":{"$error":"#REF!"}},{"$f":"IF($B227=\"*\",\"\",VLOOKUP($A227,'2025-2026'!#REF!,E$26,FALSE))","v":{"$error":"#REF!"}},{"$f":"IF($B227=\"*\",\"\",VLOOKUP($A227,'2025-2026'!#REF!,F$26,FALSE))","v":{"$error":"#REF!"}},{"$f":"IF($B227=\"*\",\"\",VLOOKUP($A227,'2025-2026'!#REF!,G$26,FALSE))","v":{"$error":"#REF!"}},null,{"$f":"IF($B227=\"*\",\"\",VLOOKUP($A227,'2025-2026'!#REF!,I$26,FALSE))","v":{"$error":"#REF!"}},null,{"$f":"IF($B227=\"*\",\"\",VLOOKUP($A227,'2025-2026'!#REF!,K$5,FALSE))","v":{"$error":"#REF!"}},null,{"$f":"IF($B227=\"*\",\"\",VLOOKUP($A227,'2025-2026'!#REF!,M$5,FALSE))","v":{"$error":"#REF!"}}]
[193,{"$f":"VLOOKUP(A228,'2025-2026'!#REF!,9,FALSE)","v":{"$error":"#REF!"}},{"$f":"VLOOKUP($A228,'2025-2026'!#REF!,C$26,FALSE)","v":{"$error":"#REF!"}},{"$f":"IF($B228=\"*\",\"\",VLOOKUP($A228,'2025-2026'!#REF!,D$26,FALSE))","v":{"$error":"#REF!"}},{"$f":"IF($B228=\"*\",\"\",VLOOKUP($A228,'2025-2026'!#REF!,E$26,FALSE))","v":{"$error":"#REF!"}},{"$f":"IF($B228=\"*\",\"\",VLOOKUP($A228,'2025-2026'!#REF!,F$26,FALSE))","v":{"$error":"#REF!"}},{"$f":"IF($B228=\"*\",\"\",VLOOKUP($A228,'2025-2026'!#REF!,G$26,FALSE))","v":{"$error":"#REF!"}},null,{"$f":"IF($B228=\"*\",\"\",VLOOKUP($A228,'2025-2026'!#REF!,I$26,FALSE))","v":{"$error":"#REF!"}},null,{"$f":"IF($B228=\"*\",\"\",VLOOKUP($A228,'2025-2026'!#REF!,K$5,FALSE))","v":{"$error":"#REF!"}},null,{"$f":"IF($B228=\"*\",\"\",VLOOKUP($A228,'2025-2026'!#REF!,M$5,FALSE))","v":{"$error":"#REF!"}}]
[194,{"$f":"VLOOKUP(A229,'2025-2026'!#REF!,9,FALSE)","v":{"$error":"#REF!"}},{"$f":"VLOOKUP($A229,'2025-2026'!#REF!,C$26,FALSE)","v":{"$error":"#REF!"}},{"$f":"IF($B229=\"*\",\"\",VLOOKUP($A229,'2025-2026'!#REF!,D$26,FALSE))","v":{"$error":"#REF!"}},{"$f":"IF($B229=\"*\",\"\",VLOOKUP($A229,'2025-2026'!#REF!,E$26,FALSE))","v":{"$error":"#REF!"}},{"$f":"IF($B229=\"*\",\"\",VLOOKUP($A229,'2025-2026'!#REF!,F$26,FALSE))","v":{"$error":"#REF!"}},{"$f":"IF($B229=\"*\",\"\",VLOOKUP($A229,'2025-2026'!#REF!,G$26,FALSE))","v":{"$error":"#REF!"}},null,{"$f":"IF($B229=\"*\",\"\",VLOOKUP($A229,'2025-2026'!#REF!,I$26,FALSE))","v":{"$error":"#REF!"}},null,{"$f":"IF($B229=\"*\",\"\",VLOOKUP($A229,'2025-2026'!#REF!,K$5,FALSE))","v":{"$error":"#REF!"}},null,{"$f":"IF($B229=\"*\",\"\",VLOOKUP($A229,'2025-2026'!#REF!,M$5,FALSE))","v":{"$error":"#REF!"}}]
[{"$f":"A229+1","v":195},{"$f":"VLOOKUP(A230,'2025-2026'!#REF!,9,FALSE)","v":{"$error":"#REF!"}},{"$f":"VLOOKUP($A230,'2025-2026'!#REF!,C$26,FALSE)","v":{"$error":"#REF!"}},{"$f":"IF($B230=\"*\",\"\",VLOOKUP($A230,'2025-2026'!#REF!,D$26,FALSE))","v":{"$error":"#REF!"}},{"$f":"IF($B230=\"*\",\"\",VLOOKUP($A230,'2025-2026'!#REF!,E$26,FALSE))","v":{"$error":"#REF!"}},{"$f":"IF($B230=\"*\",\"\",VLOOKUP($A230,'2025-2026'!#REF!,F$26,FALSE))","v":{"$error":"#REF!"}},{"$f":"IF($B230=\"*\",\"\",VLOOKUP($A230,'2025-2026'!#REF!,G$26,FALSE))","v":{"$error":"#REF!"}},null,{"$f":"IF($B230=\"*\",\"\",VLOOKUP($A230,'2025-2026'!#REF!,I$26,FALSE))","v":{"$error":"#REF!"}},null,{"$f":"IF($B230=\"*\",\"\",VLOOKUP($A230,'2025-2026'!#REF!,K$5,FALSE))","v":{"$error":"#REF!"}},null,{"$f":"IF($B230=\"*\",\"\",VLOOKUP($A230,'2025-2026'!#REF!,M$5,FALSE))","v":{"$error":"#REF!"}}]
[196,{"$f":"VLOOKUP(A231,'2025-2026'!#REF!,9,FALSE)","v":{"$error":"#REF!"}},{"$f":"VLOOKUP($A231,'2025-2026'!#REF!,C$26,FALSE)","v":{"$error":"#REF!"}},{"$f":"IF($B231=\"*\",\"\",VLOOKUP($A231,'2025-2026'!#REF!,D$26,FALSE))","v":{"$error":"#REF!"}},{"$f":"IF($B231=\"*\",\"\",VLOOKUP($A231,'2025-2026'!#REF!,E$26,FALSE))","v":{"$error":"#REF!"}},{"$f":"IF($B231=\"*\",\"\",VLOOKUP($A231,'2025-2026'!#REF!,F$26,FALSE))","v":{"$error":"#REF!"}},{"$f":"IF($B231=\"*\",\"\",VLOOKUP($A231,'2025-2026'!#REF!,G$26,FALSE))","v":{"$error":"#REF!"}},null,{"$f":"IF($B231=\"*\",\"\",VLOOKUP($A231,'2025-2026'!#REF!,I$26,FALSE))","v":{"$error":"#REF!"}},null,{"$f":"IF($B231=\"*\",\"\",VLOOKUP($A231,'2025-2026'!#REF!,K$5,FALSE))","v":{"$error":"#REF!"}},null,{"$f":"IF($B231=\"*\",\"\",VLOOKUP($A231,'2025-2026'!#REF!,M$5,FALSE))","v":{"$error":"#REF!"}}]
[197,{"$f":"VLOOKUP(A232,'2025-2026'!#REF!,9,FALSE)","v":{"$error":"#REF!"}},{"$f":"VLOOKUP($A232,'2025-2026'!#REF!,C$26,FALSE)","v":{"$error":"#REF!"}},{"$f":"IF($B232=\"*\",\"\",VLOOKUP($A232,'2025-2026'!#REF!,D$26,FALSE))","v":{"$error":"#REF!"}},{"$f":"IF($B232=\"*\",\"\",VLOOKUP($A232,'2025-2026'!#REF!,E$26,FALSE))","v":{"$error":"#REF!"}},{"$f":"IF($B232=\"*\",\"\",VLOOKUP($A232,'2025-2026'!#REF!,F$26,FALSE))","v":{"$error":"#REF!"}},{"$f":"IF($B232=\"*\",\"\",VLOOKUP($A232,'2025-2026'!#REF!,G$26,FALSE))","v":{"$error":"#REF!"}},null,{"$f":"IF($B232=\"*\",\"\",VLOOKUP($A232,'2025-2026'!#REF!,I$26,FALSE))","v":{"$error":"#REF!"}},null,{"$f":"IF($B232=\"*\",\"\",VLOOKUP($A232,'2025-2026'!#REF!,K$5,FALSE))","v":{"$error":"#REF!"}},null,{"$f":"IF($B232=\"*\",\"\",VLOOKUP($A232,'2025-2026'!#REF!,M$5,FALSE))","v":{"$error":"#REF!"}}]
[198,{"$f":"VLOOKUP(A233,'2025-2026'!#REF!,9,FALSE)","v":{"$error":"#REF!"}},{"$f":"VLOOKUP($A233,'2025-2026'!#REF!,C$26,FALSE)","v":{"$error":"#REF!"}},{"$f":"IF($B233=\"*\",\"\",VLOOKUP($A233,'2025-2026'!#REF!,D$26,FALSE))","v":{"$error":"#REF!"}},{"$f":"IF($B233=\"*\",\"\",VLOOKUP($A233,'2025-2026'!#REF!,E$26,FALSE))","v":{"$error":"#REF!"}},{"$f":"IF($B233=\"*\",\"\",VLOOKUP($A233,'2025-2026'!#REF!,F$26,FALSE))","v":{"$error":"#REF!"}},{"$f":"IF($B233=\"*\",\"\",VLOOKUP($A233,'2025-2026'!#REF!,G$26,FALSE))","v":{"$error":"#REF!"}},null,{"$f":"IF($B233=\"*\",\"\",VLOOKUP($A233,'2025-2026'!#REF!,I$26,FALSE))","v":{"$error":"#REF!"}},null,{"$f":"IF($B233=\"*\",\"\",VLOOKUP($A233,'2025-2026'!#REF!,K$5,FALSE))","v":{"$error":"#REF!"}},null,{"$f":"IF($B233=\"*\",\"\",VLOOKUP($A233,'2025-2026'!#REF!,M$5,FALSE))","v":{"$error":"#REF!"}}]
[199,{"$f":"VLOOKUP(A234,'2025-2026'!#REF!,9,FALSE)","v":{"$error":"#REF!"}},{"$f":"VLOOKUP($A234,'2025-2026'!#REF!,C$26,FALSE)","v":{"$error":"#REF!"}},{"$f":"IF($B234=\"*\",\"\",VLOOKUP($A234,'2025-2026'!#REF!,D$26,FALSE))","v":{"$error":"#REF!"}},{"$f":"IF($B234=\"*\",\"\",VLOOKUP($A234,'2025-2026'!#REF!,E$26,FALSE))","v":{"$error":"#REF!"}},{"$f":"IF($B234=\"*\",\"\",VLOOKUP($A234,'2025-2026'!#REF!,F$26,FALSE))","v":{"$error":"#REF!"}},{"$f":"IF($B234=\"*\",\"\",VLOOKUP($A234,'2025-2026'!#REF!,G$26,FALSE))","v":{"$error":"#REF!"}},null,{"$f":"IF($B234=\"*\",\"\",VLOOKUP($A234,'2025-2026'!#REF!,I$26,FALSE))","v":{"$error":"#REF!"}},null,{"$f":"IF($B234=\"*\",\"\",VLOOKUP($A234,'2025-2026'!#REF!,K$5,FALSE))","v":{"$error":"#REF!"}},null,{"$f":"IF($B234=\"*\",\"\",VLOOKUP($A234,'2025-2026'!#REF!,M$5,FALSE))","v":{"$error":"#REF!"}}]
[200,{"$f":"VLOOKUP(A235,'2025-2026'!#REF!,9,FALSE)","v":{"$error":"#REF!"}},{"$f":"VLOOKUP($A235,'2025-2026'!#REF!,C$26,FALSE)","v":{"$error":"#REF!"}},{"$f":"IF($B235=\"*\",\"\",VLOOKUP($A235,'2025-2026'!#REF!,D$26,FALSE))","v":{"$error":"#REF!"}},{"$f":"IF($B235=\"*\",\"\",VLOOKUP($A235,'2025-2026'!#REF!,E$26,FALSE))","v":{"$error":"#REF!"}},{"$f":"IF($B235=\"*\",\"\",VLOOKUP($A235,'2025-2026'!#REF!,F$26,FALSE))","v":{"$error":"#REF!"}},{"$f":"IF($B235=\"*\",\"\",VLOOKUP($A235,'2025-2026'!#REF!,G$26,FALSE))","v":{"$error":"#REF!"}},null,{"$f":"IF($B235=\"*\",\"\",VLOOKUP($A235,'2025-2026'!#REF!,I$26,FALSE))","v":{"$error":"#REF!"}},null,{"$f":"IF($B235=\"*\",\"\",VLOOKUP($A235,'2025-2026'!#REF!,K$5,FALSE))","v":{"$error":"#REF!"}},null,{"$f":"IF($B235=\"*\",\"\",VLOOKUP($A235,'2025-2026'!#REF!,M$5,FALSE))","v":{"$error":"#REF!"}}]
[201,{"$f":"VLOOKUP(A236,'2025-2026'!#REF!,9,FALSE)","v":{"$error":"#REF!"}},{"$f":"VLOOKUP($A236,'2025-2026'!#REF!,C$26,FALSE)","v":{"$error":"#REF!"}},null,null,null,null,null,null,null,{"$f":"IF($B236=\"*\",\"\",VLOOKUP($A236,'2025-2026'!#REF!,K$5,FALSE))","v":{"$error":"#REF!"}},null,{"$f":"IF($B236=\"*\",\"\",VLOOKUP($A236,'2025-2026'!#REF!,M$5,FALSE))","v":{"$error":"#REF!"}}]
[202,{"$f":"VLOOKUP(A237,'2025-2026'!#REF!,9,FALSE)","v":{"$error":"#REF!"}},{"$f":"VLOOKUP($A237,'2025-2026'!#REF!,C$26,FALSE)","v":{"$error":"#REF!"}},{"$f":"IF($B237=\"*\",\"\",VLOOKUP($A237,'2025-2026'!#REF!,D$26,FALSE))","v":{"$error":"#REF!"}},{"$f":"IF($B237=\"*\",\"\",VLOOKUP($A237,'2025-2026'!#REF!,E$26,FALSE))","v":{"$error":"#REF!"}},{"$f":"IF($B237=\"*\",\"\",VLOOKUP($A237,'2025-2026'!#REF!,F$26,FALSE))","v":{"$error":"#REF!"}},{"$f":"IF($B237=\"*\",\"\",VLOOKUP($A237,'2025-2026'!#REF!,G$26,FALSE))","v":{"$error":"#REF!"}},null,{"$f":"IF($B237=\"*\",\"\",VLOOKUP($A237,'2025-2026'!#REF!,I$26,FALSE))","v":{"$error":"#REF!"}},null,{"$f":"IF($B237=\"*\",\"\",VLOOKUP($A237,'2025-2026'!#REF!,K$5,FALSE))","v":{"$error":"#REF!"}},null,{"$f":"IF($B237=\"*\",\"\",VLOOKUP($A237,'2025-2026'!#REF!,M$5,FALSE))","v":{"$error":"#REF!"}}]
[203,{"$f":"VLOOKUP(A238,'2025-2026'!#REF!,9,FALSE)","v":{"$error":"#REF!"}},{"$f":"VLOOKUP($A238,'2025-2026'!#REF!,C$26,FALSE)","v":{"$error":"#REF!"}},{"$f":"IF($B238=\"*\",\"\",VLOOKUP($A238,'2025-2026'!#REF!,D$26,FALSE))","v":{"$error":"#REF!"}},{"$f":"IF($B238=\"*\",\"\",VLOOKUP($A238,'2025-2026'!#REF!,E$26,FALSE))","v":{"$error":"#REF!"}},{"$f":"IF($B238=\"*\",\"\",VLOOKUP($A238,'2025-2026'!#REF!,F$26,FALSE))","v":{"$error":"#REF!"}},{"$f":"IF($B238=\"*\",\"\",VLOOKUP($A238,'2025-2026'!#REF!,G$26,FALSE))","v":{"$error":"#REF!"}},null,{"$f":"IF($B238=\"*\",\"\",VLOOKUP($A238,'2025-2026'!#REF!,I$26,FALSE))","v":{"$error":"#REF!"}},null,{"$f":"IF($B238=\"*\",\"\",VLOOKUP($A238,'2025-2026'!#REF!,K$5,FALSE))","v":{"$error":"#REF!"}},null,{"$f":"IF($B238=\"*\",\"\",VLOOKUP($A238,'2025-2026'!#REF!,M$5,FALSE))","v":{"$error":"#REF!"}}]
[204,{"$f":"VLOOKUP(A239,'2025-2026'!#REF!,9,FALSE)","v":{"$error":"#REF!"}},{"$f":"VLOOKUP($A239,'2025-2026'!#REF!,C$26,FALSE)","v":{"$error":"#REF!"}},{"$f":"IF($B239=\"*\",\"\",VLOOKUP($A239,'2025-2026'!#REF!,D$26,FALSE))","v":{"$error":"#REF!"}},{"$f":"IF($B239=\"*\",\"\",VLOOKUP($A239,'2025-2026'!#REF!,E$26,FALSE))","v":{"$error":"#REF!"}},{"$f":"IF($B239=\"*\",\"\",VLOOKUP($A239,'2025-2026'!#REF!,F$26,FALSE))","v":{"$error":"#REF!"}},{"$f":"IF($B239=\"*\",\"\",VLOOKUP($A239,'2025-2026'!#REF!,G$26,FALSE))","v":{"$error":"#REF!"}},null,{"$f":"IF($B239=\"*\",\"\",VLOOKUP($A239,'2025-2026'!#REF!,I$26,FALSE))","v":{"$error":"#REF!"}},null,{"$f":"IF($B239=\"*\",\"\",VLOOKUP($A239,'2025-2026'!#REF!,K$5,FALSE))","v":{"$error":"#REF!"}},null,{"$f":"IF($B239=\"*\",\"\",VLOOKUP($A239,'2025-2026'!#REF!,M$5,FALSE))","v":{"$error":"#REF!"}}]
[205,{"$f":"VLOOKUP(A240,'2025-2026'!#REF!,9,FALSE)","v":{"$error":"#REF!"}},{"$f":"VLOOKUP($A240,'2025-2026'!#REF!,C$26,FALSE)","v":{"$error":"#REF!"}},{"$f":"IF($B240=\"*\",\"\",VLOOKUP($A240,'2025-2026'!#REF!,D$26,FALSE))","v":{"$error":"#REF!"}},{"$f":"IF($B240=\"*\",\"\",VLOOKUP($A240,'2025-2026'!#REF!,E$26,FALSE))","v":{"$error":"#REF!"}},{"$f":"IF($B240=\"*\",\"\",VLOOKUP($A240,'2025-2026'!#REF!,F$26,FALSE))","v":{"$error":"#REF!"}},{"$f":"IF($B240=\"*\",\"\",VLOOKUP($A240,'2025-2026'!#REF!,G$26,FALSE))","v":{"$error":"#REF!"}},null,{"$f":"IF($B240=\"*\",\"\",VLOOKUP($A240,'2025-2026'!#REF!,I$26,FALSE))","v":{"$error":"#REF!"}},null,{"$f":"IF($B240=\"*\",\"\",VLOOKUP($A240,'2025-2026'!#REF!,K$5,FALSE))","v":{"$error":"#REF!"}},null,{"$f":"IF($B240=\"*\",\"\",VLOOKUP($A240,'2025-2026'!#REF!,M$5,FALSE))","v":{"$error":"#REF!"}}]
[206,{"$f":"VLOOKUP(A241,'2025-2026'!#REF!,9,FALSE)","v":{"$error":"#REF!"}},{"$f":"VLOOKUP($A241,'2025-2026'!#REF!,C$26,FALSE)","v":{"$error":"#REF!"}},{"$f":"IF($B241=\"*\",\"\",VLOOKUP($A241,'2025-2026'!#REF!,D$26,FALSE))","v":{"$error":"#REF!"}},{"$f":"IF($B241=\"*\",\"\",VLOOKUP($A241,'2025-2026'!#REF!,E$26,FALSE))","v":{"$error":"#REF!"}},{"$f":"IF($B241=\"*\",\"\",VLOOKUP($A241,'2025-2026'!#REF!,F$26,FALSE))","v":{"$error":"#REF!"}},{"$f":"IF($B241=\"*\",\"\",VLOOKUP($A241,'2025-2026'!#REF!,G$26,FALSE))","v":{"$error":"#REF!"}},null,{"$f":"IF($B241=\"*\",\"\",VLOOKUP($A241,'2025-2026'!#REF!,I$26,FALSE))","v":{"$error":"#REF!"}},null,{"$f":"IF($B241=\"*\",\"\",VLOOKUP($A241,'2025-2026'!#REF!,K$5,FALSE))","v":{"$error":"#REF!"}},null,{"$f":"IF($B241=\"*\",\"\",VLOOKUP($A241,'2025-2026'!#REF!,M$5,FALSE))","v":{"$error":"#REF!"}}]
[207,{"$f":"VLOOKUP(A242,'2025-2026'!#REF!,9,FALSE)","v":{"$error":"#REF!"}},{"$f":"VLOOKUP($A242,'2025-2026'!#REF!,C$26,FALSE)","v":{"$error":"#REF!"}},{"$f":"IF($B242=\"*\",\"\",VLOOKUP($A242,'2025-2026'!#REF!,D$26,FALSE))","v":{"$error":"#REF!"}},{"$f":"IF($B242=\"*\",\"\",VLOOKUP($A242,'2025-2026'!#REF!,E$26,FALSE))","v":{"$error":"#REF!"}},{"$f":"IF($B242=\"*\",\"\",VLOOKUP($A242,'2025-2026'!#REF!,F$26,FALSE))","v":{"$error":"#REF!"}},{"$f":"IF($B242=\"*\",\"\",VLOOKUP($A242,'2025-2026'!#REF!,G$26,FALSE))","v":{"$error":"#REF!"}},null,{"$f":"IF($B242=\"*\",\"\",VLOOKUP($A242,'2025-2026'!#REF!,I$26,FALSE))","v":{"$error":"#REF!"}},null,{"$f":"IF($B242=\"*\",\"\",VLOOKUP($A242,'2025-2026'!#REF!,K$5,FALSE))","v":{"$error":"#REF!"}},null,{"$f":"IF($B242=\"*\",\"\",VLOOKUP($A242,'2025-2026'!#REF!,M$5,FALSE))","v":{"$error":"#REF!"}}]
[208,{"$f":"VLOOKUP(A243,'2025-2026'!#REF!,9,FALSE)","v":{"$error":"#REF!"}},{"$f":"VLOOKUP($A243,'2025-2026'!#REF!,C$26,FALSE)","v":{"$error":"#REF!"}},{"$f":"IF($B243=\"*\",\"\",VLOOKUP($A243,'2025-2026'!#REF!,D$26,FALSE))","v":{"$error":"#REF!"}},{"$f":"IF($B243=\"*\",\"\",VLOOKUP($A243,'2025-2026'!#REF!,E$26,FALSE))","v":{"$error":"#REF!"}},{"$f":"IF($B243=\"*\",\"\",VLOOKUP($A243,'2025-2026'!#REF!,F$26,FALSE))","v":{"$error":"#REF!"}},{"$f":"IF($B243=\"*\",\"\",VLOOKUP($A243,'2025-2026'!#REF!,G$26,FALSE))","v":{"$error":"#REF!"}},null,{"$f":"IF($B243=\"*\",\"\",VLOOKUP($A243,'2025-2026'!#REF!,I$26,FALSE))","v":{"$error":"#REF!"}},null,{"$f":"IF($B243=\"*\",\"\",VLOOKUP($A243,'2025-2026'!#REF!,K$5,FALSE))","v":{"$error":"#REF!"}},null,{"$f":"IF($B243=\"*\",\"\",VLOOKUP($A243,'2025-2026'!#REF!,M$5,FALSE))","v":{"$error":"#REF!"}}]
[209,{"$f":"VLOOKUP(A244,'2025-2026'!#REF!,9,FALSE)","v":{"$error":"#REF!"}},{"$f":"VLOOKUP($A244,'2025-2026'!#REF!,C$26,FALSE)","v":{"$error":"#REF!"}},{"$f":"IF($B244=\"*\",\"\",VLOOKUP($A244,'2025-2026'!#REF!,D$26,FALSE))","v":{"$error":"#REF!"}},{"$f":"IF($B244=\"*\",\"\",VLOOKUP($A244,'2025-2026'!#REF!,E$26,FALSE))","v":{"$error":"#REF!"}},{"$f":"IF($B244=\"*\",\"\",VLOOKUP($A244,'2025-2026'!#REF!,F$26,FALSE))","v":{"$error":"#REF!"}},{"$f":"IF($B244=\"*\",\"\",VLOOKUP($A244,'2025-2026'!#REF!,G$26,FALSE))","v":{"$error":"#REF!"}},null,{"$f":"IF($B244=\"*\",\"\",VLOOKUP($A244,'2025-2026'!#REF!,I$26,FALSE))","v":{"$error":"#REF!"}},null,{"$f":"IF($B244=\"*\",\"\",VLOOKUP($A244,'2025-2026'!#REF!,K$5,FALSE))","v":{"$error":"#REF!"}},null,{"$f":"IF($B244=\"*\",\"\",VLOOKUP($A244,'2025-2026'!#REF!,M$5,FALSE))","v":{"$error":"#REF!"}}]
[210,{"$f":"VLOOKUP(A245,'2025-2026'!#REF!,9,FALSE)","v":{"$error":"#REF!"}},{"$f":"VLOOKUP($A245,'2025-2026'!#REF!,C$26,FALSE)","v":{"$error":"#REF!"}},{"$f":"IF($B245=\"*\",\"\",VLOOKUP($A245,'2025-2026'!#REF!,D$26,FALSE))","v":{"$error":"#REF!"}},{"$f":"IF($B245=\"*\",\"\",VLOOKUP($A245,'2025-2026'!#REF!,E$26,FALSE))","v":{"$error":"#REF!"}},{"$f":"IF($B245=\"*\",\"\",VLOOKUP($A245,'2025-2026'!#REF!,F$26,FALSE))","v":{"$error":"#REF!"}},{"$f":"IF($B245=\"*\",\"\",VLOOKUP($A245,'2025-2026'!#REF!,G$26,FALSE))","v":{"$error":"#REF!"}},null,{"$f":"IF($B245=\"*\",\"\",VLOOKUP($A245,'2025-2026'!#REF!,I$26,FALSE))","v":{"$error":"#REF!"}},null,{"$f":"IF($B245=\"*\",\"\",VLOOKUP($A245,'2025-2026'!#REF!,K$5,FALSE))","v":{"$error":"#REF!"}},null,{"$f":"IF($B245=\"*\",\"\",VLOOKUP($A245,'2025-2026'!#REF!,M$5,FALSE))","v":{"$error":"#REF!"}}]
[211,{"$f":"VLOOKUP(A246,'2025-2026'!#REF!,9,FALSE)","v":{"$error":"#REF!"}},{"$f":"VLOOKUP($A246,'2025-2026'!#REF!,C$26,FALSE)","v":{"$error":"#REF!"}},{"$f":"IF($B246=\"*\",\"\",VLOOKUP($A246,'2025-2026'!#REF!,D$26,FALSE))","v":{"$error":"#REF!"}},{"$f":"IF($B246=\"*\",\"\",VLOOKUP($A246,'2025-2026'!#REF!,E$26,FALSE))","v":{"$error":"#REF!"}},{"$f":"IF($B246=\"*\",\"\",VLOOKUP($A246,'2025-2026'!#REF!,F$26,FALSE))","v":{"$error":"#REF!"}},{"$f":"IF($B246=\"*\",\"\",VLOOKUP($A246,'2025-2026'!#REF!,G$26,FALSE))","v":{"$error":"#REF!"}},null,{"$f":"IF($B246=\"*\",\"\",VLOOKUP($A246,'2025-2026'!#REF!,I$26,FALSE))","v":{"$error":"#REF!"}},null,{"$f":"IF($B246=\"*\",\"\",VLOOKUP($A246,'2025-2026'!#REF!,K$5,FALSE))","v":{"$error":"#REF!"}},null,{"$f":"IF($B246=\"*\",\"\",VLOOKUP($A246,'2025-2026'!#REF!,M$5,FALSE))","v":{"$error":"#REF!"}}]
[212,{"$f":"VLOOKUP(A247,'2025-2026'!#REF!,9,FALSE)","v":{"$error":"#REF!"}},{"$f":"VLOOKUP($A247,'2025-2026'!#REF!,C$26,FALSE)","v":{"$error":"#REF!"}},{"$f":"IF($B247=\"*\",\"\",VLOOKUP($A247,'2025-2026'!#REF!,D$26,FALSE))","v":{"$error":"#REF!"}},{"$f":"IF($B247=\"*\",\"\",VLOOKUP($A247,'2025-2026'!#REF!,E$26,FALSE))","v":{"$error":"#REF!"}},{"$f":"IF($B247=\"*\",\"\",VLOOKUP($A247,'2025-2026'!#REF!,F$26,FALSE))","v":{"$error":"#REF!"}},{"$f":"IF($B247=\"*\",\"\",VLOOKUP($A247,'2025-2026'!#REF!,G$26,FALSE))","v":{"$error":"#REF!"}},null,{"$f":"IF($B247=\"*\",\"\",VLOOKUP($A247,'2025-2026'!#REF!,I$26,FALSE))","v":{"$error":"#REF!"}},null,{"$f":"IF($B247=\"*\",\"\",VLOOKUP($A247,'2025-2026'!#REF!,K$5,FALSE))","v":{"$error":"#REF!"}},null,{"$f":"IF($B247=\"*\",\"\",VLOOKUP($A247,'2025-2026'!#REF!,M$5,FALSE))","v":{"$error":"#REF!"}}]
[213,{"$f":"VLOOKUP(A248,'2025-2026'!#REF!,9,FALSE)","v":{"$error":"#REF!"}},{"$f":"VLOOKUP($A248,'2025-2026'!#REF!,C$26,FALSE)","v":{"$error":"#REF!"}},{"$f":"IF($B248=\"*\",\"\",VLOOKUP($A248,'2025-2026'!#REF!,D$26,FALSE))","v":{"$error":"#REF!"}},{"$f":"IF($B248=\"*\",\"\",VLOOKUP($A248,'2025-2026'!#REF!,E$26,FALSE))","v":{"$error":"#REF!"}},{"$f":"IF($B248=\"*\",\"\",VLOOKUP($A248,'2025-2026'!#REF!,F$26,FALSE))","v":{"$error":"#REF!"}},{"$f":"IF($B248=\"*\",\"\",VLOOKUP($A248,'2025-2026'!#REF!,G$26,FALSE))","v":{"$error":"#REF!"}},null,{"$f":"IF($B248=\"*\",\"\",VLOOKUP($A248,'2025-2026'!#REF!,I$26,FALSE))","v":{"$error":"#REF!"}},null,{"$f":"IF($B248=\"*\",\"\",VLOOKUP($A248,'2025-2026'!#REF!,K$5,FALSE))","v":{"$error":"#REF!"}},null,{"$f":"IF($B248=\"*\",\"\",VLOOKUP($A248,'2025-2026'!#REF!,M$5,FALSE))","v":{"$error":"#REF!"}}]
[214,{"$f":"VLOOKUP(A249,'2025-2026'!#REF!,9,FALSE)","v":{"$error":"#REF!"}},{"$f":"VLOOKUP($A249,'2025-2026'!#REF!,C$26,FALSE)","v":{"$error":"#REF!"}},{"$f":"IF($B249=\"*\",\"\",VLOOKUP($A249,'2025-2026'!#REF!,D$26,FALSE))","v":{"$error":"#REF!"}},{"$f":"IF($B249=\"*\",\"\",VLOOKUP($A249,'2025-2026'!#REF!,E$26,FALSE))","v":{"$error":"#REF!"}},{"$f":"IF($B249=\"*\",\"\",VLOOKUP($A249,'2025-2026'!#REF!,F$26,FALSE))","v":{"$error":"#REF!"}},{"$f":"IF($B249=\"*\",\"\",VLOOKUP($A249,'2025-2026'!#REF!,G$26,FALSE))","v":{"$error":"#REF!"}},null,{"$f":"IF($B249=\"*\",\"\",VLOOKUP($A249,'2025-2026'!#REF!,I$26,FALSE))","v":{"$error":"#REF!"}},null,{"$f":"IF($B249=\"*\",\"\",VLOOKUP($A249,'2025-2026'!#REF!,K$5,FALSE))","v":{"$error":"#REF!"}},null,{"$f":"IF($B249=\"*\",\"\",VLOOKUP($A249,'2025-2026'!#REF!,M$5,FALSE))","v":{"$error":"#REF!"}}]
[215,{"$f":"VLOOKUP(A250,'2025-2026'!#REF!,9,FALSE)","v":{"$error":"#REF!"}},{"$f":"VLOOKUP($A250,'2025-2026'!#REF!,C$26,FALSE)","v":{"$error":"#REF!"}},{"$f":"IF($B250=\"*\",\"\",VLOOKUP($A250,'2025-2026'!#REF!,D$26,FALSE))","v":{"$error":"#REF!"}},{"$f":"IF($B250=\"*\",\"\",VLOOKUP($A250,'2025-2026'!#REF!,E$26,FALSE))","v":{"$error":"#REF!"}},{"$f":"IF($B250=\"*\",\"\",VLOOKUP($A250,'2025-2026'!#REF!,F$26,FALSE))","v":{"$error":"#REF!"}},{"$f":"IF($B250=\"*\",\"\",VLOOKUP($A250,'2025-2026'!#REF!,G$26,FALSE))","v":{"$error":"#REF!"}},null,{"$f":"IF($B250=\"*\",\"\",VLOOKUP($A250,'2025-2026'!#REF!,I$26,FALSE))","v":{"$error":"#REF!"}},null,{"$f":"IF($B250=\"*\",\"\",VLOOKUP($A250,'2025-2026'!#REF!,K$5,FALSE))","v":{"$error":"#REF!"}},null,{"$f":"IF($B250=\"*\",\"\",VLOOKUP($A250,'2025-2026'!#REF!,M$5,FALSE))","v":{"$error":"#REF!"}}]
[216,{"$f":"VLOOKUP(A251,'2025-2026'!#REF!,9,FALSE)","v":{"$error":"#REF!"}},{"$f":"VLOOKUP($A251,'2025-2026'!#REF!,C$26,FALSE)","v":{"$error":"#REF!"}},null,null,null,null,null,null,null,{"$f":"IF($B251=\"*\",\"\",VLOOKUP($A251,'2025-2026'!#REF!,K$5,FALSE))","v":{"$error":"#REF!"}},null,{"$f":"IF($B251=\"*\",\"\",VLOOKUP($A251,'2025-2026'!#REF!,M$5,FALSE))","v":{"$error":"#REF!"}}]
[217,{"$f":"VLOOKUP(A252,'2025-2026'!#REF!,9,FALSE)","v":{"$error":"#REF!"}},{"$f":"VLOOKUP($A252,'2025-2026'!#REF!,C$26,FALSE)","v":{"$error":"#REF!"}},{"$f":"IF($B252=\"*\",\"\",VLOOKUP($A252,'2025-2026'!#REF!,D$26,FALSE))","v":{"$error":"#REF!"}},{"$f":"IF($B252=\"*\",\"\",VLOOKUP($A252,'2025-2026'!#REF!,E$26,FALSE))","v":{"$error":"#REF!"}},{"$f":"IF($B252=\"*\",\"\",VLOOKUP($A252,'2025-2026'!#REF!,F$26,FALSE))","v":{"$error":"#REF!"}},{"$f":"IF($B252=\"*\",\"\",VLOOKUP($A252,'2025-2026'!#REF!,G$26,FALSE))","v":{"$error":"#REF!"}},null,{"$f":"IF($B252=\"*\",\"\",VLOOKUP($A252,'2025-2026'!#REF!,I$26,FALSE))","v":{"$error":"#REF!"}},null,{"$f":"IF($B252=\"*\",\"\",VLOOKUP($A252,'2025-2026'!#REF!,K$5,FALSE))","v":{"$error":"#REF!"}},null,{"$f":"IF($B252=\"*\",\"\",VLOOKUP($A252,'2025-2026'!#REF!,M$5,FALSE))","v":{"$error":"#REF!"}}]
[218,{"$f":"VLOOKUP(A253,'2025-2026'!#REF!,9,FALSE)","v":{"$error":"#REF!"}},{"$f":"VLOOKUP($A253,'2025-2026'!#REF!,C$26,FALSE)","v":{"$error":"#REF!"}},{"$f":"IF($B253=\"*\",\"\",VLOOKUP($A253,'2025-2026'!#REF!,D$26,FALSE))","v":{"$error":"#REF!"}},{"$f":"IF($B253=\"*\",\"\",VLOOKUP($A253,'2025-2026'!#REF!,E$26,FALSE))","v":{"$error":"#REF!"}},{"$f":"IF($B253=\"*\",\"\",VLOOKUP($A253,'2025-2026'!#REF!,F$26,FALSE))","v":{"$error":"#REF!"}},{"$f":"IF($B253=\"*\",\"\",VLOOKUP($A253,'2025-2026'!#REF!,G$26,FALSE))","v":{"$error":"#REF!"}},null,{"$f":"IF($B253=\"*\",\"\",VLOOKUP($A253,'2025-2026'!#REF!,I$26,FALSE))","v":{"$error":"#REF!"}},null,{"$f":"IF($B253=\"*\",\"\",VLOOKUP($A253,'2025-2026'!#REF!,K$5,FALSE))","v":{"$error":"#REF!"}},null,{"$f":"IF($B253=\"*\",\"\",VLOOKUP($A253,'2025-2026'!#REF!,M$5,FALSE))","v":{"$error":"#REF!"}}]
[219,{"$f":"VLOOKUP(A254,'2025-2026'!#REF!,9,FALSE)","v":{"$error":"#REF!"}},{"$f":"VLOOKUP($A254,'2025-2026'!#REF!,C$26,FALSE)","v":{"$error":"#REF!"}},{"$f":"IF($B254=\"*\",\"\",VLOOKUP($A254,'2025-2026'!#REF!,D$26,FALSE))","v":{"$error":"#REF!"}},{"$f":"IF($B254=\"*\",\"\",VLOOKUP($A254,'2025-2026'!#REF!,E$26,FALSE))","v":{"$error":"#REF!"}},{"$f":"IF($B254=\"*\",\"\",VLOOKUP($A254,'2025-2026'!#REF!,F$26,FALSE))","v":{"$error":"#REF!"}},{"$f":"IF($B254=\"*\",\"\",VLOOKUP($A254,'2025-2026'!#REF!,G$26,FALSE))","v":{"$error":"#REF!"}},null,{"$f":"IF($B254=\"*\",\"\",VLOOKUP($A254,'2025-2026'!#REF!,I$26,FALSE))","v":{"$error":"#REF!"}},null,{"$f":"IF($B254=\"*\",\"\",VLOOKUP($A254,'2025-2026'!#REF!,K$5,FALSE))","v":{"$error":"#REF!"}},null,{"$f":"IF($B254=\"*\",\"\",VLOOKUP($A254,'2025-2026'!#REF!,M$5,FALSE))","v":{"$error":"#REF!"}}]
[220,{"$f":"VLOOKUP(A255,'2025-2026'!#REF!,9,FALSE)","v":{"$error":"#REF!"}},{"$f":"VLOOKUP($A255,'2025-2026'!#REF!,C$26,FALSE)","v":{"$error":"#REF!"}},{"$f":"IF($B255=\"*\",\"\",VLOOKUP($A255,'2025-2026'!#REF!,D$26,FALSE))","v":{"$error":"#REF!"}},{"$f":"IF($B255=\"*\",\"\",VLOOKUP($A255,'2025-2026'!#REF!,E$26,FALSE))","v":{"$error":"#REF!"}},{"$f":"IF($B255=\"*\",\"\",VLOOKUP($A255,'2025-2026'!#REF!,F$26,FALSE))","v":{"$error":"#REF!"}},{"$f":"IF($B255=\"*\",\"\",VLOOKUP($A255,'2025-2026'!#REF!,G$26,FALSE))","v":{"$error":"#REF!"}},null,{"$f":"IF($B255=\"*\",\"\",VLOOKUP($A255,'2025-2026'!#REF!,I$26,FALSE))","v":{"$error":"#REF!"}},null,{"$f":"IF($B255=\"*\",\"\",VLOOKUP($A255,'2025-2026'!#REF!,K$5,FALSE))","v":{"$error":"#REF!"}},null,{"$f":"IF($B255=\"*\",\"\",VLOOKUP($A255,'2025-2026'!#REF!,M$5,FALSE))","v":{"$error":"#REF!"}}]
[221,{"$f":"VLOOKUP(A256,'2025-2026'!#REF!,9,FALSE)","v":{"$error":"#REF!"}},{"$f":"VLOOKUP($A256,'2025-2026'!#REF!,C$26,FALSE)","v":{"$error":"#REF!"}},{"$f":"IF($B256=\"*\",\"\",VLOOKUP($A256,'2025-2026'!#REF!,D$26,FALSE))","v":{"$error":"#REF!"}},{"$f":"IF($B256=\"*\",\"\",VLOOKUP($A256,'2025-2026'!#REF!,E$26,FALSE))","v":{"$error":"#REF!"}},{"$f":"IF($B256=\"*\",\"\",VLOOKUP($A256,'2025-2026'!#REF!,F$26,FALSE))","v":{"$error":"#REF!"}},{"$f":"IF($B256=\"*\",\"\",VLOOKUP($A256,'2025-2026'!#REF!,G$26,FALSE))","v":{"$error":"#REF!"}},null,{"$f":"IF($B256=\"*\",\"\",VLOOKUP($A256,'2025-2026'!#REF!,I$26,FALSE))","v":{"$error":"#REF!"}},null,{"$f":"IF($B256=\"*\",\"\",VLOOKUP($A256,'2025-2026'!#REF!,K$5,FALSE))","v":{"$error":"#REF!"}},null,{"$f":"IF($B256=\"*\",\"\",VLOOKUP($A256,'2025-2026'!#REF!,M$5,FALSE))","v":{"$error":"#REF!"}}]
[222,{"$f":"VLOOKUP(A257,'2025-2026'!#REF!,9,FALSE)","v":{"$error":"#REF!"}},{"$f":"VLOOKUP($A257,'2025-2026'!#REF!,C$26,FALSE)","v":{"$error":"#REF!"}},{"$f":"IF($B257=\"*\",\"\",VLOOKUP($A257,'2025-2026'!#REF!,D$26,FALSE))","v":{"$error":"#REF!"}},{"$f":"IF($B257=\"*\",\"\",VLOOKUP($A257,'2025-2026'!#REF!,E$26,FALSE))","v":{"$error":"#REF!"}},{"$f":"IF($B257=\"*\",\"\",VLOOKUP($A257,'2025-2026'!#REF!,F$26,FALSE))","v":{"$error":"#REF!"}},{"$f":"IF($B257=\"*\",\"\",VLOOKUP($A257,'2025-2026'!#REF!,G$26,FALSE))","v":{"$error":"#REF!"}},null,{"$f":"IF($B257=\"*\",\"\",VLOOKUP($A257,'2025-2026'!#REF!,I$26,FALSE))","v":{"$error":"#REF!"}},null,{"$f":"IF($B257=\"*\",\"\",VLOOKUP($A257,'2025-2026'!#REF!,K$5,FALSE))","v":{"$error":"#REF!"}},null,{"$f":"IF($B257=\"*\",\"\",VLOOKUP($A257,'2025-2026'!#REF!,M$5,FALSE))","v":{"$error":"#REF!"}}]
[223,{"$f":"VLOOKUP(A258,'2025-2026'!#REF!,9,FALSE)","v":{"$error":"#REF!"}},{"$f":"VLOOKUP($A258,'2025-2026'!#REF!,C$26,FALSE)","v":{"$error":"#REF!"}},{"$f":"IF($B258=\"*\",\"\",VLOOKUP($A258,'2025-2026'!#REF!,D$26,FALSE))","v":{"$error":"#REF!"}},{"$f":"IF($B258=\"*\",\"\",VLOOKUP($A258,'2025-2026'!#REF!,E$26,FALSE))","v":{"$error":"#REF!"}},{"$f":"IF($B258=\"*\",\"\",VLOOKUP($A258,'2025-2026'!#REF!,F$26,FALSE))","v":{"$error":"#REF!"}},{"$f":"IF($B258=\"*\",\"\",VLOOKUP($A258,'2025-2026'!#REF!,G$26,FALSE))","v":{"$error":"#REF!"}},null,{"$f":"IF($B258=\"*\",\"\",VLOOKUP($A258,'2025-2026'!#REF!,I$26,FALSE))","v":{"$error":"#REF!"}},null,{"$f":"IF($B258=\"*\",\"\",VLOOKUP($A258,'2025-2026'!#REF!,K$5,FALSE))","v":{"$error":"#REF!"}},null,{"$f":"IF($B258=\"*\",\"\",VLOOKUP($A258,'2025-2026'!#REF!,M$5,FALSE))","v":{"$error":"#REF!"}}]
[224,{"$f":"VLOOKUP(A259,'2025-2026'!#REF!,9,FALSE)","v":{"$error":"#REF!"}},{"$f":"VLOOKUP($A259,'2025-2026'!#REF!,C$26,FALSE)","v":{"$error":"#REF!"}},{"$f":"IF($B259=\"*\",\"\",VLOOKUP($A259,'2025-2026'!#REF!,D$26,FALSE))","v":{"$error":"#REF!"}},{"$f":"IF($B259=\"*\",\"\",VLOOKUP($A259,'2025-2026'!#REF!,E$26,FALSE))","v":{"$error":"#REF!"}},{"$f":"IF($B259=\"*\",\"\",VLOOKUP($A259,'2025-2026'!#REF!,F$26,FALSE))","v":{"$error":"#REF!"}},{"$f":"IF($B259=\"*\",\"\",VLOOKUP($A259,'2025-2026'!#REF!,G$26,FALSE))","v":{"$error":"#REF!"}},null,{"$f":"IF($B259=\"*\",\"\",VLOOKUP($A259,'2025-2026'!#REF!,I$26,FALSE))","v":{"$error":"#REF!"}},null,{"$f":"IF($B259=\"*\",\"\",VLOOKUP($A259,'2025-2026'!#REF!,K$5,FALSE))","v":{"$error":"#REF!"}},null,{"$f":"IF($B259=\"*\",\"\",VLOOKUP($A259,'2025-2026'!#REF!,M$5,FALSE))","v":{"$error":"#REF!"}}]
[225,{"$f":"VLOOKUP(A260,'2025-2026'!#REF!,9,FALSE)","v":{"$error":"#REF!"}},{"$f":"VLOOKUP($A260,'2025-2026'!#REF!,C$26,FALSE)","v":{"$error":"#REF!"}},{"$f":"IF($B260=\"*\",\"\",VLOOKUP($A260,'2025-2026'!#REF!,D$26,FALSE))","v":{"$error":"#REF!"}},{"$f":"IF($B260=\"*\",\"\",VLOOKUP($A260,'2025-2026'!#REF!,E$26,FALSE))","v":{"$error":"#REF!"}},{"$f":"IF($B260=\"*\",\"\",VLOOKUP($A260,'2025-2026'!#REF!,F$26,FALSE))","v":{"$error":"#REF!"}},{"$f":"IF($B260=\"*\",\"\",VLOOKUP($A260,'2025-2026'!#REF!,G$26,FALSE))","v":{"$error":"#REF!"}},null,{"$f":"IF($B260=\"*\",\"\",VLOOKUP($A260,'2025-2026'!#REF!,I$26,FALSE))","v":{"$error":"#REF!"}},null,{"$f":"IF($B260=\"*\",\"\",VLOOKUP($A260,'2025-2026'!#REF!,K$5,FALSE))","v":{"$error":"#REF!"}},null,{"$f":"IF($B260=\"*\",\"\",VLOOKUP($A260,'2025-2026'!#REF!,M$5,FALSE))","v":{"$error":"#REF!"}}]
[226,{"$f":"VLOOKUP(A261,'2025-2026'!#REF!,9,FALSE)","v":{"$error":"#REF!"}},{"$f":"VLOOKUP($A261,'2025-2026'!#REF!,C$26,FALSE)","v":{"$error":"#REF!"}},{"$f":"IF($B261=\"*\",\"\",VLOOKUP($A261,'2025-2026'!#REF!,D$26,FALSE))","v":{"$error":"#REF!"}},{"$f":"IF($B261=\"*\",\"\",VLOOKUP($A261,'2025-2026'!#REF!,E$26,FALSE))","v":{"$error":"#REF!"}},{"$f":"IF($B261=\"*\",\"\",VLOOKUP($A261,'2025-2026'!#REF!,F$26,FALSE))","v":{"$error":"#REF!"}},{"$f":"IF($B261=\"*\",\"\",VLOOKUP($A261,'2025-2026'!#REF!,G$26,FALSE))","v":{"$error":"#REF!"}},null,{"$f":"IF($B261=\"*\",\"\",VLOOKUP($A261,'2025-2026'!#REF!,I$26,FALSE))","v":{"$error":"#REF!"}},null,{"$f":"IF($B261=\"*\",\"\",VLOOKUP($A261,'2025-2026'!#REF!,K$5,FALSE))","v":{"$error":"#REF!"}},null,{"$f":"IF($B261=\"*\",\"\",VLOOKUP($A261,'2025-2026'!#REF!,M$5,FALSE))","v":{"$error":"#REF!"}}]
[227,{"$f":"VLOOKUP(A262,'2025-2026'!#REF!,9,FALSE)","v":{"$error":"#REF!"}},{"$f":"VLOOKUP($A262,'2025-2026'!#REF!,C$26,FALSE)","v":{"$error":"#REF!"}},{"$f":"IF($B262=\"*\",\"\",VLOOKUP($A262,'2025-2026'!#REF!,D$26,FALSE))","v":{"$error":"#REF!"}},{"$f":"IF($B262=\"*\",\"\",VLOOKUP($A262,'2025-2026'!#REF!,E$26,FALSE))","v":{"$error":"#REF!"}},{"$f":"IF($B262=\"*\",\"\",VLOOKUP($A262,'2025-2026'!#REF!,F$26,FALSE))","v":{"$error":"#REF!"}},{"$f":"IF($B262=\"*\",\"\",VLOOKUP($A262,'2025-2026'!#REF!,G$26,FALSE))","v":{"$error":"#REF!"}},null,{"$f":"IF($B262=\"*\",\"\",VLOOKUP($A262,'2025-2026'!#REF!,I$26,FALSE))","v":{"$error":"#REF!"}},null,{"$f":"IF($B262=\"*\",\"\",VLOOKUP($A262,'2025-2026'!#REF!,K$5,FALSE))","v":{"$error":"#REF!"}},null,{"$f":"IF($B262=\"*\",\"\",VLOOKUP($A262,'2025-2026'!#REF!,M$5,FALSE))","v":{"$error":"#REF!"}}]
[228,{"$f":"VLOOKUP(A263,'2025-2026'!#REF!,9,FALSE)","v":{"$error":"#REF!"}},{"$f":"VLOOKUP($A263,'2025-2026'!#REF!,C$26,FALSE)","v":{"$error":"#REF!"}},{"$f":"IF($B263=\"*\",\"\",VLOOKUP($A263,'2025-2026'!#REF!,D$26,FALSE))","v":{"$error":"#REF!"}},{"$f":"IF($B263=\"*\",\"\",VLOOKUP($A263,'2025-2026'!#REF!,E$26,FALSE))","v":{"$error":"#REF!"}},{"$f":"IF($B263=\"*\",\"\",VLOOKUP($A263,'2025-2026'!#REF!,F$26,FALSE))","v":{"$error":"#REF!"}},{"$f":"IF($B263=\"*\",\"\",VLOOKUP($A263,'2025-2026'!#REF!,G$26,FALSE))","v":{"$error":"#REF!"}},null,{"$f":"IF($B263=\"*\",\"\",VLOOKUP($A263,'2025-2026'!#REF!,I$26,FALSE))","v":{"$error":"#REF!"}},null,{"$f":"IF($B263=\"*\",\"\",VLOOKUP($A263,'2025-2026'!#REF!,K$5,FALSE))","v":{"$error":"#REF!"}},null,{"$f":"IF($B263=\"*\",\"\",VLOOKUP($A263,'2025-2026'!#REF!,M$5,FALSE))","v":{"$error":"#REF!"}}]
[229,{"$f":"VLOOKUP(A264,'2025-2026'!#REF!,9,FALSE)","v":{"$error":"#REF!"}},{"$f":"VLOOKUP($A264,'2025-2026'!#REF!,C$26,FALSE)","v":{"$error":"#REF!"}},{"$f":"IF($B264=\"*\",\"\",VLOOKUP($A264,'2025-2026'!#REF!,D$26,FALSE))","v":{"$error":"#REF!"}},{"$f":"IF($B264=\"*\",\"\",VLOOKUP($A264,'2025-2026'!#REF!,E$26,FALSE))","v":{"$error":"#REF!"}},{"$f":"IF($B264=\"*\",\"\",VLOOKUP($A264,'2025-2026'!#REF!,F$26,FALSE))","v":{"$error":"#REF!"}},{"$f":"IF($B264=\"*\",\"\",VLOOKUP($A264,'2025-2026'!#REF!,G$26,FALSE))","v":{"$error":"#REF!"}},null,{"$f":"IF($B264=\"*\",\"\",VLOOKUP($A264,'2025-2026'!#REF!,I$26,FALSE))","v":{"$error":"#REF!"}},null,{"$f":"IF($B264=\"*\",\"\",VLOOKUP($A264,'2025-2026'!#REF!,K$5,FALSE))","v":{"$error":"#REF!"}},null,{"$f":"IF($B264=\"*\",\"\",VLOOKUP($A264,'2025-2026'!#REF!,M$5,FALSE))","v":{"$error":"#REF!"}}]
[230,{"$f":"VLOOKUP(A265,'2025-2026'!#REF!,9,FALSE)","v":{"$error":"#REF!"}},{"$f":"VLOOKUP($A265,'2025-2026'!#REF!,C$26,FALSE)","v":{"$error":"#REF!"}},{"$f":"IF($B265=\"*\",\"\",VLOOKUP($A265,'2025-2026'!#REF!,D$26,FALSE))","v":{"$error":"#REF!"}},{"$f":"IF($B265=\"*\",\"\",VLOOKUP($A265,'2025-2026'!#REF!,E$26,FALSE))","v":{"$error":"#REF!"}},{"$f":"IF($B265=\"*\",\"\",VLOOKUP($A265,'2025-2026'!#REF!,F$26,FALSE))","v":{"$error":"#REF!"}},{"$f":"IF($B265=\"*\",\"\",VLOOKUP($A265,'2025-2026'!#REF!,G$26,FALSE))","v":{"$error":"#REF!"}},null,{"$f":"IF($B265=\"*\",\"\",VLOOKUP($A265,'2025-2026'!#REF!,I$26,FALSE))","v":{"$error":"#REF!"}},null,{"$f":"IF($B265=\"*\",\"\",VLOOKUP($A265,'2025-2026'!#REF!,K$5,FALSE))","v":{"$error":"#REF!"}},null,{"$f":"IF($B265=\"*\",\"\",VLOOKUP($A265,'2025-2026'!#REF!,M$5,FALSE))","v":{"$error":"#REF!"}}]
[231,{"$f":"VLOOKUP(A266,'2025-2026'!#REF!,9,FALSE)","v":{"$error":"#REF!"}},{"$f":"VLOOKUP($A266,'2025-2026'!#REF!,C$26,FALSE)","v":{"$error":"#REF!"}},{"$f":"IF($B266=\"*\",\"\",VLOOKUP($A266,'2025-2026'!#REF!,D$26,FALSE))","v":{"$error":"#REF!"}},{"$f":"IF($B266=\"*\",\"\",VLOOKUP($A266,'2025-2026'!#REF!,E$26,FALSE))","v":{"$error":"#REF!"}},{"$f":"IF($B266=\"*\",\"\",VLOOKUP($A266,'2025-2026'!#REF!,F$26,FALSE))","v":{"$error":"#REF!"}},{"$f":"IF($B266=\"*\",\"\",VLOOKUP($A266,'2025-2026'!#REF!,G$26,FALSE))","v":{"$error":"#REF!"}},null,{"$f":"IF($B266=\"*\",\"\",VLOOKUP($A266,'2025-2026'!#REF!,I$26,FALSE))","v":{"$error":"#REF!"}},null,{"$f":"IF($B266=\"*\",\"\",VLOOKUP($A266,'2025-2026'!#REF!,K$5,FALSE))","v":{"$error":"#REF!"}},null,{"$f":"IF($B266=\"*\",\"\",VLOOKUP($A266,'2025-2026'!#REF!,M$5,FALSE))","v":{"$error":"#REF!"}}]
[232,{"$f":"VLOOKUP(A267,'2025-2026'!#REF!,9,FALSE)","v":{"$error":"#REF!"}},{"$f":"VLOOKUP($A267,'2025-2026'!#REF!,C$26,FALSE)","v":{"$error":"#REF!"}},{"$f":"IF($B267=\"*\",\"\",VLOOKUP($A267,'2025-2026'!#REF!,D$26,FALSE))","v":{"$error":"#REF!"}},{"$f":"IF($B267=\"*\",\"\",VLOOKUP($A267,'2025-2026'!#REF!,E$26,FALSE))","v":{"$error":"#REF!"}},{"$f":"IF($B267=\"*\",\"\",VLOOKUP($A267,'2025-2026'!#REF!,F$26,FALSE))","v":{"$error":"#REF!"}},{"$f":"IF($B267=\"*\",\"\",VLOOKUP($A267,'2025-2026'!#REF!,G$26,FALSE))","v":{"$error":"#REF!"}},null,{"$f":"IF($B267=\"*\",\"\",VLOOKUP($A267,'2025-2026'!#REF!,I$26,FALSE))","v":{"$error":"#REF!"}},null,{"$f":"IF($B267=\"*\",\"\",VLOOKUP($A267,'2025-2026'!#REF!,K$5,FALSE))","v":{"$error":"#REF!"}},null,{"$f":"IF($B267=\"*\",\"\",VLOOKUP($A267,'2025-2026'!#REF!,M$5,FALSE))","v":{"$error":"#REF!"}}]
[null,null,null,null,null,"Sous total EMPLOI DE LA FORCE ET TACTIQUE",{"$f":"SUM(G221:G267)","v":{"$error":"#REF!"}},null,{"$f":"SUM(I221:I267)","v":{"$error":"#REF!"}},null,{"$f":"SUM(K221:K267)","v":{"$error":"#REF!"}},null,{"$f":"SUM(M221:M267)","v":{"$error":"#REF!"}}]

{"sheet":"2024-2025 (Non publié)","index":3,"n_rows":49,"n_cols":16,"rows_kept":49,"cut":false,"hidden":true,"merged":[[35,0,35,15],[29,9,29,15],[39,0,39,10],[28,1,28,3],[30,0,30,10],[36,0,36,10],[37,5,38,5],[37,7,38,7],[37,6,38,6],[37,0,38,0],[37,1,38,1],[37,2,38,2],[31,1,31,10],[32,0,33,0],[32,1,33,1],[32,3,33,3],[27,0,27,3],[27,4,27,8],[27,9,27,12],[34,9,34,15],[27,13,27,15],[32,2,33,2],[45,0,45,15],[37,3,38,3],[37,4,38,4],[37,14,38,14],[37,15,38,15],[37,8,38,8],[37,9,38,9],[37,10,38,10],[37,11,38,11],[37,12,38,12],[37,13,38,13],[41,0,41,10],[43,0,43,15],[44,10,44,11]]}
[]
[null,null,null,null,null,null,null,null,null,null,null,null,null,null,null,"Programmes de formation initiale et perfectionnement policier"]
[null,null,null,null,null,null,null,null,null,null,null,null,null,null,null,"Calendrier des cours 2024-2025"]
[]
["LÉGENDE"]
[null,"Volet - Patrouille gendarmerie",null,null,"A","Annulé"]
[null,"Volet - Enquête policière",null,null,"R","Reporté"]
[null,"Volet - Gestion policière",null,null,null,"Ajouté en cours d'année"]
[null,"CECAP"]
[null,"Programme ACCÈS"]
["Act. Prép. En ligne (Xh)","Activité préparatoire en ligne"]
[]
["MODES DE DIFFUSION"]
["C","Sur le Campus : Activité se déroulant exclusivement dans les bâtiments, les installations et les plateaux de simulation de l'ENPQ incluant les sites de simulation de l'ENPQ "]
[null,"incluant les sites de simulation dans la ville de Nicolet et le circuit routier."]
["HC","Hors campus : Activité se déroulant exclusivement hors des bâtiments, des installations et des plateaux de simulation de l'ENPQ."]
["MS","Multi-sites : Activité se déroulant en partie sur le campus et en partie hors campus."]
["S","Synchrone : Activité en ligne dans laquelle les échanges avec le formateur et les autres apprenants se font en temps réel par des modes de communication qui exigent une connexion en simultané."]
["A","Asynchrone : Activité en ligne dans laquelle les échanges avec le formateur et les autres apprenants se font en temps différé par des modes de communication qui n'exigent par une connexion en simultané. "]
[null,"Les activités en ligne réalisées de manière autonome entrent également dans cette catégorie."]
["MX","Mixte : Combinaison, en proportion variable, d'activités en ligne synchrones et asynchrones."]
["H","Hybride : Comtinaison, en proportion variable, d'activités en présentiel et d'activités en ligne. Les activités ayant des travaux préparatoires à réaliser en ligne entrent dans cette catégorie."]
[1,"Formateurs ENPQ (incluant les prêts de personnel temporaire PPT)"]
[2,"Réseau (moniteurs, instructeurs)"]
[3,"Autres collaborateurs (individus et organisations)"]
[]
[]
[null,null,null,null,"Session automne 2024",null,null,null,null,"Session hiver 2025",null,null,null,"Session printemps/été 2025"]
["Code de cours","Titre du cours",null,null,"Août","Sept.","Oct","Nov.","Déc.","Janv.","Fév.","Mars","Avril","Mai","Juin","Juillet"]
[null,null,null,null,null,null,null,null,null,"PROGRAMMES DE FORMATION INITIALE"]
["n PATROUILLE-GENDARMERIE"]
["436-008-21","Activité préparatoire au Volet 2-PFIEP \"Passerelle\""]
["436-008-21","Activité préparatoire au Volet 2-PFIEP \"Passerelle\"","H1",16]
[]
[null,null,null,null,null,null,null,null,null,"PERFECTIONNEMENT POLICIER"]
["n PATROUILLE-GENDARMERIE"]
["Activités du patrouilleur"]
["209-709-20","Épreuves de coordination des mouvements - L'instructeur - Requalification","C1",6]
[]
["Appareils de détection approuvés"]
["209-707-20","Alco-Sensor FST - L'instructeur - Requalification","C1",6]
["Cinémomètres"]
["206-701-20","Cinémomètre laser - L'instructeur","C1",6]
["Intervention tactique"]
["215-718-23","Didactique de l'intervention tactique - L'instructeur","C1",12]
["Utilisation des armes à feu"]
["216-709-20","Carabine – Plateforme AR - L'instructeur\nHors campus\nChamp de tir Les Seigneurs\nPointe-du-Lac","HC1",8]
["216-710-20","Carabine – Plateforme AR - L'instructeur - Requalification\nHors campus\nChamp de tir Les Seigneurs\nPointe-du-Lac","HC1",8]
["216-711-23","Didactique du tir au pistolet – L'instructeur","C1",8]

{"sheet":"DFSP 2024-2025","index":4,"n_rows":84,"n_cols":26,"rows_kept":84,"cut":false,"hidden":true,"merged":[[7,6,7,7],[7,8,7,24],[8,6,8,7],[8,8,8,24],[9,6,9,7],[9,8,9,24],[10,6,10,7],[10,8,10,24],[11,6,11,7],[11,8,11,24],[12,6,12,7],[12,8,12,24],[26,18,26,24],[27,6,27,24],[14,18,14,24],[15,6,15,10],[15,13,15,17],[15,18,15,21],[15,22,15,24],[19,6,19,24],[61,6,61,24],[63,6,63,24],[72,6,72,24],[48,6,48,24],[54,6,54,24],[55,6,55,24],[81,6,82,6],[74,6,74,24],[76,6,76,24],[79,6,79,24],[81,7,82,7],[81,8,82,8],[81,9,82,9],[81,10,82,10],[81,12,82,12]]}
[null,null,null,null,null,null,null,null,null,null,null,null,null,null,null,null,null,null,null,null,null,null,null,null,"Programmes de formation initiale et formations en sécurité publique"]
[null,null,null,null,null,null,null,null,null,null,null,null,null,null,null,null,null,null,null,null,null,null,null,null,"Calendrier des cours 2023-2024"]
[]
[null,null,null,null,null,null,"LÉGENDE"]
[null,null,null,null,null,null,"A","Annulé",null,null,null,null,null,"R","Reporté",null,null,null,null,"Ajouté en cours d’année"]
[]
[null,null,null,null,null,null,"MODES DE DIFFUSION"]
[null,null,null,null,null,null,"C",null,"Sur le Campus : Activité se déroulant exclusivement dans les bâtiments, les installations et les plateaux de simulation de l'ENPQ incluant les sites de simulation de l'ENPQ, les sites de simulation dans la ville de Nicolet et le circuit routier."]
[null,null,null,null,null,null,"HC",null,"Hors campus : Activité se déroulant exclusivement hors des bâtiments, des installations et des plateaux de simulation de l'ENPQ."]
[null,null,null,null,null,null,"MS",null,"Multi-sites : Activité se déroulant en partie sur le campus et en partie hors campus."]
[null,null,null,null,null,null,1,null,"Formateurs ENPQ (incluant les prêts de personnel temporaire PPT)"]
[null,null,null,null,null,null,2,null,"Réseau (moniteurs, instructeurs)"]
[null,null,null,null,null,null,3,null,"Autres collaborateurs (individus et organisations)"]
[]
[null,null,null,null,null,null,null,null,null,null,null,null,null,null,null,null,null,null,"PROGRAMMES DE FORMATION INITIALE"]
[null,null,null,null,null,null,null,null,null,null,null,null,null,"Session automne 2023",null,null,null,null,"Session hiver 2024",null,null,null,"Session printemps/été 2024"]
[]
[]
[null,null,"TRI-1","TRI-2","TRI-3","COURS","Numéro CRM","FOR BAR","Code de cours","Titre du cours",null,"Mode diffusion","Coordonnateur","Août","Sept.","Oct","Nov.","Déc.","Janv.","Fév.","Mars","Avril","Mai","Juin","Juillet","Commentaires"]
[null,null,"Programmes de formation initiale",null,null,null,"PROGRAMME DE FORMATION INITIALE"]
[null,null,"Programmes de formation initiale",null,"ASC","Programme d’intégration à la fonction d’agent des services correctionnels",null,null,"ASC","Programme d’intégration à la fonction d’agent des services correctionnels",60]
[null,null,"Programmes de formation initiale",null,"CRQ","Programme de formation initiale des contrôleurs routiers du Québec",null,null,"CRQ","Programme de formation initiale des contrôleurs routiers du Québec","2x18","H1"]
[null,null,"Programmes de formation initiale",null,"EXO","Programme de formation initiale des inspecteurs-sûreté",null,null,"EXO","Programme de formation initiale des inspecteurs-sûreté",9,"HC1"]
[null,null,"Programmes de formation initiale",null,"DSPJ","Programme de formation initiale des inspecteurs-sûreté",null,null,"DSPJ","Programme de formation initiale des inspecteurs-sûreté",36]
[null,null,"Programmes de formation initiale",null,"STM","Programme de formation initiale des constables spéciaux de la STM",null,null,"STM","Programme de formation initiale des constables spéciaux de la STM",18,"C1"]
[null,null,"Programmes de formation initiale",null,"STM","Programme de formation initiale des constables spéciaux de la STM",null,null,"STM","Programme de formation initiale des constables spéciaux de la STM",18,"C1"]
[null,null,"Formations en sécurité publique",null,null,null,null,null,null,null,null,null,null,null,null,null,null,null,"FORMATIONS EN SÉCURITÉ PUBLIQUE"]
[null,null,"Formations en sécurité publique","Enquête, inspection et renseignement",null,null,"ENQUÊTE, INSPECTION ET RENSEIGNEMENT"]
[null,null,"Formations en sécurité publique","Enquête, inspection et renseignement","À VENIR","Inspection (CCQ)",null,null,"À VENIR","Inspection (CCQ)",10,"C1"]
[null,null,"Formations en sécurité publique","Enquête, inspection et renseignement","041-101-16","Éléments d'enquête pour les intervenants en sécurité incendie",null,null,"041-101-16","Éléments d'enquête pour les intervenants en sécurité incendie",12,"C1"]
[null,null,"Formations en sécurité publique","Enquête, inspection et renseignement","826-112-21","Aspects légaux – Constables spéciaux STM",null,null,"826-112-21","Aspects légaux – Constables spéciaux STM",22]
[null,null,"Formations en sécurité publique","Enquête, inspection et renseignement","836-126-18","Techniques d’entrevue de suspect (RQ)",null,null,"836-126-18","Techniques d’entrevue de suspect (RQ)",12,"C ou HC"]
[null,null,"Formations en sécurité publique","Enquête, inspection et renseignement","836-127-19","Techniques d’enquête (RBQ)",null,null,"836-127-19","Techniques d’enquête (RBQ)",12,"H1"]
[null,null,"Formations en sécurité publique","Enquête, inspection et renseignement","836-129-16","Techniques d'entrevue et communication efficace (CCQ)",null,null,"836-129-16","Techniques d'entrevue et communication efficace (CCQ)",8]
[null,null,"Formations en sécurité publique","Enquête, inspection et renseignement","836-137-18","Tech entrevue suspect et témoignage à la cour (AMF)",null,null,"836-137-18","Tech entrevue suspect et témoignage à la cour (AMF)",12,"C1"]
[null,null,"Formations en sécurité publique","Enquête, inspection et renseignement","836-141-19","Planifier et exécuter une perquisition (Santé Canada)",null,null,"836-141-19","Planifier et exécuter une perquisition (Santé Canada)",12]
[null,null,"Formations en sécurité publique","Enquête, inspection et renseignement","836-143-20","Techniques d’entrevue de témoin et prise de déclaration (CCQ)",null,null,"836-143-20","Techniques d’entrevue de témoin et prise de déclaration (CCQ)",8]
[null,null,"Formations en sécurité publique","Enquête, inspection et renseignement","836-146-20","Processus d’enquête (ARC)",null,null,"836-146-20","Processus d’enquête (ARC)",12,"H1"]
[null,null,"Formations en sécurité publique","Enquête, inspection et renseignement","836-147-21","Techniques d’entrevue de témoins (ARC)",null,null,"836-147-21","Techniques d’entrevue de témoins (ARC)",8]
[null,null,"Formations en sécurité publique","Enquête, inspection et renseignement","836-148-22","Techniques d’entrevue de suspect (ARC)",null,null,"836-148-22","Techniques d’entrevue de suspect (ARC)",12]
[null,null,"Formations en sécurité publique","Enquête, inspection et renseignement","837-101-17","Enquête criminelle (MTESS)",null,null,"837-101-17","Enquête criminelle (MTESS)",8]
[null,null,"Formations en sécurité publique","Enquête, inspection et renseignement","839-301-16","Gestion des informateurs – Volet pratique",null,null,"839-301-16","Gestion des informateurs – Volet pratique",16]
[null,null,"Formations en sécurité publique","Enquête, inspection et renseignement","839-302-17","Agent de renseignement criminel (RQ)",null,null,"839-302-17","Agent de renseignement criminel (RQ)",12]
[null,null,"Formations en sécurité publique","Enquête, inspection et renseignement","839-303-19","Agent de renseignement criminel (RBQ et CCQ)",null,null,"839-303-19","Agent de renseignement criminel (RBQ et CCQ)",12]
[null,null,"Formations en sécurité publique","Enquête, inspection et renseignement","840-102-14","Processus d’enquête (RQ)",null,null,"840-102-14","Processus d’enquête (RQ)",12,"C ou HC"]
[null,null,"Formations en sécurité publique","Enquête, inspection et renseignement","840-107-18","Processus d'enquête (AMF)",null,null,"840-107-18","Processus d'enquête (AMF)",12,"H1"]
[null,null,"Formations en sécurité publique","Enquête, inspection et renseignement","840-108-19","Inspection (RQ) ",null,null,"840-108-19","Inspection (RQ) ",12,"C1"]
[null,null,"Formations en sécurité publique","Enquête, inspection et renseignement","À VENIR","Technique d'entrevue de suspect (CCQ)",null,null,"À VENIR","Technique d'entrevue de suspect (CCQ)",12,"?"]
[null,null,"Formations en sécurité publique","Gestion",null,null,"GESTION"]
[null,null,"Formations en sécurité publique","Gestion","PPU-010-38","Habiletés de supervision en sécurité publique",null,null,"PPU-010-38","Habiletés de supervision en sécurité publique",16]
[null,null,"Formations en sécurité publique","Gestion","PPU-010-47 ","Activité d’immersion à la fonction de cadre de 1er niveau",null,null,"PPU-010-47 ","Activité d’immersion à la fonction de cadre de 1er niveau",16]
[null,null,"Formations en sécurité publique","Gestion","PPU-010-49","Habiletés de supervision opérationnelle et administrative",null,null,"PPU-010-49","Habiletés de supervision opérationnelle et administrative",16]
[null,null,"Formations en sécurité publique","Gestion","758-103-16","Gestion d’une équipe de travail et prise décision (MSP)",null,null,"758-103-16","Gestion d’une équipe de travail et prise décision (MSP)",16]
[null,null,"Formations en sécurité publique","Gestion","758-104-17","Gestion au quotidien – Volet coaching et supervision (MSP)",null,null,"758-104-17","Gestion au quotidien – Volet coaching et supervision (MSP)",16]
[null,null,"Formations en sécurité publique","Perfectionnement",null,null,"PERFECTIONNEMENT"]
[null,null,"Formations en sécurité publique","Communication et intervention physique",null,null,"COMMUNICATION ET INTERVENTION PHYSIQUE"]
[null,null,"Formations en sécurité publique","Communication et intervention physique","814-108-16","Interventions verbales et physiques (Loto Québec)",null,null,"814-108-16","Interventions verbales et physiques (Loto Québec)",10]
[null,null,"Formations en sécurité publique","Communication et intervention physique","814-110-18","Interventions physiques 2 (Société des casinos du Québec)",null,null,"814-110-18","Interventions physiques 2 (Société des casinos du Québec)",10]
[null,null,"Formations en sécurité publique","Communication et intervention physique","814-112-21","Révision des techniques d'intervention verbale et physique - Société des casinos du Québec",null,null,"814-112-21","Révision des techniques d'intervention verbale et physique - Société des casinos du Québec",10]
[null,null,"Formations en sécurité publique","Communication et intervention physique","817-101-11","Gestion de situations menaçantes (ACIA)",null,null,"817-101-11","Gestion de situations menaçantes (ACIA)",20]
[null,null,"Formations en sécurité publique","Communication et intervention physique","818-302-22","Formation de mise à niveau pour cadre - Constable spécial du MSP",null,null,"818-302-22","Formation de mise à niveau pour cadre - Constable spécial du MSP",2]
[null,null,"Formations en sécurité publique","Conduite",null,null,"CONDUITE"]
[null,null,"Formations en sécurité publique","Conduite","801-212-22","Conduite de véhicule en utilisant les techniques de base (ASFC)",null,null,"801-212-22","Conduite de véhicule en utilisant les techniques de base (ASFC)",12,"C1"]
[null,null,"Formations en sécurité publique","Emploi de la force",null,null,"EMPLOI DE LA FORCE"]
[null,null,"Formations en sécurité publique","Emploi de la force","214-103-18","Intervention avec le bouclier inversé (DSPJ)",null,null,"214-103-18","Intervention avec le bouclier inversé (DSPJ)",8]
[null,null,"Formations en sécurité publique","Emploi de la force","214-712-20","Intervention avec le bouclier inversé - L'instructeur (sans requalification) (DSPJ)",null,null,"214-712-20","Intervention avec le bouclier inversé - L'instructeur (sans requalification) (DSPJ)",5]
[null,null,"Formations en sécurité publique","Emploi de la force","217-103-19","Communication – Transition (Projet communication ASFC) - Anglais",null,null,"217-103-19","Communication – Transition (Projet communication ASFC) - Anglais",8]
[null,null,"Formations en sécurité publique","Emploi de la force","218-301-18","Fondements théoriques de l’emploi de la force (Projet communication ASFC) - Anglais",null,null,"218-301-18","Fondements théoriques de l’emploi de la force (Projet communication ASFC) - Anglais",8]
[null,null,"Formations en sécurité publique","Emploi de la force","XXX-XXX-XX","Parrainage + IP 23 (Projet communication ASFC) - Anglais",null,null,"XXX-XXX-XX","Parrainage + IP 23 (Projet communication ASFC) - Anglais",8]
[null,null,"Formations en sécurité publique","Emploi de la force","814-103-22","Méthodes d'intervention (Centres jeunesse)",null,null,"814-103-22","Méthodes d'intervention (Centres jeunesse)",12]
[null,null,"Formations en sécurité publique","Emploi de la force","817-107-XX","La communication (CCQ)",null,null,"817-107-XX","La communication (CCQ)",10]
[null,null,"Formations en sécurité publique","Emploi de la force","841-102-22","Actualisation des compétences des inspecteurs exo",null,null,"841-102-22","Actualisation des compétences des inspecteurs exo",9]
[null,null,"Formations en sécurité publique","Sécurité routière",null,null,"SÉCURITÉ ROUTIÈRE"]
[null,null,"Formations en sécurité publique","Sécurité routière","810-201-18","Agent de surveillance de sentier FQCQ",null,null,"810-201-18","Agent de surveillance de sentier FQCQ",15]
[null,null,"Formations en sécurité publique","Technicien qualifié en éthylomètre",null,null,"TECHNICIEN QUALIFIÉ EN ÉTHYLOMÈTRE"]
[null,null,"Formations en sécurité publique","Technicien qualifié en éthylomètre","810-201-18","Agent de surveillance de sentier FQCQ",null,null,"209-204-18","Technicien qualifié en éthylomètre - DataMaster DMT-C",12]
[null,null,"Formations en sécurité publique","Utilisation des armes à feu",null,null,"UTILISATION DES ARMES À FEU"]
[null,null,"Formations en sécurité publique","Utilisation des armes à feu","216-207-07","Tir au pistolet - Requalification",null,null,"216-207-07","Tir au pistolet - Requalification",8]
[null,null,"Formations en sécurité publique","Utilisation des armes à feu","216-302-19","Carabine – Plateforme AR –  Requalification",null,null,"216-302-19","Carabine – Plateforme AR –  Requalification",7]
[null,null,"Formations en sécurité publique","CECAP",null,null,"n CENTRE D’ÉVALUATION DES COMPÉTENCES ET APTITUDES PROFESSIONNELLES"]
[null,null,"Formations en sécurité publique","CECAP","828-002-18","Séance d'information - La prévention des impacts psychologiques inhérents aux métiers des intervenants en situation d'urgence (Dessercom)",null,null,"828-002-18","Séance d'information - La prévention des impacts psychologiques inhérents aux métiers des intervenants en situation d'urgence (Dessercom)",35]
[null,null,"Formations en sécurité publique","CECAP","828-103-15","Prévention des impacts psychologiques (SUPERVISEUR)",null,null,"828-103-15","Prévention des impacts psychologiques (SUPERVISEUR)",14,"Entente SQ\n4 C1\n10 HC1"]
[null,null,"Formations en sécurité publique","CECAP",null,null,null,null,null,null,null,"Calendrier PP - C1"]
[null,null,"Formations en sécurité publique","CECAP","828-108-18","Prévention des impacts psychologiques (superviseur) - Mise à jour",null,null,"828-108-18","Prévention des impacts psychologiques (superviseur) - Mise à jour",16]

{"sheet":"Légende","index":5,"n_rows":48,"n_cols":10,"rows_kept":48,"cut":false,"hidden":false,"merged":[[1,9,2,20],[41,4,41,18],[6,2,6,3],[7,2,7,3],[8,2,8,3],[9,2,9,3],[10,2,10,3],[11,2,11,3],[12,2,12,3],[14,2,14,4],[17,4,17,18],[15,4,15,18],[25,4,25,18],[34,4,34,18],[37,4,37,18],[39,4,39,18]]}
[]
[null,null,null,null,null,null,null,null,null,"Calendrier institutionnel 2025-2026"]
[]
[]
[]
[]
[null,null,"LÉGENDE"]
[null,null,null,null,"Volet - Patrouille gendarmerie",null,null,"A","Annulé"]
[null,null,null,null,"Volet - Enquête policière",null,null,"R","Reporté"]
[null,null,null,null,"Volet - Gestion policière",null,null,null,"Ajouté en cours d'année"]
[null,null,null,null,"CECAP"]
[null,null,null,null,"Programme ACCÈS"]
[null,null,"Act. Prép. En ligne (Xh)",null,"Activité préparatoire en ligne"]
[]
[null,null,"MODES DE DIFFUSION"]
[null,null,null,null,"Diffusions en présentiel :"]
[]
[null,null,null,"C","Sur le Campus : Activité se déroulant exclusivement dans les bâtiments, les installations et les plateaux de simulation de l'ENPQ.  Ceci inclue les sites de simulation de l'ENPQ, les sites de simulation dans la ville de Nicolet, ainsi que le circuit routier. Ce mode de diffusion inclus aussi toutes les formations offertes au campus de Montréal."]
[]
[null,null,null,"CM","Campus de Montréal : Activité se déroulant exclusivement dans les locaux du campus de Montréal de l'ENPQ. "]
[]
[null,null,null,"HC","Hors campus : Activité se déroulant exclusivement hors des bâtiments, des installations et des plateaux de simulation de l'ENPQ."]
[]
[null,null,null,"MS","Multi-sites : Activité se déroulant en partie sur le campus et en partie hors campus."]
[]
[null,null,null,null,"Diffusions en ligne :"]
[]
[null,null,null,"S","Synchrone : Activité en ligne dans laquelle les échanges avec le formateur et les autres apprenants se font en temps réel par des modes de communication qui exigent une connexion en simultané."]
[]
[null,null,null,"A","Asynchrone : Activité en ligne dans laquelle les échanges avec le formateur et les autres apprenants se font en temps différé par des modes de communication qui n'exigent par une connexion en simultané. "]
[null,null,null,null,"Les activités en ligne réalisées de manière autonome entrent également dans cette catégorie."]
[]
[null,null,null,"MX","Mixte : Combinaison, en proportion variable, d'activités en ligne synchrones et asynchrones."]
[]
[null,null,null,null,"Particularité des diffusions en présentiel & en ligne : "]
[]
[null,null,null,"H","Hybride : Combinaison, en proportion variable, d'activités en présentiel et d'activités en ligne. Les activités ayant des travaux préparatoires à réaliser en ligne entrent dans cette catégorie."]
[null,null,null,null,"Le mode de diffusion hybride est toujours suivi de la mention de chacune des portions présentiel et en ligne entre crochets.  Par exemple, un cours hybride dont la portion en ligne se fait de façon synchrone et dont la portion en présentiel se fait à l'École portera le code de diffusion H1-[S-C]"]
[]
[null,null,null,null,"Provenance des formateurs"]
[]
[null,null,null,null,"Le code alphabétique du mode de diffusion est toujours suivi d'un code numérique indiquant la provenance du formateur : "]
[]
[null,null,null,1,"Formateurs ENPQ (incluant les prêts de personnel temporaire PPT)"]
[]
[null,null,null,2,"Réseau (moniteurs, instructeurs, Maîtres-Instructeurs)"]
[]
[null,null,null,3,"Autres collaborateurs (individus et organisations)"]

{"sheet":"Adresses de diffusion","index":6,"n_rows":39,"n_cols":6,"rows_kept":39,"cut":false,"hidden":false,"merged":[]}
[]
[null,null,null,null,null,"Adresses de diffusion"]
[]
[]
[]
[]
[]
[]
[]
[]
[]
[null,null,"École nationale de police du Québec",null,null,"Service de police de Sherbrooke"]
[null,null,"350, rue Marguerute-d'Youville",null,null,"575 rue Maurice-Houle"]
[null,null,"NICOLET",null,null,"SHERBROOKE"]
[null,null,"J3T 1X4",null,null,"J1H 1Z6"]
[]
[]
[null,null,"ENPQ - Campus de Montréal",null,null,"SANAIR"]
[null,null,"8491 rue Ernest-Cormier",null,null,"669 Le Bas du Petit rang St-François"]
[null,null,"MONTRÉAL (arrondissement Anjou)",null,null,"SAINT-PIE"]
[null,null,"H1J 1B5",null,null,"J0H 1W0"]
[]
[]
[null,null,"Service de police de Blainville",null,null,"Club de tir des Seigneurs"]
[null,null,"640, boul. du Curé-Labelle",null,null,"1120 Rang Saint-Nicolas"]
[null,null,"BLAINVILLE",null,null,"TROIS-RIVIÈRES (Secteur Pointe-du-Lac)"]
[null,null,"J7C 2J2",null,null,"G9B 7X9"]
[]
[]
[null,null,"UQTR - Campus Québec",null,null,"Domaine Scout"]
[null,null,"550, Boulevard Wilfrid-Hamel",null,null,"1295 chemin des Pins"]
[null,null,"QUÉBEC",null,null,"TROIS-RIVIÈRES (Secteur Saint-Lois-de-France)"]
[null,null,"G1M 3E5",null,null,"G8W 2K1"]
[]
[]
[null,null,"Collège Ahuntsic"]
[null,null,"9155, rue St-Hubert"]
[null,null,"MONTRÉAL"]
[null,null,"H2M 1Y8"]