{"text_format":"1","workbook":"xlsx","n_sheets":7,"sheets":["2026-2027","PN_","Rapport_Volum","2024-2025 (Non publié)","DFSP 2024-2025","Légende","Adresses de diffusion"],"not_rendered":{"charts":0,"images":3,"macros":1,"external_links":1,"defined_names":25,"comments":0,"pivot_tables":0},"unopened":[],"bounds":{"document_bytes":16777216,"sheet_cells":100000,"rows_first":2000,"rows_last":500,"rows_between":2000,"halvings":0,"cell_chars":16384,"cell_head_chars":4096},"cells_cut":0,"cells_raw":0,"read":"whole","date_system":"1900"}

{"sheet":"2026-2027","index":0,"n_rows":464,"n_cols":26,"rows_kept":464,"cut":false,"hidden":false,"merged":[[269,10,271,10],[269,11,271,11],[269,17,271,17],[294,21,295,21],[302,16,302,17],[299,14,299,25],[305,14,305,15],[342,14,342,17],[289,14,289,15],[287,14,287,25],[324,14,324,15],[320,14,320,15],[269,25,271,25],[294,19,295,19],[294,24,295,24],[298,14,298,25],[322,14,322,15],[276,14,276,15],[269,13,271,13],[269,14,271,14],[269,18,271,18],[306,25,307,25],[315,14,315,15],[348,24,350,24],[348,25,350,25],[346,22,347,22],[346,20,347,20],[346,23,347,23],[346,24,347,24],[346,25,347,25],[348,23,350,23],[329,14,329,15],[344,19,344,21],[340,10,340,25],[294,10,295,10],[294,12,295,12],[297,14,297,15],[306,10,307,10],[317,14,317,15],[249,22,250,22],[306,16,307,16],[306,18,307,18],[306,20,307,20],[306,22,307,22],[306,24,307,24],[226,19,227,19],[226,20,227,20],[226,21,227,21],[226,22,227,22],[226,23,227,23],[226,24,227,24],[269,20,271,20],[269,22,271,22],[294,23,295,23],[269,24,271,24],[294,17,295,17],[269,16,271,16],[269,19,271,19],[269,21,271,21],[269,23,271,23],[301,14,301,25],[300,14,300,25],[294,18,295,18],[185,14,185,15],[196,23,197,23],[200,23,200,24],[196,24,197,24],[198,25,200,25],[196,25,197,25],[198,22,200,22],[188,24,189,24],[194,21,195,21],[188,20,189,20],[188,18,189,18],[188,19,189,19],[198,23,199,23],[198,21,200,21],[196,19,197,19],[194,14,195,14],[187,14,187,15],[186,14,186,15],[198,17,200,17],[194,15,195,15],[238,10,239,10],[257,14,257,15],[249,13,250,13],[249,11,250,11],[238,11,239,11],[235,14,235,18],[249,14,250,14],[226,10,227,10],[256,14,256,15],[247,14,247,15],[233,14,233,15],[232,14,232,15],[229,14,229,15],[226,17,227,17],[230,14,230,15],[238,17,239,17],[238,18,239,18],[249,15,250,15],[249,12,250,12],[238,12,239,12],[238,13,239,13],[226,13,227,13],[226,12,227,12],[249,19,250,19],[249,21,250,21],[1,14,2,25],[24,12,26,12],[24,13,26,13],[21,20,21,24],[26,21,26,24],[21,15,21,18],[25,19,25,24],[14,13,16,13],[19,13,23,13],[19,14,19,17],[18,10,18,20],[7,19,7,25],[9,11,9,20],[10,10,11,10],[23,18,23,21],[10,13,11,13],[20,14,23,14],[14,21,14,22],[5,23,5,25],[19,12,23,12],[14,11,16,11],[194,13,195,13],[14,17,16,17],[164,13,166,13],[164,11,166,11],[109,12,110,12],[127,13,128,13],[119,10,119,25],[167,10,170,10],[167,19,170,19],[169,16,170,16],[167,12,170,12],[167,21,170,21],[167,25,170,25],[125,14,125,15],[109,21,110,21],[156,14,156,25],[144,14,144,25],[149,14,149,25],[150,14,150,25],[152,14,152,25],[153,14,153,25],[154,14,154,25],[155,14,155,25],[146,14,146,15],[164,24,166,24],[164,18,166,18],[112,10,112,25],[64,10,65,10],[64,11,65,11],[64,12,65,12],[66,14,66,25],[84,19,84,25],[67,24,67,25],[76,23,76,24],[64,15,65,15],[64,17,65,17],[64,18,65,18],[64,19,65,19],[85,10,85,25],[86,15,86,18],[64,13,65,13],[88,17,89,17],[88,18,89,18],[88,22,89,22],[88,23,89,23],[87,22,87,23],[88,21,89,21],[88,24,89,24],[86,23,86,25],[5,14,5,18],[8,10,8,25],[19,11,23,11],[5,19,5,22],[12,10,12,25],[19,10,23,10],[14,23,14,24],[58,14,58,15],[31,23,31,24],[31,16,31,17],[40,16,40,18],[40,19,40,21],[36,17,36,18],[19,19,19,23],[40,14,40,15],[57,14,57,25],[15,22,15,23],[14,18,16,18],[15,19,16,19],[15,20,16,21],[15,24,16,24],[14,25,16,25],[14,14,16,14],[15,15,16,16],[59,14,59,25],[62,14,62,25],[64,14,65,14],[64,25,65,25],[20,15,20,18],[24,14,24,17],[24,19,24,23],[34,19,34,20],[38,19,38,20],[50,14,50,25],[64,24,65,24],[86,19,86,22],[64,20,65,20],[64,21,65,21],[64,22,65,22],[64,23,65,23],[92,10,92,25],[109,22,110,22],[88,10,89,10],[88,12,89,12],[88,15,89,16],[88,14,89,14],[88,19,89,19],[88,20,89,20],[109,10,110,10],[109,11,110,11],[88,11,89,11],[109,25,110,25],[105,14,105,15],[96,19,96,21],[95,15,95,18],[109,14,110,14],[109,15,110,15],[88,13,89,13],[109,17,110,17],[109,18,110,18],[109,19,110,19],[88,25,89,25],[93,15,93,22],[91,14,91,25],[13,11,13,20],[24,11,26,11],[28,14,28,15],[27,10,27,20],[22,15,22,19],[30,10,30,25],[20,20,20,23],[29,19,29,25],[22,21,22,24],[24,10,26,10],[25,15,25,18],[69,21,69,22],[33,17,33,18],[68,15,68,16],[40,22,40,24],[14,12,16,12],[14,10,16,10],[78,15,78,16],[109,23,110,23],[109,20,110,20],[214,12,219,12],[238,19,239,19],[290,23,290,25],[109,16,110,16],[194,25,195,25],[194,24,195,24],[130,19,130,25],[214,23,215,23],[137,10,137,25],[198,16,200,16],[210,17,211,17],[167,23,170,23],[176,14,176,15],[172,14,172,15],[173,14,173,15],[174,14,174,15],[180,14,180,25],[167,14,170,14],[179,14,179,15],[165,21,166,21],[286,10,286,25],[290,14,290,18],[226,14,227,14],[458,10,459,10],[415,14,418,14],[415,15,418,15],[444,10,444,25],[415,17,418,17],[415,23,418,23],[445,10,446,10],[294,22,295,22],[238,24,239,24],[268,21,268,22],[238,21,239,21],[251,10,251,25],[269,15,271,15],[294,13,295,13],[294,16,295,16],[294,20,295,20],[238,25,239,25],[249,10,250,10],[244,10,244,25],[238,14,239,14],[238,16,239,16],[238,20,239,20],[254,14,254,15],[290,19,290,22],[378,14,378,25],[403,17,404,17],[403,18,404,18],[408,17,409,17],[408,10,409,10],[380,10,380,25],[379,10,379,25],[388,14,388,15],[385,14,385,15],[395,14,395,15],[396,14,396,15],[408,16,409,16],[390,13,394,13],[394,16,394,18],[391,14,394,14],[393,15,394,15],[390,14,390,16],[390,25,394,25],[390,10,394,10],[390,11,394,11],[390,12,394,12],[382,10,382,25],[383,14,383,15],[387,14,387,15],[365,10,365,25],[408,22,409,22],[408,19,409,19],[403,10,404,10],[403,11,404,11],[403,12,404,12],[403,13,404,13],[408,23,409,23],[408,14,409,14],[408,11,409,11],[408,20,409,20],[397,14,398,15],[403,14,404,15],[403,16,404,16],[408,18,409,18],[390,22,394,22],[390,23,394,23],[390,24,394,24],[408,15,409,15],[407,14,407,15],[403,23,404,23],[403,24,404,24],[376,14,376,15],[462,13,463,13],[458,20,459,20],[462,16,463,16],[462,21,463,21],[462,11,463,11],[458,11,459,11],[423,23,424,23],[411,10,411,25],[462,10,463,10],[445,23,446,23],[438,23,438,24],[442,10,442,25],[445,14,446,14],[422,14,422,15],[422,24,422,25],[423,20,424,20],[420,16,422,16],[440,17,440,18],[423,21,424,21],[447,24,448,24],[447,25,448,25],[447,23,448,23],[458,23,459,23],[458,13,459,13],[415,12,418,12],[415,13,418,13],[415,20,418,20],[447,21,448,21],[447,22,448,22],[458,16,459,16],[458,17,459,17],[458,18,459,18],[458,19,459,19],[458,22,459,22],[458,14,459,14],[458,21,459,21],[447,20,448,20],[447,15,448,15],[447,17,448,17],[462,12,463,12],[445,11,446,11],[421,18,422,18],[415,10,418,10],[423,22,424,22],[447,12,448,12],[447,13,448,13],[447,14,448,14],[420,14,421,14],[445,12,446,12],[445,13,446,13],[445,22,446,22],[423,13,424,13],[447,18,448,18],[420,20,422,20],[420,21,422,21],[447,19,448,19],[420,19,422,19],[423,15,424,15],[423,16,424,16],[423,14,424,14],[420,10,422,10],[445,24,446,24],[425,19,425,25],[420,11,422,11],[458,12,459,12],[462,23,463,23],[462,14,463,14],[445,19,446,19],[445,21,446,21],[445,20,446,20],[445,25,446,25],[445,15,446,15],[445,17,446,18],[462,15,463,15],[462,18,463,18],[462,20,463,20],[451,10,451,25],[447,11,448,11],[447,10,448,10],[462,25,463,25],[462,24,463,24],[458,24,459,24],[458,15,459,15],[458,25,459,25],[447,16,448,16],[421,23,422,23],[415,18,418,18],[414,14,414,15],[423,24,424,24],[423,25,424,25],[415,16,418,16],[445,16,446,16],[426,10,426,25],[423,19,424,19],[420,12,422,12],[419,14,419,15],[415,22,418,22],[415,25,418,25],[415,21,418,21],[420,13,422,13],[423,10,424,10],[423,11,424,11],[423,12,424,12],[423,17,424,17],[423,18,424,18],[415,11,418,11],[415,19,418,19],[420,24,421,24],[420,15,421,15],[397,12,398,12],[408,13,409,13],[408,21,409,21],[397,20,398,20],[403,19,404,19],[397,22,398,22],[408,24,409,24],[397,10,398,10],[408,12,409,12],[397,13,398,13],[402,14,402,15],[399,14,399,15],[403,20,404,20],[403,21,404,21],[403,22,404,22],[397,21,398,21],[226,18,227,18],[210,12,212,12],[188,23,189,23],[217,22,219,22],[217,15,219,15],[226,15,226,16],[223,14,223,15],[221,10,221,25],[226,25,227,25],[214,15,216,15],[194,11,195,11],[194,12,195,12],[196,11,197,11],[198,12,200,12],[210,13,212,13],[196,14,197,14],[198,11,200,11],[198,14,200,14],[214,13,219,13],[201,10,201,25],[208,10,208,25],[210,19,211,19],[210,25,212,25],[226,11,227,11],[167,24,170,24],[196,22,197,22],[196,21,197,21],[198,20,200,20],[196,16,197,16],[198,19,200,19],[198,15,200,15],[214,22,216,22],[167,13,170,13],[181,10,181,25],[198,13,200,13],[194,16,195,16],[194,18,195,18],[194,17,195,17],[194,19,195,19],[196,13,197,13],[210,21,212,21],[210,14,212,14],[210,16,212,16],[210,15,212,15],[214,11,219,11],[214,10,219,10],[196,10,197,10],[194,10,195,10],[212,17,212,18],[210,11,212,11],[194,20,195,20],[210,10,212,10],[196,12,197,12],[210,18,211,18],[198,10,200,10],[196,17,197,17],[214,17,216,17],[198,18,200,18],[196,18,197,18],[196,15,197,15],[217,17,219,17],[218,23,219,23],[216,23,217,23],[190,10,191,10],[127,12,128,12],[151,14,151,25],[188,12,189,12],[188,13,189,13],[167,17,168,17],[169,17,170,17],[167,16,168,16],[167,15,170,15],[183,14,183,15],[167,18,170,18],[182,14,182,15],[188,16,189,16],[184,14,184,15],[188,14,189,14],[188,15,189,15],[190,13,191,13],[165,23,166,23],[164,15,166,15],[127,10,128,10],[167,11,170,11],[164,12,166,12],[139,10,139,25],[127,11,128,11],[132,10,132,25],[164,14,166,14],[164,10,166,10],[188,10,189,10],[188,11,189,11],[188,25,189,25],[102,14,102,25],[109,13,110,13],[109,24,110,24],[120,14,120,15],[163,15,163,16],[121,17,121,21],[122,21,122,25],[127,14,128,15],[131,10,131,25],[160,14,160,15],[148,14,148,15],[164,25,166,25],[164,16,166,16],[164,20,166,20],[164,22,166,22],[118,19,118,25],[111,19,111,25],[123,14,123,15],[190,11,191,11],[188,17,189,17],[165,17,166,17],[341,21,341,25],[319,14,319,15],[323,14,323,15],[306,11,307,11],[306,12,307,12],[306,13,307,13],[306,14,307,14],[314,14,314,15],[294,25,295,25],[328,14,328,15],[321,14,321,15],[339,19,339,25],[190,12,191,12],[177,14,177,25],[238,22,239,22],[238,23,239,23],[212,23,212,24],[269,12,271,12],[294,11,295,11],[292,14,292,15],[291,14,291,15],[346,10,347,10],[346,11,347,11],[346,12,347,12],[346,13,347,13],[346,14,347,14],[348,18,350,18],[346,21,347,21],[363,14,363,15],[357,10,357,25],[359,14,359,15],[348,10,350,10],[348,11,350,11],[348,12,350,12],[348,13,350,13],[348,14,350,14],[348,15,350,15],[348,16,350,16],[362,14,362,15],[377,14,377,15],[374,14,374,15],[249,24,250,24],[255,14,255,15],[258,14,258,15],[249,23,250,23],[274,14,274,15],[309,10,309,25],[266,16,266,17],[265,14,265,15],[267,17,267,18],[249,25,250,25],[355,14,355,15],[369,17,369,18],[372,22,372,23],[360,14,360,15],[351,10,351,25],[356,15,356,17],[367,14,367,15],[368,10,368,25],[373,10,373,25],[345,15,345,18],[346,16,346,19],[348,19,348,22],[386,14,386,15],[381,14,381,15],[384,10,384,25],[410,14,410,15],[406,14,406,15],[397,23,398,23],[408,25,409,25],[415,24,418,24],[420,17,422,17],[420,25,421,25],[403,25,404,25],[390,17,391,17],[390,18,393,18],[390,19,394,19],[390,20,394,20],[390,21,394,21],[393,16,393,17],[391,15,391,16],[392,15,392,17],[420,22,422,22],[405,10,405,25],[397,25,398,25],[397,11,398,11],[397,24,398,24]]}
[]
[null,null,null,null,null,null,null,null,null,null,null,null,null,null,"Calendrier institutionnel 2026-2027"]
[]
[]
[]
[null,null,null,null,null,null,null,null,null,null,null,null,null,null,"Session automne 2026",null,null,null,null,"Session hiver 2027",null,null,null,"Session printemps/été 2027"]
[null,"Clientèle","Secteurs","Département","Discipline","Diffusion","Langue","COURS","Lieu de formation",null,"Code de cours","Titre du cours","Diffusion","nb","Août","Sept.","Oct","Nov.","Déc.","Janv.","Fév.","Mars","Avril","Mai","Juin","Juillet"]
[null,"Policiers","Enquête","Enquête - Formation initiale","Enquête policière","-","Français",null,null,null,null,null,null,null,null,null,null,null,null,"PROGRAMMES DE FORMATION INITIALE"]
[null,"Policiers","Enquête","Enquête - Formation initiale","Enquête policière","-","Français",null,null,null,"n PROGRAMME DE FORMATION PRÉPARATOIRE EN ENQUÊTE"]
[null,"Policiers","Enquête","Enquête - Formation initiale","Enquête policière","-","Français",{"$f":"K10","v":"PFPEN-2302-365"},null,null,"PFPEN-2302-365","Programme de formation préparatoire en enquête (Réservé UPAC et BEI)"]
[null,"Policiers","Enquête","Enquête - Formation initiale","Enquête policière",{"$f":"M11","v":"HC3"},"Français",{"$f":"K11","v":"PFPEN-2302-365"},"Collège Ahuntsic"," ","PFPEN-2302-365","Volet collégial\nHors campus - Collège Ahuntsic","HC3",8]
[null,"Policiers","Enquête","Enquête - Formation initiale","Enquête policière","C1","Français",{"$f":"K11","v":"PFPEN-2302-365"},"ENPQ",null,null,"Volet ENPQ","C1"]
[null,"Policiers","Enquête","Enquête - Formation initiale","Enquête policière","-","Français",null,null,null,"n PROGRAMME DE FORMATION INITIALE EN ENQUÊTE POLICIÈRE"]
[null,"Policiers","Enquête","Enquête - Formation initiale","Enquête policière","-","Français",{"$f":"K15","v":"CRI-010-27"},null,null,"🎓 CRI-010-27","Principes généraux en enquête policière"]
[null,"Policiers","Enquête","Enquête - Formation initiale","Enquête policière","H1-[S-C]","Français",{"$f":"K15","v":"CRI-010-27"},"ENPQ",null,"CRI-010-27","CRI-010-27","H1-[S-C]",32,null,"8 au 11\nEn ligne et\n14 au 15","13 au 16\nEn ligne et\n19 au 20","9 au 12\nEn ligne et\n19 au 20",null,"18 au 21\nEn ligne et\n26 au 27","8 au 11\nEn ligne et\n16 au 17","30 mars au 2 avril En ligne\n et 5 au 6 avril",null,"31 mai au 3 juin En ligne\n et 10 au 11 juin"]
[null,"Policiers","Enquête","Enquête - Formation initiale","Enquête policière",{"$f":"M15","v":"H1-[S-C]"},"Français",{"$f":"K15","v":"CRI-010-27"},"ENPQ",null,null,null,null,null,null,"29 septembre au 2 octobre En ligne\net 8 au 9 octobre",null,null,null,"5 au 8 En ligne et\n12 au 13","22 au 25 février En ligne\n et 1er au 2 mars",null,"26 au 29 avril En ligne\n et 6 au 7 mai"]
[null,"Policiers","Enquête","Enquête - Formation initiale","Enquête policière",{"$f":"M15","v":"H1-[S-C]"},"Français",{"$f":"K15","v":"CRI-010-27"},"ENPQ",null,null,null,null,null,null,null,null,null,null,null,null,null,null,"17 au 20 En ligne et\n27 au 28"]
[null,"Policiers","Enquête","Enquête - Formation initiale","Enquête policière","H1-[S-CM]","Français",{"$f":"K18","v":"CRI-010-27"},"ENPQ - Campus de Montréal",null,"CRI-010-27","Principes généraux en enquête policière (Volet 1)\nCampus de Montréal","H1-[S-CM]",32]
[null,"Policiers","Enquête","Enquête - Formation initiale","Enquête policière","-","Français","PFIEP",null,null,"🎓  Volet 2 - Programme de formation intiale en enquête policière (PFIEP)"]
[null,"Policiers","Enquête","Enquête - Formation initiale","Enquête policière","C1","Français","PFIEP","ENPQ",null,"DRT-015-01\n\n\n\nETA-002-01\n\n\n\nENQ-010-01\n\n\n\nCRI-010-28\n","Mise en application du droit pénal dans un contexte d'enquête policière (DRT-015-01)\n\n\nIntégration de la compétence éthique en contexte d'enquête policière (ETA-002-01)\n\n\nTechnologies en contexte d'enquête policière (ENQ-010-01)\n\n\nIntégration à la fonction d’enquêteur policier (CRI-010-28)","C1",32,"33e cohorte\n17 août au 28 août,\n14  au 25 septembre,\n12 au 23 octobre et\n9 au 20 novembre",null,null,null,null,"41e cohorte\n18 au 29 janvier,\n15 au 26 mars,\n12 au 23 avril et\n10 au 21 mai"]
[null,"Policiers","Enquête","Enquête - Formation initiale","Enquête policière","C1","Français","PFIEP","ENPQ",null,null,null,null,null,null,"35e cohorte\n31 août 11 septembre,\n28 septembre au 9 octobre,\n26 octobre au 6 novembre,\n23 novembre au 4 décembre",null,null,null,null,"43e cohorte\n1er au 12 février,\n1er au 12 mars,\n29 mars au 9 avril et\n26 avril au 7 mai"]
[null,"Policiers","Enquête","Enquête - Formation initiale","Enquête policière","C1","Français","PFIEP","ENPQ",null,null,null,null,null,null,"37e cohorte\n14 au 25 septembre,\n12 au 23 octobre,\n9 au 20 novembre et\n7 au 18 décembre",null,null,null,null,"44e cohorte\n15  au 26 février,\n29 mars au 9 avril,\n26 avril au 7 mai et\n24 mai au 4 juin"]
[null,"Policiers","Enquête","Enquête - Formation initiale","Enquête policière","C1","Français","PFIEP","ENPQ",null,null,null,null,null,null,"38e cohorte\n28 septembre au 9 octobre,\n26 octobre au 6 novembre,\n23 novembre au 4 décembre et\n4 au 15 janvier",null,null,null,null,null,"46e cohorte\n15 au 26 mars,\n12 au 23 avril,\n10 au 21 mai et\n7 au 18 juin"]
[null,"Policiers","Enquête","Enquête - Formation initiale","Enquête policière","C1","Français","PFIEP","ENPQ",null,null,null,null,null,null,null,null,null,"39e cohorte\n7 au 18 décembre,\n4 au 15 janvier,\n1er au 12 février et\n1er au 12 mars"]
[null,"Policiers","Enquête","Enquête - Formation initiale","Enquête policière","CM1","Français","PFIEP","ENPQ - Campus de Montréal",null,"\nDRT-015-01\n\n\n\nETA-002-01\n\n\n\nENQ-010-01\n\n\n\nCRI-010-28","Mise en application du droit pénal dans un contexte d'enquête policière (DRT-015-01)\n\n\nIntégration de la compétence éthique en contexte d'enquête policière (ETA-002-01)\n\n\nTechnologies en contexte d'enquête policière (ENQ-010-01)\n\n\nIntégration à la fonction d’enquêteur policier (CRI-010-28)\nCampus de Montréal","CM1",32,"34e cohorte\n24 août au 4 septembre,\n21 septembre au 2 octobre,\n19 au 30 octobre et\n16 au 27 novembre",null,null,null,null,"40e cohorte\n11 au 22 janvier,\n8 au 19 février,\n22 mars au 2 avril et\n3 au 14 mai"]
[null,"Policiers","Enquête","Enquête - Formation initiale","Enquête policière",{"$f":"M25","v":"CM1"},"Français","PFIEP","ENPQ - Campus de Montréal",null,null,null,null,null,null,"36e cohorte\n7 au 18 septembre,\n5 au 16 octobre,\n2 au 13 novembre et\n30 novembre au 11 décembre",null,null,null,"42e cohorte\n25 janvier au 5 février,\n22 février au 5 mars,\n19 au 30 avril et\n31 mai au 11 juin"]
[null,"Policiers","Enquête","Enquête - Formation initiale","Enquête policière",{"$f":"M25","v":"CM1"},"Français","PFIEP","ENPQ - Campus de Montréal",null,null,null,null,null,null,null,null,null,null,null,null,"45e cohorte\n8 au 19 mars,\n5 au 16 avril,\n17 au 28 mai et\n14 au 25 juin"]
[null,"Policiers","Enquête",null,null,"-","Français","Cours individuels",null,null,"Cours individuels"]
[null,"Policiers","Enquête","Enquête - Perfectionnement professionnel","Enquête policière","S1","Français","436-216-18","En Ligne",null,"🎓 436-216-18","Examen de validation des acquis - Droit pénal appliqué à l'enquête policière (après plus de 10 ans)\nEn ligne","S1",12,"À la demande"]
[null,"Policiers","Enquête","Enquête - Perfectionnement professionnel",null,"-","Français",null,null,null,null,null,null,null,null,null,null,null,null,"PERFECTIONNEMENT POLICIER"]
[null,"Policiers","Enquête","Enquête - Perfectionnement professionnel",null,"-","Français",null,null,null,"n ENQUÊTE POLICIÈRE"]
[null,"Policiers","Enquête","Enquête - Perfectionnement professionnel","Enquête de crimes majeurs",{"$f":"M32","v":"C1"},"Français","CRI-010-08","ENPQ",null,"🎓 CRI-010-08","Entrevue filmée d'un suspect","C1",16,null,null,"26 au 30 octobre et\n2 au 6 novembre",null,null,"18 au 22 et\n25 au 29",null,null,null,"31 mai au 4 juin et\n7 au 11 juin"]
[null,"Policiers","Enquête","Enquête - Perfectionnement professionnel","Enquête de crimes majeurs","CM1","Français","CRI-010-08","ENPQ",null,"🎓 CRI-010-08","Entrevue filmée d'un suspect\nCampus de Montréal","CM1",16,null,null,null,"9 au 13 et\n16 au 20"]
[null,"Policiers","Enquête","Enquête - Perfectionnement professionnel","Enquête policière","C1","Français","CRI-010-18","ENPQ",null,"🎓 CRI-010-18","Enquête en matière de drogues","C1",20,null,null,null,"30 novembre au\n4 décembre\net 7 au 11 décembre"]
[null,"Policiers","Enquête","Enquête - Perfectionnement professionnel","Enquête policière","C1","Français","CRI-010-20","ENPQ",null,"🎓 CRI-010-20","Enquête à la suite d'un incendie","C1",12,null,null,null,null,null,"25 au 29 janvier et\n15 au 19 février"]
[null,"Policiers","Enquête","Enquête - Perfectionnement professionnel","Enquête policière","CM1","Français","CRI-010-20","ENPQ - Campus de Montréal",null,"🎓 CRI-010-20","Enquête à la suite d'un incendie\nCampus de Montréal","CM1",12]
[null,"Policiers","Enquête","Enquête - Perfectionnement professionnel","Enquête sur les activités économiques","C1","Français","CRI-010-24","ENPQ",null,"🎓 CRI-010-24","Enquête sur les crimes économiques I","C1",16,null,null,null,"30 novembre au\n4 décembre\net 7 au 11 décembre"]
[null,"Policiers","Enquête","Enquête - Perfectionnement professionnel","Enquête sur les activités économiques",{"$f":"M38","v":"CM1"},"Français","CRI-010-24","ENPQ - Campus de Montréal",null,"🎓 CRI-010-24","Enquête sur les crimes économiques I\nCampus de Montréal","CM1",16,null,null,null,null,null,null,null,null,null,"3 au 7 et\n10 au 14"]
[null,"Policiers","Enquête","Enquête - Perfectionnement professionnel","Enquête policière","H1-[S-C]","Français","CRI-010-29","ENPQ",null,"🎓 CRI-010-29","Enquête sur les crimes à  caractère sexuel\nSemaine 1 : En ligne\nSemaine 2 : En présentiel","H1-[S-C]",24,null,"14 au 18 En ligne et \n21 au 25 ",null,null,null,"25 au 29 janvier En ligne et \n1er au 5 février"]
[null,"Policiers","Enquête","Enquête - Perfectionnement professionnel","Enquête policière",{"$f":"M40","v":"H1-[S-CM]"},"Français","CRI-010-29","ENPQ - Campus de Montréal",null,"🎓 CRI-010-29","Enquête sur les crimes à  caractère sexuel\nSemaine 1 : En ligne\nSemaine 2 : Campus de Montréal","H1-[S-CM]",24,null,null,null,null,null,null,null,null,null,"10 au 14 En ligne et \n17 au 21"]
[null,"Policiers","Enquête","Enquête - Perfectionnement professionnel","Enquête policière","A1","Français",{"$f":"K41","v":"436-101-24"},"En Ligne",null,"436-101-24","L.E.R.D.S\nEn ligne","A1","s.o.","29 juin au 25 septembre",null,"28 septembre au 11 décembre",null,null,"11 janvier au 19 mars",null,null,"5 avril au 18 juin"]
[null,"Policiers","Enquête","Enquête - Perfectionnement professionnel","Enquête policière","C1","Français","436-103-12","ENPQ",null,"436-103-12","Formation en normes professionnelles","C1",12,null,null,null,null,null,null,null,null,"19 au 23"]
[null,"Policiers","Enquête","Enquête - Perfectionnement professionnel","Enquête policière",{"$f":"M43","v":"CM1"},"Français","436-103-12","ENPQ - Campus de Montréal",null,"436-103-12","Formation en normes professionnelles\nCampus de Montréal","CM1",12]
[null,"Policiers","Enquête","Enquête - Perfectionnement professionnel","Enquête policière","C1","Français","436-107-16","ENPQ",null,"436-107-16","Policier judiciaire","C1",12,null,"22 au 25"]
[null,"Policiers","Enquête","Enquête - Perfectionnement professionnel","Enquête policière",{"$f":"M44","v":"C1"},"Français","436-110-17","ENPQ",null,"436-110-17","Agent couvreur                                           ","C1",12,null,28,6,null,null,null,8,8,19]
[null,"Policiers","Enquête","Enquête - Perfectionnement professionnel","Enquête policière","C1","Français",{"$f":"K46","v":"436-111-17"},"ENPQ",null,"436-111-17","Introduction aux méthodes d'entrevues enregistrées","C1",16,null,null,null,null,null,null,null,"30 au 31"]
[null,"Policiers","Enquête","Enquête - Perfectionnement professionnel","Enquête policière","HC1","Français","436-111-17","BLAINVILLE",null,"436-111-17","Introduction aux méthodes d'entrevues \nHors campus - BLAINVILLE","HC1",16,null,null,null,null,null,null,null,null,"12 au 13"]
[null,"Policiers","Enquête","Enquête - Perfectionnement professionnel","Enquête policière","HC1","Français","436-111-17","UQTR - QUÉBEC",null,"436-111-17","Introduction aux méthodes d'entrevues enregistrées\nHors campus - UQTR - QUÉBEC","HC1",16,null,null,"13 au 14"]
[null,"Policiers","Enquête","Enquête - Perfectionnement professionnel","Enquête policière",{"$f":"M49","v":"HC1"},"Français",{"$f":"K49","v":"436-111-17"},"HC - Voir détail sous les dates",null,"436-111-17","Introduction aux méthodes d'entrevues enregistrées\nHors campus ","HC1",16]
[null,"Policiers","Enquête","Enquête - Perfectionnement professionnel","Enquête policière",{"$f":"M50","v":"A1"},"Français",{"$f":"K50","v":"436-112-17"},"En Ligne",null,"436-112-17","Gestion des informateurs - Gestionnaire de premier niveau\nEn ligne","A1","s.o."]
[null,"Policiers","Enquête","Enquête - Perfectionnement professionnel","Enquête policière","A3","Français","436-114-20","En Ligne",null,"436-114-20","Enquêtes sur la cybercriminalité - Niveau 1 - RCSP/CPKN \nEn ligne","A3","s.o.","En continu"]
[null,"Policiers","Enquête","Enquête - Perfectionnement professionnel","Enquête policière","HC1","Français",{"$f":"K52","v":"436-117-22"},"BOUCHERVILLE",null,"436-117-22","Infiltration virtuelle\nHors campus - Boucherville QG de la SQ","HC1",12,null,null,null,null,null,null,null,null,"12 au 16"]
[null,"Policiers","Enquête","Enquête - Perfectionnement professionnel","Enquête policière","C1","Français","436-118-25","ENPQ",null,"436-118-25","Récupération d'actifs criminels","C1",20,null,null,"6 au 8"]
[null,"Policiers","Enquête","Enquête - Perfectionnement professionnel","Enquête policière",{"$f":"M54","v":"CM1"},"Français",{"$f":"K54","v":"436-118-25"},"ENPQ - Campus de Montréal",null,"436-118-25","Récupération d'actifs criminels\nCampus de Montréal","CM1",20,null,null,null,null,null,null,"15 au 17"]
[null,"Policiers","Enquête","Enquête - Perfectionnement professionnel","Enquête policière","H1-[A-HC]","Français","436-118-25","BLAINVILLE",null,"436-118-25","Récupération d'actifs criminels\nHors campus - BLAINVILLE","H1-[A-HC]",20,null,null,null,null,null,"11 au 13"]
[null,"Policiers","Enquête","Enquête - Perfectionnement professionnel","Enquête policière","H1-[A-HC]","Français","436-118-25","UQTR - QUÉBEC",null,"436-118-25","Récupération d'actifs criminels\nHors campus - UQTR - Québec","H1-[A-HC]",20,null,null,null,"10 au 12"]
[null,"Policiers","Enquête","Enquête - Perfectionnement professionnel","Enquête policière",{"$f":"M57","v":"C1"},"Français",{"$f":"K57","v":"436-119-23"},"ENPQ",null,"436-119-23","Mégaprocès – Gestion de la preuve et règles juridiques applicables (DPCP)","C1",6,null,null,null,"23 au 27",null,null,null,null,null,null,"14 au 18"]
[null,"Policiers","Enquête","Enquête - Perfectionnement professionnel","Enquête policière","A3","Français","436-120-23","En Ligne",null,"436-120-23","Enquêtes sur les blessures graves et les décès en milieu de travail - RCSP/CPKN \nEn ligne","A3","s.o.","En continu"]
[null,"Policiers","Enquête","Enquête - Perfectionnement professionnel","Enquête policière","C1","Français","436-123-25","ENPQ",null,"436-123-25","Gestionnaire d’enquêtes sur les crimes en série (GECS)","C1",150,"À la demande"]
[null,"Policiers","Enquête","Enquête - Perfectionnement professionnel","Enquête policière","A1","Français","436-124-25","En Ligne",null,"436-124-25","Récupération d’actifs criminels (volet en ligne)\nEn ligne","A1","s.o.","En continu"]
[null,"Policiers","Enquête","Enquête - Perfectionnement professionnel","Enquête policière",{"$f":"M61","v":"A3"},"Français",{"$f":"K61","v":"436-126-25"},"En Ligne",null,"436-126-25","Délinquant à haut risque\nEn ligne","A3","s.o."]
[null,"Policiers","Enquête","Enquête - Perfectionnement professionnel","Enquête policière","HC1","Français",{"$f":"K62","v":"436-206-08"},"ST-HUBERT",null,"436-206-08","Identification de véhicule\nHors campus - St-Hubert\n5225, J.-Armand-Bombardier\nSt-Hubert Qc","HC1",9,null,null,null,"2 au 6 et \n9 au 13"]
[null,"Policiers","Enquête","Enquête - Perfectionnement professionnel","Enquête policière","A1","Français","436-208-15","En Ligne",null,"436-208-15","Imagerie numérique judiciaire\nEn ligne","A1","s.o.","En continu"]
[null,"Policiers","Enquête","Enquête - Perfectionnement professionnel","Enquête policière","C1","Français","436-209-15","ENPQ",null,"436-209-15","Introduction à la surveillance physique auxiliaire","C1",16]
[null,"Policiers","Enquête","Enquête - Perfectionnement professionnel","Enquête policière","HC1","Français","436-209-15","HC - Voir détail sous les dates",null,"436-209-15","Introduction à la surveillance physique auxiliaire\nHors campus","HC1",16,null,"22 au 25\nMascouche","6 au 9\nTrois-Rivières","3 au 6 \nMascouche",null,null,null,null,"27 au 30\nTrois-Rivières","25 au 28\nMascouche"]
[null,"Policiers","Enquête","Enquête - Perfectionnement professionnel","Enquête policière",{"$f":"M65","v":"HC1"},"Français","436-209-15","HC - Voir détail sous les dates",null,null,null,null,null,null,null,"20 au 23\nMascouche"]
[null,"Policiers","Enquête","Enquête - Perfectionnement professionnel","Enquête policière",{"$f":"M67","v":"A1"},"Français",{"$f":"K67","v":"436-210-15"},"En Ligne",null,"436-210-15","Gestion des informateurs\nEn ligne","A1","s.o.","En continu"]
[null,"Policiers","Enquête","Enquête - Perfectionnement professionnel","Enquête policière","C1","Français",{"$f":"K68","v":"436-302-16"},"ENPQ",null,"436-302-16","Gestion des informateurs - Volet pratique","C1",12,null,null,null,null,null,null,null,null,null,null,"28 juin au 1er juillet"]
[null,"Policiers","Enquête","Enquête - Perfectionnement professionnel","Enquête policière","CM1","Français","436-302-16","ENPQ - Campus de Montréal",null,"436-302-16","Gestion des informateurs - Volet pratique\nCampus de Montréal","CM1",12,null,"28 sept au 1er octobre",null,null,null,null,"23 au 26"]
[null,"Policiers","Enquête","Enquête - Perfectionnement professionnel","Enquête policière",{"$f":"M70","v":"H1-[S-C]"},"Français",{"$f":"K70","v":"436-307-24"},"ENPQ",null,"436-307-24","Entrevue d'enfants - Le guide NICHD","H1-[S-C]",12,null,"16 En ligne et\n21 au 25","13 En ligne et\n19 au 23",null,null,null,"16 En ligne et\n22 au 26","30 mars En ligne et\n5 au 9 avril"]
[null,"Policiers","Enquête","Enquête - Perfectionnement professionnel","Enquête policière","H1-[S-CM]","Français","436-307-24","ENPQ - Campus de Montréal",null,"436-307-24","Entrevue d'enfants - Le guide NICHD\nCampus de Montréal","H1-[S-CM]",12,null,null,"20 En ligne et\n26 au 30",null,"8 En ligne et\n14 au 18","12 En ligne et\n18 au 22",null,"9 En ligne et\n15 au 19"]
[null,"Policiers","Enquête","Enquête - Perfectionnement professionnel","Enquête policière","C1","Français","436-309-19","ENPQ",null,"436-309-19","Mégaprocès - Gestion de la preuve et règles juridiques applicables","C1",18,null,null,null,"23 au 27",null,null,null,null,null,null,"14 au 18"]
[null,"Policiers","Enquête","Enquête - Perfectionnement professionnel","Enquête policière","C1","Français","436-310-19","ENPQ",null,"436-310-19","Mégaprocès - Gestion de projet appliquée à une enquête longue et complexe","C1",18,null,null,null,null,"14 au 17"]
[null,"Policiers","Enquête","Enquête - Perfectionnement professionnel","Enquête policière","C3","Français","436-311-21","ENPQ",null,"436-311-21","Témoignage d'expert en identité judiciaire - CCP","C3",20]
[null,"Policiers","Enquête","Enquête - Perfectionnement professionnel","Enquête policière","C3","Français","436-312-21","ENPQ",null,"436-312-21","Comparaison d'élément de preuve matérielle - CCP","C3",20]
[null,"Policiers","Enquête","Enquête - Perfectionnement professionnel","Enquête policière","C3","Français","436-313-21","ENPQ",null,"436-313-21","Analyse Lophoscopique avancée - CCP","C3",20,null,null,null,null,"7 au 11"]
[null,"Policiers","Enquête","Enquête - Perfectionnement professionnel","Enquête policière","C1","Français","436-315-23","ENPQ",null,"436-315-23","Enquête sur l'abus physique et le décès de jeunes enfants","C1",16,null,null,null,"2 au 6",null,"4 au 8",null,null,null,"31 mai au 4 juin"]
[null,"Policiers","Enquête","Enquête - Perfectionnement professionnel","Enquête policière","C3","Français","436-316-23","ENPQ",null,"436-316-23","Gestion des cas graves\nCCP","C3",30]
[null,"Policiers","Enquête","Enquête - Perfectionnement professionnel","Enquête policière","C1","Français","436-317-25","ENPQ",null,"436-317-25","Investigation d'une scène d'incendie","C1",12,null,"21 au 25 septembre,\n28 septembre au 2 octobre,\n19 au 23 octobre et\n26 au 30 octobre"]
[null,"Policiers","Enquête","Enquête - Perfectionnement professionnel","Enquête de crimes majeurs","C3","Français","437-302-23","ENPQ",null,"437-302-23","Techniques d'enquête sur les crimes majeurs - CCP","C3",30]
[null,"Policiers","Enquête","Enquête - Perfectionnement professionnel","Enquête de crimes majeurs","C1","Français","437-303-23","ENPQ",null,"437-303-23","Négociateur","C1",16,null,null,null,null,null,null,"22 au 26"]
[null,"Policiers","Enquête","Enquête - Perfectionnement professionnel","Renseignement","HC3","Français","439-102-17","LOCAUX DE LA GRC",null,"439-102-17","Atelier de sensibilisation et de développement en sécurité nationale\nHors campus -  Locaux de la GRC","HC3",80]
[null,"Policiers","Enquête","Enquête - Perfectionnement professionnel","Renseignement",{"$f":"M83","v":"S3"},"Français",{"$f":"K83","v":"439-102-17"},"En Ligne",null,"439-102-17","Atelier de sensibilisation et de développement en sécurité nationale\nEn ligne","S3","s.o."]
[null,"Policiers","Enquête","Enquête - Perfectionnement professionnel","Renseignement",{"$f":"M84","v":"C1"},"Français","439-302-17","ENPQ",null,"439-302-17","Agent de renseignement criminel","C1",12,null,null,"19 au 23 et\n26 au 29",null,null,null,null,"8 au 12 et\n15 au 19"]
[null,"Policiers","Gestion","Gestion - Formation initiale","Gestionnaires de 1er niveau","-","Français",null,null,null,null,null,null,null,null,null,null,null,null,"PROGRAMMES DE FORMATION INITIALE"]
[null,"Policiers","Gestion","Gestion - Formation initiale","Gestionnaires de 1er niveau","-","Français",null,null,null,"n PROGRAMME DE FORMATION  INITIALE EN GESTION POLICIÈRE"]
[null,"Policiers","Gestion","Gestion - Formation initiale","Volet 1","A3","Français","ADM-010-86","En Ligne",null,"🎓 ADM-010-86","Volet 1 - Management des organisations policières\nInscriptions en continu (durée 15 semaines)\nEn ligne","A3","s.o.",null,"8 septembre au 19 décembre\nDate limite d'inscription : 1er octobre",null,null,null,"12 janvier au 24 avril\nDate limite d'inscription : 20 janvier",null,null,null,"4 mai au 21 août\nDate limite d'inscription : 30 avril"]
[null,"Policiers","Gestion","Gestion - Formation initiale","Gestionnaires de 1er niveau",{"$f":"M88","v":"C1"},"Français","PPU-010-40","ENPQ",null,"🎓 PPU-010-40","Activité d'immersion à la fonction de cadre de premier niveau","C1",16,null,null,null,null,null,null,null,null,"12 au 15 avril et \n10 au 13 mai"]
[null,"Policiers","Gestion","Gestion - Formation initiale","Volet 2",{"$f":"M89","v":"H1-[S-C]"},"Français","PPU-010-51","ENPQ",null,"🎓 PPU-010-51","Volet 2 - Pratiques policières\nSemaine 1 : En ligne\nSemaine 2 : ENPQ","H1-[S-C]",32,null,"21 au 25 septembre En ligne et 28 septembre au\n2 octobre",null,null,null,null,"8 au 12 En ligne et\n15 au 19",null,"5 au 9 En ligne et\n12 au 16"]
[null,"Policiers","Gestion","Gestion - Formation initiale","Volet 2",{"$f":"M90","v":0},"Français","PPU-010-51","ENPQ"]
[null,"Policiers","Gestion","Gestion - Formation initiale","Volet 2",{"$f":"M91","v":"H1-[S-CM]"},"Français","PPU-010-51","ENPQ - Campus de Montréal",null,"🎓 PPU-010-51","Volet 2 - Pratiques policières\nSemaine 1 : En ligne\nSemaine 2 : Campus de Montréal","H1-[S-CM]",32,null,null,null,"9 au 13 En ligne et\n16 au 20",null,"11 au 15 En ligne et\n18 au 22",null,"8 au 12 En ligne et\n15 au 19"]
[null,"Policiers","Gestion","Gestion - Formation initiale",null,{"$f":"M92","v":"S1"},"Français","PPU-010-52","En Ligne",null,"🎓 PPU-010-52","Stage supervisé","S1","s.o.","Inscriptions en continu - démarrage des groupes selon la demande"]
[null,"Policiers","Gestion",null,null,"-","Français",null,null,null,"n AUTRES COURS EN GESTION POLICIÈRE (Offerts à l'ENPQ)"]
[null,"Policiers","Gestion","Sécurité publique - Perfectionnement professionnel",null,"C1","Français","PPU-010-45","ENPQ",null,"🎓 PPU-010-45","Activité synthèse - Fonction de direction d'une organisation policière","C1",7,null,"Bloc 1 : 23 au 24 septembre\nBloc 2 : 30 octobre\nBloc 3 : 11 décembre\nPrésentation finale : 14 avril"]
[null,"Policiers","Gestion","Sécurité publique - Perfectionnement professionnel","Gestionnaires de 1er niveau","C1","Français","PPU-010-46","ENPQ",null,"🎓 PPU-010-46","Activité d'intégration en gestion policière","C1",9,null,null,"Bloc 3\n27 au 29\n(prévu pour les\nétudiants inscrits en\n2025-2026)",null,null,null,null,null,null,"Bloc 1\n18 au 21"]
[null,"Sécurité publique","Gestion","Sécurité publique - Perfectionnement professionnel","Gestionnaires de 1er niveau",{"$f":"M96","v":"HC1"},"Français","PPU-060-01\n","HC - Voir détail sous les dates",null,"🎓 PPU-060-01","Activité de synthèse en management en sécurité publique (2e cycle)\nHors campus\nCampus de L'UQTR, à Longueuil (Édifice Beneva)","HC1",20,null,"18 septembre, 9 et 23 octobre,\n 6 et 20 novembre\n et 4 décembre"]
[null,"Sécurité publique","Gestion","Sécurité publique - Perfectionnement professionnel","Gestionnaires de 1er niveau",{"$f":"M97","v":"S1"},"Français","PPU-060-01\n","En Ligne",null,"🎓 PPU-060-01","Activité de synthèse en management en sécurité publique (2e cycle)\nEn ligne","S1",20,null,null,null,null,null,"8 et 22 janvier,\n5 et 19 février et \n12 et 26 mars"]
[null,"Policiers","Enquête","Enquête - Perfectionnement professionnel","Enquête de crimes majeurs","C1","Français",{"$f":"K98","v":"437-101-12"},"ENPQ",null,"437-101-12","Actualisation des connaissances - Commandant \"Filet\"","C1",40,null,null,null,null,null,null,null,"23 au 24"]
[null,"Policiers","Enquête","Enquête - Perfectionnement professionnel","Enquête de crimes majeurs","MS1","Français","437-102-07","ENPQ",null,"437-102-07","Introduction à l'Opération Filet II","MS1",20,null,null,null,"2 au 4",null,null,null,null,null,"10 au 12"]
[null,"Policiers","Enquête","Enquête - Perfectionnement professionnel","Enquête de crimes majeurs","C1","Français","437-104-19","ENPQ",null,"437-104-19","Officier d'opération - Filet II et Filet III - Phase de validation","C1",16,null,null,null,null,null,"11 au 13"]
[null,"Policiers","Enquête","Enquête - Perfectionnement professionnel","Enquête de crimes majeurs",{"$f":"M101","v":"C1"},"Français",{"$f":"K101","v":"437-105-23"},"ENPQ",null,"437-105-23","Actualisation des connaissances – Commandant « Filet » pour officier d’opération et membre d’un GTI","C1",60,null,null,null,null,null,null,null,23]
[null,"Policiers","Enquête","Enquête - Perfectionnement professionnel","Enquête de crimes majeurs","C1","Français","437-204-09","ENPQ",null,"437-204-09","Opération Filet - Le commandant","C1",16,null,null,null,null,null,null,null,null,null,"17 au 21"]
[null,"Policiers","Enquête","Enquête - Perfectionnement professionnel","Gestion - Perfectionnement professionnel",{"$f":"M103","v":"C1"},"Français","602-101-18","ENPQ",null,"602-101-18","Gestion des stratégies proactives ","C1",10,"Formation en attente de révision"]
[null,"Policiers","Gestion","Gestion - Perfectionnement professionnel","Recherche terrestre","C1","Français","622-101-24","ENPQ",null,"622-101-24","Gestion initiale en recherche terrestre","C1",20,null,"8 au 10",null,null,null,null,"23 au 25"]
[null,"Policiers","Gestion","Gestion - Perfectionnement professionnel","Recherche terrestre",{"$f":"M105","v":"CM1"},"Français",{"$f":"K105","v":"622-101-24"},"ENPQ - Campus de Montréal",null,"622-101-24","Gestion initiale en recherche terrestre\nCampus de Montréal","CM1",20]
[null,"Policiers","Gestion","Gestion - Perfectionnement professionnel","Recherche terrestre","HC1","Anglais",{"$f":"K106","v":"622-101-24"},"HC - Voir détail sous les dates",null,"622-101-24","Initial Ground Search Management\nHors Campus","HC1",20,"À la demande "]
[null,"Policiers","Gestion","Gestion - Perfectionnement professionnel","Psychologie","C1","Français","828-102-15","ENPQ",null,"828-102-15","Prévention des impacts psychologiques (CADRE)","C1",14,null,17,null,null,null,null,8]
[null,"Policiers","Gestion","Gestion - Perfectionnement professionnel","Psychologie","C1","Français",{"$f":"K108","v":"828-103-15"},"ENPQ",null,"828-103-15","Prévention des impacts psychologiques\n(SUPERVISEUR)","C1",14,null,"15 au 16",null,"17 au 18",null,null,"9 au 10",null,null,"25 au 26"]
[null,"Policiers","Gestion","Gestion - Perfectionnement professionnel","Psychologie","CM1","Français",{"$f":"K109","v":"828-103-15"},"ENPQ - Campus de Montréal",null,"828-103-15","Prévention des impacts psychologiques\n(SUPERVISEUR)\nCampus de Montréal","CM1",14,null,null,null,null,"8 au 9"]
[null,"Policiers","Gestion","Gestion - Perfectionnement professionnel","Psychologie","HC1","Français","828-103-15","HC - Voir détail sous les dates",null,"828-103-15","Prévention des impacts psychologiques\n(SUPERVISEUR)\nHors campus - Blainville","HC1",14,null,null,null,null,null,null,null,null,null,"25 au 26"]
[null,"Policiers","Gestion","Gestion - Perfectionnement professionnel","Psychologie",{"$f":"M110","v":"HC1"},"Français",{"$f":"K110","v":"828-103-15"},"HC - Voir détail sous les dates"]
[null,"Policiers","Enquête","Enquête - Perfectionnement professionnel",null,"-","Français",null,null,null,null,null,null,null,null,null,null,null,null,"PERFECTIONNEMENT POLICIER"]
[null,"Policiers","Enquête","Enquête - Perfectionnement professionnel",null,"-","Français",null,null,null,"n PROGRAMME ACCES (Alcool, Tabac, Cannabis)"]
[null,"Policiers","Enquête","Enquête - Perfectionnement professionnel","Enquête policière","C1","Français",{"$f":"K114","v":"436-004-07"},"ENPQ",null,"436-004-07","Inspections systématiques dans les endroits licenciés\n*Réservé aux corps de police municipaux (SAUF SPVM)","C1",16,null,null,"13 au 16","17 au 20",null,null,null,"16 au 19"]
[null,"Policiers","Enquête","Enquête - Perfectionnement professionnel","Enquête sur les activités économiques",{"$f":"M115","v":"C1"},"Français",{"$f":"K115","v":"440-101-23"},"ENPQ",null,"440-101-23","Intervention en matière de contrebande de tabac","C1",30]
[null,"Policiers","Enquête","Enquête - Perfectionnement professionnel","Enquête sur les activités économiques","HC1","Français","440-101-23","HC - Voir détail sous les dates",null,"440-101-23","Intervention en matière de contrebande de tabac\nHors campus","HC1",30]
[null,"Policiers","Enquête","Enquête - Perfectionnement professionnel","Enquête sur les activités économiques","C1","Français","836-136-18","ENPQ",null,"836-136-18","Intervention en matière de cannabis","C1",20,null,null,"6 au 8","24 au 26",null,"19 au 21","23 au 25"]
[null,"Policiers","Enquête","Enquête - Perfectionnement professionnel","Enquête sur les activités économiques",{"$f":"M118","v":"C1"},"Français",{"$f":"K118","v":"847-102-20"},"ENPQ",null,"847-102-20","Gestion administrative et opérationnelle ","C1",40,null,"8 au 10"]
[null,"Autochtones",null,null,null,"-","Français",null,null,null,null,null,null,null,null,null,null,null,null,"Formations autochtones"]
[null,"Autochtones",null,null,null,"-","Français",null,null,null,"n Formations autochtones"]
[null,"Autochtones","Patrouille-gendarmerie","Patrouille-gendarmerie - Formation initiale","Activités du patrouilleur - autres",{"$f":"M121","v":"C1"},"Anglais",{"$f":"K121","v":"PFIPG-Autochtone"},"ENPQ",null,"PFIPG-Autochtone","PFIPG-Autochtone - ANGLAIS - 262e cohorte (BLOC 2)","C1",10,"24 août au 17 septembre"]
[null,"Autochtones","Patrouille-gendarmerie","Patrouille-gendarmerie - Formation initiale","Activités du patrouilleur - autres","C1","Anglais","PFIPG-Autochtone","ENPQ",null,"PFIPG-Autochtone","PFIPG-Autochtone - ANGLAIS - 283e cohorte","C1",9,null,null,null,"17 novembre au 19 mars"]
[null,"Autochtones","Patrouille-gendarmerie","Patrouille-gendarmerie - Formation initiale","Activités du patrouilleur - autres",{"$f":"M123","v":"C1"},"Français","PFIPG-Autochtone","ENPQ",null,"PFIPG-Autochtone","PFIPG-Autochtone - 284e cohorte","C1",18,null,null,null,null,null,null,null,"22 au 25 mars En ligne\n30 mars au 9 juillet"]
[null,"Policiers","Patrouille-gendarmerie","Patrouille-gendarmerie - Perfectionnement professionnel","Activités du patrouilleur - autres",{"$f":"M124","v":"HC1"},"Français",{"$f":"K124","v":"203-108-17"},"HC - Voir détail sous les dates",null,"203-108-17","Intervenir conjointement auprès d'une personne en crise\nHors campus","HC1",6,"À la demande "]
[null,"Autochtones","Enquête","Enquête - Perfectionnement professionnel","Enquête policière",{"$f":"M126","v":"C1"},"Français","436-115-22","ENPQ",null,"436-115-22","Intervenir en matière de violence conjugale, intrafamiliale et sexuelle - Corps de police autochtones","C1",18]
[null,"Autochtones","Enquête","Enquête - Perfectionnement professionnel","Enquête policière",{"$f":"M126","v":"C1"},"Anglais",{"$f":"K126","v":"436-115-22"},"ENPQ",null,"436-115-22","Intervention in Conjugal, Intrafamily and Sexual Violence Situations – Indigenous Police Forces","C1",18,"On demand"]
[null,"Autochtones","Enquête","Enquête - Perfectionnement professionnel","Enquête policière",{"$f":"M128","v":"HC1"},"Français",{"$f":"K127","v":"436-115-22"},"HC - Voir détail sous les dates",null,"436-115-22","Intervenir en matière de violence conjugale, intrafamiliale et sexuelle - Corps de police autochtones\nHors campus","HC1",12]
[null,"Autochtones","Enquête","Enquête - Perfectionnement professionnel","Enquête policière",{"$f":"M128","v":"HC1"},"Anglais","436-115-22","HC - Voir détail sous les dates",null,"436-115-22","Intervention in Conjugal, Intrafamily and Sexual Violence Situations – Indigenous Police Forces\nHors campus","HC1",12,"On demand"]
[null,"Autochtones","Enquête","Enquête - Perfectionnement professionnel","Enquête policière",{"$f":"M128","v":"HC1"},"Anglais",{"$f":"K128","v":"436-115-22"},"HC - Voir détail sous les dates"]
[null,"Autochtones","Enquête","Enquête - Perfectionnement professionnel","Enquête policière",{"$f":"M130","v":"HC1"},"Français",{"$f":"K130","v":"436-314-22"},"GATINEAU",null,"436-314-22","Criminal Investigators Training (OPC)\nHors campus - Gatineau\nHoliday Inn Express & Suites \n11 Impasse de la Gare-Talon\nGatineau, J8T 0B1","HC1",18]
[null,"Policiers",null,null,null,"-","Français",null,null,null,null,null,null,null,null,null,null,null,null,"PERFECTIONNEMENT POLICIER"]
[null,"Policiers","Patrouille-gendarmerie","Patrouille-gendarmerie - Perfectionnement professionnel",null,"-","Français",null,null,null,"n PATROUILLE-GENDARMERIE"]
[null,"Policiers","Patrouille-gendarmerie","Patrouille-gendarmerie - Perfectionnement professionnel",null,"-","Français","Formation en pédagogie",null,null,"Formation en pédagogie"]
[null,"Policiers","Patrouille-gendarmerie","Patrouille-gendarmerie - Perfectionnement professionnel","Pédagogie",{"$f":"M135","v":"C1"},"Français",{"$f":"K134","v":"232-201-24"},"ENPQ",null,"232-201-24","Interventions pédagogiques","C1",8,null,"14 au 18",null,null,null,null,"1 er au 5"]
[null,"Policiers","Patrouille-gendarmerie","Patrouille-gendarmerie - Perfectionnement professionnel","Pédagogie",{"$f":"M135","v":"C1"},"Anglais",{"$f":"K135","v":"232-201-24"},"ENPQ",null,"232-201-24","Teaching and Learning Practices","C1",8]
[null,"Policiers","Patrouille-gendarmerie","Patrouille-gendarmerie - Perfectionnement professionnel","Pédagogie","HC1","Français",{"$f":"K136","v":"232-201-24"},"BLAINVILLE",null,"232-201-24","Interventions pédagogiques\nHors campus - BLAINVILLE","HC1",8,null,null,"19 au 23",null,null,null,null,"15 au 19"]
[null,"Policiers","Enquête","Gestion - Perfectionnement professionnel","Pédagogie",{"$f":"M137","v":"H1-[S-C]"},"Français",{"$f":"K137","v":"648-101-24"},"ENPQ",null,"648-101-24","Agent d'information","H1-[S-C]",6,null,null,"13 En ligne\n15 au 16",null,null,null,null,"22 En ligne\n24 au 25"]
[null,null,null,null,null,{"$f":"M138","v":0},null,null,null,null,"Réalités sociales"]
[null,"Policiers","Patrouille-gendarmerie",null,null,{"$f":"M139","v":"C1"},null,"Réalités sociales",null,null,"402-100-26","Actualisation des connaissances en matière de violence conjugale","C1",30,null,null,16,null,null,null,null,null,30]
[null,"Policiers","Patrouille-gendarmerie","Patrouille-gendarmerie - Perfectionnement professionnel","Police communautaire",{"$f":"M139","v":"C1"},"Français",{"$f":"K140","v":"Activités du patrouilleur"},"ENPQ",null,"Activités du patrouilleur"]
[null,"Policiers","Patrouille-gendarmerie","Patrouille-gendarmerie - Perfectionnement professionnel","Police communautaire",{"$f":"M141","v":"C1"},"Français",{"$f":"K141","v":"202-201-11"},"ENPQ",null,"202-201-11","Stratégies proactives","C1",20,null,null,null,null,null,null,null,"8 au 12"]
[null,"Policiers","Patrouille-gendarmerie","Patrouille-gendarmerie - Perfectionnement professionnel","Police communautaire","CM1","Français",{"$f":"K142","v":"202-201-11"},"ENPQ - Campus de Montréal",null,"202-201-11","Stratégies proactives\nCampus de Montréal","CM1",20]
[null,"Policiers","Patrouille-gendarmerie","Patrouille-gendarmerie - Perfectionnement professionnel","Police communautaire","HC1","Français","202-201-11","BLAINVILLE",null,"202-201-11","Stratégies proactives\nHors campus - BLAINVILLE","HC1",20]
[null,"Policiers","Patrouille-gendarmerie","Patrouille-gendarmerie - Perfectionnement professionnel","Police communautaire","HC1","Français","202-201-11","HC - Voir détail sous les dates",null,"202-201-11","Stratégies proactives\nHors campus","HC1",20,null,null,"26 au 30\nLaval\n11 participants"]
[null,"Policiers","Patrouille-gendarmerie","Gestion - Perfectionnement professionnel","Gestionnaires de 1er niveau","A3","Français","203-005-22","En Ligne",null,"203-005-22","Méthode d'intervention SEXTO pour les policiers\nEn ligne","A3","s.o.","En continu"]
[null,"Policiers","Patrouille-gendarmerie","Patrouille-gendarmerie - Perfectionnement professionnel","Activités du patrouilleur - autres",{"$f":"M146","v":"C1"},"Français",{"$f":"K146","v":"203-106-16"},"ENPQ",null,"203-106-16","Actualisation des connaissances juridiques du patrouilleur","C1",30,null,null,19]
[null,"Policiers","Patrouille-gendarmerie","Patrouille-gendarmerie - Perfectionnement professionnel","Activités du patrouilleur - autres",{"$f":"M147","v":"HC1"},"Français",{"$f":"K147","v":"203-106-16"},"BLAINVILLE",null,"203-106-16","Actualisation des connaissances juridiques du patrouilleur\nHors campus - BLAINVILLE","HC1",30,"À la demande"]
[null,"Policiers","Patrouille-gendarmerie","Patrouille-gendarmerie - Perfectionnement professionnel","Activités du patrouilleur - autres",{"$f":"M148","v":"HC1"},"Français",{"$f":"K148","v":"203-106-16"},"HC - Voir détail sous les dates",null,"203-106-16","Actualisation des connaissances juridiques du patrouilleur\nHors campus","HC1",15]
[null,"Policiers","Patrouille-gendarmerie","Patrouille-gendarmerie - Perfectionnement professionnel","Activités du patrouilleur - autres","A1","Français","203-110-19","En Ligne",null,"203-110-19","Capsules interactives - Intervention en contexte de violence conjugale\nEn ligne","A1","s.o.","À la demande"]
[null,"Policiers","Patrouille-gendarmerie","Patrouille-gendarmerie - Perfectionnement professionnel","Activités du patrouilleur - autres","A3","Français","203-112-20","En Ligne",null,"203-112-20","Adopter une approche adaptée aux traumatismes – RCSP/CPKN \nEn ligne","A3","s.o.","En continu"]
[null,"Policiers","Patrouille-gendarmerie","Patrouille-gendarmerie - Perfectionnement professionnel","Activités du patrouilleur - autres","A3","Français","203-114-21","En Ligne",null,"203-114-21","Introduction à la traite des personnes – RCSP/CPKN \nEn ligne","A3","s.o.","En continu"]
[null,"Policiers","Patrouille-gendarmerie","Patrouille-gendarmerie - Perfectionnement professionnel","Activités du patrouilleur - autres",{"$f":"M152","v":"A1"},"Français",{"$f":"K152","v":"203-115-22"},"En Ligne",null,"203-115-22","FLAIR CRPQ\nEn ligne","A1","s.o.","En continu"]
[null,"Policiers","Patrouille-gendarmerie","Patrouille-gendarmerie - Perfectionnement professionnel","Activités du patrouilleur - autres","A3","Français","203-116-22","En Ligne",null,"203-116-22","Droit du consentement et mythes entourant les agressions sexuelles RCSP/CPKN\nEn ligne","A3","s.o.","En continu"]
[null,"Policiers","Patrouille-gendarmerie","Patrouille-gendarmerie - Perfectionnement professionnel","Activités du patrouilleur - autres","A3","Français","203-117-22","En Ligne",null,"203-117-22","Amélioration de la déclaration de la cybercriminalité au moyen du programme de déclaration uniforme de la criminalité (DUC) - RCSP/CPKN \nEn ligne","A3","s.o.","En continu"]
[null,"Policiers","Patrouille-gendarmerie","Patrouille-gendarmerie - Perfectionnement professionnel","Activités du patrouilleur - autres","A1","Français","203-118-22","En Ligne",null,"203-118-22","Sensibilisation aux autochtones - RCSP/CPKN \nEn ligne","A1","s.o.","En continu"]
[null,"Policiers","Patrouille-gendarmerie","Patrouille-gendarmerie - Perfectionnement professionnel","Activités du patrouilleur - autres","A3","Français","203-121-23","En Ligne",null,"203-121-23","2SLGBTQ+ - RCSP/CPKN \nEn ligne","A3","s.o.","En continu"]
[null,"Policiers","Patrouille-gendarmerie","Patrouille-gendarmerie - Perfectionnement professionnel","Activités du patrouilleur - autres","A3","Français","203-122-23","En Ligne",null,"203-122-23","Droit des victimes au Canada - RCSP/CPKN \nEn ligne","A3","s.o.","En continu"]
[null,"Policiers","Patrouille-gendarmerie","Patrouille-gendarmerie - Perfectionnement professionnel","Activités du patrouilleur - autres",{"$f":"M158","v":"C1"},"Anglais",{"$f":"K158","v":"203-123-24"},"ENPQ",null,"203-123-24","Patroller Competencies Update","C1",24]
[null,"Policiers","Patrouille-gendarmerie","Patrouille-gendarmerie - Perfectionnement professionnel","Activités du patrouilleur - autres",{"$f":"M159","v":"C1"},"Français","203-123-24","ENPQ",null,"203-123-24","Actualisation des compétences du patrouilleur","C1",24,null,null,null,"9 au 13 et \n16 au 20",null,null,"1er au 5 et \n8 au 12"]
[null,"Policiers","Patrouille-gendarmerie","Patrouille-gendarmerie - Perfectionnement professionnel","Enquête capacité affaiblie","C1","Français","209-107-11","ENPQ",null,"209-107-11","Journée d'information - Agent évaluateur","C1",65]
[null,"Policiers","Patrouille-gendarmerie","Patrouille-gendarmerie - Perfectionnement professionnel","Enquête capacité affaiblie",{"$f":"M161","v":"C1"},"Français",{"$f":"K161","v":"209-205-08"},"ENPQ",null,"209-205-08","Épreuves de coordination des mouvements","C1",6,"À la demande"]
[null,"Policiers","Patrouille-gendarmerie","Patrouille-gendarmerie - Perfectionnement professionnel","Enquête capacité affaiblie",{"$f":"M162","v":"C1"},"Français",{"$f":"K162","v":"209-212-26"},"ENPQ",null,"209-212-26","Épreuves de coordination des mouvements - Agent évaluateur","C1",18,null,"15 au17",null,null,null,"6 au 8",null,"3 au 5"]
[null,"Policiers","Patrouille-gendarmerie","Patrouille-gendarmerie - Perfectionnement professionnel","Enquête capacité affaiblie",{"$f":"M163","v":"C1"},"Anglais",{"$f":"K163","v":"209-212-26"},"ENPQ",null,"209-212-26","Physical Coordination - Evaluating Officer","C1",12]
[null,"Policiers","Patrouille-gendarmerie","Patrouille-gendarmerie - Perfectionnement professionnel","Enquête capacité affaiblie",{"$f":"M164","v":"C1"},"Français","209-310-26","ENPQ",null,"209-310-26","Agent évaluateur","C1",12,null,"22 au 25 septembre et\n28 au 2 octobre",null,null,null,"12 au 15 et\n18 au 22",null,"9 au 12 et\n15 au 19"]
[null,"Policiers","Patrouille-gendarmerie","Patrouille-gendarmerie - Perfectionnement professionnel","Enquête capacité affaiblie","C1","Français","209-311-10","ENPQ",null,"209-311-10","Agent évaluateur - Requalification","C1",4,null,18,9,26,4,11,null,"1er",null,3]
[null,"Policiers","Patrouille-gendarmerie","Patrouille-gendarmerie - Perfectionnement professionnel","Enquête capacité affaiblie",{"$f":"M165","v":"C1"},"Français",{"$f":"K165","v":"209-311-10"},"ENPQ",null,null,null,null,null,null,null,null,27,null,25,null,2,null,4]
[null,"Policiers","Patrouille-gendarmerie","Patrouille-gendarmerie - Perfectionnement professionnel","Enquête capacité affaiblie",{"$f":"M165","v":"C1"},"Français",{"$f":"K165","v":"209-311-10"},"ENPQ",null,null,null,null,null,null,null,null,null,null,26]
[null,"Policiers","Patrouille-gendarmerie","Patrouille-gendarmerie - Perfectionnement professionnel","Enquête capacité affaiblie",{"$f":"M168","v":"HC1"},"Français",{"$f":"K168","v":"209-312-11"},"TERRAIN",null,"209-312-11","Agent évaluateur - Pratique\nHors campus","HC1",3,null,null,"19 au 23","2 au 6",null,null,"1er au 5",null,"5 au 9"]
[null,"Policiers","Patrouille-gendarmerie","Patrouille-gendarmerie - Perfectionnement professionnel","Enquête capacité affaiblie",{"$f":"M168","v":"HC1"},"Français",{"$f":"K168","v":"209-312-11"},"TERRAIN",null,null,null,null,null,null,null,null,null,null,null,"8 au 12",null,"12 au 16"]
[null,"Policiers","Patrouille-gendarmerie","Patrouille-gendarmerie - Perfectionnement professionnel","Enquête capacité affaiblie",{"$f":"M168","v":"HC1"},"Français",{"$f":"K168","v":"209-312-11"},"TERRAIN",null,null,null,null,null,null,null,"26 au 30","9 au 13",null,null,"15 au 19",null,"19 au 23"]
[null,"Policiers","Patrouille-gendarmerie","Patrouille-gendarmerie - Perfectionnement professionnel","Enquête capacité affaiblie",{"$f":"M168","v":"HC1"},"Français",{"$f":"K168","v":"209-312-11"},"TERRAIN",null,null,null,null,null,null,null,null,null,null,null,"22 au 26",null,"26 au 30"]
[null,"Policiers","Patrouille-gendarmerie","Patrouille-gendarmerie - Perfectionnement professionnel","Enquête capacité affaiblie",{"$f":"M172","v":"C1"},"Français",{"$f":"K172","v":"209-701-20"},"ENPQ",null,"209-701-20","Agent évaluateur - L'instructeur","C1",3,null,"8 au 11"]
[null,"Policiers","Patrouille-gendarmerie","Patrouille-gendarmerie - Perfectionnement professionnel","Enquête capacité affaiblie","C1","Français",{"$f":"K173","v":"209-708-20"},"ENPQ",null,"209-708-20","Épreuves de coordination des mouvements - L'instructeur","C1",6,"En révision"]
[null,"Policiers","Patrouille-gendarmerie","Patrouille-gendarmerie - Perfectionnement professionnel","Enquête capacité affaiblie","HC1","Français","209-708-20","HC - Voir détail sous les dates",null,"209-708-20","Épreuves de coordination des mouvements - L'instructeur\nHors campus","HC1",4,"En révision"]
[null,"Policiers","Patrouille-gendarmerie","Patrouille-gendarmerie - Perfectionnement professionnel","Enquête capacité affaiblie",{"$f":"M175","v":"C1"},"Français",{"$f":"K175","v":"209-709-20"},"ENPQ",null,"209-709-20","Épreuves de coordination des mouvements - L'instructeur - Requalification","C1",6,"En révision"]
[null,"Policiers","Patrouille-gendarmerie","Patrouille-gendarmerie - Perfectionnement professionnel","Sécurité routière - Autres","C1","Français",{"$f":"K176","v":"211-102-19"},"ENPQ",null,"211-102-19","Inspection systématique du système d'échappement d'une motocyclette et d'un cyclomoteur","C1",10,null,null,null,null,null,null,null,null,"1er"]
[null,"Policiers","Patrouille-gendarmerie","Patrouille-gendarmerie - Perfectionnement professionnel","Sécurité routière - Autres",{"$f":"M177","v":"HC1"},"Français","211-102-19","HC - Voir détail sous les dates",null,"211-102-19","Inspection systématique du système d'échappement d'une motocyclette et d'un cyclomoteur\nHors campus ","HC1",10,"À la demande"]
[null,"Policiers","Patrouille-gendarmerie","Patrouille-gendarmerie - Perfectionnement professionnel","Sécurité routière - Autres","A3","Français","211-104-23","En Ligne",null,"211-104-23","Intervention intiale en cas d'incident critique - RCSP/CPKN \nEn ligne","A3","s.o.","En continu"]
[null,"Policiers","Patrouille-gendarmerie","Patrouille-gendarmerie - Perfectionnement professionnel","Sécurité routière - Autres","C1","Français","211-201-20","ENPQ",null,"211-201-20","Code de la sécurité routière","C1",16,null,null,"6 au 10"]
[null,"Policiers","Patrouille-gendarmerie","Patrouille-gendarmerie - Perfectionnement professionnel","Pouvoirs et devoirs",{"$f":"M180","v":"A1"},"Français",{"$f":"K180","v":"226-101-18"},"En Ligne",null,"226-101-18","Introduction aux dispositions législatives sur le cannabis \nEn ligne","A1","s.o.","À la demande"]
[null,"Policiers","Patrouille-gendarmerie","Sécurité publique - Perfectionnement professionnel","Psychologie",{"$f":"M181","v":"A1"},"Français",{"$f":"K181","v":"828-109-26"},"En Ligne",null,"828-109-26","Prévention des impacts psychologiques\nEn ligne","A1","s.o.","En continu"]
[null,null,null,null,null,"-","Français",null,null,null,"Patrouille spécialisée"]
[null,"Policiers","Patrouille-gendarmerie","Patrouille-gendarmerie - Perfectionnement professionnel","Conduite","HC1","Français",{"$f":"K183","v":"201-102-19"},"HC - Voir détail sous les dates",null,"201-102-19","Conduite d'un véhicule tirant une remorque\nHors campus","HC1",1,"À la demande"]
[null,"Policiers","Patrouille-gendarmerie","Patrouille-gendarmerie - Perfectionnement professionnel","Conduite","HC1","Français","201-103-19","HC - Voir détail sous les dates",null,"201-103-19","Conduite d'un véhicule tirant une remorque exigeant un permis ou une ronde de sécurité\nHors campus","HC1",2,"À la demande"]
[null,"Policiers","PDPP","Patrouille-gendarmerie - Perfectionnement professionnel","Conduite","HC1","Français","201-201-18","SANAIR",null,"201-201-18","Conduire un véhicule d'urgence - Niveau 2\nHors campus - ICAR","HC1",9,"En révision"]
[null,"Policiers","PGPP","Patrouille-gendarmerie - Perfectionnement professionnel","Conduite","HC1","Français","201-601-18","SANAIR",null,"201-601-18","Conduire un véhicule d'urgence - Le moniteur\nHors campus - ICAR","HC1",9,"En révision"]
[null,"Policiers","PGPP","Patrouille-gendarmerie - Perfectionnement professionnel","Conduite","C1","Français","201-602-18","ENPQ",null,"201-602-18","Conduire un véhicule d'urgence - Le moniteur - Requalification","C1",9,"En révision"]
[null,"Policiers","PGPP","Patrouille-gendarmerie - Perfectionnement professionnel","Conduite",{"$f":"M188","v":"HC1"},"Français",{"$f":"K188","v":"201-602-18"},"HC - Voir détail sous les dates",null,"201-602-18","Conduire un véhicule d'urgence - Le moniteur - Requalification\nHors campus - ICAR","HC1",9,"En révision"]
[null,"Policiers","Patrouille-gendarmerie","Patrouille-gendarmerie - Perfectionnement professionnel","Patrouilles spécialisées",{"$f":"M189","v":"S1"},"Français",{"$f":"K189","v":"210-103-24"},"En Ligne",null,"210-103-24","Cadre légal lié à la patrouille nautique - Bloc 1\nEn ligne","S1",10,null,null,null,null,null,null,null,"9 au 11","12 au 14"]
[null,"Policiers","Patrouille-gendarmerie","Patrouille-gendarmerie - Perfectionnement professionnel","Patrouilles spécialisées",{"$f":"M190","v":0},"Français",{"$f":"K190","v":0},"En Ligne",null,null,null,null,null,null,null,null,null,null,null,null,"16 au 18","20 au 22"]
[null,"Policiers","Patrouille-gendarmerie","Patrouille-gendarmerie - Perfectionnement professionnel","Patrouilles spécialisées",{"$f":"M191","v":"C1"},"Français",{"$f":"K191","v":"210-201-08"},"ENPQ",null,"210-201-08","Patrouille à bicyclette","C1",6,null,null,null,null,null,null,null,null,null,null,"9 au 11"]
[null,"Policiers","Patrouille-gendarmerie",null,"Patrouilles spécialisées",{"$f":"M191","v":"C1"},"Français",{"$f":"K191","v":"210-201-08"},"ENPQ",null,null,null,null,null,null,null,null,null,null,null,null,null,null,null,"16 au 18"]
[null,"Policiers","Patrouille-gendarmerie","Patrouille-gendarmerie - Perfectionnement professionnel","Patrouilles spécialisées",{"$f":"M193","v":"HC1"},"Français","210-201-08","HC - Voir détail sous les dates",null,"210-201-08","Patrouille à bicyclette","HC1",6]
[null,"Policiers","Patrouille-gendarmerie","Patrouille-gendarmerie - Perfectionnement professionnel","Patrouilles spécialisées",{"$f":"M194","v":"S1"},"Français",{"$f":"K194","v":"210-203-06"},"En Ligne",null,"210-203-06","Loi sur les véhicules hors route\nEn ligne","S1",12,null,"15 \n(Autochtone)","21 \n(Autochtone)",null,null,25,null,15,15]
[null,"Policiers","Patrouille-gendarmerie","Patrouille-gendarmerie - Perfectionnement professionnel","Patrouilles spécialisées","MS1","Français",{"$f":"K195","v":"210-301-06"},"ENPQ",null,"210-301-06","Patrouille à motoquad","MS1",8,null,null,null,null,null,null,null,null,null,"12 au 14"]
[null,"Policiers","Patrouille-gendarmerie","Patrouille-gendarmerie - Perfectionnement professionnel","Patrouilles spécialisées",{"$f":"M195","v":"MS1"},"Français",{"$f":"K195","v":"210-301-06"},"ENPQ",null,null,null,null,null,null,null,null,null,null,null,null,null,null,"19 au 21"]
[null,"Policiers","Patrouille-gendarmerie","Patrouille-gendarmerie - Perfectionnement professionnel","Patrouilles spécialisées",{"$f":"M197","v":"HC1"},"Français",{"$f":"K197","v":"210-302-06"},"MATTAWIN",null,"210-302-06","Patrouille à motoneige\nHors campus\nHôtel Marineau Mattawin\n2911, QC-155, Trois-Rives  G0X 2C0","HC1",8,null,null,null,null,null,null,"9 au 11"]
[null,"Policiers","Patrouille-gendarmerie","Patrouille-gendarmerie - Perfectionnement professionnel","Patrouilles spécialisées",{"$f":"M197","v":"HC1"},"Français",{"$f":"K197","v":"210-302-06"},"MATTAWIN",null,null,null,null,null,null,null,null,null,null,null,"16 au 18"]
[null,"Policiers","Patrouille-gendarmerie","Patrouille-gendarmerie - Perfectionnement professionnel","Patrouilles spécialisées","MS1","Français",{"$f":"K199","v":"210-303-18"},"ENPQ",null,"210-303-18","Patrouille nautique - Bloc 2","MS1",6,null,null,null,null,null,null,null,null,null,"24 au 28","7 au 11"]
[null,"Policiers","Patrouille-gendarmerie","Patrouille-gendarmerie - Perfectionnement professionnel","Patrouilles spécialisées",{"$f":"M199","v":"MS1"},"Français",{"$f":"K199","v":"210-303-18"},"ENPQ",null,null,null,null,null,null,null,null,null,null,null,null,null,null,null,"14 au 18"]
[null,"Policiers","Patrouille-gendarmerie","Patrouille-gendarmerie - Perfectionnement professionnel","Patrouilles spécialisées",{"$f":"M199","v":"MS1"},"Français",{"$f":"K199","v":"210-303-18"},"ENPQ",null,null,null,null,null,null,null,null,null,null,null,null,null,null,"31 mai au 4 juin"]
[null,"Policiers","Patrouille-gendarmerie","Patrouille-gendarmerie - Perfectionnement professionnel","Enquête capacité affaiblie","-","Français",null,null,null,"Appareils de détection approuvés"]
[null,"Policiers","Patrouille-gendarmerie","Patrouille-gendarmerie - Perfectionnement professionnel","Enquête capacité affaiblie","C1","Français",{"$f":"K203","v":"209-105-13"},"ENPQ",null,"209-105-13","Alco-Sensor FST","C1",6]
[null,"Policiers","Patrouille-gendarmerie","Patrouille-gendarmerie - Perfectionnement professionnel","Enquête capacité affaiblie",{"$f":"M204","v":"HC1"},"Français","209-105-13","HC - Voir détail sous les dates",null,"209-105-13","Alco-Sensor FST\nHors campus","HC1",6]
[null,"Policiers","Patrouille-gendarmerie","Patrouille-gendarmerie - Perfectionnement professionnel","Enquête capacité affaiblie","C1","Français","209-106-13","ENPQ",null,"209-106-13","Alco-Sensor FST - Le technicien en étalonnage","C1",6,"À la demande"]
[null,"Policiers","Patrouille-gendarmerie","Patrouille-gendarmerie - Perfectionnement professionnel","Enquête capacité affaiblie","C1","Français","209-706-20","ENPQ",null,"209-706-20","Alco-Sensor FST - L'instructeur","C1",6,null,null,null,null,"10 au 11",null,null,"30 au 31"]
[null,"Policiers","Patrouille-gendarmerie","Patrouille-gendarmerie - Perfectionnement professionnel","Enquête capacité affaiblie","HC1","Français","209-706-20","HC - Voir détail sous les dates",null,"209-706-20","Alco-Sensor FST - L'instructeur\nHors campus","HC1",4]
[null,"Policiers","Patrouille-gendarmerie","Patrouille-gendarmerie - Perfectionnement professionnel","Enquête capacité affaiblie","C1","Français","209-707-20","ENPQ",null,"209-707-20","Alco-Sensor FST - L'instructeur - Requalification","C1",6,null,14,null,null,null,null,"1er"]
[null,"Policiers","Patrouille-gendarmerie","Patrouille-gendarmerie - Perfectionnement professionnel","Enquête capacité affaiblie","-","Français",null,null,null,"Technicien qualifié en éthylomètre"]
[null,"Policiers","Patrouille-gendarmerie","Patrouille-gendarmerie - Perfectionnement professionnel","Enquête capacité affaiblie",{"$f":"M210","v":"S1"},"Français",{"$f":"K210","v":"209-108-19"},"En Ligne",null,"209-108-19","Journée d'information - Personnes-ressources en matière d'éthylomètre\nEn ligne","S1",65,null,null,null,25]
[null,"Policiers","Patrouille-gendarmerie","Patrouille-gendarmerie - Perfectionnement professionnel","Enquête capacité affaiblie",{"$f":"M211","v":"C1"},"Français",{"$f":"K211","v":"209-204-18"},"ENPQ",null,"209-204-18","Technicien qualifié en éthylomètre - DataMaster DMT-C","C1",12,null,null,"19 au 23","9 au 13",null,null,"1er au 5","1er au 5","5 au 9","3 au 7","7 au 11"]
[null,"Policiers","Patrouille-gendarmerie","Patrouille-gendarmerie - Perfectionnement professionnel","Enquête capacité affaiblie",{"$f":"M211","v":"C1"},"Français",{"$f":"K211","v":"209-204-18"},"ENPQ",null,null,null,null,null,null,null,null,null,null,null,"15 au 19",null,"19 au 26","17 au 21","14 au 18"]
[null,"Policiers","Patrouille-gendarmerie","Patrouille-gendarmerie - Perfectionnement professionnel","Enquête capacité affaiblie",{"$f":"M211","v":"C1"},"Français",{"$f":"K211","v":"209-204-18"},"ENPQ",null,null,null,null,null,null,null,null,"30 novembre au\n4 décembre",null,"25 au 29","22 au 26",null,"26 au 30","31 mai au 4 juin"]
[null,"Policiers","Patrouille-gendarmerie","Patrouille-gendarmerie - Perfectionnement professionnel","Enquête capacité affaiblie",{"$f":"M214","v":"C1"},"Anglais",{"$f":"K214","v":"209-204-18"},"ENPQ",null,"209-204-18","Qualified Technician - DataMaster DMT-C","C1",12,null,null,null,"2 to 6"]
[null,"Policiers","Patrouille-gendarmerie","Patrouille-gendarmerie - Perfectionnement professionnel","Enquête capacité affaiblie",{"$f":"M215","v":"C1"},"Français",{"$f":"K215","v":"209-313-23"},"ENPQ",null,"209-313-23","Technicien qualifié en éthylomètre - DataMaster  DMT-C - Requalification","C1",9,null,10,6,17,null,null,null,null,"1er",25]
[null,"Policiers","Patrouille-gendarmerie","Patrouille-gendarmerie - Perfectionnement professionnel","Enquête capacité affaiblie",{"$f":"M215","v":"C1"},"Français",{"$f":"K215","v":"209-313-23"},"ENPQ",null,null,null,null,null,null,null,7]
[null,"Policiers","Patrouille-gendarmerie","Patrouille-gendarmerie - Perfectionnement professionnel","Enquête capacité affaiblie",{"$f":"M215","v":"C1"},"Français",{"$f":"K215","v":"209-313-23"},"ENPQ",null,null,null,null,null,null,null,8,null,null,null,null,null,null,26]
[null,"Policiers","Patrouille-gendarmerie","Patrouille-gendarmerie - Perfectionnement professionnel","Enquête capacité affaiblie",{"$f":"M215","v":"C1"},"Français",{"$f":"K215","v":"209-313-23"},"ENPQ",null,null,null,null,null,null,11,13,18,null,null,null,null,2]
[null,"Policiers","Patrouille-gendarmerie","Patrouille-gendarmerie - Perfectionnement professionnel","Enquête capacité affaiblie",{"$f":"M215","v":"C1"},"Français",{"$f":"K215","v":"209-313-23"},"ENPQ",null,null,null,null,null,null,null,14,null,null,null,null,null,null,27]
[null,"Policiers","Patrouille-gendarmerie","Patrouille-gendarmerie - Perfectionnement professionnel","Enquête capacité affaiblie",{"$f":"M215","v":"C1"},"Français",{"$f":"K215","v":"209-313-23"},"ENPQ",null,null,null,null,null,null,null,15]
[null,"Policiers","Patrouille-gendarmerie","Patrouille-gendarmerie - Perfectionnement professionnel","Enquête capacité affaiblie",{"$f":"M221","v":"C1"},"Anglais",{"$f":"K221","v":"209-313-23"},"ENPQ",null,"209-313-23","DataMaster DMT-C - The Qualified Technician- Requalification","C1",9,null,null,null,19]
[null,"Policiers","Patrouille-gendarmerie","Patrouille-gendarmerie - Perfectionnement professionnel","Cinémomètre","-","Français",null,null,null,"Cinémomètres"]
[null,"Policiers","Patrouille-gendarmerie","Patrouille-gendarmerie - Perfectionnement professionnel","Cinémomètre","C1","Français",{"$f":"K223","v":"206-001-25"},"ENPQ",null,"206-001-25","Journée d'information en cinémométrie","C1",90,null,null,null,null," "]
[null,"Policiers","Patrouille-gendarmerie","Patrouille-gendarmerie - Perfectionnement professionnel","Cinémomètre","C1","Français","206-202-06","ENPQ",null,"206-202-06","Cinémomètre laser","C1",6,"À la demande"]
[null,"Policiers","Patrouille-gendarmerie","Patrouille-gendarmerie - Perfectionnement professionnel","Cinémomètre",{"$f":"M225","v":"HC1"},"Français",{"$f":"K225","v":"206-202-06"},"HC - Voir détail sous les dates",null,"206-202-06","Cinémomètre laser","HC1",6]
[null,"Policiers","Patrouille-gendarmerie","Patrouille-gendarmerie - Perfectionnement professionnel","Cinémomètre",{"$f":"M226","v":"C1"},"Français",{"$f":"K226","v":"206-207-25"},"ENPQ",null,"206-207-25","Cinémomètre Doppler","C1",6,"À la demande","14 au 18\n(Autochtone)"]
[null,"Policiers","Patrouille-gendarmerie","Patrouille-gendarmerie - Perfectionnement professionnel","Cinémomètre",{"$f":"M227","v":"C1"},"Français",{"$f":"K227","v":"206-207-25"},"ENPQ",null,"206-207-25","Cinémomètre Doppler","C1",32,null,"28 septembre au 2 octobre",null,"23 au 27","14 au 18"]
[null,"Policiers","Patrouille-gendarmerie","Patrouille-gendarmerie - Perfectionnement professionnel","Cinémomètre",{"$f":"M227","v":"C1"},"Français",{"$f":"K227","v":"206-207-25"},"ENPQ",null,null,null,null,null,null,null,"26 au 30"]
[null,"Policiers","Patrouille-gendarmerie","Patrouille-gendarmerie - Perfectionnement professionnel","Cinémomètre",{"$f":"M229","v":"HC1"},"Français","206-207-25","HC - Voir détail sous les dates",null,"206-207-25","Cinémomètre Doppler","HC1"]
[null,"Policiers","Patrouille-gendarmerie","Patrouille-gendarmerie - Perfectionnement professionnel","Cinémomètre",{"$f":"M230","v":"C1"},"Français",{"$f":"K230","v":"206-301-25"},"ENPQ",null,"206-301-25","Cinémomètre Doppler - Requalification","C1",3,"À la demande"]
[null,"Policiers","Patrouille-gendarmerie","Patrouille-gendarmerie - Perfectionnement professionnel","Cinémomètre","C1","Français","206-302-06","ENPQ",null,"206-302-06","Cinémomètre laser - Requalification","C1",3,"À la demande"]
[null,"Policiers","Patrouille-gendarmerie","Patrouille-gendarmerie - Perfectionnement professionnel","Cinémomètre","HC1","Français","206-302-06","HC - Voir détail sous les dates",null,"206-302-06","Cinémomètre laser - Requalification\nHors campus","HC1",2]
[null,"Policiers","Patrouille-gendarmerie","Patrouille-gendarmerie - Perfectionnement professionnel","Cinémomètre","C1","Français","206-303-06","ENPQ",null,"206-303-06","Cinémomètre laser - Notions spécifiques","C1",6,"À la demande"]
[null,"Policiers","Patrouille-gendarmerie","Patrouille-gendarmerie - Perfectionnement professionnel","Cinémomètre","C1","Français","206-307-16","ENPQ",null,"206-307-16","Cinémomètre laser – Mise à niveau et requalification","C1",4,"À la demande"]
[null,"Policiers","Patrouille-gendarmerie","Patrouille-gendarmerie - Perfectionnement professionnel","Cinémomètre",{"$f":"M235","v":"HC1"},"Français",{"$f":"K235","v":"206-309-22"},"HC - Voir détail sous les dates",null,"206-309-22","Cinémomètre Doppler mobile rencontre - Notions spécifiques","HC1",4]
[null,"Policiers","Patrouille-gendarmerie","Patrouille-gendarmerie - Perfectionnement professionnel","Cinémomètre",{"$f":"M236","v":"A1"},"Français","206-310-24","En Ligne",null,"206-310-24","Cinémomètre Doppler – Mise à niveau – Sens commun\nEn ligne","A1","s.o.","25 août au 31 décembre"]
[null,"Policiers","Patrouille-gendarmerie","Patrouille-gendarmerie - Perfectionnement professionnel","Cinémomètre","C1","Français","206-701-20","ENPQ",null,"206-701-20","Cinémomètre laser - L'instructeur","C1",6,null,null,null,"10 au 12"]
[null,"Policiers","Patrouille-gendarmerie","Patrouille-gendarmerie - Perfectionnement professionnel","Cinémomètre",{"$f":"M238","v":"HC1"},"Français",{"$f":"K238","v":"206-701-20"},"HC - Voir détail sous les dates",null,"206-701-20","Cinémomètre laser - L'instructeur","HC1"]
[null,"Policiers","Patrouille-gendarmerie","Patrouille-gendarmerie - Perfectionnement professionnel","Cinémomètre","C1","Français","206-702-20","ENPQ",null,"206-702-20","Cinémomètre laser - L'instructeur - Requalification","C1",6,null,3,null,9,null,null,25,null,16]
[null,"Policiers","Patrouille-gendarmerie","Patrouille-gendarmerie - Perfectionnement professionnel","Cinémomètre",{"$f":"M240","v":0},"Français",{"$f":"K240","v":0},"ENPQ",null,null,null,null,null,null,4]
[null,"Policiers","Patrouille-gendarmerie","Patrouille-gendarmerie - Perfectionnement professionnel","Cinémomètre","HC1","Français","206-702-20","HC - Voir détail sous les dates",null,"206-702-20","Cinémomètre laser - L'instructeur - Requalification\nHors campus","HC1",6]
[null,"Policiers","Patrouille-gendarmerie","Patrouille-gendarmerie - Perfectionnement professionnel","Cinémomètre","C1","Français",{"$f":"K242","v":"206-703-25"},"ENPQ",null,"206-703-25","Cinémomètre Doppler – L'instructeur","C1",6,null,null,null,null,"7 au 9"]
[null,"Policiers","Patrouille-gendarmerie","Patrouille-gendarmerie - Perfectionnement professionnel","Cinémomètre","C1","Français","206-704-25","ENPQ",null,"206-704-25","Cinémomètre Doppler – L'instructeur - Requalification","C1",6,null,22,16,null,null,null,null,22,null,14]
[null,"Policiers","Patrouille-gendarmerie","Patrouille-gendarmerie - Perfectionnement professionnel","Cinémomètre","HC1","Français","206-704-25","BLAINVILLE",null,"206-704-25","Cinémomètre Doppler – L'instructeur - Requalification\nHors campus - BLAINVILLE","HC1",6]
[null,"Policiers","Patrouille-gendarmerie","Patrouille-gendarmerie - Perfectionnement professionnel","Enquête de collision","-","Français",null,null,null,"Enquête de collision"]
[null,"Policiers","Patrouille-gendarmerie","Patrouille-gendarmerie - Perfectionnement professionnel","Enquête de collision",{"$f":"M246","v":"C3"},"Français",{"$f":"K246","v":"208-102-24"},"ENPQ",null,"208-102-24","Dessin de scène d’événement assisté par ordinateur","C3",6,null,null,null,null,null,"11 au 15"]
[null,"Policiers","Patrouille-gendarmerie","Patrouille-gendarmerie - Perfectionnement professionnel","Enquête de collision",{"$f":"M247","v":"C3"},"Français",{"$f":"K247","v":"208-201-18"},"ENPQ",null,"208-201-18","Techniques d’enquête de collision","C3",20,null,null,"26 au 30"]
[null,"Policiers","Patrouille-gendarmerie","Patrouille-gendarmerie - Perfectionnement professionnel","Enquête de collision","C1","Français",{"$f":"K248","v":"208-203-12"},"ENPQ",null,"208-203-12","Relevé de scène d’événement à l’aide de l’appareil de mesure au laser","C1",12,"À la demande"]
[null,"Policiers","Patrouille-gendarmerie","Patrouille-gendarmerie - Perfectionnement professionnel","Enquête de collision","H3-[A-C]","Français",{"$f":"K249","v":"208-303-18"},"ENPQ",null,"208-303-18","Croquis et mesures                                                                                                         ","H3-[A-C]",20,null,null,null,"3 (13h) au\n5 (12h)"]
[null,"Policiers","Patrouille-gendarmerie","Patrouille-gendarmerie - Perfectionnement professionnel","Enquête de collision","H3-[A-C]","Français",{"$f":"K250","v":"208-304-18"},"ENPQ",null,"208-304-18","Imagerie numérique judiciaire appliquée à l’enquête de collision              ","H3-[A-C]",10,null,null,"Act. Prép. En ligne (3,5 h)\nVolet 1","2 (13h) au\n3 (12h)"]
[null,"Policiers","Patrouille-gendarmerie","Patrouille-gendarmerie - Perfectionnement professionnel","Enquête de collision",{"$f":"M250","v":"H3-[A-C]"},"Français",{"$f":"K250","v":"208-304-18"},"ENPQ",null,null,null,null,null,null,null,"Act. Prép. En ligne (3,5 h)\nVolet 1","5 (13h) au\n6 (12h)"]
[null,"Policiers","Patrouille-gendarmerie","Patrouille-gendarmerie - Perfectionnement professionnel","Intervention physique","-","Français",null,null,null,"Communication et intervention physique"]
[null,"Policiers","Patrouille-gendarmerie","Patrouille-gendarmerie - Perfectionnement professionnel","Intervention physique",{"$f":"M253","v":"C1"},"Français",{"$f":"K253","v":"214-001-25"},"ENPQ",null,"214-001-25","Arme à impulsions électriques – Le maître-instructeur - Journée d'actualisation ","C1",8,null,null,null,null,null,null,null,null,null,21]
[null,"Policiers","Patrouille-gendarmerie","Patrouille-gendarmerie - Perfectionnement professionnel","Intervention physique",{"$f":"M254","v":"C1"},"Français","214-002-25","ENPQ ",null,"214-002-25","Didactique de l'intervention physique - Le maître-instructeur - journée d'actualisation ","C1",12,null,null,null,null,null,null,null,11]
[null,"Policiers","Patrouille-gendarmerie","Patrouille-gendarmerie - Perfectionnement professionnel","Intervention physique",{"$f":"M255","v":"C1"},"Français","214-103-18","ENPQ",null,"214-103-18","Intervention avec le bouclier inversé (en milieu fermé)","C1",8,"À la demande"]
[null,"Policiers","Patrouille-gendarmerie","Patrouille-gendarmerie - Perfectionnement professionnel","Intervention physique","C1","Français","214-104-24","ENPQ",null,"214-104-24","Arme à impulsions électriques - Transition","C1",8,"À la demande"]
[null,"Policiers","Patrouille-gendarmerie","Patrouille-gendarmerie - Perfectionnement professionnel","Intervention physique",{"$f":"M257","v":"HC1"},"Français","214-104-24","HC - Voir détail sous les dates",null,"214-104-24","Arme à impulsions électriques - Transition\nHors campus","HC1",8,"À la demande"]
[null,"Policiers","Patrouille-gendarmerie","Patrouille-gendarmerie - Perfectionnement professionnel","Intervention physique","C1","Français","214-211-20","ENPQ",null,"214-211-20","Arme à impulsions électriques","C1",8,"À la demande"]
[null,"Policiers","Patrouille-gendarmerie","Patrouille-gendarmerie - Perfectionnement professionnel","Intervention physique",{"$f":"M259","v":"C1"},"Français","214-306-20","ENPQ",null,"214-306-20","Arme à impulsions électriques — Requalification","C1",8,"À la demande"]
[null,"Policiers","Patrouille-gendarmerie","Patrouille-gendarmerie - Perfectionnement professionnel","Intervention physique",{"$f":"#REF!","v":{"$error":"#REF!"}},"Français","214-307-25","ENPQ",null,"214-307-25","Arme à impulsions électriques - Transition T10","C1",8,null,"21 au 22",null,null,"14 au 15",null,"18 au 19"]
[null,"Policiers","Patrouille-gendarmerie","Patrouille-gendarmerie - Perfectionnement professionnel","Intervention physique",{"$f":"M261","v":"C1"},"Français",{"$f":"K261","v":"214-307-25"},"ENPQ",null,"214-307-25","Arme à impulsions électriques - Transition T10\nSQ","C1","4 à 8"]
[null,"Policiers","Patrouille-gendarmerie","Patrouille-gendarmerie - Perfectionnement professionnel","Intervention physique","C1","Français",{"$f":"K262","v":"214-703-20"},"ENPQ",null,"214-703-20","Arme à impulsions électriques – L'instructeur (X2 et T7)","C1",8]
[null,"Policiers","Patrouille-gendarmerie","Patrouille-gendarmerie - Perfectionnement professionnel","Intervention physique",{"$f":"M263","v":"C1"},"Anglais",{"$f":"K263","v":"214-703-20"},"ENPQ",null,"214-703-20","Conducted Energy Weapon – Instructor (X2 and T7)","C1",8]
[null,"Policiers","Patrouille-gendarmerie","Patrouille-gendarmerie - Perfectionnement professionnel","Intervention physique","C1","Français",{"$f":"K264","v":"214-704-20"},"ENPQ",null,"214-704-20","Arme à impulsions électriques – L'instructeur – Requalification ","C1",8,null,null,14,null,null,8]
[null,"Policiers","Patrouille-gendarmerie","Patrouille-gendarmerie - Perfectionnement professionnel","Intervention physique",{"$f":"M265","v":"C1"},"Anglais",{"$f":"K265","v":"214-704-20"},"ENPQ",null,"214-704-20","Conducted Energy Weapon – Instructor – Requalification","C1",8]
[null,"Policiers","Patrouille-gendarmerie","Patrouille-gendarmerie - Perfectionnement professionnel","Intervention physique",{"$f":"M266","v":"C1"},"Français",{"$f":"K266","v":"214-712-20"},"ENPQ",null,"214-712-20","Intervention avec le bouclier inversé - L'instructeur\n(sans requalification) (en milieu fermé)","C1",6,"À la demande"]
[null,"Policiers","Patrouille-gendarmerie","Patrouille-gendarmerie - Perfectionnement professionnel","Intervention physique",{"$f":"M267","v":"C1"},"Français",{"$f":"K267","v":"214-716-23"},"ENPQ",null,"214-716-23","Didactique de l'intervention physique - L'instructeur","C1",12,null,null,"19 au 22 octobre, \n26 au 29 octobre et\n2 au 5 novembre",null,null,"11 au 14,\n18 au 21 et \n25 au 28"]
[null,"Policiers","Patrouille-gendarmerie","Patrouille-gendarmerie - Perfectionnement professionnel","Intervention physique",{"$f":"M268","v":"C1"},"Anglais",{"$f":"K268","v":"214-716-23"},"ENPQ",null,"214-716-23","Didactics of Physical Intervention - Instructor ","C1",6,null,null,null,"23 au 26 novembre,\n30 novembre au 3 décembre \net 7 au 10 décembre"]
[null,"Policiers","Patrouille-gendarmerie","Patrouille-gendarmerie - Perfectionnement professionnel","Intervention physique",{"$f":"M269","v":"C1"},"Français",{"$f":"K269","v":"214-717-23"},"ENPQ",null,"214-717-23","Didactique de l'intervention physique - L'instructeur - Requalification","C1",12,null,"8 au 11",null,null,"14 au 17",null,"23 au 26","30 mars au 2 avril"]
[null,"Policiers","Patrouille-gendarmerie","Patrouille-gendarmerie - Perfectionnement professionnel","Intervention physique",{"$f":"M270","v":"S1"},"Français",{"$f":"K270","v":"214-718-26"},"ENPQ",null,"214-718-26","Arme à impulsions électriques – L’instructeur – Familiarisation avec la grille descriptive","S1",25]
[null,"Policiers","Patrouille-gendarmerie","Patrouille-gendarmerie - Perfectionnement professionnel","Intervention physique","S1","Français",{"$f":"K270","v":"214-718-26"},"ENPQ"]
[null,"Policiers","Patrouille-gendarmerie","Patrouille-gendarmerie - Perfectionnement professionnel","Intervention physique","S1","Français",{"$f":"K270","v":"214-718-26"},"ENPQ"]
[null,"Policiers","Patrouille-gendarmerie","Patrouille-gendarmerie - Perfectionnement professionnel","Intervention physique",{"$f":"M273","v":"C1"},"Français",{"$f":"K273","v":"214-719-26"},"ENPQ",null,"214-719-26","Arme à impulsions électriques – L’instructeur (T10)","C1",12]
[null,"Policiers","Patrouille-gendarmerie","Patrouille-gendarmerie - Perfectionnement professionnel","Intervention physique",{"$f":"M274","v":"S1"},"Français","214-813-26","ENPQ",null,"214-813-26","Arme à impulsions électriques – Le maître-instructeur – Familiarisation avec la grille descriptive","S1",25]
[null,"Policiers","Patrouille-gendarmerie","Patrouille-gendarmerie - Perfectionnement professionnel","Communication tactique",{"$f":"M275","v":"C1"},"Français",{"$f":"K275","v":"217-101-24"},"ENPQ",null,"217-101-24","Désescalade - État mental perturbé (volet pratique)","C1",6,"À la demande"]
[null,"Policiers","Patrouille-gendarmerie","Patrouille-gendarmerie - Perfectionnement professionnel","Communication tactique","HC1","Français",{"$f":"K276","v":"217-105-23"},"DOMAINE SCOUT",null,"217-105-23","Réponse à un état mental perturbé (REMP)\nHors Campus - DOMAINE SCOUT \n(St-Louis de France)","HC1",8,null,"23 au 24",null,null,null,null,null,"22 au 23"]
[null,"Policiers","Patrouille-gendarmerie","Patrouille-gendarmerie - Perfectionnement professionnel","Communication tactique",{"$f":"M277","v":"A1"},"Français",{"$f":"K277","v":"217-201-24"},"En Ligne",null,"217-201-24","Désescalade – État mental perturbé \nEn ligne","A1",25,"À la demande"]
[null,"Policiers","Patrouille-gendarmerie","Patrouille-gendarmerie - Perfectionnement professionnel","Communication tactique",{"$f":"M278","v":"C1"},"Français",{"$f":"K278","v":"217-703-20"},"ENPQ",null,"217-703-20","Désescalade - État mental perturbé - L'instructeur (sans requalification)","C1",12,null,null,null,null,null,"25 au 26"]
[null,"Policiers","Patrouille-gendarmerie","Patrouille-gendarmerie - Perfectionnement professionnel","Intervention physique",{"$f":"M279","v":"C1"},"Français","218-103-24","ENPQ",null,"218-103-24","Didactique de l'enseignement","C1",12,null,null,null,"5 au 6"]
[null,"Policiers","Patrouille-gendarmerie","Patrouille-gendarmerie - Perfectionnement professionnel","Intervention physique",{"$f":"M280","v":"CM1"},"Français",{"$f":"K280","v":"218-103-24"},"ENPQ",null,"218-103-24","Didactique de l'enseignement","CM1",12,null,null,null,null,null,null,null,null,"12 au 13"]
[null,"Policiers","Patrouille-gendarmerie","Patrouille-gendarmerie - Perfectionnement professionnel","Emploi de la force - Autres","C1","Français","218-301-18","ENPQ",null,"218-301-18","Fondements théoriques de l'emploi de la force","C1",12,null,"21  au 25","26 au 30"]
[null,"Policiers","Patrouille-gendarmerie","Patrouille-gendarmerie - Perfectionnement professionnel","Emploi de la force - Autres",{"$f":"M282","v":"HC1"},"Français","218-301-18","BLAINVILLE",null,"218-301-18","Fondements théoriques de l'emploi de la force\nHors campus - BLAINVILLE","HC1",12,null,null,null,null,null,null,null,"8 au 12"]
[null,"Policiers","Patrouille-gendarmerie","Patrouille-gendarmerie - Perfectionnement professionnel","Emploi de la force - Autres",{"$f":"M283","v":"HC1"},"Anglais",{"$f":"K283","v":"218-301-18"},"BLAINVILLE",null,"218-301-18","Theoretical Foundations of the Use of Force\nHors campus - BLAINVILLE","HC1",6]
[null,"Policiers","Patrouille-gendarmerie","Patrouille-gendarmerie - Perfectionnement professionnel","Emploi de la force - Autres","HC1","Français","218-301-18","SHERBROOKE",null,"218-301-18","Fondements théoriques de l'emploi de la force\nHors campus - Sherbrooke","HC1",12]
[null,"Policiers","Patrouille-gendarmerie","Patrouille-gendarmerie - Perfectionnement professionnel","Pédagogie","C1","Français",{"$f":"K285","v":"232-301-08"},"ENPQ",null,"232-301-08","Fondements stratégiques de l’emploi de la force","C1",12,null,"14 au 18"]
[null,"Policiers","Patrouille-gendarmerie","Patrouille-gendarmerie - Perfectionnement professionnel","Pédagogie",{"$f":"M286","v":"CM1"},"Français","232-301-08","ENPQ - Campus de Montréal",null,"232-301-08","Fondements stratégiques de l'emploi de la force\nCampus de Montréal","CM1",12]
[null,"Policiers","Patrouille-gendarmerie","Patrouille-gendarmerie - Perfectionnement professionnel","Intervention tactique","-","Français",null,null,null,"Intervention tactique"]
[null,"Policiers","Patrouille-gendarmerie","Patrouille-gendarmerie - Perfectionnement professionnel","Intervention tactique",{"$f":"M288","v":0},"Français",{"$f":"K288","v":"215-002-25"},"ENPQ",null,"215-002-25","Évaluation du risque d'une intervention policière planifiée\nEn ligne",null,null,"En continu"]
[null,"Policiers","Patrouille-gendarmerie","Patrouille-gendarmerie - Perfectionnement professionnel","Intervention tactique",{"$f":"M289","v":"C1"},"Français",{"$f":"K289","v":"215-003-25"},"ENPQ",null,"215-003-25","Membre d'un groupe d'intervention - Le maître-instructeur - Journée d'actualisation","C1",9,null,null,null,9]
[null,"Policiers","Patrouille-gendarmerie","Patrouille-gendarmerie - Perfectionnement professionnel","Intervention tactique",{"$f":"M290","v":"C1"},"Français",{"$f":"K290","v":"215-004-26"},"ENPQ",null,"215-004-26","Accréditeur de l’épreuve standardisée d’aptitudes physiques pour membre d’un groupe d’intervention (GI ou GTI)","C1",6,"À la demande"]
[null,"Policiers","Patrouille-gendarmerie","Patrouille-gendarmerie - Perfectionnement professionnel","Intervention tactique","A3","Français",{"$f":"K291","v":"215-108-21"},"En Ligne",null,"215-108-21","Tireur actif / Sensibilisation à une intrusion armée – RCSP / CPKN\nEn ligne","A3","s.o.","25 août au 19 décembre",null,null,null,null,"5 janvier au 30 avril",null,null,null,"1er mai au  17 juillet"]
[null,"Policiers","Patrouille-gendarmerie","Patrouille-gendarmerie - Perfectionnement professionnel","Intervention tactique","C1","Français","215-109-21","ENPQ",null,"215-109-21","Techniques d'immobilisation provoquée - Utilisation sécuritaire du hérisson à pointes creuses (HPC)","C1",12,"À la demande"]
[null,"Policiers","Patrouille-gendarmerie","Patrouille-gendarmerie - Perfectionnement professionnel","Intervention tactique","HC1","Français","215-109-21","HC - Voir détail sous les dates",null,"215-109-21","Techniques d'immobilisation provoquée - Utilisation sécuritaire du hérisson à pointes creuses (HPC)\nHors campus","HC1",12,"À la demande"]
[null,"Policiers","Patrouille-gendarmerie","Patrouille-gendarmerie - Perfectionnement professionnel","Intervention tactique","C1","Français","215-110-23","ENPQ",null,"215-110-23","Didactique de l’intervention tactique – L’instructeur – Mise à jour","C1",12,null,"14 au 16"]
[null,"Policiers","Patrouille-gendarmerie","Patrouille-gendarmerie - Perfectionnement professionnel","Intervention tactique",{"$f":"M295","v":"C1"},"Français","215-201-10","ENPQ",null,"215-201-10","Entrée dynamique planifiée à risque faible","C1",12,null,null,"14 au 16",null,null,"5 au 7","9 au 11","15 au 17"]
[null,"Policiers","Patrouille-gendarmerie","Patrouille-gendarmerie - Perfectionnement professionnel","Intervention tactique",{"$f":"M295","v":"C1"},"Français",{"$f":"K295","v":"215-201-10"},"ENPQ"]
[null,"Policiers","Patrouille-gendarmerie","Patrouille-gendarmerie - Perfectionnement professionnel","Intervention tactique",{"$f":"M297","v":"C1"},"Anglais",{"$f":"K297","v":"215-201-10"},"ENPQ",null,"215-201-10","Low-risk Planned Dynamic Entry","C1",12,null,null,null,null,null,null,null,null,null,"26 au 28"]
[null,"Policiers","Patrouille-gendarmerie","Patrouille-gendarmerie - Perfectionnement professionnel","Intervention tactique","C1","Français","215-305-22","ENPQ",null,"215-305-22","Officiel de sécurité au plateau d’exercice en combat rapproché","C1",8,"À la demande"]
[null,"Policiers","Patrouille-gendarmerie","Patrouille-gendarmerie - Perfectionnement professionnel","Intervention tactique",{"$f":"M299","v":"-"},"Français","215-707-20",null,null,"215-707-20","Membre d'un groupe d'intervention –  L'instructeur - Requalification","-",12,"Dates à confirmer"]
[null,"Policiers","Patrouille-gendarmerie","Patrouille-gendarmerie - Perfectionnement professionnel","Intervention tactique",{"$f":"M300","v":"-"},"Français","215-709-20",null,null,"215-709-20","Arme à impulsions électriques - L'instructeur GI - Requalification","-",12,"Dates à confirmer"]
[null,"Policiers","Patrouille-gendarmerie","Patrouille-gendarmerie - Perfectionnement professionnel","Intervention tactique",{"$f":"M301","v":"-"},"Français","215-713-20",null,null,"215-713-20","Arme de périmètre – L'instructeur GI – Requalification","-",8,"Dates à confirmer"]
[null,"Policiers","Patrouille-gendarmerie","Patrouille-gendarmerie - Perfectionnement professionnel","Intervention tactique",{"$f":"M302","v":"-"},"Français","215-717-20",null,null,"215-717-20","Armes intermédiaires d'impact –  L'instructeur GI –  Requalification","-",8,"Dates à confirmer"]
[null,"Policiers","Patrouille-gendarmerie","Patrouille-gendarmerie - Perfectionnement professionnel","Intervention tactique","C1","Français","215-718-23","ENPQ",null,"215-718-23","Didactique de l'intervention tactique - L'instructeur","C1",12,null,null,"26 au 30 octobre et\n2 au 6 novembre "]
[null,"Policiers","Patrouille-gendarmerie","Patrouille-gendarmerie - Perfectionnement professionnel","Intervention tactique",{"$f":"M304","v":"C1"},"Anglais","215-718-23","ENPQ",null,"215-718-23","Didactics of Tactical Intervention - Instructor","C1",12]
[null,"Policiers","Patrouille-gendarmerie","Patrouille-gendarmerie - Perfectionnement professionnel","Intervention tactique","C1","Français",{"$f":"K305","v":"215-719-25"},"ENPQ",null,"215-719-25","Didactique de l'intervention tactique - L'instructeur - Requalification","C1",12,null,null,"7 au 8",null,"10 au 11"]
[null,"Policiers","Patrouille-gendarmerie","Patrouille-gendarmerie - Perfectionnement professionnel","Intervention tactique",{"$f":"M306","v":"C1"},"Français","XXX-XXX-XX","ENPQ",null,"XXX-XXX-XX","Didactique des mises en situation complexes","C1",null,"Dates à venir"]
[null,"Policiers","Gestion","Gestion - Perfectionnement professionnel","Intervention tactique","S1","Français",{"$f":"K306","v":"XXX-XXX-XX"},"En Ligne",null,"647-101-25","Évaluation du risque – Approbation d’interventions planifiées à risque faible","S1",24,null,"8 AM","19 AM","3 AM","1 AM","12 AM","22 AM","8 AM","30 AM","18 AM","15 AM"]
[null,"Policiers","Gestion","Gestion - Perfectionnement professionnel","Intervention tactique",{"$f":"M307","v":"S1"},"Français",{"$f":"K307","v":"647-101-25"},"En Ligne",null,null,null,null,null,null,"29 AM",null,"17 AM",null,"26 AM",null,"23 AM",null,"31 AM"]
[null,"Policiers","Gestion","Gestion - Perfectionnement professionnel","Intervention tactique",{"$f":"M309","v":"S1"},"Français",{"$f":"K309","v":"647-102-26"},"En Ligne",null,"647-102-26","Évaluation du risque - Approbation d'interventions planifiées à risque modéré ou élevé ","S1",24]
[null,"Policiers","Patrouille-gendarmerie","Patrouille-gendarmerie - Perfectionnement professionnel","Utilisation des armes à feu","-","Français",null,null,null,"Utilisation des armes à feu"]
[null,"Policiers","Patrouille-gendarmerie","Patrouille-gendarmerie - Perfectionnement professionnel","Utilisation des armes à feu",{"$f":"M311","v":"C1"},"Français",{"$f":"K311","v":"216-001-23"},"ENPQ",null,"216-001-23","Didactique du tir au pistolet – Le maître-instructeur – Journée d’actualisation","C1",20,null,null,null,null,2]
[null,"Policiers","Patrouille-gendarmerie","Patrouille-gendarmerie - Perfectionnement professionnel","Utilisation des armes à feu","HC1","Français","216-002-24","Pointe-du-Lac (Champ de tir Les Seigneurs)",null,"216-002-24","Carabine plateforme AR - Le Maître-instructeur - Journée d'actualisation\nHors campus - Champ de tir Les Seigneurs (Pointe-du-Lac)","HC1",16,null,null,null,null,null,null,null,null,null,null,21]
[null,"Policiers","Patrouille-gendarmerie","Patrouille-gendarmerie - Perfectionnement professionnel","Utilisation des armes à feu","HC1","Français",{"$f":"K313","v":"216-004-25"},"Pointe-du-Lac (Champ de tir Les Seigneurs)",null,"216-004-25","Armes intermédiaires d'impact à projectiles - Le maître-instructeur - Journée d'actualisation\nHors campus - Champ de tir Les Seigneurs (Pointe-du-Lac)","HC1",20,null,null,null,2]
[null,"Policiers","Patrouille-gendarmerie","Patrouille-gendarmerie - Perfectionnement professionnel","Utilisation des armes à feu","C1","Français","216-101-19","ENPQ",null,"216-101-19","Gestion du déploiement des armes intermédiaires et de la carabine - Plateforme AR – Le superviseur","C1",12,null,30]
[null,"Policiers","Patrouille-gendarmerie","Patrouille-gendarmerie - Perfectionnement professionnel","Utilisation des armes à feu","HC1","Français",{"$f":"K315","v":"216-102-18"},"Pointe-du-Lac (Champ de tir Les Seigneurs)",null,"216-102-18","Carabine - Plateforme AR - Bloc 2\nHors campus - Champ de tir Les Seigneurs (Pointe-du-Lac)","HC1",8,"À la demande"]
[null,"Policiers","Patrouille-gendarmerie","Patrouille-gendarmerie - Perfectionnement professionnel","Utilisation des armes à feu","HC1","Français",{"$f":"K316","v":"216-102-18"},"HC - Voir détail sous les dates",null,"216-102-18","Carabine - Plateforme AR - Bloc 2\nHors campus ","HC1",8,"À la demande"]
[null,"Policiers","Patrouille-gendarmerie","Patrouille-gendarmerie - Perfectionnement professionnel","Utilisation des armes à feu","A1","Français","216-103-19","En Ligne",null,"216-103-19","Officiel de sécurité du champ de tir\nEn ligne","A1","s.o.",null,"1er au 30","1er au 31","1er au 30","1er au 31","1er au 31","1er au 28","1er au 31","1er au 30","1er au 31","1er au 30"]
[null,"Policiers","Patrouille-gendarmerie","Patrouille-gendarmerie - Perfectionnement professionnel","Utilisation des armes à feu","HC1","Français","216-206-07","HC - Voir détail sous les dates",null,"216-206-07","Maniement du fusil de calibre 12\nHors campus \nDans les organisations","HC1",4,"À la demande"]
[null,"Policiers","Patrouille-gendarmerie","Patrouille-gendarmerie - Perfectionnement professionnel","Utilisation des armes à feu","C1","Français",{"$f":"K319","v":" 216-207-07"},"ENPQ",null," 216-207-07","Tir au pistolet - Requalification\nSQ","C1","4 à 8"]
[null,"Policiers","Patrouille-gendarmerie","Patrouille-gendarmerie - Perfectionnement professionnel","Utilisation des armes à feu",{"$f":"M320","v":"HC1"},"Français",{"$f":"K320","v":"216-209-18"},"Pointe-du-Lac (Champ de tir Les Seigneurs)",null,"216-209-18","Carabine – Plateforme AR - Bloc 1\nHors campus - Champ de tir Les Seigneurs (Pointe-du-Lac)","HC1",8,"À la demande"]
[null,"Policiers","Patrouille-gendarmerie","Patrouille-gendarmerie - Perfectionnement professionnel","Utilisation des armes à feu","HC1","Français",{"$f":"K321","v":"216-209-18"},"HC - Voir détail sous les dates",null,"216-209-18","Carabine – Plateforme AR - Bloc 1\nHors campus ","HC1",8,"À la demande"]
[null,"Policiers","Patrouille-gendarmerie","Patrouille-gendarmerie - Perfectionnement professionnel","Utilisation des armes à feu","HC1","Anglais","216-209-18","Pointe-du-Lac (Champ de tir Les Seigneurs)",null,"216-209-18","Carbine – AR Platform – Block 1\nHors campus - Champ de tir Les Seigneurs (Pointe-du-Lac)","HC1",8,"On demand"]
[null,"Policiers","Patrouille-gendarmerie","Patrouille-gendarmerie - Perfectionnement professionnel","Utilisation des armes à feu","HC1","Français",{"$f":"K323","v":"216-212-26"},"Pointe-du-Lac (Champ de tir Les Seigneurs)",null,"216-212-26","Armes intermédiaires d’impact à projectiles\nHors campus - Champ de tir Les Seigneurs (Pointe-du-Lac)","HC1",8,"À la demande"]
[null,"Policiers","Patrouille-gendarmerie","Patrouille-gendarmerie - Perfectionnement professionnel","Utilisation des armes à feu","HC1","Français",{"$f":"K324","v":"216-302-19"},"Pointe-du-Lac (Champ de tir Les Seigneurs)",null,"216-302-19","Carabine – Plateforme AR - Requalification\nHors campus - Champ de tir Les Seigneurs (Pointe-du-Lac)","HC1",8,"À la demande"]
[null,"Policiers","Patrouille-gendarmerie","Patrouille-gendarmerie - Perfectionnement professionnel","Utilisation des armes à feu","HC1","Anglais","216-302-19","Pointe-du-Lac (Champ de tir Les Seigneurs)",null,"216-302-19","Carbine – AR Platform – Requalification\nHors campus - Champ de tir Les Seigneurs (Pointe-du-Lac)","HC1",8,"On demand"]
[null,"Policiers","Patrouille-gendarmerie","Patrouille-gendarmerie - Perfectionnement professionnel","Utilisation des armes à feu","HC1","Français","216-609-11","Pointe-du-Lac (Champ de tir Les Seigneurs)",null,"216-609-11","Carabine - Plateforme AR - Le moniteur\nHors campus - Champ de tir Les Seigneurs (Pointe-du-Lac)","HC1",6]
[null,"Policiers","Patrouille-gendarmerie","Patrouille-gendarmerie - Perfectionnement professionnel","Utilisation des armes à feu","HC1","Anglais","216-609-11","Pointe-du-Lac (Champ de tir Les Seigneurs)",null,"216-609-11","Carbine – AR Platform – The Monitor\nHors campus - Champ de tir Les Seigneurs (Pointe-du-Lac)","HC1",6,null,null,null,"9 au 13"]
[null,"Policiers","Patrouille-gendarmerie","Patrouille-gendarmerie - Perfectionnement professionnel","Utilisation des armes à feu","HC1","Français","216-610-14","Pointe-du-Lac (Champ de tir Les Seigneurs)",null,"216-610-14","Carabine - Plateforme AR - Le moniteur - Requalification\nHors campus - Champ de tir Les Seigneurs (Pointe-du-Lac)","HC1",6,null,null,2]
[null,"Policiers","Patrouille-gendarmerie","Patrouille-gendarmerie - Perfectionnement professionnel","Utilisation des armes à feu",{"$f":"M329","v":"HC1"},"Français",{"$f":"K329","v":"216-701-20"},"Pointe-du-Lac (Champ de tir Les Seigneurs)",null,"216-701-20","Maniement du fusil de calibre 12 –  L'instructeur \nChamp de tir Les Seigneurs\nPointe-du-Lac","HC1",8,"À la demande"]
[null,"Policiers","Patrouille-gendarmerie","Patrouille-gendarmerie - Perfectionnement professionnel","Utilisation des armes à feu",{"$f":"M330","v":"HC1"},"Français",{"$f":"K330","v":"216-706-20"},"Pointe-du-Lac (Champ de tir Les Seigneurs)",null,"216-706-20","Maniement du fusil de calibre 12 –  L'instructeur – Requalification \nHors campus - Champ de tir Les Seigneurs (Pointe-du-Lac)","HC1",8,"À la demande"]
[null,"Policiers","Patrouille-gendarmerie","Patrouille-gendarmerie - Perfectionnement professionnel","Utilisation des armes à feu",{"$f":"M331","v":"HC1"},"Français",{"$f":"K331","v":"216-709-20"},"Pointe-du-Lac (Champ de tir Les Seigneurs)",null,"216-709-20","Carabine – Plateforme AR - L'instructeur\nHors campus - Champ de tir Les Seigneurs (Pointe-du-Lac)","HC1",6,null,null,null,null,null,null,null,null,null,"17 au 21"]
[null,"Policiers","Patrouille-gendarmerie","Patrouille-gendarmerie - Perfectionnement professionnel","Utilisation des armes à feu",{"$f":"M332","v":"HC1"},"Anglais","216-709-20","Pointe-du-Lac (Champ de tir Les Seigneurs)",null,"216-709-20","Support Weapon - The Instructor\nHors campus - Champ de tir Les Seigneurs (Pointe-du-Lac)","HC1",6]
[null,"Policiers","Patrouille-gendarmerie","Patrouille-gendarmerie - Perfectionnement professionnel","Utilisation des armes à feu","HC1","Français","216-710-20","Pointe-du-Lac (Champ de tir Les Seigneurs)",null,"216-710-20","Carabine – Plateforme AR - L'instructeur - Requalification\nHors campus - Champ de tir Les Seigneurs (Pointe-du-Lac)","HC1",6,null,18,9]
[null,"Policiers","Patrouille-gendarmerie","Patrouille-gendarmerie - Perfectionnement professionnel","Utilisation des armes à feu",{"$f":"M334","v":"C1"},"Français","216-711-23","ENPQ",null,"216-711-23","Didactique du tir au pistolet – L'instructeur","C1",8,null,null,null,"9 au 13 et\n16 au 20",null,null,"1er au 5 et\n8 au 12"]
[null,"Policiers","Patrouille-gendarmerie","Patrouille-gendarmerie - Perfectionnement professionnel","Utilisation des armes à feu",{"$f":"M335","v":"MS1"},"Français",{"$f":"K335","v":"216-711-23"},"ENPQ",null,"216-711-23","Didactics of Pistol Shooting - The instructor\nPointe du lac","MS1",8,null,null,"19 au 23 et\n26 au 30"]
[null,"Policiers","Patrouille-gendarmerie","Patrouille-gendarmerie - Perfectionnement professionnel","Utilisation des armes à feu","HC1","Français","216-711-23","HC - Voir détail sous les dates",null,"216-711-23","Didactique du tir au pistolet – L'instructeur\nHors campus","HC1",8]
[null,"Policiers","Patrouille-gendarmerie","Patrouille-gendarmerie - Perfectionnement professionnel","Utilisation des armes à feu","C1","Français","216-712-23","ENPQ",null,"216-712-23","Didactique du tir au pistolet – L'instructeur –  Requalification","C1",8,null,null,"1er au 2",null,null,"26 au 27",null,"2 au 3",null,"17 au 18"]
[null,"Policiers","Patrouille-gendarmerie","Patrouille-gendarmerie - Perfectionnement professionnel","Utilisation des armes à feu","HC1","Français","216-713-24","ENPQ",null,"216-713-24","Armes intermédiaires d'impact - L'instructeur ","HC1",8,null,"7 au 11",null,null,null,null,null,null,null,null,"7 au 11"]
[null,"Policiers","Patrouille-gendarmerie","Patrouille-gendarmerie - Perfectionnement professionnel","Utilisation des armes à feu",{"$f":"M339","v":"HC1"},"Français","216-714-24","Pointe-du-Lac (Champ de tir Les Seigneurs)",null,"216-714-24","Armes intermédiaires d'impact à projectiles - L'instructeur - Requalification  \nHors campus - Champ de tir Les Seigneurs (Pointe-du-Lac)","HC1",8,null,24]
[null,"Sécurité publique","Sécurité publique",null,null,"-","Français",null,null,null,null,null,null,null,null,null,null,null,null,"FORMATIONS EN SÉCURITÉ PUBLIQUE"]
[null,"Sécurité publique","Sécurité publique","Sécurité publique - Formation initiale",null,"-","Français",null,null,null,"n Formations initiales"]
[null,"Sécurité publique","Sécurité publique","Sécurité publique - Formation initiale",null,{"$f":"M342","v":"MS1"},"Français",{"$f":"K342","v":"PFICR-2412-750"},null,null,"PFICR-2412-750","CRQ - 27e cohorte","MS1",18]
[null,"Sécurité publique","Sécurité publique","Sécurité publique - Formation initiale",null,{"$f":"M343","v":"C1"},"Français",{"$f":"K343","v":"PFICS-2509-760"},"ENPQ",null,"PFICS-2509-760","PFICS (DSPJ) - 23e cohorte","C1",36,"26 au 28 août En ligne,\n31 août au 13 novembre"]
[null,"Sécurité publique","Sécurité publique","Sécurité publique - Formation initiale",null,"C1","Français","PFICS-2509-760","ENPQ",null,"PFICS-2509-760","PFICS (DSPJ) - 24e cohorte","C1",36]
[null,"Sécurité publique","Sécurité publique","Sécurité publique - Formation initiale",null,{"$f":"M345","v":"HC1"},"Français","PFIIE-2502-764","HC - Voir détail sous les dates",null,"PFIIE-2502-764","EXO - 3e cohorte","HC1",12,null,null,null,null,null,"18 janvier au 19 mars"]
[null,"Sécurité publique","Sécurité publique","Sécurité publique - Formation initiale",null,"MS1","Français","PFSTM-2305-761",null,null,"PFSTM-2305-761","STM - 7e cohorte","MS1",12,null,"8 septembre au 11 décembre"]
[null,"Sécurité publique","Sécurité Civile","Sécurité civile et privée - Perfectionnement professionnel","Psychologie",{"$f":"#REF!","v":{"$error":"#REF!"}},"Français",{"$f":"#REF!","v":{"$error":"#REF!"}},"ENPQ",null,"PSYRP-2501-028","Comprendre la réalité policière pour mieux accompagner - 20e cohorte","H1-[MX-MS]",14,"durée totale : 28 sept 2026 - 29 mars 2027",null,"Entre le 12 octobre 2026 et le 29 janvier 2027\n(Volet 3 - Stage d'observation - COBRA)",null,null,null,null,"10\nVolet 4\n[en ligne - S]"]
[null,"Sécurité publique","Sécurité Civile","Sécurité civile et privée - Perfectionnement professionnel","Psychologie",{"$f":"M347","v":"H1-[MX-MS]"},"Français",{"$f":"K347","v":"PSYRP-2501-028"},"ENPQ",null,null,null,null,null,null,"Act. Prép. En ligne (3 h)\nVolet 1","6\nVolet 2\n[ENPQ]"]
[null,"Sécurité publique","Sécurité Civile","Sécurité civile et privée - Perfectionnement professionnel","Psychologie",{"$f":"M347","v":"H1-[MX-MS]"},"Français",{"$f":"K347","v":"PSYRP-2501-028"},"ENPQ",null,"PSYRP-2501-028","Comprendre la réalité policière pour mieux accompagner - 21e cohorte","H1-[MX-MS]",14,"durée totale : 4 janv 2027 - 18 juin 2027",null,null,null,null,"Entre le 18 janvier et le 18 avril 2026\n(Volet 3 - Stage d'observation - COBRA)",null,null,null,"27\nVolet 4\n[en ligne - S]"]
[null,"Sécurité publique","Sécurité Civile","Sécurité civile et privée - Perfectionnement professionnel","Psychologie",{"$f":"M349","v":"H1-[MX-MS]"},"Français",{"$f":"K349","v":"PSYRP-2501-028"},"ENPQ",null,null,null,null,null,null,null,null,null,null,"Act. Prép. En ligne (3 h)\nVolet 1"]
[null,"Sécurité publique","Sécurité Civile","Sécurité civile et privée - Perfectionnement professionnel","Psychologie",{"$f":"M349","v":"H1-[MX-MS]"},"Français",{"$f":"K349","v":"PSYRP-2501-028"},"ENPQ",null,null,null,null,null,null,null,null,null,null,"14\nVolet 2\n[ENPQ]"]
[null,"Sécurité publique","Sécurité publique","Sécurité publique - Perfectionnement professionnel","Enquête",null,"Français",null,null,null,"n ENQUÊTE"]
[null,"Sécurité publique","Sécurité civile","Sécurité civile et privée - Perfectionnement professionnel","Enquête - Autres",{"$f":"M353","v":"C1"},"Français",{"$f":"K353","v":"041-101-16"},"ENPQ",null,"041-101-16","Éléments d'enquête pour les intervenants en sécurité incendie","C1",12]
[null,"Sécurité publique","Sécurité publique","Sécurité publique - Perfectionnement professionnel","Enquête ",{"$f":"M354","v":"MS1"},"Français","836-126-18",null,null,"836-126-18","Techniques d’entrevue de suspect (RQ)","MS1",12]
[null,"Sécurité publique","Sécurité publique","Sécurité publique - Perfectionnement professionnel","Enquête ",{"$f":"M355","v":"MS1"},"Français","836-148-22","ENPQ",null,"836-148-22","Techniques d’entrevue de suspect (ARC)","MS1",10]
[null,"Sécurité publique","Sécurité publique","Sécurité publique - Perfectionnement professionnel","Enquête ",{"$f":"M356","v":"HC1"},"Français","841-102-22","HC - Voir détail sous les dates",null,"841-102-22","Actualisation des compétences des inspecteurs exo","HC1",null,"À la demande"]
[null,"Sécurité publique","Sécurité publique","Sécurité publique - Perfectionnement professionnel",null,"C1","Français","841-103-25","ENPQ",null,"841-103-25","Droit applicable et techniques d'enquête en contextes administratif, pénal et criminel","C1",12,null,"16 au 17 septembre,\n22 au 25 septembre,\n21 au 23 octobre,\n3 novembre (13h) au 6 novembre et\n17 au 19 novembre\nÀ confirmer"]
[null,"Sécurité publique","Sécurité publique","Sécurité publique - Perfectionnement professionnel","Pouvoirs et devoirs","-","Français",null,null,null,"n POUVOIRS ET DEVOIRS"]
[null,"Sécurité publique","Sécurité civile","Sécurité civile et privée - Perfectionnement professionnel","Enquête - Autres",{"$f":"M359","v":"HC1"},"Français",{"$f":"K359","v":"826-105-24"},"HC - Voir détail sous les dates",null,"826-105-24","Pouvoirs et devoirs des constables spéciaux du MESS en matière d'arrestation\nHors campus - Dans les locaux du client","HC1",8]
[null,"Sécurité publique","Sécurité civile","Sécurité civile et privée - Perfectionnement professionnel","Enquête - Autres","HC1","Français","826-110-19","HC - Voir détail sous les dates",null,"826-110-19","Actualisation des connaissances juridiques des gardes du corps-chauffeurs (DPP)\nHors campus","HC1","12 à 50","À la demande"]
[null,"Sécurité publique","Sécurité civile","Sécurité civile et privée - Perfectionnement professionnel","Enquête - Autres","S1","Français","826-111-19","En Ligne",null,"826-111-19","Pouvoirs et devoirs du constable spécial (Hydro-Québec)\nEn ligne","S1","8 à 24","À la demande"]
[null,"Sécurité publique","Sécurité civile","Sécurité civile et privée - Perfectionnement professionnel","Enquête - Autres",{"$f":"M362","v":"HC1"},"Français",{"$f":"K362","v":"826-111-19"},"HC - Voir détail sous les dates",null,"826-111-19","Pouvoirs et devoirs du constable spécial (Hydro-Québec)","HC1","8 à 24"]
[null,"Sécurité publique","Sécurité publique","Sécurité publique - Perfectionnement professionnel","Pouvoirs et devoirs","HC1","Français","826-113-24","HC - Voir détail sous les dates",null,"826-113-24","Droit pénal général et pouvoirs des agents de la sécurité publique\nHors campus","HC1",12,"À la demande"]
[null,"Sécurité publique","Sécurité publique","Sécurité publique - Perfectionnement professionnel","Pouvoirs et devoirs","C1","Français",{"$f":"K364","v":"826-114-25"},"ENPQ",null,"826-114-25","Actualisation des connaissances juridiques du constable spécial","C1",30,"À la demande"]
[null,"Sécurité publique","Sécurité publique","Sécurité publique - Perfectionnement professionnel","Pouvoirs et devoirs",{"$f":"M363","v":"HC1"},"Français",{"$f":"K365","v":"826-114-25"},"HC - Voir détail sous les dates",null,"826-114-25","Actualisation des connaissances juridiques du constable spécial\nHors campus","HC1",30]
[null,"Sécurité publique","Sécurité publique","Sécurité publique - Perfectionnement professionnel","Renseignemrnt","-","Français",null,null,null,"n RENSEIGNEMENT"]
[null,"Sécurité publique","Sécurité publique","Sécurité publique - Perfectionnement professionnel","Renseignement",{"$f":"M367","v":"C1"},"Français",{"$f":"K367","v":"839-302-17"},"ENPQ",null,"839-302-17","Agent de renseignement criminel (RQ)","C1",8]
[null,"Sécurité publique","Sécurité publique","Sécurité publique - Perfectionnement professionnel","Renseignement",{"$f":"M368","v":"MS1"},"Français",{"$f":"K368","v":"839-303-19"},null,null,"839-303-19","Agent de renseignement criminel (RBQ et CCQ)","MS1",12,"À la demande"]
[null,"Sécurité publique","Sécurité publique","Sécurité publique - Perfectionnement professionnel","Gestionnaires de 1er niveau","-","Français",null,null,null,"n PROGRAMMES DE FORMATION EN GESTION"]
[null,"Sécurité publique","Sécurité publique","Sécurité publique - Perfectionnement professionnel","Gestionnaires de 1er niveau",{"$f":"M370","v":"C1"},"Français",{"$f":"K370","v":"🎓 PPU-010-38"},"ENPQ",null,"🎓 PPU-010-38","Habiletés de supervision en sécurité publique","C1",16,null,null,null,"9 au 11 novembre et\n30 novembre au 2 décembr\nÀ confirmer"]
[null,"Sécurité publique","Sécurité publique","Sécurité publique - Perfectionnement professionnel","Gestionnaires de 1er niveau","MS1","Français",{"$f":"K371","v":"🎓 PPU-010-47 "},null,null,"🎓 PPU-010-47 ","Activité d’immersion à la fonction de cadre de premier niveau en sécurité publique","MS1",16]
[null,"Sécurité publique","Sécurité publique","Sécurité publique - Perfectionnement professionnel","Gestionnaires de 1er niveau","H1-[   ]","Français",{"$f":"K372","v":"🎓 PPU-010-48"},null,null,"🎓 PPU-010-48","Activité d'intégration en gestion de la sécurité publique","H1-[   ]",16]
[null,"Sécurité publique","Sécurité publique","Sécurité publique - Perfectionnement professionnel","Gestionnaires de 1er niveau","C1","Français",{"$f":"K373","v":"🎓 PPU-010-49"},"ENPQ",null,"🎓 PPU-010-49","Supervision opérationnelle et administrative","C1",16,null,null,null,null,null,null,null,null,"27 au 29 avril et\n25 au 27 mai\nÀ confirmer"]
[null,"Sécurité publique","Sécurité publique","Sécurité publique - Perfectionnement professionnel","Santé psychologique au travail","-","Français",null,null,null,"n SANTÉ PSYCHOLOGIQUE AU TRAVAIL"]
[null,"Sécurité publique","Sécurité publique","Sécurité publique - Formation initiale","Formation des gestionnaires de premier niveau SC",{"$f":"M375","v":"HC1"},"Français",{"$f":"K375","v":"828-102-15"},"HC - Voir détail sous les dates",null,"828-102-15","Prévention des impacts psychologiques (cadre)\nHors campus","HC1",14,"À la demande"]
[null,"Sécurité publique","Sécurité publique","Sécurité publique - Formation initiale","Formation des gestionnaires de premier niveau SC",{"$f":"M376","v":"HC1"},"Français",{"$f":"K376","v":"828-103-15"},"HC - Voir détail sous les dates",null,"828-103-15","Prévention des impacts psychologiques\n(SUPERVISEUR)\nHors campus","HC1",14]
[null,"Sécurité publique","Sécurité publique","Sécurité publique - Formation initiale","Formation des gestionnaires de premier niveau SC","CM1","Français",{"$f":"K377","v":"828-103-15"},"ENPQ - Campus de Montréal",null,"828-103-15","Prévention des impacts psychologiques\n(SUPERVISEUR)\nCampus de Montréal","CM1",14,"À la demande"]
[null,"Sécurité publique","Sécurité publique","Sécurité publique - Formation initiale","Formation des gestionnaires de premier niveau SC","C1","Français",{"$f":"K378","v":"828-103-15"},"ENPQ",null,"828-103-15","Prévention des impacts psychologiques\n(SUPERVISEUR)","C1",14,"À la demande"]
[null,"Sécurité publique","Sécurité publique","Sécurité publique - Formation initiale","Psychologie",{"$f":"M379","v":"A1"},"Français","828-109-26","En Ligne",null,"828-109-26","Prévention des impacts psychologiques (formation en ligne)","A1",null,"En continu"]
[null,"Sécurité publique","Sécurité publique","Sécurité publique - Perfectionnement professionnel",null,"-","Français",null,null,null,"n PERFECTIONNEMENT"]
[null,"Sécurité publique","Sécurité publique","Sécurité publique - Perfectionnement professionnel","Autre","-","Français",null,null,null,"AUTRES"]
[null,"Sécurité publique","Sécurité publique","Patrouille-gendarmerie - Perfectionnement professionnel","Autre",{"$f":"M382","v":"A1"},"Français",{"$f":"K382","v":"441-203-25"},"En Ligne",null,"441-203-25","Production et trafic de fentanyl – RCSP/CPKN\nEn ligne","A1","s.o.","À la demande"]
[null,"Sécurité publique","Sécurité publique","Sécurité publique - Perfectionnement professionnel","Pédagogie","-",null,null,null,null,"FORMATION EN PÉDAGOGIE"]
[null,"Sécurité publique","Sécurité publique","Sécurité publique - Perfectionnement professionnel","Pédagogie",{"$f":"M384","v":"HC1"},"Français","832-107-25","HC - Voir détail sous les dates",null,"832-107-25","Le coaching de l’instructeur en tir","HC1",null,"À la demande"]
[null,"Sécurité publique","Sécurité publique","Patrouille-gendarmerie - Perfectionnement professionnel",null,"-","Français",null,null,null,"EMPLOI DE LA FORCE"]
[null,"Sécurité publique","Sécurité publique","Patrouille-gendarmerie - Perfectionnement professionnel","Utilisation des armes à feu",{"$f":"M386","v":"C1"},"Français",{"$f":"K386","v":"016-201-11"},"ENPQ",null,"016-201-11","Tir au pistolet et emploi de la force - Sécurité privée","C1",8,"À la demande"]
[null,"Sécurité publique","Sécurité publique","Patrouille-gendarmerie - Perfectionnement professionnel","Utilisation des armes à feu","C1","Français","016-301-13","ENPQ",null,"016-301-13","Tir au pistolet et emploi de la force - Sécurité privée - Requalification","C1",8,"À la demande"]
[null,"Sécurité publique","Sécurité publique","Patrouille-gendarmerie - Perfectionnement professionnel","Intervention physique","C1","Français","214-103-18","ENPQ",null,"214-103-18","Intervention avec le bouclier inversé","C1",12,"À la demande"]
[null,"Sécurité publique","Sécurité publique","Patrouille-gendarmerie - Perfectionnement professionnel","Intervention physique","C1","Français","214-712-20","ENPQ",null,"214-712-20","Intervention avec le bouclier inversé - L'instructeur (sans requalification)","C1",12,"À la demande"]
[null,"Sécurité publique","Sécurité publique","Patrouille-gendarmerie - Perfectionnement professionnel","Utilisation des armes à feu",{"$f":"M390","v":"H1-[MX-C]"},"Français",{"$f":"K390","v":"216-711-23"},null,null,"216-711-23","Didactique du tir au pistolet – L'instructeur","H1-[MX-C]",8]
[null,"Sécurité publique","Sécurité publique","Patrouille-gendarmerie - Perfectionnement professionnel","Intervention physique",{"$f":"M391","v":"A1"},"Français",{"$f":"K391","v":"217-201-24"},"En Ligne",null,"217-201-24","Désescalade - État mental perturbé\nEn ligne","A1",50,"24 août au 16 octobre"]
[null,"Sécurité publique","Sécurité publique","Patrouille-gendarmerie - Perfectionnement professionnel","Intervention physique",{"$f":"M391","v":"A1"},"Français",{"$f":"K391","v":"217-201-24"},"En Ligne",null,null,null,null,null,null,"7 septembre au 23 octobre"]
[null,"Sécurité publique","Sécurité publique","Patrouille-gendarmerie - Perfectionnement professionnel","Intervention physique",{"$f":"M391","v":"A1"},"Français",{"$f":"K391","v":"217-201-24"},"En Ligne",null,null,null,null,null,null,"21 septembre au 13 novembre"]
[null,"Sécurité publique","Sécurité publique","Patrouille-gendarmerie - Perfectionnement professionnel","Intervention physique",{"$f":"M391","v":"A1"},"Français",{"$f":"K391","v":"217-201-24"},"En Ligne",null,null,null,null,null,null,null,"5 octobre au 27 novembre"]
[null,"Sécurité publique","Sécurité publique","Patrouille-gendarmerie - Perfectionnement professionnel","Intervention physique",{"$f":"M391","v":"A1"},"Français",{"$f":"K391","v":"217-201-24"},"En Ligne",null,null,null,null,null,null,null,"19 octobre au 11 décembre"]
[null,"Sécurité publique","Sécurité publique","Sécurité publique - Perfectionnement professionnel","Emploi de la force - Autres",{"$f":"M396","v":"HC1"},"Français",{"$f":"K397","v":"814-110-18"},"HC - Voir détail sous les dates",null,"814-108-25","Interventions verbales et physiques (Loto Québec)\nHors campus","HC1",10,"À la demande"]
[null,"Sécurité publique","Sécurité publique","Sécurité publique - Perfectionnement professionnel","Emploi de la force - Autres",{"$f":"M397","v":"HC1"},"Français",{"$f":"K397","v":"814-110-18"},"HC - Voir détail sous les dates",null,"814-110-18","Interventions physiques 2 (Société des casinos du Québec)\nHors campus","HC1",10,"À la demande"]
[null,"Sécurité publique","Sécurité publique","Sécurité publique - Perfectionnement professionnel","Emploi de la force - Autres",{"$f":"M398","v":"HC1"},"Français",{"$f":"K398","v":"814-112-21"},"HC - Voir détail sous les dates",null,"814-112-21","Révision des techniques d'intervention verbale et physique - Société des casinos du Québec\nHors campus","HC1",10,"À la demande"]
[null,"Sécurité publique","Sécurité publique","Sécurité publique - Perfectionnement professionnel","Emploi de la force - Autres",{"$f":"M398","v":"HC1"},"Français",{"$f":"K398","v":"814-112-21"},"HC - Voir détail sous les dates"]
[null,"Sécurité publique","Sécurité publique","Sécurité publique - Perfectionnement professionnel","Emploi de la force - Autres",{"$f":"M400","v":"C1"},"Français",{"$f":"K400","v":"814-206-23"},"ENPQ",null,"814-206-23","Contrôler une personne à l'aide de l'aérosol capsique","C1",12,"À la demande"]
[null,"Sécurité publique","Sécurité publique","Patrouille-gendarmerie - Perfectionnement professionnel","Utilisation des armes à feu","HC1","Français",{"$f":"K401","v":"814-701-25"},"HC - Voir détail sous les dates",null,"814-701-25","Didactique de la garde et contrôle de l'arme à feu - L'instructeur\nHors campus","HC1",6]
[null,"Sécurité publique","Sécurité publique","Sécurité publique - Perfectionnement professionnel","Emploi de la force - Autres","C1","Français",{"$f":"K402","v":"817-101-25"},"ENPQ",null,"817-101-25","Intervenir et communiquer en s’adaptant à la situation","C1",14,null,"28 au 29\nÀ confirmer",null,null,"3 au 4\nÀ confirmer"]
[null,"Sécurité publique","Sécurité publique","Sécurité publique - Perfectionnement professionnel","Emploi de la force - Autres","HC1","Français","818-104-25","HC - Voir détail sous les dates",null,"818-104-25","Prise de décision – L’utilisateur","HC1",null,"À la demande"]
[null,"Sécurité publique","Sécurité publique","Sécurité publique - Perfectionnement professionnel","Emploi de la force - Autres","HC1","Français","818-701-25","HC - Voir détail sous les dates",null,"818-701-25","Didactique de prise de décision - L'instructeur\nHors campus","HC1",12,"À la demande",null," "," "]
[null,"Sécurité publique","Sécurité publique","Sécurité publique - Perfectionnement professionnel","Emploi de la force - Autres","HC1","Français","818-701-25","HC - Voir détail sous les dates"]
[null,"Sécurité publique","Sécurité publique","Patrouille-gendarmerie - Perfectionnement professionnel",null,"-","Français",null,null,null,"SÉCURITÉ ROUTIÈRE ET CONDUITE"]
[null,"Sécurité publique","Sécurité publique","Sécurité publique - Perfectionnement professionnel","Conduite",{"$f":"M407","v":"HC1"},"Français",{"$f":"K407","v":"801-212-22"},"ENPQ",null,"801-212-22","Conduite de véhicule en utilisant les techniques de base\nHors campus","HC1",12,"À la demande"]
[null,"Sécurité publique","Sécurité publique","Sécurité publique - Perfectionnement professionnel","Patrouilles spécialisées",{"$f":"M408","v":"A1"},"Français",{"$f":"K408","v":"803-103-18"},"En Ligne",null,"803-103-18","Intervention en cas de surdose d'opioïdes\nEn ligne","A1","s.o.","À la demande"]
[null,"Sécurité publique","Sécurité publique","Patrouille-gendarmerie - Perfectionnement professionnel","Patrouilles spécialisées",{"$f":"M409","v":"S1"},"Français",{"$f":"K409","v":"810-201-18"},"En Ligne",null,"810-201-18","Agent de surveillance de sentier FQCQ\nEn ligne","S1",15]
[null,"Sécurité publique","Sécurité publique","Patrouille-gendarmerie - Perfectionnement professionnel","Patrouilles spécialisées",{"$f":"M409","v":"S1"},"Français",{"$f":"K409","v":"810-201-18"},"En Ligne"]
[null,"Sécurité publique","Sécurité publique","Sécurité publique - Perfectionnement professionnel","Patrouilles spécialisées",{"$f":"M411","v":"HC1"},"Français",{"$f":"K411","v":"811-103-24"},"HC - Voir détail sous les dates",null,"811-103-24","Contrôle de la vitesse en patrouille nautique\nHors campus","HC1",12,"À la demande"]
[null,"Sécurité publique","Sécurité publique","Patrouille-gendarmerie - Perfectionnement professionnel","Utilisation des armes à feu","-","Français",null,null,null,"UTILISATION DES ARMES À FEU"]
[null,"Sécurité publique","Sécurité publique","Patrouille-gendarmerie - Perfectionnement professionnel","Utilisation des armes à feu",{"$f":"M413","v":"A1"},"Français",{"$f":"K413","v":"216-103-19"},"En Ligne",null,"216-103-19","Officiel de sécurité du champ de tir\nEn ligne","A1",9]
[null,"Sécurité publique","Sécurité publique","Patrouille-gendarmerie - Perfectionnement professionnel","Utilisation des armes à feu",{"$f":"M414","v":"C1"},"Français",{"$f":"K414","v":"216-207-07"},"ENPQ",null,"216-207-07","Tir au pistolet - Requalification","C1",8]
[null,"Sécurité publique","Sécurité publique","Patrouille-gendarmerie - Perfectionnement professionnel","Utilisation des armes à feu",{"$f":"M415","v":"HC1"},"Français",{"$f":"K415","v":"216-209-18"},"Pointe-du-Lac (Champ de tir Les Seigneurs)",null,"216-209-18","Carabine - Plateforme AR - Bloc 1\nHors campus - Champ de tir Les Seigneurs (Pointe-du-Lac)","HC1",8,"À la demande"]
[null,"Sécurité publique","Sécurité publique","Patrouille-gendarmerie - Perfectionnement professionnel","Utilisation des armes à feu",{"$f":"M416","v":"HC1"},"Français",{"$f":"K416","v":"216-302-19"},"Pointe-du-Lac (Champ de tir Les Seigneurs)",null,"216-302-19","Carabine – Plateforme AR –  Requalification\nHors campus - Champ de tir Les Seigneurs (Pointe-du-Lac)","HC1",8]
[null,"Sécurité publique","Sécurité publique","Patrouille-gendarmerie - Perfectionnement professionnel","Utilisation des armes à feu",{"$f":"M416","v":"HC1"},"Français",{"$f":"K416","v":"216-302-19"},"Pointe-du-Lac (Champ de tir Les Seigneurs)"]
[null,"Sécurité publique","Sécurité publique","Patrouille-gendarmerie - Perfectionnement professionnel","Utilisation des armes à feu",{"$f":"M416","v":"HC1"},"Français",{"$f":"K416","v":"216-302-19"},"Pointe-du-Lac (Champ de tir Les Seigneurs)"]
[null,"Sécurité publique","Sécurité publique","Patrouille-gendarmerie - Perfectionnement professionnel","Utilisation des armes à feu",{"$f":"M416","v":"HC1"},"Français",{"$f":"K416","v":"216-302-19"},"Pointe-du-Lac (Champ de tir Les Seigneurs)"]
[null,"Sécurité publique","Sécurité publique","Patrouille-gendarmerie - Perfectionnement professionnel","Utilisation des armes à feu",{"$f":"M420","v":"HC1"},"Français",{"$f":"K420","v":"816-205-24"},"HC - Voir détail sous les dates",null,"816-205-24","Mise à niveau – Tir au pistolet et introduction au processus de prise de décision\nHors campus","HC1",8,"À la demande"]
[null,"Sécurité publique","Sécurité publique","Patrouille-gendarmerie - Perfectionnement professionnel","Utilisation des armes à feu","C1","Français",{"$f":"K421","v":"816-206-25"},null,null,"816-206-25","Utiliser le pistolet en situation de tir défensif","C1",9,"24 au 28\nÀ confirmer","7 au 11\nÀ confirmer",null,"2 au 6\nÀ confirmer","7 au 11\nÀ confirmer",null,null,"8 au 12\nÀ confirmer",null,"10 au 14\nÀ confirmer","14 au 18\nÀ confirmer"]
[null,"Sécurité publique","Sécurité publique","Patrouille-gendarmerie - Perfectionnement professionnel","Utilisation des armes à feu","C2","Français",{"$f":"K421","v":"816-206-25"},null,null,null,null,null,null,null,null,null,null,"14 au 18\nÀ confirmer",null,null,null,null,"24 au 28\nÀ confirmer"]
[null,"Sécurité publique","Sécurité publique","Patrouille-gendarmerie - Perfectionnement professionnel","Utilisation des armes à feu",{"$f":"M421","v":"C1"},"Français",{"$f":"K421","v":"816-206-25"},null,null,null,null,null,null,"31 août au 4 septembre\nÀ confirmer",null,null,null,null,null,null,null,null,null,"28 juin au 2 juillet\nÀ confirmer"]
[null,"Sécurité publique","Sécurité publique","Patrouille-gendarmerie - Perfectionnement professionnel","Utilisation des armes à feu",{"$f":"#REF!","v":{"$error":"#REF!"}},"Français",{"$f":"K424","v":"816-206-25"},null,null,"816-206-25","Utiliser le pistolet en situation de tir défensif\nExclusif CRQ","HC1",9]
[null,"Sécurité publique","Sécurité publique","Patrouille-gendarmerie - Perfectionnement professionnel","Utilisation des armes à feu",{"$f":"#REF!","v":{"$error":"#REF!"}},"Français",{"$f":"K424","v":"816-206-25"}]
[null,null,null,null,null,"-","Français",null,null,null,null,null,null,null,null,null,null,null,null,"ÉVÉNEMENTS"]
[null,"Service aux collectivités",null,"Service aux collectiivités",null,"-","Français",null,null,null,"n Service aux collectivités"]
[null,"Service aux collectivités",null,"Service aux collectiivités",null,{"$f":"M428","v":"C1"},"Français",null,"ENPQ",null,null,"50 ans femmes policières","C1",250]
[null,"Service aux collectivités",null,"Service aux collectiivités",null,{"$f":"M429","v":"C1"},"Français",null,"ENPQ",null,null,"ADPQ - Assemblée des directeurs","C1",50,null,null,15]
[null,"Service aux collectivités",null,"Service aux collectiivités",null,{"$f":"M430","v":"C1"},"Français",null,"ENPQ",null,null,"ADPQ - Comité SAAQ-COPS","C1",15,null,17,null,5]
[null,"Service aux collectivités",null,"Service aux collectiivités",null,{"$f":"M431","v":"C1"},"Français",null,"ENPQ",null,null,"ADPQ - Journée sécurité routière","C1",260,null,null,null,4]
[null,"Service aux collectivités",null,"Service aux collectiivités",null,{"$f":"M432","v":"C1"},"Français",null,"ENPQ",null,null,"Cadets de l'air - Formation","C1",120,null,"26 au 27"]
[null,"Service aux collectivités",null,"Service aux collectiivités",null,{"$f":"M433","v":"C1"},"Français",null,"ENPQ",null,null,"CN - Requalifications","C1",10,null,null,"6 au 9"]
[null,"Service aux collectivités",null,"Service aux collectiivités",null,"C1","Français",null,"ENPQ",null,null,"Éditions SR - Conférence","C1",40,null,null,13]
[null,"Service aux collectivités",null,"Service aux collectiivités",null,"C1","Français",null,"ENPQ",null,null,"Parcs Canada - Formation","C1",12,null,null,null,null,null,null,null,"16 au 19"]
[null,"Service aux collectivités",null,"Service aux collectiivités",null,{"$f":"M436","v":"C1"},"Français",null,"ENPQ",null,null,"Regroupement des officiers retraités de la Sûreté du Québec (RORSQ)  - Réunion","C1",45,null,15]
[null,"Service aux collectivités",null,"Service aux collectiivités",null,{"$f":"M437","v":"C1"},"Français",null,"ENPQ",null,null,"Séminaire chaire de recherche UQTR-ENPQ","C1","s.o."]
[null,"Service aux collectivités",null,"Service aux collectiivités",null,{"$f":"M438","v":"C1"},"Français",null,"ENPQ",null,null,"Séminaire Intersection","C1",225,null,null,null,"26 au 27"]
[null,"Service aux collectivités",null,"Service aux collectiivités",null,{"$f":"M439","v":"C1"},"Français",null,"ENPQ",null,null,"SQ - Formation des cadets","C1",150,null,null,null,null,null,null,null,null,null,"31 mai au 4 juin"]
[null,"Service aux collectivités",null,"Service aux collectiivités",null,{"$f":"M440","v":"C1"},"Français",null,"ENPQ",null,null,"SQ - Formation PIMS","C1",15,null,"21 au 25"]
[null,"Service aux collectivités",null,"Service aux collectiivités",null,{"$f":"M441","v":"C1"},"Français",null,"ENPQ",null,null,"SQ - Semaine d'actualisation en emploi de la force","C1",50,null,null,null,"30 novembre au 4 décembre"]
[null,"Service aux collectivités",null,"Service aux collectiivités",null,"C1","Français",null,"ENPQ",null,null,"SRCQ - Évaluation provinciale de la menace","C1",266,null,null,7]
[null,null,null,"Programme de formation initiale en patrouille-gendarmerie",null,"-","Français",null,null,null,"n PFIPG"]
[null,"Futurs policiers","Patrouille-gendarmerie","Programme de formation initiale en patrouille-gendarmerie",null,{"$f":"M444","v":"C1"},"Français",null,"ENPQ",null,"PFIPG","Journée d'actualisation des collèges","C1",100,null,null,null,null,null,null,null,null,null,26]
[null,null,null,"Bureau du registraire et des communication",null,"-","Français",null,null,null,"n BRC"]
[null,"Futurs policiers","Patrouille-gendarmerie","Bureau du registraire et des communication",null,{"$f":"M446","v":"C1"},"Français",{"$f":"K446","v":"ESAP"},"ENPQ",null,"ESAP","Épreuve standardisée d'aptitude physique","C1",40,"18 au 20","21 au 22","26 au 27","30 novembre au 1er décembre",null,"18 au 19","22 au 23","24 au 25",null,"3 au 4","7 au 8","12 au 13"]
[null,"Futurs policiers","Patrouille-gendarmerie","Bureau du registraire et des communication",null,{"$f":"M446","v":"C1"},"Français",{"$f":"K448","v":"ESAP"},"ENPQ"]
[null,"Futurs policiers","Patrouille-gendarmerie","Bureau du registraire et des communication",null,{"$f":"M448","v":"HC1"},"Français",{"$f":"K448","v":"ESAP"},"UNIVERSITÉ DE MONTRÉAL",null,"ESAP","Épreuve standardisée d'aptitude physique\nHors campus - Université de Montréal","HC1",40]
[null,"Futurs policiers","Patrouille-gendarmerie","Bureau du registraire et des communication",null,{"$f":"M448","v":"HC1"},"Français",{"$f":"K448","v":"ESAP"},"UNIVERSITÉ DE MONTRÉAL"]
[null,null,null,"Bureau du registraire et des communication",null,{"$f":"M450","v":"C1"},"Français",{"$f":"K450","v":"JPO"},"ENPQ",null,"JPO","Journée porte ouverte","C1",null,null,null,null,"16"]
[null,null,null,"Bureau du registraire et des communication",null,{"$f":"M451","v":"C1"},"Français",{"$f":"K451","v":"JRP"},"ENPQ",null,"JRP","Journée de reconnaissance policière","C1",null,null,null,null,null,null,null,null,null,null,"10"]
[null,null,null,"Direction de la recherche, de l'expertise et de la pédagogie",null,"-","Français",null,null,null,"n DREP"]
[null,"Policiers",null,"Direction de la recherche, de l'expertise et de la pédagogie",null,{"$f":"M453","v":"C1"},"Français",{"$f":"K453","v":"JAC"},"ENPQ",null,"JAC","Journées d'actualisation des connaissances","C1"]
[null,"Formateurs","Journée pédagogique ","Direction de la recherche, de l'expertise et de la pédagogie","Conduite",{"$f":"M454","v":"C1"},"Français",{"$f":"K454","v":"JP-COND"},"ENPQ",null,"JP-COND","Journée pédagogique - CONDUITE","C1","s.o.",null,null,null,"16",null,null,"8"]
[null,"Formateurs","Journée pédagogique ","Direction de la recherche, de l'expertise et de la pédagogie","Enquête - Autres",{"$f":"M455","v":"C1"},"Français","JP-ENQ","ENPQ",null,"JP-ENQ","Journée pédagogique - ENQUÊTE","C1","s.o."]
[null,"Formateurs","Journée pédagogique ","Direction de la recherche, de l'expertise et de la pédagogie","Gestion","C1","Français","JP-GEST","ENPQ",null,"JP-GEST","Journée pédagogique - GESTION","C1","s.o."]
[null,"Formateurs","Journée pédagogique ","Direction de la recherche, de l'expertise et de la pédagogie","Intervention physique",{"$f":"M457","v":"C1"},"Français","JP-IP","ENPQ",null,"JP-IP","Journée pédagogique - INTERVENTION PHYSIQUE","C1","s.o.","24",null,null,null,null,null,null,null,"5"]
[null,"Formateurs","Journée pédagogique ","Direction de la recherche, de l'expertise et de la pédagogie","Enquête - Autres",{"$f":"M458","v":"C1"},"Français","JP-NICHD","ENPQ",null,"JP-NICHD","Journée pédagogique - NICHD","C1","s.o.",null,"15"]
[null,"Formateurs","Journée pédagogique ","Direction de la recherche, de l'expertise et de la pédagogie","Sécurité routière  - Auitre",{"$f":"M459","v":"C1"},"Français","JP-SR","ENPQ",null,"JP-SR","Journée pédagogique - SÉCURITÉ ROUTIÈRE","C1","s.o."]
[null,"Formateurs","Journée pédagogique ","Direction de la recherche, de l'expertise et de la pédagogie","Sécurité routière  - Auitre",{"$f":"M459","v":"C1"},"Français",{"$f":"K459","v":"JP-SR"},"ENPQ"]
[null,"Formateurs","Journée pédagogique ","Direction de la recherche, de l'expertise et de la pédagogie","Intervention tactique",{"$f":"M461","v":"C1"},"Français","JP-TACT","ENPQ",null,"JP-TACT","Journée pédagogique - Tactique","C1","s.o."]
[null,"Formateurs","Journée pédagogique ","Direction de la recherche, de l'expertise et de la pédagogie","Utilisation des armes à feu","C1","Français","JP-TIR","ENPQ",null,"JP-TIR","Journée pédagogique - TIR","C1","s.o.",null,null,"5",null,null,"4"]
[null,"Formateurs","Journée pédagogique ","Direction de la recherche, de l'expertise et de la pédagogie","PFIPG","C1","Français","JP-PFIPG","ENPQ",null,"JP-PFIPG","Journée pédagogique - PFIPG\n* 1 groupe en formation ","C1","s.o.","24 *",null,null,"2 *","7 *","4","8",null,"5 *","10 *"]
[null,"Formateurs","Journée pédagogique ","Direction de la recherche, de l'expertise et de la pédagogie","PFIPG",{"$f":"M463","v":"C1"},"Français","JP-PFIPG","ENPQ",null,null,null,null,null,null,null,null,"16\nJPO",null,"25 *\nPMU",null,null,"19"]

{"sheet":"PN_","index":1,"n_rows":1,"n_cols":1,"rows_kept":1,"cut":false,"hidden":true,"merged":[[0,0,13,0]]}
["PN : 203-119-23 : 13fr (Fiche d'interprétation policière (FIN) - Collecte de données sur les interpellations policières.  EST-CE QU'ON DONNE CE COURS?  EST-CE CPKN?  c'est un code de cours actif, mais pas de recette, pas d'offre passée\n\nPN : 203-207-23 : 21fr Loi sur la protection des personnes dont l’état mental présente un danger pour elles-mêmes ou pour autrui (LPP)\n\nPN : 209-115-21 : 6fr ENPQ ou HC (en ligne?) Maintient de compétence périodique - TQE DataMaster DMT-C\n\nPN : CPS-002-22 : 8fr | 61eng (CAPSULE en ligne)\n\nPN : 828-104-15 : 30fr - PAS DE FICHE DE COURS.  "]

{"sheet":"Rapport_Volum","index":2,"n_rows":268,"n_cols":13,"rows_kept":268,"cut":false,"hidden":true,"merged":[[3,4,3,12],[27,10,27,12],[5,10,5,12]]}
[]
[null,null,null,null,null,null,null,null,null,null,null,null,"Programmes de formation initiale et perfectionnement policier"]
[null,null,null,null,null,null,null,null,null,null,null,null,"Calendrier des cours 2024-2025"]
[null,null,null,null,"VOLUMÉTRIE DES DEMANDES ADRESSÉES"]
[null,null,2,3,4,5,6,null,7,null,10,null,11]
[null,null,null,null,null,null,null,null,null,null,"Autochtones"]
[null,null,null,null,null,null,"# diffusions",null,"Hres/an",null,"Franco",null,"Anglo"]
[null,null,null,null,{"$f":"F42","v":"Sous total FORMATION INTIALE EN ENQUÊTE"},null,{"$f":"G42","v":{"$error":"#REF!"}},null,{"$f":"I42","v":{"$error":"#REF!"}},null,{"$f":"K42","v":{"$error":"#REF!"}},null,{"$f":"M42","v":{"$error":"#REF!"}}]
[null,null,null,null,{"$f":"F87","v":"Sous total PERFECTIONNEMENT PROFESSIONNEL EN ENQUÊTE"},null,{"$f":"G87","v":{"$error":"#REF!"}},null,{"$f":"I87","v":{"$error":"#REF!"}},null,{"$f":"K87","v":{"$error":"#REF!"}},null,{"$f":"M87","v":{"$error":"#REF!"}}]
[null,null,null,null,{"$f":"F106","v":"Sous total FORMATION INTIALE EN GESTION POLICIÈRE"},null,{"$f":"G106","v":{"$error":"#REF!"}},null,{"$f":"I106","v":{"$error":"#REF!"}},null,{"$f":"K106","v":{"$error":"#REF!"}},null,{"$f":"M106","v":{"$error":"#REF!"}}]
[null,null,null,null,{"$f":"F113","v":"Sous total CECAP"},null,{"$f":"G113","v":{"$error":"#REF!"}},null,{"$f":"I113","v":{"$error":"#REF!"}},null,{"$f":"K113","v":{"$error":"#REF!"}},null,{"$f":"M113","v":{"$error":"#REF!"}}]
[null,null,null,null,{"$f":"F122","v":"Sous total PROGRAMME ACCES"},null,{"$f":"G122","v":{"$error":"#REF!"}},null,{"$f":"I122","v":{"$error":"#REF!"}},null,{"$f":"K122","v":{"$error":"#REF!"}},null,{"$f":"M122","v":{"$error":"#REF!"}}]
[null,null,null,null,{"$f":"F126","v":"Sous total FORMATIONS AUTOCHTONES"},null,{"$f":"G126","v":{"$error":"#REF!"}},null,{"$f":"I126","v":{"$error":"#REF!"}},null,{"$f":"K126","v":{"$error":"#REF!"}},null,{"$f":"M126","v":{"$error":"#REF!"}}]
[null,null,null,null,{"$f":"D128","v":{"$error":"#REF!"}},null,{"$f":"G128","v":{"$error":"#REF!"}},null,{"$f":"I128","v":{"$error":"#REF!"}},null,{"$f":"K128","v":{"$error":"#REF!"}},null,{"$f":"M128","v":{"$error":"#REF!"}}]
[null,null,null,null,{"$f":"F135","v":"Sous total FORMATIONEN PÉDAGOGIE"},null,{"$f":"G135","v":{"$error":"#REF!"}},null,{"$f":"I135","v":{"$error":"#REF!"}},null,{"$f":"K135","v":{"$error":"#REF!"}},null,{"$f":"M135","v":{"$error":"#REF!"}}]
[null,null,null,null,{"$f":"F211","v":"Sous total PERFECTIONNEMENT PROFESSIONNEL PATROUILLEUR"},null,{"$f":"G211","v":{"$error":"#REF!"}},null,{"$f":"I211","v":{"$error":"#REF!"}},null,{"$f":"K211","v":{"$error":"#REF!"}},null,{"$f":"M211","v":{"$error":"#REF!"}}]
[null,null,null,null,{"$f":"F219","v":"Sous total ENQUÊTE COLLISION"},null,{"$f":"G219","v":{"$error":"#REF!"}},null,{"$f":"I219","v":{"$error":"#REF!"}},null,{"$f":"K219","v":{"$error":"#REF!"}},null,{"$f":"M219","v":{"$error":"#REF!"}}]
[null,null,null,null,{"$f":"F268","v":"Sous total EMPLOI DE LA FORCE ET TACTIQUE"},null,{"$f":"G268","v":{"$error":"#REF!"}},null,{"$f":"I268","v":{"$error":"#REF!"}},null,{"$f":"K268","v":{"$error":"#REF!"}},null,{"$f":"M268","v":{"$error":"#REF!"}}]
[]
[null,null,null,null,null,"TOTAL DES DEMANDES ADRESSÉES",{"$f":"SUM(G8:G18)","v":{"$error":"#REF!"}},null,{"$f":"SUM(I8:I18)","v":{"$error":"#REF!"}},"Totaux DEMANDES IND.",{"$f":"SUM(K8:K18)","v":{"$error":"#REF!"}},null,{"$f":"SUM(M8:M18)","v":{"$error":"#REF!"}}]
[]
[]
[]
[]
[]
[null,null,2,3,4,5,6,null,7]
[1,{"$f":"VLOOKUP(A27,'2026-2027'!#REF!,9,FALSE)","v":{"$error":"#REF!"}},{"$f":"VLOOKUP($A27,'2026-2027'!#REF!,C$26,FALSE)","v":{"$error":"#REF!"}},{"$f":"IF($B27=\"*\",\"\",VLOOKUP($A27,'2026-2027'!#REF!,D$26,FALSE))","v":{"$error":"#REF!"}},{"$f":"IF($B27=\"*\",\"\",VLOOKUP($A27,'2026-2027'!#REF!,E$26,FALSE))","v":{"$error":"#REF!"}},{"$f":"IF($B27=\"*\",\"\",VLOOKUP($A27,'2026-2027'!#REF!,F$26,FALSE))","v":{"$error":"#REF!"}},{"$f":"IF($B27=\"*\",\"\",VLOOKUP($A27,'2026-2027'!#REF!,G$26,FALSE))","v":{"$error":"#REF!"}},null,{"$f":"IF($B27=\"*\",\"\",VLOOKUP($A27,'2026-2027'!#REF!,I$26,FALSE))","v":{"$error":"#REF!"}}]
[{"$f":"A27+1","v":2},{"$f":"VLOOKUP(A28,'2026-2027'!#REF!,9,FALSE)","v":{"$error":"#REF!"}},{"$f":"VLOOKUP($A28,'2026-2027'!#REF!,C$26,FALSE)","v":{"$error":"#REF!"}},null,null,null,null,null,null,null,"Autochtones"]
[{"$f":"A28+1","v":3},{"$f":"VLOOKUP(A29,'2026-2027'!#REF!,9,FALSE)","v":{"$error":"#REF!"}},{"$f":"VLOOKUP($A29,'2026-2027'!#REF!,C$26,FALSE)","v":{"$error":"#REF!"}},null,null,null,null,null,null,null,"Franco",null,"Anglo"]
[4,{"$f":"VLOOKUP(A30,'2026-2027'!#REF!,9,FALSE)","v":{"$error":"#REF!"}},{"$f":"VLOOKUP($A30,'2026-2027'!#REF!,C$26,FALSE)","v":{"$error":"#REF!"}},{"$f":"IF($B30=\"*\",\"\",VLOOKUP($A30,'2026-2027'!#REF!,D$26,FALSE))","v":{"$error":"#REF!"}},{"$f":"IF($B30=\"*\",\"\",VLOOKUP($A30,'2026-2027'!#REF!,E$26,FALSE))","v":{"$error":"#REF!"}},{"$f":"IF($B30=\"*\",\"\",VLOOKUP($A30,'2026-2027'!#REF!,F$26,FALSE))","v":{"$error":"#REF!"}},{"$f":"IF($B30=\"*\",\"\",VLOOKUP($A30,'2026-2027'!#REF!,G$26,FALSE))","v":{"$error":"#REF!"}},null,{"$f":"IF($B30=\"*\",\"\",VLOOKUP($A30,'2026-2027'!#REF!,I$26,FALSE))","v":{"$error":"#REF!"}},null,{"$f":"IF($B30=\"*\",\"\",VLOOKUP($A30,'2026-2027'!#REF!,K$5,FALSE))","v":{"$error":"#REF!"}},null,{"$f":"IF($B30=\"*\",\"\",VLOOKUP($A30,'2026-2027'!#REF!,M$5,FALSE))","v":{"$error":"#REF!"}}]
[5,{"$f":"VLOOKUP(A31,'2026-2027'!#REF!,9,FALSE)","v":{"$error":"#REF!"}},{"$f":"VLOOKUP($A31,'2026-2027'!#REF!,C$26,FALSE)","v":{"$error":"#REF!"}},null,null,null,null,null,null,null,{"$f":"IF($B31=\"*\",\"\",VLOOKUP($A31,'2026-2027'!#REF!,K$5,FALSE))","v":{"$error":"#REF!"}},null,{"$f":"IF($B31=\"*\",\"\",VLOOKUP($A31,'2026-2027'!#REF!,M$5,FALSE))","v":{"$error":"#REF!"}}]
[6,{"$f":"VLOOKUP(A32,'2026-2027'!#REF!,9,FALSE)","v":{"$error":"#REF!"}},{"$f":"VLOOKUP($A32,'2026-2027'!#REF!,C$26,FALSE)","v":{"$error":"#REF!"}},null,null,null,null,null,null,null,{"$f":"IF($B32=\"*\",\"\",VLOOKUP($A32,'2026-2027'!#REF!,K$5,FALSE))","v":{"$error":"#REF!"}},null,{"$f":"IF($B32=\"*\",\"\",VLOOKUP($A32,'2026-2027'!#REF!,M$5,FALSE))","v":{"$error":"#REF!"}}]
[7,{"$f":"VLOOKUP(A33,'2026-2027'!#REF!,9,FALSE)","v":{"$error":"#REF!"}},{"$f":"VLOOKUP($A33,'2026-2027'!#REF!,C$26,FALSE)","v":{"$error":"#REF!"}},{"$f":"IF($B33=\"*\",\"\",VLOOKUP($A33,'2026-2027'!#REF!,D$26,FALSE))","v":{"$error":"#REF!"}},{"$f":"IF($B33=\"*\",\"\",VLOOKUP($A33,'2026-2027'!#REF!,E$26,FALSE))","v":{"$error":"#REF!"}},{"$f":"IF($B33=\"*\",\"\",VLOOKUP($A33,'2026-2027'!#REF!,F$26,FALSE))","v":{"$error":"#REF!"}},{"$f":"IF($B33=\"*\",\"\",VLOOKUP($A33,'2026-2027'!#REF!,G$26,FALSE))","v":{"$error":"#REF!"}},null,{"$f":"IF($B33=\"*\",\"\",VLOOKUP($A33,'2026-2027'!#REF!,I$26,FALSE))","v":{"$error":"#REF!"}},null,{"$f":"IF($B33=\"*\",\"\",VLOOKUP($A33,'2026-2027'!#REF!,K$5,FALSE))","v":{"$error":"#REF!"}},null,{"$f":"IF($B33=\"*\",\"\",VLOOKUP($A33,'2026-2027'!#REF!,M$5,FALSE))","v":{"$error":"#REF!"}}]
[8,{"$f":"VLOOKUP(A34,'2026-2027'!#REF!,9,FALSE)","v":{"$error":"#REF!"}},{"$f":"VLOOKUP($A34,'2026-2027'!#REF!,C$26,FALSE)","v":{"$error":"#REF!"}},null,null,null,null,null,null,null,{"$f":"IF($B34=\"*\",\"\",VLOOKUP($A34,'2026-2027'!#REF!,K$5,FALSE))","v":{"$error":"#REF!"}},null,{"$f":"IF($B34=\"*\",\"\",VLOOKUP($A34,'2026-2027'!#REF!,M$5,FALSE))","v":{"$error":"#REF!"}}]
[9,{"$f":"VLOOKUP(A35,'2026-2027'!#REF!,9,FALSE)","v":{"$error":"#REF!"}},{"$f":"VLOOKUP($A35,'2026-2027'!#REF!,C$26,FALSE)","v":{"$error":"#REF!"}},{"$f":"IF($B35=\"*\",\"\",VLOOKUP($A35,'2026-2027'!#REF!,D$26,FALSE))","v":{"$error":"#REF!"}},{"$f":"IF($B35=\"*\",\"\",VLOOKUP($A35,'2026-2027'!#REF!,E$26,FALSE))","v":{"$error":"#REF!"}},{"$f":"IF($B35=\"*\",\"\",VLOOKUP($A35,'2026-2027'!#REF!,F$26,FALSE))","v":{"$error":"#REF!"}},{"$f":"IF($B35=\"*\",\"\",VLOOKUP($A35,'2026-2027'!#REF!,G$26,FALSE))","v":{"$error":"#REF!"}},null,{"$f":"IF($B35=\"*\",\"\",VLOOKUP($A35,'2026-2027'!#REF!,I$26,FALSE))","v":{"$error":"#REF!"}},null,{"$f":"IF($B35=\"*\",\"\",VLOOKUP($A35,'2026-2027'!#REF!,K$5,FALSE))","v":{"$error":"#REF!"}},null,{"$f":"IF($B35=\"*\",\"\",VLOOKUP($A35,'2026-2027'!#REF!,M$5,FALSE))","v":{"$error":"#REF!"}}]
[10,{"$f":"VLOOKUP(A36,'2026-2027'!#REF!,9,FALSE)","v":{"$error":"#REF!"}},{"$f":"VLOOKUP($A36,'2026-2027'!#REF!,C$26,FALSE)","v":{"$error":"#REF!"}},null,null,null,null,null,null,null,{"$f":"IF($B36=\"*\",\"\",VLOOKUP($A36,'2026-2027'!#REF!,K$5,FALSE))","v":{"$error":"#REF!"}},null,{"$f":"IF($B36=\"*\",\"\",VLOOKUP($A36,'2026-2027'!#REF!,M$5,FALSE))","v":{"$error":"#REF!"}}]
[11,{"$f":"VLOOKUP(A37,'2026-2027'!#REF!,9,FALSE)","v":{"$error":"#REF!"}},{"$f":"VLOOKUP($A37,'2026-2027'!#REF!,C$26,FALSE)","v":{"$error":"#REF!"}},{"$f":"IF($B37=\"*\",\"\",VLOOKUP($A37,'2026-2027'!#REF!,D$26,FALSE))","v":{"$error":"#REF!"}},{"$f":"IF($B37=\"*\",\"\",VLOOKUP($A37,'2026-2027'!#REF!,E$26,FALSE))","v":{"$error":"#REF!"}},{"$f":"IF($B37=\"*\",\"\",VLOOKUP($A37,'2026-2027'!#REF!,F$26,FALSE))","v":{"$error":"#REF!"}},{"$f":"IF($B37=\"*\",\"\",VLOOKUP($A37,'2026-2027'!#REF!,G$26,FALSE))","v":{"$error":"#REF!"}},null,{"$f":"IF($B37=\"*\",\"\",VLOOKUP($A37,'2026-2027'!#REF!,I$26,FALSE))","v":{"$error":"#REF!"}},null,{"$f":"IF($B37=\"*\",\"\",VLOOKUP($A37,'2026-2027'!#REF!,K$5,FALSE))","v":{"$error":"#REF!"}},null,{"$f":"IF($B37=\"*\",\"\",VLOOKUP($A37,'2026-2027'!#REF!,M$5,FALSE))","v":{"$error":"#REF!"}}]
[12,{"$f":"VLOOKUP(A38,'2026-2027'!#REF!,9,FALSE)","v":{"$error":"#REF!"}},{"$f":"VLOOKUP($A38,'2026-2027'!#REF!,C$26,FALSE)","v":{"$error":"#REF!"}},null,null,null,null,null,null,null,{"$f":"IF($B38=\"*\",\"\",VLOOKUP($A38,'2026-2027'!#REF!,K$5,FALSE))","v":{"$error":"#REF!"}},null,{"$f":"IF($B38=\"*\",\"\",VLOOKUP($A38,'2026-2027'!#REF!,M$5,FALSE))","v":{"$error":"#REF!"}}]
[13,{"$f":"VLOOKUP(A39,'2026-2027'!#REF!,9,FALSE)","v":{"$error":"#REF!"}},{"$f":"VLOOKUP($A39,'2026-2027'!#REF!,C$26,FALSE)","v":{"$error":"#REF!"}},{"$f":"IF($B39=\"*\",\"\",VLOOKUP($A39,'2026-2027'!#REF!,D$26,FALSE))","v":{"$error":"#REF!"}},{"$f":"IF($B39=\"*\",\"\",VLOOKUP($A39,'2026-2027'!#REF!,E$26,FALSE))","v":{"$error":"#REF!"}},{"$f":"IF($B39=\"*\",\"\",VLOOKUP($A39,'2026-2027'!#REF!,F$26,FALSE))","v":{"$error":"#REF!"}},{"$f":"IF($B39=\"*\",\"\",VLOOKUP($A39,'2026-2027'!#REF!,G$26,FALSE))","v":{"$error":"#REF!"}},null,{"$f":"IF($B39=\"*\",\"\",VLOOKUP($A39,'2026-2027'!#REF!,I$26,FALSE))","v":{"$error":"#REF!"}},null,{"$f":"IF($B39=\"*\",\"\",VLOOKUP($A39,'2026-2027'!#REF!,K$5,FALSE))","v":{"$error":"#REF!"}},null,{"$f":"IF($B39=\"*\",\"\",VLOOKUP($A39,'2026-2027'!#REF!,M$5,FALSE))","v":{"$error":"#REF!"}}]
[14,{"$f":"VLOOKUP(A40,'2026-2027'!#REF!,9,FALSE)","v":{"$error":"#REF!"}},{"$f":"VLOOKUP($A40,'2026-2027'!#REF!,C$26,FALSE)","v":{"$error":"#REF!"}},null,null,null,null,null,null,null,{"$f":"IF($B40=\"*\",\"\",VLOOKUP($A40,'2026-2027'!#REF!,K$5,FALSE))","v":{"$error":"#REF!"}},null,{"$f":"IF($B40=\"*\",\"\",VLOOKUP($A40,'2026-2027'!#REF!,M$5,FALSE))","v":{"$error":"#REF!"}}]
[15,{"$f":"VLOOKUP(A41,'2026-2027'!#REF!,9,FALSE)","v":{"$error":"#REF!"}},{"$f":"VLOOKUP($A41,'2026-2027'!#REF!,C$26,FALSE)","v":{"$error":"#REF!"}},{"$f":"IF($B41=\"*\",\"\",VLOOKUP($A41,'2026-2027'!#REF!,D$26,FALSE))","v":{"$error":"#REF!"}},{"$f":"IF($B41=\"*\",\"\",VLOOKUP($A41,'2026-2027'!#REF!,E$26,FALSE))","v":{"$error":"#REF!"}},{"$f":"IF($B41=\"*\",\"\",VLOOKUP($A41,'2026-2027'!#REF!,F$26,FALSE))","v":{"$error":"#REF!"}},{"$f":"IF($B41=\"*\",\"\",VLOOKUP($A41,'2026-2027'!#REF!,G$26,FALSE))","v":{"$error":"#REF!"}},null,{"$f":"IF($B41=\"*\",\"\",VLOOKUP($A41,'2026-2027'!#REF!,I$26,FALSE))","v":{"$error":"#REF!"}},null,{"$f":"IF($B41=\"*\",\"\",VLOOKUP($A41,'2026-2027'!#REF!,K$5,FALSE))","v":{"$error":"#REF!"}},null,{"$f":"IF($B41=\"*\",\"\",VLOOKUP($A41,'2026-2027'!#REF!,M$5,FALSE))","v":{"$error":"#REF!"}}]
[null,null,null,null,null,"Sous total FORMATION INTIALE EN ENQUÊTE",{"$f":"SUM(G28:G41)","v":{"$error":"#REF!"}},null,{"$f":"SUM(I28:I41)","v":{"$error":"#REF!"}},null,{"$f":"SUM(K30:K41)","v":{"$error":"#REF!"}},null,{"$f":"SUM(M30:M41)","v":{"$error":"#REF!"}}]
[{"$f":"A41+1","v":16},{"$f":"VLOOKUP(A43,'2026-2027'!#REF!,9,FALSE)","v":{"$error":"#REF!"}},{"$f":"VLOOKUP($A43,'2026-2027'!#REF!,C$26,FALSE)","v":{"$error":"#REF!"}},null,null,null,null,null,null,null,{"$f":"IF($B43=\"*\",\"\",VLOOKUP($A43,'2026-2027'!#REF!,K$5,FALSE))","v":{"$error":"#REF!"}},null,{"$f":"IF($B43=\"*\",\"\",VLOOKUP($A43,'2026-2027'!#REF!,M$5,FALSE))","v":{"$error":"#REF!"}}]
[17,{"$f":"VLOOKUP(A44,'2026-2027'!#REF!,9,FALSE)","v":{"$error":"#REF!"}},{"$f":"VLOOKUP($A44,'2026-2027'!#REF!,C$26,FALSE)","v":{"$error":"#REF!"}},null,null,null,null,null,null,null,{"$f":"IF($B44=\"*\",\"\",VLOOKUP($A44,'2026-2027'!#REF!,K$5,FALSE))","v":{"$error":"#REF!"}},null,{"$f":"IF($B44=\"*\",\"\",VLOOKUP($A44,'2026-2027'!#REF!,M$5,FALSE))","v":{"$error":"#REF!"}}]
[18,{"$f":"VLOOKUP(A45,'2026-2027'!#REF!,9,FALSE)","v":{"$error":"#REF!"}},{"$f":"VLOOKUP($A45,'2026-2027'!#REF!,C$26,FALSE)","v":{"$error":"#REF!"}},{"$f":"IF($B45=\"*\",\"\",VLOOKUP($A45,'2026-2027'!#REF!,D$26,FALSE))","v":{"$error":"#REF!"}},{"$f":"IF($B45=\"*\",\"\",VLOOKUP($A45,'2026-2027'!#REF!,E$26,FALSE))","v":{"$error":"#REF!"}},{"$f":"IF($B45=\"*\",\"\",VLOOKUP($A45,'2026-2027'!#REF!,F$26,FALSE))","v":{"$error":"#REF!"}},{"$f":"IF($B45=\"*\",\"\",VLOOKUP($A45,'2026-2027'!#REF!,G$26,FALSE))","v":{"$error":"#REF!"}},null,{"$f":"IF($B45=\"*\",\"\",VLOOKUP($A45,'2026-2027'!#REF!,I$26,FALSE))","v":{"$error":"#REF!"}},null,{"$f":"IF($B45=\"*\",\"\",VLOOKUP($A45,'2026-2027'!#REF!,K$5,FALSE))","v":{"$error":"#REF!"}},null,{"$f":"IF($B45=\"*\",\"\",VLOOKUP($A45,'2026-2027'!#REF!,M$5,FALSE))","v":{"$error":"#REF!"}}]
[19,{"$f":"VLOOKUP(A46,'2026-2027'!#REF!,9,FALSE)","v":{"$error":"#REF!"}},{"$f":"VLOOKUP($A46,'2026-2027'!#REF!,C$26,FALSE)","v":{"$error":"#REF!"}},{"$f":"IF($B46=\"*\",\"\",VLOOKUP($A46,'2026-2027'!#REF!,D$26,FALSE))","v":{"$error":"#REF!"}},{"$f":"IF($B46=\"*\",\"\",VLOOKUP($A46,'2026-2027'!#REF!,E$26,FALSE))","v":{"$error":"#REF!"}},{"$f":"IF($B46=\"*\",\"\",VLOOKUP($A46,'2026-2027'!#REF!,F$26,FALSE))","v":{"$error":"#REF!"}},{"$f":"IF($B46=\"*\",\"\",VLOOKUP($A46,'2026-2027'!#REF!,G$26,FALSE))","v":{"$error":"#REF!"}},null,{"$f":"IF($B46=\"*\",\"\",VLOOKUP($A46,'2026-2027'!#REF!,I$26,FALSE))","v":{"$error":"#REF!"}},null,{"$f":"IF($B46=\"*\",\"\",VLOOKUP($A46,'2026-2027'!#REF!,K$5,FALSE))","v":{"$error":"#REF!"}},null,{"$f":"IF($B46=\"*\",\"\",VLOOKUP($A46,'2026-2027'!#REF!,M$5,FALSE))","v":{"$error":"#REF!"}}]
[20,{"$f":"VLOOKUP(A47,'2026-2027'!#REF!,9,FALSE)","v":{"$error":"#REF!"}},{"$f":"VLOOKUP($A47,'2026-2027'!#REF!,C$26,FALSE)","v":{"$error":"#REF!"}},{"$f":"IF($B47=\"*\",\"\",VLOOKUP($A47,'2026-2027'!#REF!,D$26,FALSE))","v":{"$error":"#REF!"}},{"$f":"IF($B47=\"*\",\"\",VLOOKUP($A47,'2026-2027'!#REF!,E$26,FALSE))","v":{"$error":"#REF!"}},{"$f":"IF($B47=\"*\",\"\",VLOOKUP($A47,'2026-2027'!#REF!,F$26,FALSE))","v":{"$error":"#REF!"}},{"$f":"IF($B47=\"*\",\"\",VLOOKUP($A47,'2026-2027'!#REF!,G$26,FALSE))","v":{"$error":"#REF!"}},null,{"$f":"IF($B47=\"*\",\"\",VLOOKUP($A47,'2026-2027'!#REF!,I$26,FALSE))","v":{"$error":"#REF!"}},null,{"$f":"IF($B47=\"*\",\"\",VLOOKUP($A47,'2026-2027'!#REF!,K$5,FALSE))","v":{"$error":"#REF!"}},null,{"$f":"IF($B47=\"*\",\"\",VLOOKUP($A47,'2026-2027'!#REF!,M$5,FALSE))","v":{"$error":"#REF!"}}]
[21,{"$f":"VLOOKUP(A48,'2026-2027'!#REF!,9,FALSE)","v":{"$error":"#REF!"}},{"$f":"VLOOKUP($A48,'2026-2027'!#REF!,C$26,FALSE)","v":{"$error":"#REF!"}},{"$f":"IF($B48=\"*\",\"\",VLOOKUP($A48,'2026-2027'!#REF!,D$26,FALSE))","v":{"$error":"#REF!"}},{"$f":"IF($B48=\"*\",\"\",VLOOKUP($A48,'2026-2027'!#REF!,E$26,FALSE))","v":{"$error":"#REF!"}},{"$f":"IF($B48=\"*\",\"\",VLOOKUP($A48,'2026-2027'!#REF!,F$26,FALSE))","v":{"$error":"#REF!"}},{"$f":"IF($B48=\"*\",\"\",VLOOKUP($A48,'2026-2027'!#REF!,G$26,FALSE))","v":{"$error":"#REF!"}},null,{"$f":"IF($B48=\"*\",\"\",VLOOKUP($A48,'2026-2027'!#REF!,I$26,FALSE))","v":{"$error":"#REF!"}},null,{"$f":"IF($B48=\"*\",\"\",VLOOKUP($A48,'2026-2027'!#REF!,K$5,FALSE))","v":{"$error":"#REF!"}},null,{"$f":"IF($B48=\"*\",\"\",VLOOKUP($A48,'2026-2027'!#REF!,M$5,FALSE))","v":{"$error":"#REF!"}}]
[22,{"$f":"VLOOKUP(A49,'2026-2027'!#REF!,9,FALSE)","v":{"$error":"#REF!"}},{"$f":"VLOOKUP($A49,'2026-2027'!#REF!,C$26,FALSE)","v":{"$error":"#REF!"}},{"$f":"IF($B49=\"*\",\"\",VLOOKUP($A49,'2026-2027'!#REF!,D$26,FALSE))","v":{"$error":"#REF!"}},{"$f":"IF($B49=\"*\",\"\",VLOOKUP($A49,'2026-2027'!#REF!,E$26,FALSE))","v":{"$error":"#REF!"}},{"$f":"IF($B49=\"*\",\"\",VLOOKUP($A49,'2026-2027'!#REF!,F$26,FALSE))","v":{"$error":"#REF!"}},{"$f":"IF($B49=\"*\",\"\",VLOOKUP($A49,'2026-2027'!#REF!,G$26,FALSE))","v":{"$error":"#REF!"}},null,{"$f":"IF($B49=\"*\",\"\",VLOOKUP($A49,'2026-2027'!#REF!,I$26,FALSE))","v":{"$error":"#REF!"}},null,{"$f":"IF($B49=\"*\",\"\",VLOOKUP($A49,'2026-2027'!#REF!,K$5,FALSE))","v":{"$error":"#REF!"}},null,{"$f":"IF($B49=\"*\",\"\",VLOOKUP($A49,'2026-2027'!#REF!,M$5,FALSE))","v":{"$error":"#REF!"}}]
[23,{"$f":"VLOOKUP(A50,'2026-2027'!#REF!,9,FALSE)","v":{"$error":"#REF!"}},{"$f":"VLOOKUP($A50,'2026-2027'!#REF!,C$26,FALSE)","v":{"$error":"#REF!"}},{"$f":"IF($B50=\"*\",\"\",VLOOKUP($A50,'2026-2027'!#REF!,D$26,FALSE))","v":{"$error":"#REF!"}},{"$f":"IF($B50=\"*\",\"\",VLOOKUP($A50,'2026-2027'!#REF!,E$26,FALSE))","v":{"$error":"#REF!"}},{"$f":"IF($B50=\"*\",\"\",VLOOKUP($A50,'2026-2027'!#REF!,F$26,FALSE))","v":{"$error":"#REF!"}},{"$f":"IF($B50=\"*\",\"\",VLOOKUP($A50,'2026-2027'!#REF!,G$26,FALSE))","v":{"$error":"#REF!"}},null,{"$f":"IF($B50=\"*\",\"\",VLOOKUP($A50,'2026-2027'!#REF!,I$26,FALSE))","v":{"$error":"#REF!"}},null,{"$f":"IF($B50=\"*\",\"\",VLOOKUP($A50,'2026-2027'!#REF!,K$5,FALSE))","v":{"$error":"#REF!"}},null,{"$f":"IF($B50=\"*\",\"\",VLOOKUP($A50,'2026-2027'!#REF!,M$5,FALSE))","v":{"$error":"#REF!"}}]
[24,{"$f":"VLOOKUP(A51,'2026-2027'!#REF!,9,FALSE)","v":{"$error":"#REF!"}},{"$f":"VLOOKUP($A51,'2026-2027'!#REF!,C$26,FALSE)","v":{"$error":"#REF!"}},{"$f":"IF($B51=\"*\",\"\",VLOOKUP($A51,'2026-2027'!#REF!,D$26,FALSE))","v":{"$error":"#REF!"}},{"$f":"IF($B51=\"*\",\"\",VLOOKUP($A51,'2026-2027'!#REF!,E$26,FALSE))","v":{"$error":"#REF!"}},{"$f":"IF($B51=\"*\",\"\",VLOOKUP($A51,'2026-2027'!#REF!,F$26,FALSE))","v":{"$error":"#REF!"}},{"$f":"IF($B51=\"*\",\"\",VLOOKUP($A51,'2026-2027'!#REF!,G$26,FALSE))","v":{"$error":"#REF!"}},null,{"$f":"IF($B51=\"*\",\"\",VLOOKUP($A51,'2026-2027'!#REF!,I$26,FALSE))","v":{"$error":"#REF!"}},null,{"$f":"IF($B51=\"*\",\"\",VLOOKUP($A51,'2026-2027'!#REF!,K$5,FALSE))","v":{"$error":"#REF!"}},null,{"$f":"IF($B51=\"*\",\"\",VLOOKUP($A51,'2026-2027'!#REF!,M$5,FALSE))","v":{"$error":"#REF!"}}]
[25,{"$f":"VLOOKUP(A52,'2026-2027'!#REF!,9,FALSE)","v":{"$error":"#REF!"}},{"$f":"VLOOKUP($A52,'2026-2027'!#REF!,C$26,FALSE)","v":{"$error":"#REF!"}},{"$f":"IF($B52=\"*\",\"\",VLOOKUP($A52,'2026-2027'!#REF!,D$26,FALSE))","v":{"$error":"#REF!"}},{"$f":"IF($B52=\"*\",\"\",VLOOKUP($A52,'2026-2027'!#REF!,E$26,FALSE))","v":{"$error":"#REF!"}},{"$f":"IF($B52=\"*\",\"\",VLOOKUP($A52,'2026-2027'!#REF!,F$26,FALSE))","v":{"$error":"#REF!"}},{"$f":"IF($B52=\"*\",\"\",VLOOKUP($A52,'2026-2027'!#REF!,G$26,FALSE))","v":{"$error":"#REF!"}},null,{"$f":"IF($B52=\"*\",\"\",VLOOKUP($A52,'2026-2027'!#REF!,I$26,FALSE))","v":{"$error":"#REF!"}},null,{"$f":"IF($B52=\"*\",\"\",VLOOKUP($A52,'2026-2027'!#REF!,K$5,FALSE))","v":{"$error":"#REF!"}},null,{"$f":"IF($B52=\"*\",\"\",VLOOKUP($A52,'2026-2027'!#REF!,M$5,FALSE))","v":{"$error":"#REF!"}}]
[26,{"$f":"VLOOKUP(A53,'2026-2027'!#REF!,9,FALSE)","v":{"$error":"#REF!"}},{"$f":"VLOOKUP($A53,'2026-2027'!#REF!,C$26,FALSE)","v":{"$error":"#REF!"}},{"$f":"IF($B53=\"*\",\"\",VLOOKUP($A53,'2026-2027'!#REF!,D$26,FALSE))","v":{"$error":"#REF!"}},{"$f":"IF($B53=\"*\",\"\",VLOOKUP($A53,'2026-2027'!#REF!,E$26,FALSE))","v":{"$error":"#REF!"}},{"$f":"IF($B53=\"*\",\"\",VLOOKUP($A53,'2026-2027'!#REF!,F$26,FALSE))","v":{"$error":"#REF!"}},{"$f":"IF($B53=\"*\",\"\",VLOOKUP($A53,'2026-2027'!#REF!,G$26,FALSE))","v":{"$error":"#REF!"}},null,{"$f":"IF($B53=\"*\",\"\",VLOOKUP($A53,'2026-2027'!#REF!,I$26,FALSE))","v":{"$error":"#REF!"}},null,{"$f":"IF($B53=\"*\",\"\",VLOOKUP($A53,'2026-2027'!#REF!,K$5,FALSE))","v":{"$error":"#REF!"}},null,{"$f":"IF($B53=\"*\",\"\",VLOOKUP($A53,'2026-2027'!#REF!,M$5,FALSE))","v":{"$error":"#REF!"}}]
[27,{"$f":"VLOOKUP(A54,'2026-2027'!#REF!,9,FALSE)","v":{"$error":"#REF!"}},{"$f":"VLOOKUP($A54,'2026-2027'!#REF!,C$26,FALSE)","v":{"$error":"#REF!"}},{"$f":"IF($B54=\"*\",\"\",VLOOKUP($A54,'2026-2027'!#REF!,D$26,FALSE))","v":{"$error":"#REF!"}},{"$f":"IF($B54=\"*\",\"\",VLOOKUP($A54,'2026-2027'!#REF!,E$26,FALSE))","v":{"$error":"#REF!"}},{"$f":"IF($B54=\"*\",\"\",VLOOKUP($A54,'2026-2027'!#REF!,F$26,FALSE))","v":{"$error":"#REF!"}},{"$f":"IF($B54=\"*\",\"\",VLOOKUP($A54,'2026-2027'!#REF!,G$26,FALSE))","v":{"$error":"#REF!"}},null,{"$f":"IF($B54=\"*\",\"\",VLOOKUP($A54,'2026-2027'!#REF!,I$26,FALSE))","v":{"$error":"#REF!"}},null,{"$f":"IF($B54=\"*\",\"\",VLOOKUP($A54,'2026-2027'!#REF!,K$5,FALSE))","v":{"$error":"#REF!"}},null,{"$f":"IF($B54=\"*\",\"\",VLOOKUP($A54,'2026-2027'!#REF!,M$5,FALSE))","v":{"$error":"#REF!"}}]
[28,{"$f":"VLOOKUP(A55,'2026-2027'!#REF!,9,FALSE)","v":{"$error":"#REF!"}},{"$f":"VLOOKUP($A55,'2026-2027'!#REF!,C$26,FALSE)","v":{"$error":"#REF!"}},{"$f":"IF($B55=\"*\",\"\",VLOOKUP($A55,'2026-2027'!#REF!,D$26,FALSE))","v":{"$error":"#REF!"}},{"$f":"IF($B55=\"*\",\"\",VLOOKUP($A55,'2026-2027'!#REF!,E$26,FALSE))","v":{"$error":"#REF!"}},{"$f":"IF($B55=\"*\",\"\",VLOOKUP($A55,'2026-2027'!#REF!,F$26,FALSE))","v":{"$error":"#REF!"}},{"$f":"IF($B55=\"*\",\"\",VLOOKUP($A55,'2026-2027'!#REF!,G$26,FALSE))","v":{"$error":"#REF!"}},null,{"$f":"IF($B55=\"*\",\"\",VLOOKUP($A55,'2026-2027'!#REF!,I$26,FALSE))","v":{"$error":"#REF!"}},null,{"$f":"IF($B55=\"*\",\"\",VLOOKUP($A55,'2026-2027'!#REF!,K$5,FALSE))","v":{"$error":"#REF!"}},null,{"$f":"IF($B55=\"*\",\"\",VLOOKUP($A55,'2026-2027'!#REF!,M$5,FALSE))","v":{"$error":"#REF!"}}]
[29,{"$f":"VLOOKUP(A56,'2026-2027'!#REF!,9,FALSE)","v":{"$error":"#REF!"}},{"$f":"VLOOKUP($A56,'2026-2027'!#REF!,C$26,FALSE)","v":{"$error":"#REF!"}},{"$f":"IF($B56=\"*\",\"\",VLOOKUP($A56,'2026-2027'!#REF!,D$26,FALSE))","v":{"$error":"#REF!"}},{"$f":"IF($B56=\"*\",\"\",VLOOKUP($A56,'2026-2027'!#REF!,E$26,FALSE))","v":{"$error":"#REF!"}},{"$f":"IF($B56=\"*\",\"\",VLOOKUP($A56,'2026-2027'!#REF!,F$26,FALSE))","v":{"$error":"#REF!"}},{"$f":"IF($B56=\"*\",\"\",VLOOKUP($A56,'2026-2027'!#REF!,G$26,FALSE))","v":{"$error":"#REF!"}},null,{"$f":"IF($B56=\"*\",\"\",VLOOKUP($A56,'2026-2027'!#REF!,I$26,FALSE))","v":{"$error":"#REF!"}},null,{"$f":"IF($B56=\"*\",\"\",VLOOKUP($A56,'2026-2027'!#REF!,K$5,FALSE))","v":{"$error":"#REF!"}},null,{"$f":"IF($B56=\"*\",\"\",VLOOKUP($A56,'2026-2027'!#REF!,M$5,FALSE))","v":{"$error":"#REF!"}}]
[30,{"$f":"VLOOKUP(A57,'2026-2027'!#REF!,9,FALSE)","v":{"$error":"#REF!"}},{"$f":"VLOOKUP($A57,'2026-2027'!#REF!,C$26,FALSE)","v":{"$error":"#REF!"}},{"$f":"IF($B57=\"*\",\"\",VLOOKUP($A57,'2026-2027'!#REF!,D$26,FALSE))","v":{"$error":"#REF!"}},{"$f":"IF($B57=\"*\",\"\",VLOOKUP($A57,'2026-2027'!#REF!,E$26,FALSE))","v":{"$error":"#REF!"}},{"$f":"IF($B57=\"*\",\"\",VLOOKUP($A57,'2026-2027'!#REF!,F$26,FALSE))","v":{"$error":"#REF!"}},{"$f":"IF($B57=\"*\",\"\",VLOOKUP($A57,'2026-2027'!#REF!,G$26,FALSE))","v":{"$error":"#REF!"}},null,{"$f":"IF($B57=\"*\",\"\",VLOOKUP($A57,'2026-2027'!#REF!,I$26,FALSE))","v":{"$error":"#REF!"}},null,{"$f":"IF($B57=\"*\",\"\",VLOOKUP($A57,'2026-2027'!#REF!,K$5,FALSE))","v":{"$error":"#REF!"}},null,{"$f":"IF($B57=\"*\",\"\",VLOOKUP($A57,'2026-2027'!#REF!,M$5,FALSE))","v":{"$error":"#REF!"}}]
[31,{"$f":"VLOOKUP(A58,'2026-2027'!#REF!,9,FALSE)","v":{"$error":"#REF!"}},{"$f":"VLOOKUP($A58,'2026-2027'!#REF!,C$26,FALSE)","v":{"$error":"#REF!"}},{"$f":"IF($B58=\"*\",\"\",VLOOKUP($A58,'2026-2027'!#REF!,D$26,FALSE))","v":{"$error":"#REF!"}},{"$f":"IF($B58=\"*\",\"\",VLOOKUP($A58,'2026-2027'!#REF!,E$26,FALSE))","v":{"$error":"#REF!"}},{"$f":"IF($B58=\"*\",\"\",VLOOKUP($A58,'2026-2027'!#REF!,F$26,FALSE))","v":{"$error":"#REF!"}},{"$f":"IF($B58=\"*\",\"\",VLOOKUP($A58,'2026-2027'!#REF!,G$26,FALSE))","v":{"$error":"#REF!"}},null,{"$f":"IF($B58=\"*\",\"\",VLOOKUP($A58,'2026-2027'!#REF!,I$26,FALSE))","v":{"$error":"#REF!"}},null,{"$f":"IF($B58=\"*\",\"\",VLOOKUP($A58,'2026-2027'!#REF!,K$5,FALSE))","v":{"$error":"#REF!"}},null,{"$f":"IF($B58=\"*\",\"\",VLOOKUP($A58,'2026-2027'!#REF!,M$5,FALSE))","v":{"$error":"#REF!"}}]
[32,{"$f":"VLOOKUP(A59,'2026-2027'!#REF!,9,FALSE)","v":{"$error":"#REF!"}},{"$f":"VLOOKUP($A59,'2026-2027'!#REF!,C$26,FALSE)","v":{"$error":"#REF!"}},{"$f":"IF($B59=\"*\",\"\",VLOOKUP($A59,'2026-2027'!#REF!,D$26,FALSE))","v":{"$error":"#REF!"}},{"$f":"IF($B59=\"*\",\"\",VLOOKUP($A59,'2026-2027'!#REF!,E$26,FALSE))","v":{"$error":"#REF!"}},{"$f":"IF($B59=\"*\",\"\",VLOOKUP($A59,'2026-2027'!#REF!,F$26,FALSE))","v":{"$error":"#REF!"}},{"$f":"IF($B59=\"*\",\"\",VLOOKUP($A59,'2026-2027'!#REF!,G$26,FALSE))","v":{"$error":"#REF!"}},null,{"$f":"IF($B59=\"*\",\"\",VLOOKUP($A59,'2026-2027'!#REF!,I$26,FALSE))","v":{"$error":"#REF!"}},null,{"$f":"IF($B59=\"*\",\"\",VLOOKUP($A59,'2026-2027'!#REF!,K$5,FALSE))","v":{"$error":"#REF!"}},null,{"$f":"IF($B59=\"*\",\"\",VLOOKUP($A59,'2026-2027'!#REF!,M$5,FALSE))","v":{"$error":"#REF!"}}]
[33,{"$f":"VLOOKUP(A60,'2026-2027'!#REF!,9,FALSE)","v":{"$error":"#REF!"}},{"$f":"VLOOKUP($A60,'2026-2027'!#REF!,C$26,FALSE)","v":{"$error":"#REF!"}},{"$f":"IF($B60=\"*\",\"\",VLOOKUP($A60,'2026-2027'!#REF!,D$26,FALSE))","v":{"$error":"#REF!"}},{"$f":"IF($B60=\"*\",\"\",VLOOKUP($A60,'2026-2027'!#REF!,E$26,FALSE))","v":{"$error":"#REF!"}},{"$f":"IF($B60=\"*\",\"\",VLOOKUP($A60,'2026-2027'!#REF!,F$26,FALSE))","v":{"$error":"#REF!"}},{"$f":"IF($B60=\"*\",\"\",VLOOKUP($A60,'2026-2027'!#REF!,G$26,FALSE))","v":{"$error":"#REF!"}},null,{"$f":"IF($B60=\"*\",\"\",VLOOKUP($A60,'2026-2027'!#REF!,I$26,FALSE))","v":{"$error":"#REF!"}},null,{"$f":"IF($B60=\"*\",\"\",VLOOKUP($A60,'2026-2027'!#REF!,K$5,FALSE))","v":{"$error":"#REF!"}},null,{"$f":"IF($B60=\"*\",\"\",VLOOKUP($A60,'2026-2027'!#REF!,M$5,FALSE))","v":{"$error":"#REF!"}}]
[34,{"$f":"VLOOKUP(A61,'2026-2027'!#REF!,9,FALSE)","v":{"$error":"#REF!"}},{"$f":"VLOOKUP($A61,'2026-2027'!#REF!,C$26,FALSE)","v":{"$error":"#REF!"}},{"$f":"IF($B61=\"*\",\"\",VLOOKUP($A61,'2026-2027'!#REF!,D$26,FALSE))","v":{"$error":"#REF!"}},{"$f":"IF($B61=\"*\",\"\",VLOOKUP($A61,'2026-2027'!#REF!,E$26,FALSE))","v":{"$error":"#REF!"}},{"$f":"IF($B61=\"*\",\"\",VLOOKUP($A61,'2026-2027'!#REF!,F$26,FALSE))","v":{"$error":"#REF!"}},{"$f":"IF($B61=\"*\",\"\",VLOOKUP($A61,'2026-2027'!#REF!,G$26,FALSE))","v":{"$error":"#REF!"}},null,{"$f":"IF($B61=\"*\",\"\",VLOOKUP($A61,'2026-2027'!#REF!,I$26,FALSE))","v":{"$error":"#REF!"}},null,{"$f":"IF($B61=\"*\",\"\",VLOOKUP($A61,'2026-2027'!#REF!,K$5,FALSE))","v":{"$error":"#REF!"}},null,{"$f":"IF($B61=\"*\",\"\",VLOOKUP($A61,'2026-2027'!#REF!,M$5,FALSE))","v":{"$error":"#REF!"}}]
[35,{"$f":"VLOOKUP(A62,'2026-2027'!#REF!,9,FALSE)","v":{"$error":"#REF!"}},{"$f":"VLOOKUP($A62,'2026-2027'!#REF!,C$26,FALSE)","v":{"$error":"#REF!"}},{"$f":"IF($B62=\"*\",\"\",VLOOKUP($A62,'2026-2027'!#REF!,D$26,FALSE))","v":{"$error":"#REF!"}},{"$f":"IF($B62=\"*\",\"\",VLOOKUP($A62,'2026-2027'!#REF!,E$26,FALSE))","v":{"$error":"#REF!"}},{"$f":"IF($B62=\"*\",\"\",VLOOKUP($A62,'2026-2027'!#REF!,F$26,FALSE))","v":{"$error":"#REF!"}},{"$f":"IF($B62=\"*\",\"\",VLOOKUP($A62,'2026-2027'!#REF!,G$26,FALSE))","v":{"$error":"#REF!"}},null,{"$f":"IF($B62=\"*\",\"\",VLOOKUP($A62,'2026-2027'!#REF!,I$26,FALSE))","v":{"$error":"#REF!"}},null,{"$f":"IF($B62=\"*\",\"\",VLOOKUP($A62,'2026-2027'!#REF!,K$5,FALSE))","v":{"$error":"#REF!"}},null,{"$f":"IF($B62=\"*\",\"\",VLOOKUP($A62,'2026-2027'!#REF!,M$5,FALSE))","v":{"$error":"#REF!"}}]
[36,{"$f":"VLOOKUP(A63,'2026-2027'!#REF!,9,FALSE)","v":{"$error":"#REF!"}},{"$f":"VLOOKUP($A63,'2026-2027'!#REF!,C$26,FALSE)","v":{"$error":"#REF!"}},{"$f":"IF($B63=\"*\",\"\",VLOOKUP($A63,'2026-2027'!#REF!,D$26,FALSE))","v":{"$error":"#REF!"}},{"$f":"IF($B63=\"*\",\"\",VLOOKUP($A63,'2026-2027'!#REF!,E$26,FALSE))","v":{"$error":"#REF!"}},{"$f":"IF($B63=\"*\",\"\",VLOOKUP($A63,'2026-2027'!#REF!,F$26,FALSE))","v":{"$error":"#REF!"}},{"$f":"IF($B63=\"*\",\"\",VLOOKUP($A63,'2026-2027'!#REF!,G$26,FALSE))","v":{"$error":"#REF!"}},null,{"$f":"IF($B63=\"*\",\"\",VLOOKUP($A63,'2026-2027'!#REF!,I$26,FALSE))","v":{"$error":"#REF!"}},null,{"$f":"IF($B63=\"*\",\"\",VLOOKUP($A63,'2026-2027'!#REF!,K$5,FALSE))","v":{"$error":"#REF!"}},null,{"$f":"IF($B63=\"*\",\"\",VLOOKUP($A63,'2026-2027'!#REF!,M$5,FALSE))","v":{"$error":"#REF!"}}]
[37,{"$f":"VLOOKUP(A64,'2026-2027'!#REF!,9,FALSE)","v":{"$error":"#REF!"}},{"$f":"VLOOKUP($A64,'2026-2027'!#REF!,C$26,FALSE)","v":{"$error":"#REF!"}},{"$f":"IF($B64=\"*\",\"\",VLOOKUP($A64,'2026-2027'!#REF!,D$26,FALSE))","v":{"$error":"#REF!"}},{"$f":"IF($B64=\"*\",\"\",VLOOKUP($A64,'2026-2027'!#REF!,E$26,FALSE))","v":{"$error":"#REF!"}},{"$f":"IF($B64=\"*\",\"\",VLOOKUP($A64,'2026-2027'!#REF!,F$26,FALSE))","v":{"$error":"#REF!"}},{"$f":"IF($B64=\"*\",\"\",VLOOKUP($A64,'2026-2027'!#REF!,G$26,FALSE))","v":{"$error":"#REF!"}},null,{"$f":"IF($B64=\"*\",\"\",VLOOKUP($A64,'2026-2027'!#REF!,I$26,FALSE))","v":{"$error":"#REF!"}},null,{"$f":"IF($B64=\"*\",\"\",VLOOKUP($A64,'2026-2027'!#REF!,K$5,FALSE))","v":{"$error":"#REF!"}},null,{"$f":"IF($B64=\"*\",\"\",VLOOKUP($A64,'2026-2027'!#REF!,M$5,FALSE))","v":{"$error":"#REF!"}}]
[38,{"$f":"VLOOKUP(A65,'2026-2027'!#REF!,9,FALSE)","v":{"$error":"#REF!"}},{"$f":"VLOOKUP($A65,'2026-2027'!#REF!,C$26,FALSE)","v":{"$error":"#REF!"}},{"$f":"IF($B65=\"*\",\"\",VLOOKUP($A65,'2026-2027'!#REF!,D$26,FALSE))","v":{"$error":"#REF!"}},{"$f":"IF($B65=\"*\",\"\",VLOOKUP($A65,'2026-2027'!#REF!,E$26,FALSE))","v":{"$error":"#REF!"}},{"$f":"IF($B65=\"*\",\"\",VLOOKUP($A65,'2026-2027'!#REF!,F$26,FALSE))","v":{"$error":"#REF!"}},{"$f":"IF($B65=\"*\",\"\",VLOOKUP($A65,'2026-2027'!#REF!,G$26,FALSE))","v":{"$error":"#REF!"}},null,{"$f":"IF($B65=\"*\",\"\",VLOOKUP($A65,'2026-2027'!#REF!,I$26,FALSE))","v":{"$error":"#REF!"}},null,{"$f":"IF($B65=\"*\",\"\",VLOOKUP($A65,'2026-2027'!#REF!,K$5,FALSE))","v":{"$error":"#REF!"}},null,{"$f":"IF($B65=\"*\",\"\",VLOOKUP($A65,'2026-2027'!#REF!,M$5,FALSE))","v":{"$error":"#REF!"}}]
[39,{"$f":"VLOOKUP(A66,'2026-2027'!#REF!,9,FALSE)","v":{"$error":"#REF!"}},{"$f":"VLOOKUP($A66,'2026-2027'!#REF!,C$26,FALSE)","v":{"$error":"#REF!"}},{"$f":"IF($B66=\"*\",\"\",VLOOKUP($A66,'2026-2027'!#REF!,D$26,FALSE))","v":{"$error":"#REF!"}},{"$f":"IF($B66=\"*\",\"\",VLOOKUP($A66,'2026-2027'!#REF!,E$26,FALSE))","v":{"$error":"#REF!"}},{"$f":"IF($B66=\"*\",\"\",VLOOKUP($A66,'2026-2027'!#REF!,F$26,FALSE))","v":{"$error":"#REF!"}},{"$f":"IF($B66=\"*\",\"\",VLOOKUP($A66,'2026-2027'!#REF!,G$26,FALSE))","v":{"$error":"#REF!"}},null,{"$f":"IF($B66=\"*\",\"\",VLOOKUP($A66,'2026-2027'!#REF!,I$26,FALSE))","v":{"$error":"#REF!"}},null,{"$f":"IF($B66=\"*\",\"\",VLOOKUP($A66,'2026-2027'!#REF!,K$5,FALSE))","v":{"$error":"#REF!"}},null,{"$f":"IF($B66=\"*\",\"\",VLOOKUP($A66,'2026-2027'!#REF!,M$5,FALSE))","v":{"$error":"#REF!"}}]
[40,{"$f":"VLOOKUP(A67,'2026-2027'!#REF!,9,FALSE)","v":{"$error":"#REF!"}},{"$f":"VLOOKUP($A67,'2026-2027'!#REF!,C$26,FALSE)","v":{"$error":"#REF!"}},{"$f":"IF($B67=\"*\",\"\",VLOOKUP($A67,'2026-2027'!#REF!,D$26,FALSE))","v":{"$error":"#REF!"}},{"$f":"IF($B67=\"*\",\"\",VLOOKUP($A67,'2026-2027'!#REF!,E$26,FALSE))","v":{"$error":"#REF!"}},{"$f":"IF($B67=\"*\",\"\",VLOOKUP($A67,'2026-2027'!#REF!,F$26,FALSE))","v":{"$error":"#REF!"}},{"$f":"IF($B67=\"*\",\"\",VLOOKUP($A67,'2026-2027'!#REF!,G$26,FALSE))","v":{"$error":"#REF!"}},null,{"$f":"IF($B67=\"*\",\"\",VLOOKUP($A67,'2026-2027'!#REF!,I$26,FALSE))","v":{"$error":"#REF!"}},null,{"$f":"IF($B67=\"*\",\"\",VLOOKUP($A67,'2026-2027'!#REF!,K$5,FALSE))","v":{"$error":"#REF!"}},null,{"$f":"IF($B67=\"*\",\"\",VLOOKUP($A67,'2026-2027'!#REF!,M$5,FALSE))","v":{"$error":"#REF!"}}]
[41,{"$f":"VLOOKUP(A68,'2026-2027'!#REF!,9,FALSE)","v":{"$error":"#REF!"}},{"$f":"VLOOKUP($A68,'2026-2027'!#REF!,C$26,FALSE)","v":{"$error":"#REF!"}},{"$f":"IF($B68=\"*\",\"\",VLOOKUP($A68,'2026-2027'!#REF!,D$26,FALSE))","v":{"$error":"#REF!"}},{"$f":"IF($B68=\"*\",\"\",VLOOKUP($A68,'2026-2027'!#REF!,E$26,FALSE))","v":{"$error":"#REF!"}},{"$f":"IF($B68=\"*\",\"\",VLOOKUP($A68,'2026-2027'!#REF!,F$26,FALSE))","v":{"$error":"#REF!"}},{"$f":"IF($B68=\"*\",\"\",VLOOKUP($A68,'2026-2027'!#REF!,G$26,FALSE))","v":{"$error":"#REF!"}},null,{"$f":"IF($B68=\"*\",\"\",VLOOKUP($A68,'2026-2027'!#REF!,I$26,FALSE))","v":{"$error":"#REF!"}},null,{"$f":"IF($B68=\"*\",\"\",VLOOKUP($A68,'2026-2027'!#REF!,K$5,FALSE))","v":{"$error":"#REF!"}},null,{"$f":"IF($B68=\"*\",\"\",VLOOKUP($A68,'2026-2027'!#REF!,M$5,FALSE))","v":{"$error":"#REF!"}}]
[42,{"$f":"VLOOKUP(A69,'2026-2027'!#REF!,9,FALSE)","v":{"$error":"#REF!"}},{"$f":"VLOOKUP($A69,'2026-2027'!#REF!,C$26,FALSE)","v":{"$error":"#REF!"}},{"$f":"IF($B69=\"*\",\"\",VLOOKUP($A69,'2026-2027'!#REF!,D$26,FALSE))","v":{"$error":"#REF!"}},{"$f":"IF($B69=\"*\",\"\",VLOOKUP($A69,'2026-2027'!#REF!,E$26,FALSE))","v":{"$error":"#REF!"}},{"$f":"IF($B69=\"*\",\"\",VLOOKUP($A69,'2026-2027'!#REF!,F$26,FALSE))","v":{"$error":"#REF!"}},{"$f":"IF($B69=\"*\",\"\",VLOOKUP($A69,'2026-2027'!#REF!,G$26,FALSE))","v":{"$error":"#REF!"}},null,{"$f":"IF($B69=\"*\",\"\",VLOOKUP($A69,'2026-2027'!#REF!,I$26,FALSE))","v":{"$error":"#REF!"}},null,{"$f":"IF($B69=\"*\",\"\",VLOOKUP($A69,'2026-2027'!#REF!,K$5,FALSE))","v":{"$error":"#REF!"}},null,{"$f":"IF($B69=\"*\",\"\",VLOOKUP($A69,'2026-2027'!#REF!,M$5,FALSE))","v":{"$error":"#REF!"}}]
[43,{"$f":"VLOOKUP(A70,'2026-2027'!#REF!,9,FALSE)","v":{"$error":"#REF!"}},{"$f":"VLOOKUP($A70,'2026-2027'!#REF!,C$26,FALSE)","v":{"$error":"#REF!"}},{"$f":"IF($B70=\"*\",\"\",VLOOKUP($A70,'2026-2027'!#REF!,D$26,FALSE))","v":{"$error":"#REF!"}},{"$f":"IF($B70=\"*\",\"\",VLOOKUP($A70,'2026-2027'!#REF!,E$26,FALSE))","v":{"$error":"#REF!"}},{"$f":"IF($B70=\"*\",\"\",VLOOKUP($A70,'2026-2027'!#REF!,F$26,FALSE))","v":{"$error":"#REF!"}},{"$f":"IF($B70=\"*\",\"\",VLOOKUP($A70,'2026-2027'!#REF!,G$26,FALSE))","v":{"$error":"#REF!"}},null,{"$f":"IF($B70=\"*\",\"\",VLOOKUP($A70,'2026-2027'!#REF!,I$26,FALSE))","v":{"$error":"#REF!"}},null,{"$f":"IF($B70=\"*\",\"\",VLOOKUP($A70,'2026-2027'!#REF!,K$5,FALSE))","v":{"$error":"#REF!"}},null,{"$f":"IF($B70=\"*\",\"\",VLOOKUP($A70,'2026-2027'!#REF!,M$5,FALSE))","v":{"$error":"#REF!"}}]
[44,{"$f":"VLOOKUP(A71,'2026-2027'!#REF!,9,FALSE)","v":{"$error":"#REF!"}},{"$f":"VLOOKUP($A71,'2026-2027'!#REF!,C$26,FALSE)","v":{"$error":"#REF!"}},{"$f":"IF($B71=\"*\",\"\",VLOOKUP($A71,'2026-2027'!#REF!,D$26,FALSE))","v":{"$error":"#REF!"}},{"$f":"IF($B71=\"*\",\"\",VLOOKUP($A71,'2026-2027'!#REF!,E$26,FALSE))","v":{"$error":"#REF!"}},{"$f":"IF($B71=\"*\",\"\",VLOOKUP($A71,'2026-2027'!#REF!,F$26,FALSE))","v":{"$error":"#REF!"}},{"$f":"IF($B71=\"*\",\"\",VLOOKUP($A71,'2026-2027'!#REF!,G$26,FALSE))","v":{"$error":"#REF!"}},null,{"$f":"IF($B71=\"*\",\"\",VLOOKUP($A71,'2026-2027'!#REF!,I$26,FALSE))","v":{"$error":"#REF!"}},null,{"$f":"IF($B71=\"*\",\"\",VLOOKUP($A71,'2026-2027'!#REF!,K$5,FALSE))","v":{"$error":"#REF!"}},null,{"$f":"IF($B71=\"*\",\"\",VLOOKUP($A71,'2026-2027'!#REF!,M$5,FALSE))","v":{"$error":"#REF!"}}]
[45,{"$f":"VLOOKUP(A72,'2026-2027'!#REF!,9,FALSE)","v":{"$error":"#REF!"}},{"$f":"VLOOKUP($A72,'2026-2027'!#REF!,C$26,FALSE)","v":{"$error":"#REF!"}},{"$f":"IF($B72=\"*\",\"\",VLOOKUP($A72,'2026-2027'!#REF!,D$26,FALSE))","v":{"$error":"#REF!"}},{"$f":"IF($B72=\"*\",\"\",VLOOKUP($A72,'2026-2027'!#REF!,E$26,FALSE))","v":{"$error":"#REF!"}},{"$f":"IF($B72=\"*\",\"\",VLOOKUP($A72,'2026-2027'!#REF!,F$26,FALSE))","v":{"$error":"#REF!"}},{"$f":"IF($B72=\"*\",\"\",VLOOKUP($A72,'2026-2027'!#REF!,G$26,FALSE))","v":{"$error":"#REF!"}},null,{"$f":"IF($B72=\"*\",\"\",VLOOKUP($A72,'2026-2027'!#REF!,I$26,FALSE))","v":{"$error":"#REF!"}},null,{"$f":"IF($B72=\"*\",\"\",VLOOKUP($A72,'2026-2027'!#REF!,K$5,FALSE))","v":{"$error":"#REF!"}},null,{"$f":"IF($B72=\"*\",\"\",VLOOKUP($A72,'2026-2027'!#REF!,M$5,FALSE))","v":{"$error":"#REF!"}}]
[46,{"$f":"VLOOKUP(A73,'2026-2027'!#REF!,9,FALSE)","v":{"$error":"#REF!"}},{"$f":"VLOOKUP($A73,'2026-2027'!#REF!,C$26,FALSE)","v":{"$error":"#REF!"}},{"$f":"IF($B73=\"*\",\"\",VLOOKUP($A73,'2026-2027'!#REF!,D$26,FALSE))","v":{"$error":"#REF!"}},{"$f":"IF($B73=\"*\",\"\",VLOOKUP($A73,'2026-2027'!#REF!,E$26,FALSE))","v":{"$error":"#REF!"}},{"$f":"IF($B73=\"*\",\"\",VLOOKUP($A73,'2026-2027'!#REF!,F$26,FALSE))","v":{"$error":"#REF!"}},{"$f":"IF($B73=\"*\",\"\",VLOOKUP($A73,'2026-2027'!#REF!,G$26,FALSE))","v":{"$error":"#REF!"}},null,{"$f":"IF($B73=\"*\",\"\",VLOOKUP($A73,'2026-2027'!#REF!,I$26,FALSE))","v":{"$error":"#REF!"}},null,{"$f":"IF($B73=\"*\",\"\",VLOOKUP($A73,'2026-2027'!#REF!,K$5,FALSE))","v":{"$error":"#REF!"}},null,{"$f":"IF($B73=\"*\",\"\",VLOOKUP($A73,'2026-2027'!#REF!,M$5,FALSE))","v":{"$error":"#REF!"}}]
[47,{"$f":"VLOOKUP(A74,'2026-2027'!#REF!,9,FALSE)","v":{"$error":"#REF!"}},{"$f":"VLOOKUP($A74,'2026-2027'!#REF!,C$26,FALSE)","v":{"$error":"#REF!"}},{"$f":"IF($B74=\"*\",\"\",VLOOKUP($A74,'2026-2027'!#REF!,D$26,FALSE))","v":{"$error":"#REF!"}},{"$f":"IF($B74=\"*\",\"\",VLOOKUP($A74,'2026-2027'!#REF!,E$26,FALSE))","v":{"$error":"#REF!"}},{"$f":"IF($B74=\"*\",\"\",VLOOKUP($A74,'2026-2027'!#REF!,F$26,FALSE))","v":{"$error":"#REF!"}},{"$f":"IF($B74=\"*\",\"\",VLOOKUP($A74,'2026-2027'!#REF!,G$26,FALSE))","v":{"$error":"#REF!"}},null,{"$f":"IF($B74=\"*\",\"\",VLOOKUP($A74,'2026-2027'!#REF!,I$26,FALSE))","v":{"$error":"#REF!"}},null,{"$f":"IF($B74=\"*\",\"\",VLOOKUP($A74,'2026-2027'!#REF!,K$5,FALSE))","v":{"$error":"#REF!"}},null,{"$f":"IF($B74=\"*\",\"\",VLOOKUP($A74,'2026-2027'!#REF!,M$5,FALSE))","v":{"$error":"#REF!"}}]
[48,{"$f":"VLOOKUP(A75,'2026-2027'!#REF!,9,FALSE)","v":{"$error":"#REF!"}},{"$f":"VLOOKUP($A75,'2026-2027'!#REF!,C$26,FALSE)","v":{"$error":"#REF!"}},{"$f":"IF($B75=\"*\",\"\",VLOOKUP($A75,'2026-2027'!#REF!,D$26,FALSE))","v":{"$error":"#REF!"}},{"$f":"IF($B75=\"*\",\"\",VLOOKUP($A75,'2026-2027'!#REF!,E$26,FALSE))","v":{"$error":"#REF!"}},{"$f":"IF($B75=\"*\",\"\",VLOOKUP($A75,'2026-2027'!#REF!,F$26,FALSE))","v":{"$error":"#REF!"}},{"$f":"IF($B75=\"*\",\"\",VLOOKUP($A75,'2026-2027'!#REF!,G$26,FALSE))","v":{"$error":"#REF!"}},null,{"$f":"IF($B75=\"*\",\"\",VLOOKUP($A75,'2026-2027'!#REF!,I$26,FALSE))","v":{"$error":"#REF!"}},null,{"$f":"IF($B75=\"*\",\"\",VLOOKUP($A75,'2026-2027'!#REF!,K$5,FALSE))","v":{"$error":"#REF!"}},null,{"$f":"IF($B75=\"*\",\"\",VLOOKUP($A75,'2026-2027'!#REF!,M$5,FALSE))","v":{"$error":"#REF!"}}]
[49,{"$f":"VLOOKUP(A76,'2026-2027'!#REF!,9,FALSE)","v":{"$error":"#REF!"}},{"$f":"VLOOKUP($A76,'2026-2027'!#REF!,C$26,FALSE)","v":{"$error":"#REF!"}},{"$f":"IF($B76=\"*\",\"\",VLOOKUP($A76,'2026-2027'!#REF!,D$26,FALSE))","v":{"$error":"#REF!"}},{"$f":"IF($B76=\"*\",\"\",VLOOKUP($A76,'2026-2027'!#REF!,E$26,FALSE))","v":{"$error":"#REF!"}},{"$f":"IF($B76=\"*\",\"\",VLOOKUP($A76,'2026-2027'!#REF!,F$26,FALSE))","v":{"$error":"#REF!"}},{"$f":"IF($B76=\"*\",\"\",VLOOKUP($A76,'2026-2027'!#REF!,G$26,FALSE))","v":{"$error":"#REF!"}},null,{"$f":"IF($B76=\"*\",\"\",VLOOKUP($A76,'2026-2027'!#REF!,I$26,FALSE))","v":{"$error":"#REF!"}},null,{"$f":"IF($B76=\"*\",\"\",VLOOKUP($A76,'2026-2027'!#REF!,K$5,FALSE))","v":{"$error":"#REF!"}},null,{"$f":"IF($B76=\"*\",\"\",VLOOKUP($A76,'2026-2027'!#REF!,M$5,FALSE))","v":{"$error":"#REF!"}}]
[50,{"$f":"VLOOKUP(A77,'2026-2027'!#REF!,9,FALSE)","v":{"$error":"#REF!"}},{"$f":"VLOOKUP($A77,'2026-2027'!#REF!,C$26,FALSE)","v":{"$error":"#REF!"}},{"$f":"IF($B77=\"*\",\"\",VLOOKUP($A77,'2026-2027'!#REF!,D$26,FALSE))","v":{"$error":"#REF!"}},{"$f":"IF($B77=\"*\",\"\",VLOOKUP($A77,'2026-2027'!#REF!,E$26,FALSE))","v":{"$error":"#REF!"}},{"$f":"IF($B77=\"*\",\"\",VLOOKUP($A77,'2026-2027'!#REF!,F$26,FALSE))","v":{"$error":"#REF!"}},{"$f":"IF($B77=\"*\",\"\",VLOOKUP($A77,'2026-2027'!#REF!,G$26,FALSE))","v":{"$error":"#REF!"}},null,{"$f":"IF($B77=\"*\",\"\",VLOOKUP($A77,'2026-2027'!#REF!,I$26,FALSE))","v":{"$error":"#REF!"}},null,{"$f":"IF($B77=\"*\",\"\",VLOOKUP($A77,'2026-2027'!#REF!,K$5,FALSE))","v":{"$error":"#REF!"}},null,{"$f":"IF($B77=\"*\",\"\",VLOOKUP($A77,'2026-2027'!#REF!,M$5,FALSE))","v":{"$error":"#REF!"}}]
[51,{"$f":"VLOOKUP(A78,'2026-2027'!#REF!,9,FALSE)","v":{"$error":"#REF!"}},{"$f":"VLOOKUP($A78,'2026-2027'!#REF!,C$26,FALSE)","v":{"$error":"#REF!"}},{"$f":"IF($B78=\"*\",\"\",VLOOKUP($A78,'2026-2027'!#REF!,D$26,FALSE))","v":{"$error":"#REF!"}},{"$f":"IF($B78=\"*\",\"\",VLOOKUP($A78,'2026-2027'!#REF!,E$26,FALSE))","v":{"$error":"#REF!"}},{"$f":"IF($B78=\"*\",\"\",VLOOKUP($A78,'2026-2027'!#REF!,F$26,FALSE))","v":{"$error":"#REF!"}},{"$f":"IF($B78=\"*\",\"\",VLOOKUP($A78,'2026-2027'!#REF!,G$26,FALSE))","v":{"$error":"#REF!"}},null,{"$f":"IF($B78=\"*\",\"\",VLOOKUP($A78,'2026-2027'!#REF!,I$26,FALSE))","v":{"$error":"#REF!"}},null,{"$f":"IF($B78=\"*\",\"\",VLOOKUP($A78,'2026-2027'!#REF!,K$5,FALSE))","v":{"$error":"#REF!"}},null,{"$f":"IF($B78=\"*\",\"\",VLOOKUP($A78,'2026-2027'!#REF!,M$5,FALSE))","v":{"$error":"#REF!"}}]
[52,{"$f":"VLOOKUP(A79,'2026-2027'!#REF!,9,FALSE)","v":{"$error":"#REF!"}},{"$f":"VLOOKUP($A79,'2026-2027'!#REF!,C$26,FALSE)","v":{"$error":"#REF!"}},{"$f":"IF($B79=\"*\",\"\",VLOOKUP($A79,'2026-2027'!#REF!,D$26,FALSE))","v":{"$error":"#REF!"}},{"$f":"IF($B79=\"*\",\"\",VLOOKUP($A79,'2026-2027'!#REF!,E$26,FALSE))","v":{"$error":"#REF!"}},{"$f":"IF($B79=\"*\",\"\",VLOOKUP($A79,'2026-2027'!#REF!,F$26,FALSE))","v":{"$error":"#REF!"}},{"$f":"IF($B79=\"*\",\"\",VLOOKUP($A79,'2026-2027'!#REF!,G$26,FALSE))","v":{"$error":"#REF!"}},null,{"$f":"IF($B79=\"*\",\"\",VLOOKUP($A79,'2026-2027'!#REF!,I$26,FALSE))","v":{"$error":"#REF!"}},null,{"$f":"IF($B79=\"*\",\"\",VLOOKUP($A79,'2026-2027'!#REF!,K$5,FALSE))","v":{"$error":"#REF!"}},null,{"$f":"IF($B79=\"*\",\"\",VLOOKUP($A79,'2026-2027'!#REF!,M$5,FALSE))","v":{"$error":"#REF!"}}]
[53,{"$f":"VLOOKUP(A80,'2026-2027'!#REF!,9,FALSE)","v":{"$error":"#REF!"}},{"$f":"VLOOKUP($A80,'2026-2027'!#REF!,C$26,FALSE)","v":{"$error":"#REF!"}},{"$f":"IF($B80=\"*\",\"\",VLOOKUP($A80,'2026-2027'!#REF!,D$26,FALSE))","v":{"$error":"#REF!"}},{"$f":"IF($B80=\"*\",\"\",VLOOKUP($A80,'2026-2027'!#REF!,E$26,FALSE))","v":{"$error":"#REF!"}},{"$f":"IF($B80=\"*\",\"\",VLOOKUP($A80,'2026-2027'!#REF!,F$26,FALSE))","v":{"$error":"#REF!"}},{"$f":"IF($B80=\"*\",\"\",VLOOKUP($A80,'2026-2027'!#REF!,G$26,FALSE))","v":{"$error":"#REF!"}},null,{"$f":"IF($B80=\"*\",\"\",VLOOKUP($A80,'2026-2027'!#REF!,I$26,FALSE))","v":{"$error":"#REF!"}},null,{"$f":"IF($B80=\"*\",\"\",VLOOKUP($A80,'2026-2027'!#REF!,K$5,FALSE))","v":{"$error":"#REF!"}},null,{"$f":"IF($B80=\"*\",\"\",VLOOKUP($A80,'2026-2027'!#REF!,M$5,FALSE))","v":{"$error":"#REF!"}}]
[54,{"$f":"VLOOKUP(A81,'2026-2027'!#REF!,9,FALSE)","v":{"$error":"#REF!"}},{"$f":"VLOOKUP($A81,'2026-2027'!#REF!,C$26,FALSE)","v":{"$error":"#REF!"}},{"$f":"IF($B81=\"*\",\"\",VLOOKUP($A81,'2026-2027'!#REF!,D$26,FALSE))","v":{"$error":"#REF!"}},{"$f":"IF($B81=\"*\",\"\",VLOOKUP($A81,'2026-2027'!#REF!,E$26,FALSE))","v":{"$error":"#REF!"}},{"$f":"IF($B81=\"*\",\"\",VLOOKUP($A81,'2026-2027'!#REF!,F$26,FALSE))","v":{"$error":"#REF!"}},{"$f":"IF($B81=\"*\",\"\",VLOOKUP($A81,'2026-2027'!#REF!,G$26,FALSE))","v":{"$error":"#REF!"}},null,{"$f":"IF($B81=\"*\",\"\",VLOOKUP($A81,'2026-2027'!#REF!,I$26,FALSE))","v":{"$error":"#REF!"}},null,{"$f":"IF($B81=\"*\",\"\",VLOOKUP($A81,'2026-2027'!#REF!,K$5,FALSE))","v":{"$error":"#REF!"}},null,{"$f":"IF($B81=\"*\",\"\",VLOOKUP($A81,'2026-2027'!#REF!,M$5,FALSE))","v":{"$error":"#REF!"}}]
[55,{"$f":"VLOOKUP(A82,'2026-2027'!#REF!,9,FALSE)","v":{"$error":"#REF!"}},{"$f":"VLOOKUP($A82,'2026-2027'!#REF!,C$26,FALSE)","v":{"$error":"#REF!"}},{"$f":"IF($B82=\"*\",\"\",VLOOKUP($A82,'2026-2027'!#REF!,D$26,FALSE))","v":{"$error":"#REF!"}},{"$f":"IF($B82=\"*\",\"\",VLOOKUP($A82,'2026-2027'!#REF!,E$26,FALSE))","v":{"$error":"#REF!"}},{"$f":"IF($B82=\"*\",\"\",VLOOKUP($A82,'2026-2027'!#REF!,F$26,FALSE))","v":{"$error":"#REF!"}},{"$f":"IF($B82=\"*\",\"\",VLOOKUP($A82,'2026-2027'!#REF!,G$26,FALSE))","v":{"$error":"#REF!"}},null,{"$f":"IF($B82=\"*\",\"\",VLOOKUP($A82,'2026-2027'!#REF!,I$26,FALSE))","v":{"$error":"#REF!"}},null,{"$f":"IF($B82=\"*\",\"\",VLOOKUP($A82,'2026-2027'!#REF!,K$5,FALSE))","v":{"$error":"#REF!"}},null,{"$f":"IF($B82=\"*\",\"\",VLOOKUP($A82,'2026-2027'!#REF!,M$5,FALSE))","v":{"$error":"#REF!"}}]
[56,{"$f":"VLOOKUP(A83,'2026-2027'!#REF!,9,FALSE)","v":{"$error":"#REF!"}},{"$f":"VLOOKUP($A83,'2026-2027'!#REF!,C$26,FALSE)","v":{"$error":"#REF!"}},{"$f":"IF($B83=\"*\",\"\",VLOOKUP($A83,'2026-2027'!#REF!,D$26,FALSE))","v":{"$error":"#REF!"}},{"$f":"IF($B83=\"*\",\"\",VLOOKUP($A83,'2026-2027'!#REF!,E$26,FALSE))","v":{"$error":"#REF!"}},{"$f":"IF($B83=\"*\",\"\",VLOOKUP($A83,'2026-2027'!#REF!,F$26,FALSE))","v":{"$error":"#REF!"}},{"$f":"IF($B83=\"*\",\"\",VLOOKUP($A83,'2026-2027'!#REF!,G$26,FALSE))","v":{"$error":"#REF!"}},null,{"$f":"IF($B83=\"*\",\"\",VLOOKUP($A83,'2026-2027'!#REF!,I$26,FALSE))","v":{"$error":"#REF!"}},null,{"$f":"IF($B83=\"*\",\"\",VLOOKUP($A83,'2026-2027'!#REF!,K$5,FALSE))","v":{"$error":"#REF!"}},null,{"$f":"IF($B83=\"*\",\"\",VLOOKUP($A83,'2026-2027'!#REF!,M$5,FALSE))","v":{"$error":"#REF!"}}]
[57,{"$f":"VLOOKUP(A84,'2026-2027'!#REF!,9,FALSE)","v":{"$error":"#REF!"}},{"$f":"VLOOKUP($A84,'2026-2027'!#REF!,C$26,FALSE)","v":{"$error":"#REF!"}},{"$f":"IF($B84=\"*\",\"\",VLOOKUP($A84,'2026-2027'!#REF!,D$26,FALSE))","v":{"$error":"#REF!"}},{"$f":"IF($B84=\"*\",\"\",VLOOKUP($A84,'2026-2027'!#REF!,E$26,FALSE))","v":{"$error":"#REF!"}},{"$f":"IF($B84=\"*\",\"\",VLOOKUP($A84,'2026-2027'!#REF!,F$26,FALSE))","v":{"$error":"#REF!"}},{"$f":"IF($B84=\"*\",\"\",VLOOKUP($A84,'2026-2027'!#REF!,G$26,FALSE))","v":{"$error":"#REF!"}},null,{"$f":"IF($B84=\"*\",\"\",VLOOKUP($A84,'2026-2027'!#REF!,I$26,FALSE))","v":{"$error":"#REF!"}},null,{"$f":"IF($B84=\"*\",\"\",VLOOKUP($A84,'2026-2027'!#REF!,K$5,FALSE))","v":{"$error":"#REF!"}},null,{"$f":"IF($B84=\"*\",\"\",VLOOKUP($A84,'2026-2027'!#REF!,M$5,FALSE))","v":{"$error":"#REF!"}}]
[58,{"$f":"VLOOKUP(A85,'2026-2027'!#REF!,9,FALSE)","v":{"$error":"#REF!"}},{"$f":"VLOOKUP($A85,'2026-2027'!#REF!,C$26,FALSE)","v":{"$error":"#REF!"}},{"$f":"IF($B85=\"*\",\"\",VLOOKUP($A85,'2026-2027'!#REF!,D$26,FALSE))","v":{"$error":"#REF!"}},{"$f":"IF($B85=\"*\",\"\",VLOOKUP($A85,'2026-2027'!#REF!,E$26,FALSE))","v":{"$error":"#REF!"}},{"$f":"IF($B85=\"*\",\"\",VLOOKUP($A85,'2026-2027'!#REF!,F$26,FALSE))","v":{"$error":"#REF!"}},{"$f":"IF($B85=\"*\",\"\",VLOOKUP($A85,'2026-2027'!#REF!,G$26,FALSE))","v":{"$error":"#REF!"}},null,{"$f":"IF($B85=\"*\",\"\",VLOOKUP($A85,'2026-2027'!#REF!,I$26,FALSE))","v":{"$error":"#REF!"}},null,{"$f":"IF($B85=\"*\",\"\",VLOOKUP($A85,'2026-2027'!#REF!,K$5,FALSE))","v":{"$error":"#REF!"}},null,{"$f":"IF($B85=\"*\",\"\",VLOOKUP($A85,'2026-2027'!#REF!,M$5,FALSE))","v":{"$error":"#REF!"}}]
[59,{"$f":"VLOOKUP(A86,'2026-2027'!#REF!,9,FALSE)","v":{"$error":"#REF!"}},{"$f":"VLOOKUP($A86,'2026-2027'!#REF!,C$26,FALSE)","v":{"$error":"#REF!"}},{"$f":"IF($B86=\"*\",\"\",VLOOKUP($A86,'2026-2027'!#REF!,D$26,FALSE))","v":{"$error":"#REF!"}},{"$f":"IF($B86=\"*\",\"\",VLOOKUP($A86,'2026-2027'!#REF!,E$26,FALSE))","v":{"$error":"#REF!"}},{"$f":"IF($B86=\"*\",\"\",VLOOKUP($A86,'2026-2027'!#REF!,F$26,FALSE))","v":{"$error":"#REF!"}},{"$f":"IF($B86=\"*\",\"\",VLOOKUP($A86,'2026-2027'!#REF!,G$26,FALSE))","v":{"$error":"#REF!"}},null,{"$f":"IF($B86=\"*\",\"\",VLOOKUP($A86,'2026-2027'!#REF!,I$26,FALSE))","v":{"$error":"#REF!"}},null,{"$f":"IF($B86=\"*\",\"\",VLOOKUP($A86,'2026-2027'!#REF!,K$5,FALSE))","v":{"$error":"#REF!"}},null,{"$f":"IF($B86=\"*\",\"\",VLOOKUP($A86,'2026-2027'!#REF!,M$5,FALSE))","v":{"$error":"#REF!"}}]
[null,null,null,null,null,"Sous total PERFECTIONNEMENT PROFESSIONNEL EN ENQUÊTE",{"$f":"SUM(G45:G86)","v":{"$error":"#REF!"}},null,{"$f":"SUM(I45:I86)","v":{"$error":"#REF!"}},null,{"$f":"SUM(K45:K86)","v":{"$error":"#REF!"}},null,{"$f":"SUM(M45:M86)","v":{"$error":"#REF!"}}]
[{"$f":"A86+1","v":60},{"$f":"VLOOKUP(A88,'2026-2027'!#REF!,9,FALSE)","v":{"$error":"#REF!"}},{"$f":"VLOOKUP($A88,'2026-2027'!#REF!,C$26,FALSE)","v":{"$error":"#REF!"}},null,null,null,null,null,null,null,{"$f":"IF($B88=\"*\",\"\",VLOOKUP($A88,'2026-2027'!#REF!,K$5,FALSE))","v":{"$error":"#REF!"}},null,{"$f":"IF($B88=\"*\",\"\",VLOOKUP($A88,'2026-2027'!#REF!,M$5,FALSE))","v":{"$error":"#REF!"}}]
[61,{"$f":"VLOOKUP(A89,'2026-2027'!#REF!,9,FALSE)","v":{"$error":"#REF!"}},{"$f":"VLOOKUP($A89,'2026-2027'!#REF!,C$26,FALSE)","v":{"$error":"#REF!"}},null,null,null,null,null,null,null,{"$f":"IF($B89=\"*\",\"\",VLOOKUP($A89,'2026-2027'!#REF!,K$5,FALSE))","v":{"$error":"#REF!"}},null,{"$f":"IF($B89=\"*\",\"\",VLOOKUP($A89,'2026-2027'!#REF!,M$5,FALSE))","v":{"$error":"#REF!"}}]
[62,{"$f":"VLOOKUP(A90,'2026-2027'!#REF!,9,FALSE)","v":{"$error":"#REF!"}},{"$f":"VLOOKUP($A90,'2026-2027'!#REF!,C$26,FALSE)","v":{"$error":"#REF!"}},{"$f":"IF($B90=\"*\",\"\",VLOOKUP($A90,'2026-2027'!#REF!,D$26,FALSE))","v":{"$error":"#REF!"}},{"$f":"IF($B90=\"*\",\"\",VLOOKUP($A90,'2026-2027'!#REF!,E$26,FALSE))","v":{"$error":"#REF!"}},{"$f":"IF($B90=\"*\",\"\",VLOOKUP($A90,'2026-2027'!#REF!,F$26,FALSE))","v":{"$error":"#REF!"}},{"$f":"IF($B90=\"*\",\"\",VLOOKUP($A90,'2026-2027'!#REF!,G$26,FALSE))","v":{"$error":"#REF!"}},null,{"$f":"IF($B90=\"*\",\"\",VLOOKUP($A90,'2026-2027'!#REF!,I$26,FALSE))","v":{"$error":"#REF!"}},null,{"$f":"IF($B90=\"*\",\"\",VLOOKUP($A90,'2026-2027'!#REF!,K$5,FALSE))","v":{"$error":"#REF!"}},null,{"$f":"IF($B90=\"*\",\"\",VLOOKUP($A90,'2026-2027'!#REF!,M$5,FALSE))","v":{"$error":"#REF!"}}]
[63,{"$f":"VLOOKUP(A91,'2026-2027'!#REF!,9,FALSE)","v":{"$error":"#REF!"}},{"$f":"VLOOKUP($A91,'2026-2027'!#REF!,C$26,FALSE)","v":{"$error":"#REF!"}},{"$f":"IF($B91=\"*\",\"\",VLOOKUP($A91,'2026-2027'!#REF!,D$26,FALSE))","v":{"$error":"#REF!"}},{"$f":"IF($B91=\"*\",\"\",VLOOKUP($A91,'2026-2027'!#REF!,E$26,FALSE))","v":{"$error":"#REF!"}},{"$f":"IF($B91=\"*\",\"\",VLOOKUP($A91,'2026-2027'!#REF!,F$26,FALSE))","v":{"$error":"#REF!"}},{"$f":"IF($B91=\"*\",\"\",VLOOKUP($A91,'2026-2027'!#REF!,G$26,FALSE))","v":{"$error":"#REF!"}},null,{"$f":"IF($B91=\"*\",\"\",VLOOKUP($A91,'2026-2027'!#REF!,I$26,FALSE))","v":{"$error":"#REF!"}},null,{"$f":"IF($B91=\"*\",\"\",VLOOKUP($A91,'2026-2027'!#REF!,K$5,FALSE))","v":{"$error":"#REF!"}},null,{"$f":"IF($B91=\"*\",\"\",VLOOKUP($A91,'2026-2027'!#REF!,M$5,FALSE))","v":{"$error":"#REF!"}}]
[64,{"$f":"VLOOKUP(A92,'2026-2027'!#REF!,9,FALSE)","v":{"$error":"#REF!"}},{"$f":"VLOOKUP($A92,'2026-2027'!#REF!,C$26,FALSE)","v":{"$error":"#REF!"}},{"$f":"IF($B92=\"*\",\"\",VLOOKUP($A92,'2026-2027'!#REF!,D$26,FALSE))","v":{"$error":"#REF!"}},{"$f":"IF($B92=\"*\",\"\",VLOOKUP($A92,'2026-2027'!#REF!,E$26,FALSE))","v":{"$error":"#REF!"}},{"$f":"IF($B92=\"*\",\"\",VLOOKUP($A92,'2026-2027'!#REF!,F$26,FALSE))","v":{"$error":"#REF!"}},{"$f":"IF($B92=\"*\",\"\",VLOOKUP($A92,'2026-2027'!#REF!,G$26,FALSE))","v":{"$error":"#REF!"}},null,{"$f":"IF($B92=\"*\",\"\",VLOOKUP($A92,'2026-2027'!#REF!,I$26,FALSE))","v":{"$error":"#REF!"}},null,{"$f":"IF($B92=\"*\",\"\",VLOOKUP($A92,'2026-2027'!#REF!,K$5,FALSE))","v":{"$error":"#REF!"}},null,{"$f":"IF($B92=\"*\",\"\",VLOOKUP($A92,'2026-2027'!#REF!,M$5,FALSE))","v":{"$error":"#REF!"}}]
[65,{"$f":"VLOOKUP(A93,'2026-2027'!#REF!,9,FALSE)","v":{"$error":"#REF!"}},{"$f":"VLOOKUP($A93,'2026-2027'!#REF!,C$26,FALSE)","v":{"$error":"#REF!"}},null,null,null,null,null,null,null,{"$f":"IF($B93=\"*\",\"\",VLOOKUP($A93,'2026-2027'!#REF!,K$5,FALSE))","v":{"$error":"#REF!"}},null,{"$f":"IF($B93=\"*\",\"\",VLOOKUP($A93,'2026-2027'!#REF!,M$5,FALSE))","v":{"$error":"#REF!"}}]
[66,{"$f":"VLOOKUP(A94,'2026-2027'!#REF!,9,FALSE)","v":{"$error":"#REF!"}},{"$f":"VLOOKUP($A94,'2026-2027'!#REF!,C$26,FALSE)","v":{"$error":"#REF!"}},{"$f":"IF($B94=\"*\",\"\",VLOOKUP($A94,'2026-2027'!#REF!,D$26,FALSE))","v":{"$error":"#REF!"}},{"$f":"IF($B94=\"*\",\"\",VLOOKUP($A94,'2026-2027'!#REF!,E$26,FALSE))","v":{"$error":"#REF!"}},{"$f":"IF($B94=\"*\",\"\",VLOOKUP($A94,'2026-2027'!#REF!,F$26,FALSE))","v":{"$error":"#REF!"}},{"$f":"IF($B94=\"*\",\"\",VLOOKUP($A94,'2026-2027'!#REF!,G$26,FALSE))","v":{"$error":"#REF!"}},null,{"$f":"IF($B94=\"*\",\"\",VLOOKUP($A94,'2026-2027'!#REF!,I$26,FALSE))","v":{"$error":"#REF!"}},null,{"$f":"IF($B94=\"*\",\"\",VLOOKUP($A94,'2026-2027'!#REF!,K$5,FALSE))","v":{"$error":"#REF!"}},null,{"$f":"IF($B94=\"*\",\"\",VLOOKUP($A94,'2026-2027'!#REF!,M$5,FALSE))","v":{"$error":"#REF!"}}]
[{"$f":"A94+1","v":67},{"$f":"VLOOKUP(A95,'2026-2027'!#REF!,9,FALSE)","v":{"$error":"#REF!"}},{"$f":"VLOOKUP($A95,'2026-2027'!#REF!,C$26,FALSE)","v":{"$error":"#REF!"}},{"$f":"IF($B95=\"*\",\"\",VLOOKUP($A95,'2026-2027'!#REF!,D$26,FALSE))","v":{"$error":"#REF!"}},{"$f":"IF($B95=\"*\",\"\",VLOOKUP($A95,'2026-2027'!#REF!,E$26,FALSE))","v":{"$error":"#REF!"}},{"$f":"IF($B95=\"*\",\"\",VLOOKUP($A95,'2026-2027'!#REF!,F$26,FALSE))","v":{"$error":"#REF!"}},{"$f":"IF($B95=\"*\",\"\",VLOOKUP($A95,'2026-2027'!#REF!,G$26,FALSE))","v":{"$error":"#REF!"}},null,{"$f":"IF($B95=\"*\",\"\",VLOOKUP($A95,'2026-2027'!#REF!,I$26,FALSE))","v":{"$error":"#REF!"}},null,{"$f":"IF($B95=\"*\",\"\",VLOOKUP($A95,'2026-2027'!#REF!,K$5,FALSE))","v":{"$error":"#REF!"}},null,{"$f":"IF($B95=\"*\",\"\",VLOOKUP($A95,'2026-2027'!#REF!,M$5,FALSE))","v":{"$error":"#REF!"}}]
[68,{"$f":"VLOOKUP(A96,'2026-2027'!#REF!,9,FALSE)","v":{"$error":"#REF!"}},{"$f":"VLOOKUP($A96,'2026-2027'!#REF!,C$26,FALSE)","v":{"$error":"#REF!"}},{"$f":"IF($B96=\"*\",\"\",VLOOKUP($A96,'2026-2027'!#REF!,D$26,FALSE))","v":{"$error":"#REF!"}},{"$f":"IF($B96=\"*\",\"\",VLOOKUP($A96,'2026-2027'!#REF!,E$26,FALSE))","v":{"$error":"#REF!"}},{"$f":"IF($B96=\"*\",\"\",VLOOKUP($A96,'2026-2027'!#REF!,F$26,FALSE))","v":{"$error":"#REF!"}},{"$f":"IF($B96=\"*\",\"\",VLOOKUP($A96,'2026-2027'!#REF!,G$26,FALSE))","v":{"$error":"#REF!"}},null,{"$f":"IF($B96=\"*\",\"\",VLOOKUP($A96,'2026-2027'!#REF!,I$26,FALSE))","v":{"$error":"#REF!"}},null,{"$f":"IF($B96=\"*\",\"\",VLOOKUP($A96,'2026-2027'!#REF!,K$5,FALSE))","v":{"$error":"#REF!"}},null,{"$f":"IF($B96=\"*\",\"\",VLOOKUP($A96,'2026-2027'!#REF!,M$5,FALSE))","v":{"$error":"#REF!"}}]
[69,{"$f":"VLOOKUP(A97,'2026-2027'!#REF!,9,FALSE)","v":{"$error":"#REF!"}},{"$f":"VLOOKUP($A97,'2026-2027'!#REF!,C$26,FALSE)","v":{"$error":"#REF!"}},{"$f":"IF($B97=\"*\",\"\",VLOOKUP($A97,'2026-2027'!#REF!,D$26,FALSE))","v":{"$error":"#REF!"}},{"$f":"IF($B97=\"*\",\"\",VLOOKUP($A97,'2026-2027'!#REF!,E$26,FALSE))","v":{"$error":"#REF!"}},{"$f":"IF($B97=\"*\",\"\",VLOOKUP($A97,'2026-2027'!#REF!,F$26,FALSE))","v":{"$error":"#REF!"}},{"$f":"IF($B97=\"*\",\"\",VLOOKUP($A97,'2026-2027'!#REF!,G$26,FALSE))","v":{"$error":"#REF!"}},null,{"$f":"IF($B97=\"*\",\"\",VLOOKUP($A97,'2026-2027'!#REF!,I$26,FALSE))","v":{"$error":"#REF!"}},null,{"$f":"IF($B97=\"*\",\"\",VLOOKUP($A97,'2026-2027'!#REF!,K$5,FALSE))","v":{"$error":"#REF!"}},null,{"$f":"IF($B97=\"*\",\"\",VLOOKUP($A97,'2026-2027'!#REF!,M$5,FALSE))","v":{"$error":"#REF!"}}]
[70,{"$f":"VLOOKUP(A98,'2026-2027'!#REF!,9,FALSE)","v":{"$error":"#REF!"}},{"$f":"VLOOKUP($A98,'2026-2027'!#REF!,C$26,FALSE)","v":{"$error":"#REF!"}},{"$f":"IF($B98=\"*\",\"\",VLOOKUP($A98,'2026-2027'!#REF!,D$26,FALSE))","v":{"$error":"#REF!"}},{"$f":"IF($B98=\"*\",\"\",VLOOKUP($A98,'2026-2027'!#REF!,E$26,FALSE))","v":{"$error":"#REF!"}},{"$f":"IF($B98=\"*\",\"\",VLOOKUP($A98,'2026-2027'!#REF!,F$26,FALSE))","v":{"$error":"#REF!"}},{"$f":"IF($B98=\"*\",\"\",VLOOKUP($A98,'2026-2027'!#REF!,G$26,FALSE))","v":{"$error":"#REF!"}},null,{"$f":"IF($B98=\"*\",\"\",VLOOKUP($A98,'2026-2027'!#REF!,I$26,FALSE))","v":{"$error":"#REF!"}},null,{"$f":"IF($B98=\"*\",\"\",VLOOKUP($A98,'2026-2027'!#REF!,K$5,FALSE))","v":{"$error":"#REF!"}},null,{"$f":"IF($B98=\"*\",\"\",VLOOKUP($A98,'2026-2027'!#REF!,M$5,FALSE))","v":{"$error":"#REF!"}}]
[71,{"$f":"VLOOKUP(A99,'2026-2027'!#REF!,9,FALSE)","v":{"$error":"#REF!"}},{"$f":"VLOOKUP($A99,'2026-2027'!#REF!,C$26,FALSE)","v":{"$error":"#REF!"}},{"$f":"IF($B99=\"*\",\"\",VLOOKUP($A99,'2026-2027'!#REF!,D$26,FALSE))","v":{"$error":"#REF!"}},{"$f":"IF($B99=\"*\",\"\",VLOOKUP($A99,'2026-2027'!#REF!,E$26,FALSE))","v":{"$error":"#REF!"}},{"$f":"IF($B99=\"*\",\"\",VLOOKUP($A99,'2026-2027'!#REF!,F$26,FALSE))","v":{"$error":"#REF!"}},{"$f":"IF($B99=\"*\",\"\",VLOOKUP($A99,'2026-2027'!#REF!,G$26,FALSE))","v":{"$error":"#REF!"}},null,{"$f":"IF($B99=\"*\",\"\",VLOOKUP($A99,'2026-2027'!#REF!,I$26,FALSE))","v":{"$error":"#REF!"}},null,{"$f":"IF($B99=\"*\",\"\",VLOOKUP($A99,'2026-2027'!#REF!,K$5,FALSE))","v":{"$error":"#REF!"}},null,{"$f":"IF($B99=\"*\",\"\",VLOOKUP($A99,'2026-2027'!#REF!,M$5,FALSE))","v":{"$error":"#REF!"}}]
[72,{"$f":"VLOOKUP(A100,'2026-2027'!#REF!,9,FALSE)","v":{"$error":"#REF!"}},{"$f":"VLOOKUP($A100,'2026-2027'!#REF!,C$26,FALSE)","v":{"$error":"#REF!"}},{"$f":"IF($B100=\"*\",\"\",VLOOKUP($A100,'2026-2027'!#REF!,D$26,FALSE))","v":{"$error":"#REF!"}},{"$f":"IF($B100=\"*\",\"\",VLOOKUP($A100,'2026-2027'!#REF!,E$26,FALSE))","v":{"$error":"#REF!"}},{"$f":"IF($B100=\"*\",\"\",VLOOKUP($A100,'2026-2027'!#REF!,F$26,FALSE))","v":{"$error":"#REF!"}},{"$f":"IF($B100=\"*\",\"\",VLOOKUP($A100,'2026-2027'!#REF!,G$26,FALSE))","v":{"$error":"#REF!"}},null,{"$f":"IF($B100=\"*\",\"\",VLOOKUP($A100,'2026-2027'!#REF!,I$26,FALSE))","v":{"$error":"#REF!"}},null,{"$f":"IF($B100=\"*\",\"\",VLOOKUP($A100,'2026-2027'!#REF!,K$5,FALSE))","v":{"$error":"#REF!"}},null,{"$f":"IF($B100=\"*\",\"\",VLOOKUP($A100,'2026-2027'!#REF!,M$5,FALSE))","v":{"$error":"#REF!"}}]
[73,{"$f":"VLOOKUP(A101,'2026-2027'!#REF!,9,FALSE)","v":{"$error":"#REF!"}},{"$f":"VLOOKUP($A101,'2026-2027'!#REF!,C$26,FALSE)","v":{"$error":"#REF!"}},{"$f":"IF($B101=\"*\",\"\",VLOOKUP($A101,'2026-2027'!#REF!,D$26,FALSE))","v":{"$error":"#REF!"}},{"$f":"IF($B101=\"*\",\"\",VLOOKUP($A101,'2026-2027'!#REF!,E$26,FALSE))","v":{"$error":"#REF!"}},{"$f":"IF($B101=\"*\",\"\",VLOOKUP($A101,'2026-2027'!#REF!,F$26,FALSE))","v":{"$error":"#REF!"}},{"$f":"IF($B101=\"*\",\"\",VLOOKUP($A101,'2026-2027'!#REF!,G$26,FALSE))","v":{"$error":"#REF!"}},null,{"$f":"IF($B101=\"*\",\"\",VLOOKUP($A101,'2026-2027'!#REF!,I$26,FALSE))","v":{"$error":"#REF!"}},null,{"$f":"IF($B101=\"*\",\"\",VLOOKUP($A101,'2026-2027'!#REF!,K$5,FALSE))","v":{"$error":"#REF!"}},null,{"$f":"IF($B101=\"*\",\"\",VLOOKUP($A101,'2026-2027'!#REF!,M$5,FALSE))","v":{"$error":"#REF!"}}]
[74,{"$f":"VLOOKUP(A102,'2026-2027'!#REF!,9,FALSE)","v":{"$error":"#REF!"}},{"$f":"VLOOKUP($A102,'2026-2027'!#REF!,C$26,FALSE)","v":{"$error":"#REF!"}},{"$f":"IF($B102=\"*\",\"\",VLOOKUP($A102,'2026-2027'!#REF!,D$26,FALSE))","v":{"$error":"#REF!"}},{"$f":"IF($B102=\"*\",\"\",VLOOKUP($A102,'2026-2027'!#REF!,E$26,FALSE))","v":{"$error":"#REF!"}},{"$f":"IF($B102=\"*\",\"\",VLOOKUP($A102,'2026-2027'!#REF!,F$26,FALSE))","v":{"$error":"#REF!"}},{"$f":"IF($B102=\"*\",\"\",VLOOKUP($A102,'2026-2027'!#REF!,G$26,FALSE))","v":{"$error":"#REF!"}},null,{"$f":"IF($B102=\"*\",\"\",VLOOKUP($A102,'2026-2027'!#REF!,I$26,FALSE))","v":{"$error":"#REF!"}},null,{"$f":"IF($B102=\"*\",\"\",VLOOKUP($A102,'2026-2027'!#REF!,K$5,FALSE))","v":{"$error":"#REF!"}},null,{"$f":"IF($B102=\"*\",\"\",VLOOKUP($A102,'2026-2027'!#REF!,M$5,FALSE))","v":{"$error":"#REF!"}}]
[75,{"$f":"VLOOKUP(A103,'2026-2027'!#REF!,9,FALSE)","v":{"$error":"#REF!"}},{"$f":"VLOOKUP($A103,'2026-2027'!#REF!,C$26,FALSE)","v":{"$error":"#REF!"}},{"$f":"IF($B103=\"*\",\"\",VLOOKUP($A103,'2026-2027'!#REF!,D$26,FALSE))","v":{"$error":"#REF!"}},{"$f":"IF($B103=\"*\",\"\",VLOOKUP($A103,'2026-2027'!#REF!,E$26,FALSE))","v":{"$error":"#REF!"}},{"$f":"IF($B103=\"*\",\"\",VLOOKUP($A103,'2026-2027'!#REF!,F$26,FALSE))","v":{"$error":"#REF!"}},{"$f":"IF($B103=\"*\",\"\",VLOOKUP($A103,'2026-2027'!#REF!,G$26,FALSE))","v":{"$error":"#REF!"}},null,{"$f":"IF($B103=\"*\",\"\",VLOOKUP($A103,'2026-2027'!#REF!,I$26,FALSE))","v":{"$error":"#REF!"}},null,{"$f":"IF($B103=\"*\",\"\",VLOOKUP($A103,'2026-2027'!#REF!,K$5,FALSE))","v":{"$error":"#REF!"}},null,{"$f":"IF($B103=\"*\",\"\",VLOOKUP($A103,'2026-2027'!#REF!,M$5,FALSE))","v":{"$error":"#REF!"}}]
[76,{"$f":"VLOOKUP(A104,'2026-2027'!#REF!,9,FALSE)","v":{"$error":"#REF!"}},{"$f":"VLOOKUP($A104,'2026-2027'!#REF!,C$26,FALSE)","v":{"$error":"#REF!"}},{"$f":"IF($B104=\"*\",\"\",VLOOKUP($A104,'2026-2027'!#REF!,D$26,FALSE))","v":{"$error":"#REF!"}},{"$f":"IF($B104=\"*\",\"\",VLOOKUP($A104,'2026-2027'!#REF!,E$26,FALSE))","v":{"$error":"#REF!"}},{"$f":"IF($B104=\"*\",\"\",VLOOKUP($A104,'2026-2027'!#REF!,F$26,FALSE))","v":{"$error":"#REF!"}},{"$f":"IF($B104=\"*\",\"\",VLOOKUP($A104,'2026-2027'!#REF!,G$26,FALSE))","v":{"$error":"#REF!"}},null,{"$f":"IF($B104=\"*\",\"\",VLOOKUP($A104,'2026-2027'!#REF!,I$26,FALSE))","v":{"$error":"#REF!"}},null,{"$f":"IF($B104=\"*\",\"\",VLOOKUP($A104,'2026-2027'!#REF!,K$5,FALSE))","v":{"$error":"#REF!"}},null,{"$f":"IF($B104=\"*\",\"\",VLOOKUP($A104,'2026-2027'!#REF!,M$5,FALSE))","v":{"$error":"#REF!"}}]
[77,{"$f":"VLOOKUP(A105,'2026-2027'!#REF!,9,FALSE)","v":{"$error":"#REF!"}},{"$f":"VLOOKUP($A105,'2026-2027'!#REF!,C$26,FALSE)","v":{"$error":"#REF!"}},{"$f":"IF($B105=\"*\",\"\",VLOOKUP($A105,'2026-2027'!#REF!,D$26,FALSE))","v":{"$error":"#REF!"}},{"$f":"IF($B105=\"*\",\"\",VLOOKUP($A105,'2026-2027'!#REF!,E$26,FALSE))","v":{"$error":"#REF!"}},{"$f":"IF($B105=\"*\",\"\",VLOOKUP($A105,'2026-2027'!#REF!,F$26,FALSE))","v":{"$error":"#REF!"}},{"$f":"IF($B105=\"*\",\"\",VLOOKUP($A105,'2026-2027'!#REF!,G$26,FALSE))","v":{"$error":"#REF!"}},null,{"$f":"IF($B105=\"*\",\"\",VLOOKUP($A105,'2026-2027'!#REF!,I$26,FALSE))","v":{"$error":"#REF!"}},null,{"$f":"IF($B105=\"*\",\"\",VLOOKUP($A105,'2026-2027'!#REF!,K$5,FALSE))","v":{"$error":"#REF!"}},null,{"$f":"IF($B105=\"*\",\"\",VLOOKUP($A105,'2026-2027'!#REF!,M$5,FALSE))","v":{"$error":"#REF!"}}]
[null,null,null,null,null,"Sous total FORMATION INTIALE EN GESTION POLICIÈRE",{"$f":"SUM(G90:G105)","v":{"$error":"#REF!"}},null,{"$f":"SUM(I90:I105)","v":{"$error":"#REF!"}},null,{"$f":"SUM(K90:K105)","v":{"$error":"#REF!"}},null,{"$f":"SUM(M90:M105)","v":{"$error":"#REF!"}}]
[{"$f":"A105+1","v":78},{"$f":"VLOOKUP(A107,'2026-2027'!#REF!,9,FALSE)","v":{"$error":"#REF!"}},{"$f":"VLOOKUP($A107,'2026-2027'!#REF!,C$26,FALSE)","v":{"$error":"#REF!"}},null,null,null,null,null,null,null,{"$f":"IF($B107=\"*\",\"\",VLOOKUP($A107,'2026-2027'!#REF!,K$5,FALSE))","v":{"$error":"#REF!"}},null,{"$f":"IF($B107=\"*\",\"\",VLOOKUP($A107,'2026-2027'!#REF!,M$5,FALSE))","v":{"$error":"#REF!"}}]
[79,{"$f":"VLOOKUP(A108,'2026-2027'!#REF!,9,FALSE)","v":{"$error":"#REF!"}},{"$f":"VLOOKUP($A108,'2026-2027'!#REF!,C$26,FALSE)","v":{"$error":"#REF!"}},null,null,null,null,null,null,null,{"$f":"IF($B108=\"*\",\"\",VLOOKUP($A108,'2026-2027'!#REF!,K$5,FALSE))","v":{"$error":"#REF!"}},null,{"$f":"IF($B108=\"*\",\"\",VLOOKUP($A108,'2026-2027'!#REF!,M$5,FALSE))","v":{"$error":"#REF!"}}]
[80,{"$f":"VLOOKUP(A109,'2026-2027'!#REF!,9,FALSE)","v":{"$error":"#REF!"}},{"$f":"VLOOKUP($A109,'2026-2027'!#REF!,C$26,FALSE)","v":{"$error":"#REF!"}},{"$f":"IF($B109=\"*\",\"\",VLOOKUP($A109,'2026-2027'!#REF!,D$26,FALSE))","v":{"$error":"#REF!"}},{"$f":"IF($B109=\"*\",\"\",VLOOKUP($A109,'2026-2027'!#REF!,E$26,FALSE))","v":{"$error":"#REF!"}},{"$f":"IF($B109=\"*\",\"\",VLOOKUP($A109,'2026-2027'!#REF!,F$26,FALSE))","v":{"$error":"#REF!"}},{"$f":"IF($B109=\"*\",\"\",VLOOKUP($A109,'2026-2027'!#REF!,G$26,FALSE))","v":{"$error":"#REF!"}},null,{"$f":"IF($B109=\"*\",\"\",VLOOKUP($A109,'2026-2027'!#REF!,I$26,FALSE))","v":{"$error":"#REF!"}},null,{"$f":"IF($B109=\"*\",\"\",VLOOKUP($A109,'2026-2027'!#REF!,K$5,FALSE))","v":{"$error":"#REF!"}},null,{"$f":"IF($B109=\"*\",\"\",VLOOKUP($A109,'2026-2027'!#REF!,M$5,FALSE))","v":{"$error":"#REF!"}}]
[81,{"$f":"VLOOKUP(A110,'2026-2027'!#REF!,9,FALSE)","v":{"$error":"#REF!"}},{"$f":"VLOOKUP($A110,'2026-2027'!#REF!,C$26,FALSE)","v":{"$error":"#REF!"}},{"$f":"IF($B110=\"*\",\"\",VLOOKUP($A110,'2026-2027'!#REF!,D$26,FALSE))","v":{"$error":"#REF!"}},{"$f":"IF($B110=\"*\",\"\",VLOOKUP($A110,'2026-2027'!#REF!,E$26,FALSE))","v":{"$error":"#REF!"}},{"$f":"IF($B110=\"*\",\"\",VLOOKUP($A110,'2026-2027'!#REF!,F$26,FALSE))","v":{"$error":"#REF!"}},{"$f":"IF($B110=\"*\",\"\",VLOOKUP($A110,'2026-2027'!#REF!,G$26,FALSE))","v":{"$error":"#REF!"}},null,{"$f":"IF($B110=\"*\",\"\",VLOOKUP($A110,'2026-2027'!#REF!,I$26,FALSE))","v":{"$error":"#REF!"}},null,{"$f":"IF($B110=\"*\",\"\",VLOOKUP($A110,'2026-2027'!#REF!,K$5,FALSE))","v":{"$error":"#REF!"}},null,{"$f":"IF($B110=\"*\",\"\",VLOOKUP($A110,'2026-2027'!#REF!,M$5,FALSE))","v":{"$error":"#REF!"}}]
[82,{"$f":"VLOOKUP(A111,'2026-2027'!#REF!,9,FALSE)","v":{"$error":"#REF!"}},{"$f":"VLOOKUP($A111,'2026-2027'!#REF!,C$26,FALSE)","v":{"$error":"#REF!"}},{"$f":"IF($B111=\"*\",\"\",VLOOKUP($A111,'2026-2027'!#REF!,D$26,FALSE))","v":{"$error":"#REF!"}},{"$f":"IF($B111=\"*\",\"\",VLOOKUP($A111,'2026-2027'!#REF!,E$26,FALSE))","v":{"$error":"#REF!"}},{"$f":"IF($B111=\"*\",\"\",VLOOKUP($A111,'2026-2027'!#REF!,F$26,FALSE))","v":{"$error":"#REF!"}},{"$f":"IF($B111=\"*\",\"\",VLOOKUP($A111,'2026-2027'!#REF!,G$26,FALSE))","v":{"$error":"#REF!"}},null,{"$f":"IF($B111=\"*\",\"\",VLOOKUP($A111,'2026-2027'!#REF!,I$26,FALSE))","v":{"$error":"#REF!"}},null,{"$f":"IF($B111=\"*\",\"\",VLOOKUP($A111,'2026-2027'!#REF!,K$5,FALSE))","v":{"$error":"#REF!"}},null,{"$f":"IF($B111=\"*\",\"\",VLOOKUP($A111,'2026-2027'!#REF!,M$5,FALSE))","v":{"$error":"#REF!"}}]
[83,{"$f":"VLOOKUP(A112,'2026-2027'!#REF!,9,FALSE)","v":{"$error":"#REF!"}},{"$f":"VLOOKUP($A112,'2026-2027'!#REF!,C$26,FALSE)","v":{"$error":"#REF!"}},{"$f":"IF($B112=\"*\",\"\",VLOOKUP($A112,'2026-2027'!#REF!,D$26,FALSE))","v":{"$error":"#REF!"}},{"$f":"IF($B112=\"*\",\"\",VLOOKUP($A112,'2026-2027'!#REF!,E$26,FALSE))","v":{"$error":"#REF!"}},{"$f":"IF($B112=\"*\",\"\",VLOOKUP($A112,'2026-2027'!#REF!,F$26,FALSE))","v":{"$error":"#REF!"}},{"$f":"IF($B112=\"*\",\"\",VLOOKUP($A112,'2026-2027'!#REF!,G$26,FALSE))","v":{"$error":"#REF!"}},null,{"$f":"IF($B112=\"*\",\"\",VLOOKUP($A112,'2026-2027'!#REF!,I$26,FALSE))","v":{"$error":"#REF!"}},null,{"$f":"IF($B112=\"*\",\"\",VLOOKUP($A112,'2026-2027'!#REF!,K$5,FALSE))","v":{"$error":"#REF!"}},null,{"$f":"IF($B112=\"*\",\"\",VLOOKUP($A112,'2026-2027'!#REF!,M$5,FALSE))","v":{"$error":"#REF!"}}]
[null,null,null,null,null,"Sous total CECAP",{"$f":"SUM(G109:G112)","v":{"$error":"#REF!"}},null,{"$f":"SUM(I109:I112)","v":{"$error":"#REF!"}},null,{"$f":"SUM(K109:K112)","v":{"$error":"#REF!"}},null,{"$f":"SUM(M109:M112)","v":{"$error":"#REF!"}}]
[{"$f":"A112+1","v":84},{"$f":"VLOOKUP(A114,'2026-2027'!#REF!,9,FALSE)","v":{"$error":"#REF!"}},{"$f":"VLOOKUP($A114,'2026-2027'!#REF!,C$26,FALSE)","v":{"$error":"#REF!"}},null,null,null,null,null,null,null,{"$f":"IF($B114=\"*\",\"\",VLOOKUP($A114,'2026-2027'!#REF!,K$5,FALSE))","v":{"$error":"#REF!"}},null,{"$f":"IF($B114=\"*\",\"\",VLOOKUP($A114,'2026-2027'!#REF!,M$5,FALSE))","v":{"$error":"#REF!"}}]
[85,{"$f":"VLOOKUP(A115,'2026-2027'!#REF!,9,FALSE)","v":{"$error":"#REF!"}},{"$f":"VLOOKUP($A115,'2026-2027'!#REF!,C$26,FALSE)","v":{"$error":"#REF!"}},null,null,null,null,null,null,null,{"$f":"IF($B115=\"*\",\"\",VLOOKUP($A115,'2026-2027'!#REF!,K$5,FALSE))","v":{"$error":"#REF!"}},null,{"$f":"IF($B115=\"*\",\"\",VLOOKUP($A115,'2026-2027'!#REF!,M$5,FALSE))","v":{"$error":"#REF!"}}]
[86,{"$f":"VLOOKUP(A116,'2026-2027'!#REF!,9,FALSE)","v":{"$error":"#REF!"}},{"$f":"VLOOKUP($A116,'2026-2027'!#REF!,C$26,FALSE)","v":{"$error":"#REF!"}},{"$f":"IF($B116=\"*\",\"\",VLOOKUP($A116,'2026-2027'!#REF!,D$26,FALSE))","v":{"$error":"#REF!"}},{"$f":"IF($B116=\"*\",\"\",VLOOKUP($A116,'2026-2027'!#REF!,E$26,FALSE))","v":{"$error":"#REF!"}},{"$f":"IF($B116=\"*\",\"\",VLOOKUP($A116,'2026-2027'!#REF!,F$26,FALSE))","v":{"$error":"#REF!"}},{"$f":"IF($B116=\"*\",\"\",VLOOKUP($A116,'2026-2027'!#REF!,G$26,FALSE))","v":{"$error":"#REF!"}},null,{"$f":"IF($B116=\"*\",\"\",VLOOKUP($A116,'2026-2027'!#REF!,I$26,FALSE))","v":{"$error":"#REF!"}},null,{"$f":"IF($B116=\"*\",\"\",VLOOKUP($A116,'2026-2027'!#REF!,K$5,FALSE))","v":{"$error":"#REF!"}},null,{"$f":"IF($B116=\"*\",\"\",VLOOKUP($A116,'2026-2027'!#REF!,M$5,FALSE))","v":{"$error":"#REF!"}}]
[87,{"$f":"VLOOKUP(A117,'2026-2027'!#REF!,9,FALSE)","v":{"$error":"#REF!"}},{"$f":"VLOOKUP($A117,'2026-2027'!#REF!,C$26,FALSE)","v":{"$error":"#REF!"}},{"$f":"IF($B117=\"*\",\"\",VLOOKUP($A117,'2026-2027'!#REF!,D$26,FALSE))","v":{"$error":"#REF!"}},{"$f":"IF($B117=\"*\",\"\",VLOOKUP($A117,'2026-2027'!#REF!,E$26,FALSE))","v":{"$error":"#REF!"}},{"$f":"IF($B117=\"*\",\"\",VLOOKUP($A117,'2026-2027'!#REF!,F$26,FALSE))","v":{"$error":"#REF!"}},{"$f":"IF($B117=\"*\",\"\",VLOOKUP($A117,'2026-2027'!#REF!,G$26,FALSE))","v":{"$error":"#REF!"}},null,{"$f":"IF($B117=\"*\",\"\",VLOOKUP($A117,'2026-2027'!#REF!,I$26,FALSE))","v":{"$error":"#REF!"}},null,{"$f":"IF($B117=\"*\",\"\",VLOOKUP($A117,'2026-2027'!#REF!,K$5,FALSE))","v":{"$error":"#REF!"}},null,{"$f":"IF($B117=\"*\",\"\",VLOOKUP($A117,'2026-2027'!#REF!,M$5,FALSE))","v":{"$error":"#REF!"}}]
[88,{"$f":"VLOOKUP(A118,'2026-2027'!#REF!,9,FALSE)","v":{"$error":"#REF!"}},{"$f":"VLOOKUP($A118,'2026-2027'!#REF!,C$26,FALSE)","v":{"$error":"#REF!"}},{"$f":"IF($B118=\"*\",\"\",VLOOKUP($A118,'2026-2027'!#REF!,D$26,FALSE))","v":{"$error":"#REF!"}},{"$f":"IF($B118=\"*\",\"\",VLOOKUP($A118,'2026-2027'!#REF!,E$26,FALSE))","v":{"$error":"#REF!"}},{"$f":"IF($B118=\"*\",\"\",VLOOKUP($A118,'2026-2027'!#REF!,F$26,FALSE))","v":{"$error":"#REF!"}},{"$f":"IF($B118=\"*\",\"\",VLOOKUP($A118,'2026-2027'!#REF!,G$26,FALSE))","v":{"$error":"#REF!"}},null,{"$f":"IF($B118=\"*\",\"\",VLOOKUP($A118,'2026-2027'!#REF!,I$26,FALSE))","v":{"$error":"#REF!"}},null,{"$f":"IF($B118=\"*\",\"\",VLOOKUP($A118,'2026-2027'!#REF!,K$5,FALSE))","v":{"$error":"#REF!"}},null,{"$f":"IF($B118=\"*\",\"\",VLOOKUP($A118,'2026-2027'!#REF!,M$5,FALSE))","v":{"$error":"#REF!"}}]
[89,{"$f":"VLOOKUP(A119,'2026-2027'!#REF!,9,FALSE)","v":{"$error":"#REF!"}},{"$f":"VLOOKUP($A119,'2026-2027'!#REF!,C$26,FALSE)","v":{"$error":"#REF!"}},{"$f":"IF($B119=\"*\",\"\",VLOOKUP($A119,'2026-2027'!#REF!,D$26,FALSE))","v":{"$error":"#REF!"}},{"$f":"IF($B119=\"*\",\"\",VLOOKUP($A119,'2026-2027'!#REF!,E$26,FALSE))","v":{"$error":"#REF!"}},{"$f":"IF($B119=\"*\",\"\",VLOOKUP($A119,'2026-2027'!#REF!,F$26,FALSE))","v":{"$error":"#REF!"}},{"$f":"IF($B119=\"*\",\"\",VLOOKUP($A119,'2026-2027'!#REF!,G$26,FALSE))","v":{"$error":"#REF!"}},null,{"$f":"IF($B119=\"*\",\"\",VLOOKUP($A119,'2026-2027'!#REF!,I$26,FALSE))","v":{"$error":"#REF!"}},null,{"$f":"IF($B119=\"*\",\"\",VLOOKUP($A119,'2026-2027'!#REF!,K$5,FALSE))","v":{"$error":"#REF!"}},null,{"$f":"IF($B119=\"*\",\"\",VLOOKUP($A119,'2026-2027'!#REF!,M$5,FALSE))","v":{"$error":"#REF!"}}]
[90,{"$f":"VLOOKUP(A120,'2026-2027'!#REF!,9,FALSE)","v":{"$error":"#REF!"}},{"$f":"VLOOKUP($A120,'2026-2027'!#REF!,C$26,FALSE)","v":{"$error":"#REF!"}},{"$f":"IF($B120=\"*\",\"\",VLOOKUP($A120,'2026-2027'!#REF!,D$26,FALSE))","v":{"$error":"#REF!"}},{"$f":"IF($B120=\"*\",\"\",VLOOKUP($A120,'2026-2027'!#REF!,E$26,FALSE))","v":{"$error":"#REF!"}},{"$f":"IF($B120=\"*\",\"\",VLOOKUP($A120,'2026-2027'!#REF!,F$26,FALSE))","v":{"$error":"#REF!"}},{"$f":"IF($B120=\"*\",\"\",VLOOKUP($A120,'2026-2027'!#REF!,G$26,FALSE))","v":{"$error":"#REF!"}},null,{"$f":"IF($B120=\"*\",\"\",VLOOKUP($A120,'2026-2027'!#REF!,I$26,FALSE))","v":{"$error":"#REF!"}},null,{"$f":"IF($B120=\"*\",\"\",VLOOKUP($A120,'2026-2027'!#REF!,K$5,FALSE))","v":{"$error":"#REF!"}},null,{"$f":"IF($B120=\"*\",\"\",VLOOKUP($A120,'2026-2027'!#REF!,M$5,FALSE))","v":{"$error":"#REF!"}}]
[91,{"$f":"VLOOKUP(A121,'2026-2027'!#REF!,9,FALSE)","v":{"$error":"#REF!"}},{"$f":"VLOOKUP($A121,'2026-2027'!#REF!,C$26,FALSE)","v":{"$error":"#REF!"}},{"$f":"IF($B121=\"*\",\"\",VLOOKUP($A121,'2026-2027'!#REF!,D$26,FALSE))","v":{"$error":"#REF!"}},{"$f":"IF($B121=\"*\",\"\",VLOOKUP($A121,'2026-2027'!#REF!,E$26,FALSE))","v":{"$error":"#REF!"}},{"$f":"IF($B121=\"*\",\"\",VLOOKUP($A121,'2026-2027'!#REF!,F$26,FALSE))","v":{"$error":"#REF!"}},{"$f":"IF($B121=\"*\",\"\",VLOOKUP($A121,'2026-2027'!#REF!,G$26,FALSE))","v":{"$error":"#REF!"}},null,{"$f":"IF($B121=\"*\",\"\",VLOOKUP($A121,'2026-2027'!#REF!,I$26,FALSE))","v":{"$error":"#REF!"}},null,{"$f":"IF($B121=\"*\",\"\",VLOOKUP($A121,'2026-2027'!#REF!,K$5,FALSE))","v":{"$error":"#REF!"}},null,{"$f":"IF($B121=\"*\",\"\",VLOOKUP($A121,'2026-2027'!#REF!,M$5,FALSE))","v":{"$error":"#REF!"}}]
[92,{"$f":"VLOOKUP(A122,'2026-2027'!#REF!,9,FALSE)","v":{"$error":"#REF!"}},null,null,null,"Sous total PROGRAMME ACCES",{"$f":"SUM(G116:G121)","v":{"$error":"#REF!"}},null,{"$f":"SUM(I116:I121)","v":{"$error":"#REF!"}},null,{"$f":"SUM(K116:K121)","v":{"$error":"#REF!"}},null,{"$f":"SUM(M116:M121)","v":{"$error":"#REF!"}}]
[93,{"$f":"VLOOKUP(A123,'2026-2027'!#REF!,9,FALSE)","v":{"$error":"#REF!"}},{"$f":"VLOOKUP($A123,'2026-2027'!#REF!,C$26,FALSE)","v":{"$error":"#REF!"}},null,null,null,null,null,null,null,{"$f":"IF($B123=\"*\",\"\",VLOOKUP($A123,'2026-2027'!#REF!,K$5,FALSE))","v":{"$error":"#REF!"}},null,{"$f":"IF($B123=\"*\",\"\",VLOOKUP($A123,'2026-2027'!#REF!,M$5,FALSE))","v":{"$error":"#REF!"}}]
[94,{"$f":"VLOOKUP(A124,'2026-2027'!#REF!,9,FALSE)","v":{"$error":"#REF!"}},{"$f":"VLOOKUP($A124,'2026-2027'!#REF!,C$26,FALSE)","v":{"$error":"#REF!"}},{"$f":"IF($B124=\"*\",\"\",VLOOKUP($A124,'2026-2027'!#REF!,D$26,FALSE))","v":{"$error":"#REF!"}},{"$f":"IF($B124=\"*\",\"\",VLOOKUP($A124,'2026-2027'!#REF!,E$26,FALSE))","v":{"$error":"#REF!"}},{"$f":"IF($B124=\"*\",\"\",VLOOKUP($A124,'2026-2027'!#REF!,F$26,FALSE))","v":{"$error":"#REF!"}},{"$f":"IF($B124=\"*\",\"\",VLOOKUP($A124,'2026-2027'!#REF!,G$26,FALSE))","v":{"$error":"#REF!"}},null,{"$f":"IF($B124=\"*\",\"\",VLOOKUP($A124,'2026-2027'!#REF!,I$26,FALSE))","v":{"$error":"#REF!"}},null,{"$f":"IF($B124=\"*\",\"\",VLOOKUP($A124,'2026-2027'!#REF!,K$5,FALSE))","v":{"$error":"#REF!"}},null,{"$f":"IF($B124=\"*\",\"\",VLOOKUP($A124,'2026-2027'!#REF!,M$5,FALSE))","v":{"$error":"#REF!"}}]
[95,{"$f":"VLOOKUP(A125,'2026-2027'!#REF!,9,FALSE)","v":{"$error":"#REF!"}},{"$f":"VLOOKUP($A125,'2026-2027'!#REF!,C$26,FALSE)","v":{"$error":"#REF!"}},{"$f":"IF($B125=\"*\",\"\",VLOOKUP($A125,'2026-2027'!#REF!,D$26,FALSE))","v":{"$error":"#REF!"}},{"$f":"IF($B125=\"*\",\"\",VLOOKUP($A125,'2026-2027'!#REF!,E$26,FALSE))","v":{"$error":"#REF!"}},{"$f":"IF($B125=\"*\",\"\",VLOOKUP($A125,'2026-2027'!#REF!,F$26,FALSE))","v":{"$error":"#REF!"}},{"$f":"IF($B125=\"*\",\"\",VLOOKUP($A125,'2026-2027'!#REF!,G$26,FALSE))","v":{"$error":"#REF!"}},null,{"$f":"IF($B125=\"*\",\"\",VLOOKUP($A125,'2026-2027'!#REF!,I$26,FALSE))","v":{"$error":"#REF!"}},null,{"$f":"IF($B125=\"*\",\"\",VLOOKUP($A125,'2026-2027'!#REF!,K$5,FALSE))","v":{"$error":"#REF!"}},null,{"$f":"IF($B125=\"*\",\"\",VLOOKUP($A125,'2026-2027'!#REF!,M$5,FALSE))","v":{"$error":"#REF!"}}]
[null,null,null,null,null,"Sous total FORMATIONS AUTOCHTONES",{"$f":"SUM(G124:G125)","v":{"$error":"#REF!"}},null,{"$f":"SUM(I124:I125)","v":{"$error":"#REF!"}},null,{"$f":"SUM(K124:K125)","v":{"$error":"#REF!"}},null,{"$f":"SUM(M124:M125)","v":{"$error":"#REF!"}}]
[{"$f":"A125+1","v":96},{"$f":"VLOOKUP(A127,'2026-2027'!#REF!,9,FALSE)","v":{"$error":"#REF!"}},{"$f":"VLOOKUP($A127,'2026-2027'!#REF!,C$26,FALSE)","v":{"$error":"#REF!"}},null,null,null,null,null,null,null,{"$f":"IF($B127=\"*\",\"\",VLOOKUP($A127,'2026-2027'!#REF!,K$5,FALSE))","v":{"$error":"#REF!"}},null,{"$f":"IF($B127=\"*\",\"\",VLOOKUP($A127,'2026-2027'!#REF!,M$5,FALSE))","v":{"$error":"#REF!"}}]
[97,{"$f":"VLOOKUP(A128,'2026-2027'!#REF!,9,FALSE)","v":{"$error":"#REF!"}},{"$f":"VLOOKUP($A128,'2026-2027'!#REF!,C$26,FALSE)","v":{"$error":"#REF!"}},{"$f":"IF($B128=\"*\",\"\",VLOOKUP($A128,'2026-2027'!#REF!,D$26,FALSE))","v":{"$error":"#REF!"}},{"$f":"IF($B128=\"*\",\"\",VLOOKUP($A128,'2026-2027'!#REF!,E$26,FALSE))","v":{"$error":"#REF!"}},{"$f":"IF($B128=\"*\",\"\",VLOOKUP($A128,'2026-2027'!#REF!,F$26,FALSE))","v":{"$error":"#REF!"}},{"$f":"IF($B128=\"*\",\"\",VLOOKUP($A128,'2026-2027'!#REF!,G$26,FALSE))","v":{"$error":"#REF!"}},null,{"$f":"IF($B128=\"*\",\"\",VLOOKUP($A128,'2026-2027'!#REF!,I$26,FALSE))","v":{"$error":"#REF!"}},null,{"$f":"IF($B128=\"*\",\"\",VLOOKUP($A128,'2026-2027'!#REF!,K$5,FALSE))","v":{"$error":"#REF!"}},null,{"$f":"IF($B128=\"*\",\"\",VLOOKUP($A128,'2026-2027'!#REF!,M$5,FALSE))","v":{"$error":"#REF!"}}]
[]
[{"$f":"A128+1","v":98},{"$f":"VLOOKUP(A130,'2026-2027'!#REF!,9,FALSE)","v":{"$error":"#REF!"}},{"$f":"VLOOKUP($A130,'2026-2027'!#REF!,C$26,FALSE)","v":{"$error":"#REF!"}},null,null,null,null,null,null,null,{"$f":"IF($B130=\"*\",\"\",VLOOKUP($A130,'2026-2027'!#REF!,K$5,FALSE))","v":{"$error":"#REF!"}},null,{"$f":"IF($B130=\"*\",\"\",VLOOKUP($A130,'2026-2027'!#REF!,M$5,FALSE))","v":{"$error":"#REF!"}}]
[99,{"$f":"VLOOKUP(A131,'2026-2027'!#REF!,9,FALSE)","v":{"$error":"#REF!"}},{"$f":"VLOOKUP($A131,'2026-2027'!#REF!,C$26,FALSE)","v":{"$error":"#REF!"}},null,null,null,null,null,null,null,{"$f":"IF($B131=\"*\",\"\",VLOOKUP($A131,'2026-2027'!#REF!,K$5,FALSE))","v":{"$error":"#REF!"}},null,{"$f":"IF($B131=\"*\",\"\",VLOOKUP($A131,'2026-2027'!#REF!,M$5,FALSE))","v":{"$error":"#REF!"}}]
[100,{"$f":"VLOOKUP(A132,'2026-2027'!#REF!,9,FALSE)","v":{"$error":"#REF!"}},{"$f":"VLOOKUP($A132,'2026-2027'!#REF!,C$26,FALSE)","v":{"$error":"#REF!"}},null,null,null,null,null,null,null,{"$f":"IF($B132=\"*\",\"\",VLOOKUP($A132,'2026-2027'!#REF!,K$5,FALSE))","v":{"$error":"#REF!"}},null,{"$f":"IF($B132=\"*\",\"\",VLOOKUP($A132,'2026-2027'!#REF!,M$5,FALSE))","v":{"$error":"#REF!"}}]
[101,{"$f":"VLOOKUP(A133,'2026-2027'!#REF!,9,FALSE)","v":{"$error":"#REF!"}},{"$f":"VLOOKUP($A133,'2026-2027'!#REF!,C$26,FALSE)","v":{"$error":"#REF!"}},{"$f":"IF($B133=\"*\",\"\",VLOOKUP($A133,'2026-2027'!#REF!,D$26,FALSE))","v":{"$error":"#REF!"}},{"$f":"IF($B133=\"*\",\"\",VLOOKUP($A133,'2026-2027'!#REF!,E$26,FALSE))","v":{"$error":"#REF!"}},{"$f":"IF($B133=\"*\",\"\",VLOOKUP($A133,'2026-2027'!#REF!,F$26,FALSE))","v":{"$error":"#REF!"}},{"$f":"IF($B133=\"*\",\"\",VLOOKUP($A133,'2026-2027'!#REF!,G$26,FALSE))","v":{"$error":"#REF!"}},null,{"$f":"IF($B133=\"*\",\"\",VLOOKUP($A133,'2026-2027'!#REF!,I$26,FALSE))","v":{"$error":"#REF!"}},null,{"$f":"IF($B133=\"*\",\"\",VLOOKUP($A133,'2026-2027'!#REF!,K$5,FALSE))","v":{"$error":"#REF!"}},null,{"$f":"IF($B133=\"*\",\"\",VLOOKUP($A133,'2026-2027'!#REF!,M$5,FALSE))","v":{"$error":"#REF!"}}]
[102,{"$f":"VLOOKUP(A134,'2026-2027'!#REF!,9,FALSE)","v":{"$error":"#REF!"}},{"$f":"VLOOKUP($A134,'2026-2027'!#REF!,C$26,FALSE)","v":{"$error":"#REF!"}},{"$f":"IF($B134=\"*\",\"\",VLOOKUP($A134,'2026-2027'!#REF!,D$26,FALSE))","v":{"$error":"#REF!"}},{"$f":"IF($B134=\"*\",\"\",VLOOKUP($A134,'2026-2027'!#REF!,E$26,FALSE))","v":{"$error":"#REF!"}},{"$f":"IF($B134=\"*\",\"\",VLOOKUP($A134,'2026-2027'!#REF!,F$26,FALSE))","v":{"$error":"#REF!"}},{"$f":"IF($B134=\"*\",\"\",VLOOKUP($A134,'2026-2027'!#REF!,G$26,FALSE))","v":{"$error":"#REF!"}},null,{"$f":"IF($B134=\"*\",\"\",VLOOKUP($A134,'2026-2027'!#REF!,I$26,FALSE))","v":{"$error":"#REF!"}},null,{"$f":"IF($B134=\"*\",\"\",VLOOKUP($A134,'2026-2027'!#REF!,K$5,FALSE))","v":{"$error":"#REF!"}},null,{"$f":"IF($B134=\"*\",\"\",VLOOKUP($A134,'2026-2027'!#REF!,M$5,FALSE))","v":{"$error":"#REF!"}}]
[null,null,null,null,null,"Sous total FORMATIONEN PÉDAGOGIE",{"$f":"SUM(G133:G134)","v":{"$error":"#REF!"}},null,{"$f":"SUM(I133:I134)","v":{"$error":"#REF!"}},null,{"$f":"SUM(K133:K134)","v":{"$error":"#REF!"}},null,{"$f":"SUM(M133:M134)","v":{"$error":"#REF!"}}]
[{"$f":"A134+1","v":103},{"$f":"VLOOKUP(A136,'2026-2027'!#REF!,9,FALSE)","v":{"$error":"#REF!"}},{"$f":"VLOOKUP($A136,'2026-2027'!#REF!,C$26,FALSE)","v":{"$error":"#REF!"}},null,null,null,null,null,null,null,{"$f":"IF($B136=\"*\",\"\",VLOOKUP($A136,'2026-2027'!#REF!,K$5,FALSE))","v":{"$error":"#REF!"}},null,{"$f":"IF($B136=\"*\",\"\",VLOOKUP($A136,'2026-2027'!#REF!,M$5,FALSE))","v":{"$error":"#REF!"}}]
[104,{"$f":"VLOOKUP(A137,'2026-2027'!#REF!,9,FALSE)","v":{"$error":"#REF!"}},{"$f":"VLOOKUP($A137,'2026-2027'!#REF!,C$26,FALSE)","v":{"$error":"#REF!"}},{"$f":"IF($B137=\"*\",\"\",VLOOKUP($A137,'2026-2027'!#REF!,D$26,FALSE))","v":{"$error":"#REF!"}},{"$f":"IF($B137=\"*\",\"\",VLOOKUP($A137,'2026-2027'!#REF!,E$26,FALSE))","v":{"$error":"#REF!"}},{"$f":"IF($B137=\"*\",\"\",VLOOKUP($A137,'2026-2027'!#REF!,F$26,FALSE))","v":{"$error":"#REF!"}},{"$f":"IF($B137=\"*\",\"\",VLOOKUP($A137,'2026-2027'!#REF!,G$26,FALSE))","v":{"$error":"#REF!"}},null,{"$f":"IF($B137=\"*\",\"\",VLOOKUP($A137,'2026-2027'!#REF!,I$26,FALSE))","v":{"$error":"#REF!"}},null,{"$f":"IF($B137=\"*\",\"\",VLOOKUP($A137,'2026-2027'!#REF!,K$5,FALSE))","v":{"$error":"#REF!"}},null,{"$f":"IF($B137=\"*\",\"\",VLOOKUP($A137,'2026-2027'!#REF!,M$5,FALSE))","v":{"$error":"#REF!"}}]
[105,{"$f":"VLOOKUP(A138,'2026-2027'!#REF!,9,FALSE)","v":{"$error":"#REF!"}},{"$f":"VLOOKUP($A138,'2026-2027'!#REF!,C$26,FALSE)","v":{"$error":"#REF!"}},{"$f":"IF($B138=\"*\",\"\",VLOOKUP($A138,'2026-2027'!#REF!,D$26,FALSE))","v":{"$error":"#REF!"}},{"$f":"IF($B138=\"*\",\"\",VLOOKUP($A138,'2026-2027'!#REF!,E$26,FALSE))","v":{"$error":"#REF!"}},{"$f":"IF($B138=\"*\",\"\",VLOOKUP($A138,'2026-2027'!#REF!,F$26,FALSE))","v":{"$error":"#REF!"}},{"$f":"IF($B138=\"*\",\"\",VLOOKUP($A138,'2026-2027'!#REF!,G$26,FALSE))","v":{"$error":"#REF!"}},null,{"$f":"IF($B138=\"*\",\"\",VLOOKUP($A138,'2026-2027'!#REF!,I$26,FALSE))","v":{"$error":"#REF!"}},null,{"$f":"IF($B138=\"*\",\"\",VLOOKUP($A138,'2026-2027'!#REF!,K$5,FALSE))","v":{"$error":"#REF!"}},null,{"$f":"IF($B138=\"*\",\"\",VLOOKUP($A138,'2026-2027'!#REF!,M$5,FALSE))","v":{"$error":"#REF!"}}]
[106,{"$f":"VLOOKUP(A139,'2026-2027'!#REF!,9,FALSE)","v":{"$error":"#REF!"}},{"$f":"VLOOKUP($A139,'2026-2027'!#REF!,C$26,FALSE)","v":{"$error":"#REF!"}},{"$f":"IF($B139=\"*\",\"\",VLOOKUP($A139,'2026-2027'!#REF!,D$26,FALSE))","v":{"$error":"#REF!"}},{"$f":"IF($B139=\"*\",\"\",VLOOKUP($A139,'2026-2027'!#REF!,E$26,FALSE))","v":{"$error":"#REF!"}},{"$f":"IF($B139=\"*\",\"\",VLOOKUP($A139,'2026-2027'!#REF!,F$26,FALSE))","v":{"$error":"#REF!"}},{"$f":"IF($B139=\"*\",\"\",VLOOKUP($A139,'2026-2027'!#REF!,G$26,FALSE))","v":{"$error":"#REF!"}},null,{"$f":"IF($B139=\"*\",\"\",VLOOKUP($A139,'2026-2027'!#REF!,I$26,FALSE))","v":{"$error":"#REF!"}},null,{"$f":"IF($B139=\"*\",\"\",VLOOKUP($A139,'2026-2027'!#REF!,K$5,FALSE))","v":{"$error":"#REF!"}},null,{"$f":"IF($B139=\"*\",\"\",VLOOKUP($A139,'2026-2027'!#REF!,M$5,FALSE))","v":{"$error":"#REF!"}}]
[107,{"$f":"VLOOKUP(A140,'2026-2027'!#REF!,9,FALSE)","v":{"$error":"#REF!"}},{"$f":"VLOOKUP($A140,'2026-2027'!#REF!,C$26,FALSE)","v":{"$error":"#REF!"}},{"$f":"IF($B140=\"*\",\"\",VLOOKUP($A140,'2026-2027'!#REF!,D$26,FALSE))","v":{"$error":"#REF!"}},{"$f":"IF($B140=\"*\",\"\",VLOOKUP($A140,'2026-2027'!#REF!,E$26,FALSE))","v":{"$error":"#REF!"}},{"$f":"IF($B140=\"*\",\"\",VLOOKUP($A140,'2026-2027'!#REF!,F$26,FALSE))","v":{"$error":"#REF!"}},{"$f":"IF($B140=\"*\",\"\",VLOOKUP($A140,'2026-2027'!#REF!,G$26,FALSE))","v":{"$error":"#REF!"}},null,{"$f":"IF($B140=\"*\",\"\",VLOOKUP($A140,'2026-2027'!#REF!,I$26,FALSE))","v":{"$error":"#REF!"}},null,{"$f":"IF($B140=\"*\",\"\",VLOOKUP($A140,'2026-2027'!#REF!,K$5,FALSE))","v":{"$error":"#REF!"}},null,{"$f":"IF($B140=\"*\",\"\",VLOOKUP($A140,'2026-2027'!#REF!,M$5,FALSE))","v":{"$error":"#REF!"}}]
[108,{"$f":"VLOOKUP(A141,'2026-2027'!#REF!,9,FALSE)","v":{"$error":"#REF!"}},{"$f":"VLOOKUP($A141,'2026-2027'!#REF!,C$26,FALSE)","v":{"$error":"#REF!"}},{"$f":"IF($B141=\"*\",\"\",VLOOKUP($A141,'2026-2027'!#REF!,D$26,FALSE))","v":{"$error":"#REF!"}},{"$f":"IF($B141=\"*\",\"\",VLOOKUP($A141,'2026-2027'!#REF!,E$26,FALSE))","v":{"$error":"#REF!"}},{"$f":"IF($B141=\"*\",\"\",VLOOKUP($A141,'2026-2027'!#REF!,F$26,FALSE))","v":{"$error":"#REF!"}},{"$f":"IF($B141=\"*\",\"\",VLOOKUP($A141,'2026-2027'!#REF!,G$26,FALSE))","v":{"$error":"#REF!"}},null,{"$f":"IF($B141=\"*\",\"\",VLOOKUP($A141,'2026-2027'!#REF!,I$26,FALSE))","v":{"$error":"#REF!"}},null,{"$f":"IF($B141=\"*\",\"\",VLOOKUP($A141,'2026-2027'!#REF!,K$5,FALSE))","v":{"$error":"#REF!"}},null,{"$f":"IF($B141=\"*\",\"\",VLOOKUP($A141,'2026-2027'!#REF!,M$5,FALSE))","v":{"$error":"#REF!"}}]
[109,{"$f":"VLOOKUP(A142,'2026-2027'!#REF!,9,FALSE)","v":{"$error":"#REF!"}},{"$f":"VLOOKUP($A142,'2026-2027'!#REF!,C$26,FALSE)","v":{"$error":"#REF!"}},{"$f":"IF($B142=\"*\",\"\",VLOOKUP($A142,'2026-2027'!#REF!,D$26,FALSE))","v":{"$error":"#REF!"}},{"$f":"IF($B142=\"*\",\"\",VLOOKUP($A142,'2026-2027'!#REF!,E$26,FALSE))","v":{"$error":"#REF!"}},{"$f":"IF($B142=\"*\",\"\",VLOOKUP($A142,'2026-2027'!#REF!,F$26,FALSE))","v":{"$error":"#REF!"}},{"$f":"IF($B142=\"*\",\"\",VLOOKUP($A142,'2026-2027'!#REF!,G$26,FALSE))","v":{"$error":"#REF!"}},null,{"$f":"IF($B142=\"*\",\"\",VLOOKUP($A142,'2026-2027'!#REF!,I$26,FALSE))","v":{"$error":"#REF!"}},null,{"$f":"IF($B142=\"*\",\"\",VLOOKUP($A142,'2026-2027'!#REF!,K$5,FALSE))","v":{"$error":"#REF!"}},null,{"$f":"IF($B142=\"*\",\"\",VLOOKUP($A142,'2026-2027'!#REF!,M$5,FALSE))","v":{"$error":"#REF!"}}]
[110,{"$f":"VLOOKUP(A143,'2026-2027'!#REF!,9,FALSE)","v":{"$error":"#REF!"}},{"$f":"VLOOKUP($A143,'2026-2027'!#REF!,C$26,FALSE)","v":{"$error":"#REF!"}},{"$f":"IF($B143=\"*\",\"\",VLOOKUP($A143,'2026-2027'!#REF!,D$26,FALSE))","v":{"$error":"#REF!"}},{"$f":"IF($B143=\"*\",\"\",VLOOKUP($A143,'2026-2027'!#REF!,E$26,FALSE))","v":{"$error":"#REF!"}},{"$f":"IF($B143=\"*\",\"\",VLOOKUP($A143,'2026-2027'!#REF!,F$26,FALSE))","v":{"$error":"#REF!"}},{"$f":"IF($B143=\"*\",\"\",VLOOKUP($A143,'2026-2027'!#REF!,G$26,FALSE))","v":{"$error":"#REF!"}},null,{"$f":"IF($B143=\"*\",\"\",VLOOKUP($A143,'2026-2027'!#REF!,I$26,FALSE))","v":{"$error":"#REF!"}},null,{"$f":"IF($B143=\"*\",\"\",VLOOKUP($A143,'2026-2027'!#REF!,K$5,FALSE))","v":{"$error":"#REF!"}},null,{"$f":"IF($B143=\"*\",\"\",VLOOKUP($A143,'2026-2027'!#REF!,M$5,FALSE))","v":{"$error":"#REF!"}}]
[111,{"$f":"VLOOKUP(A144,'2026-2027'!#REF!,9,FALSE)","v":{"$error":"#REF!"}},{"$f":"VLOOKUP($A144,'2026-2027'!#REF!,C$26,FALSE)","v":{"$error":"#REF!"}},{"$f":"IF($B144=\"*\",\"\",VLOOKUP($A144,'2026-2027'!#REF!,D$26,FALSE))","v":{"$error":"#REF!"}},{"$f":"IF($B144=\"*\",\"\",VLOOKUP($A144,'2026-2027'!#REF!,E$26,FALSE))","v":{"$error":"#REF!"}},{"$f":"IF($B144=\"*\",\"\",VLOOKUP($A144,'2026-2027'!#REF!,F$26,FALSE))","v":{"$error":"#REF!"}},{"$f":"IF($B144=\"*\",\"\",VLOOKUP($A144,'2026-2027'!#REF!,G$26,FALSE))","v":{"$error":"#REF!"}},null,{"$f":"IF($B144=\"*\",\"\",VLOOKUP($A144,'2026-2027'!#REF!,I$26,FALSE))","v":{"$error":"#REF!"}},null,{"$f":"IF($B144=\"*\",\"\",VLOOKUP($A144,'2026-2027'!#REF!,K$5,FALSE))","v":{"$error":"#REF!"}},null,{"$f":"IF($B144=\"*\",\"\",VLOOKUP($A144,'2026-2027'!#REF!,M$5,FALSE))","v":{"$error":"#REF!"}}]
[112,{"$f":"VLOOKUP(A145,'2026-2027'!#REF!,9,FALSE)","v":{"$error":"#REF!"}},{"$f":"VLOOKUP($A145,'2026-2027'!#REF!,C$26,FALSE)","v":{"$error":"#REF!"}},{"$f":"IF($B145=\"*\",\"\",VLOOKUP($A145,'2026-2027'!#REF!,D$26,FALSE))","v":{"$error":"#REF!"}},{"$f":"IF($B145=\"*\",\"\",VLOOKUP($A145,'2026-2027'!#REF!,E$26,FALSE))","v":{"$error":"#REF!"}},{"$f":"IF($B145=\"*\",\"\",VLOOKUP($A145,'2026-2027'!#REF!,F$26,FALSE))","v":{"$error":"#REF!"}},{"$f":"IF($B145=\"*\",\"\",VLOOKUP($A145,'2026-2027'!#REF!,G$26,FALSE))","v":{"$error":"#REF!"}},null,{"$f":"IF($B145=\"*\",\"\",VLOOKUP($A145,'2026-2027'!#REF!,I$26,FALSE))","v":{"$error":"#REF!"}},null,{"$f":"IF($B145=\"*\",\"\",VLOOKUP($A145,'2026-2027'!#REF!,K$5,FALSE))","v":{"$error":"#REF!"}},null,{"$f":"IF($B145=\"*\",\"\",VLOOKUP($A145,'2026-2027'!#REF!,M$5,FALSE))","v":{"$error":"#REF!"}}]
[113,{"$f":"VLOOKUP(A146,'2026-2027'!#REF!,9,FALSE)","v":{"$error":"#REF!"}},{"$f":"VLOOKUP($A146,'2026-2027'!#REF!,C$26,FALSE)","v":{"$error":"#REF!"}},{"$f":"IF($B146=\"*\",\"\",VLOOKUP($A146,'2026-2027'!#REF!,D$26,FALSE))","v":{"$error":"#REF!"}},{"$f":"IF($B146=\"*\",\"\",VLOOKUP($A146,'2026-2027'!#REF!,E$26,FALSE))","v":{"$error":"#REF!"}},{"$f":"IF($B146=\"*\",\"\",VLOOKUP($A146,'2026-2027'!#REF!,F$26,FALSE))","v":{"$error":"#REF!"}},{"$f":"IF($B146=\"*\",\"\",VLOOKUP($A146,'2026-2027'!#REF!,G$26,FALSE))","v":{"$error":"#REF!"}},null,{"$f":"IF($B146=\"*\",\"\",VLOOKUP($A146,'2026-2027'!#REF!,I$26,FALSE))","v":{"$error":"#REF!"}},null,{"$f":"IF($B146=\"*\",\"\",VLOOKUP($A146,'2026-2027'!#REF!,K$5,FALSE))","v":{"$error":"#REF!"}},null,{"$f":"IF($B146=\"*\",\"\",VLOOKUP($A146,'2026-2027'!#REF!,M$5,FALSE))","v":{"$error":"#REF!"}}]
[114,{"$f":"VLOOKUP(A147,'2026-2027'!#REF!,9,FALSE)","v":{"$error":"#REF!"}},{"$f":"VLOOKUP($A147,'2026-2027'!#REF!,C$26,FALSE)","v":{"$error":"#REF!"}},{"$f":"IF($B147=\"*\",\"\",VLOOKUP($A147,'2026-2027'!#REF!,D$26,FALSE))","v":{"$error":"#REF!"}},{"$f":"IF($B147=\"*\",\"\",VLOOKUP($A147,'2026-2027'!#REF!,E$26,FALSE))","v":{"$error":"#REF!"}},{"$f":"IF($B147=\"*\",\"\",VLOOKUP($A147,'2026-2027'!#REF!,F$26,FALSE))","v":{"$error":"#REF!"}},{"$f":"IF($B147=\"*\",\"\",VLOOKUP($A147,'2026-2027'!#REF!,G$26,FALSE))","v":{"$error":"#REF!"}},null,{"$f":"IF($B147=\"*\",\"\",VLOOKUP($A147,'2026-2027'!#REF!,I$26,FALSE))","v":{"$error":"#REF!"}},null,{"$f":"IF($B147=\"*\",\"\",VLOOKUP($A147,'2026-2027'!#REF!,K$5,FALSE))","v":{"$error":"#REF!"}},null,{"$f":"IF($B147=\"*\",\"\",VLOOKUP($A147,'2026-2027'!#REF!,M$5,FALSE))","v":{"$error":"#REF!"}}]
[115,{"$f":"VLOOKUP(A148,'2026-2027'!#REF!,9,FALSE)","v":{"$error":"#REF!"}},{"$f":"VLOOKUP($A148,'2026-2027'!#REF!,C$26,FALSE)","v":{"$error":"#REF!"}},{"$f":"IF($B148=\"*\",\"\",VLOOKUP($A148,'2026-2027'!#REF!,D$26,FALSE))","v":{"$error":"#REF!"}},{"$f":"IF($B148=\"*\",\"\",VLOOKUP($A148,'2026-2027'!#REF!,E$26,FALSE))","v":{"$error":"#REF!"}},{"$f":"IF($B148=\"*\",\"\",VLOOKUP($A148,'2026-2027'!#REF!,F$26,FALSE))","v":{"$error":"#REF!"}},{"$f":"IF($B148=\"*\",\"\",VLOOKUP($A148,'2026-2027'!#REF!,G$26,FALSE))","v":{"$error":"#REF!"}},null,{"$f":"IF($B148=\"*\",\"\",VLOOKUP($A148,'2026-2027'!#REF!,I$26,FALSE))","v":{"$error":"#REF!"}},null,{"$f":"IF($B148=\"*\",\"\",VLOOKUP($A148,'2026-2027'!#REF!,K$5,FALSE))","v":{"$error":"#REF!"}},null,{"$f":"IF($B148=\"*\",\"\",VLOOKUP($A148,'2026-2027'!#REF!,M$5,FALSE))","v":{"$error":"#REF!"}}]
[116,{"$f":"VLOOKUP(A149,'2026-2027'!#REF!,9,FALSE)","v":{"$error":"#REF!"}},{"$f":"VLOOKUP($A149,'2026-2027'!#REF!,C$26,FALSE)","v":{"$error":"#REF!"}},{"$f":"IF($B149=\"*\",\"\",VLOOKUP($A149,'2026-2027'!#REF!,D$26,FALSE))","v":{"$error":"#REF!"}},{"$f":"IF($B149=\"*\",\"\",VLOOKUP($A149,'2026-2027'!#REF!,E$26,FALSE))","v":{"$error":"#REF!"}},{"$f":"IF($B149=\"*\",\"\",VLOOKUP($A149,'2026-2027'!#REF!,F$26,FALSE))","v":{"$error":"#REF!"}},{"$f":"IF($B149=\"*\",\"\",VLOOKUP($A149,'2026-2027'!#REF!,G$26,FALSE))","v":{"$error":"#REF!"}},null,{"$f":"IF($B149=\"*\",\"\",VLOOKUP($A149,'2026-2027'!#REF!,I$26,FALSE))","v":{"$error":"#REF!"}},null,{"$f":"IF($B149=\"*\",\"\",VLOOKUP($A149,'2026-2027'!#REF!,K$5,FALSE))","v":{"$error":"#REF!"}},null,{"$f":"IF($B149=\"*\",\"\",VLOOKUP($A149,'2026-2027'!#REF!,M$5,FALSE))","v":{"$error":"#REF!"}}]
[117,{"$f":"VLOOKUP(A150,'2026-2027'!#REF!,9,FALSE)","v":{"$error":"#REF!"}},{"$f":"VLOOKUP($A150,'2026-2027'!#REF!,C$26,FALSE)","v":{"$error":"#REF!"}},{"$f":"IF($B150=\"*\",\"\",VLOOKUP($A150,'2026-2027'!#REF!,D$26,FALSE))","v":{"$error":"#REF!"}},{"$f":"IF($B150=\"*\",\"\",VLOOKUP($A150,'2026-2027'!#REF!,E$26,FALSE))","v":{"$error":"#REF!"}},{"$f":"IF($B150=\"*\",\"\",VLOOKUP($A150,'2026-2027'!#REF!,F$26,FALSE))","v":{"$error":"#REF!"}},{"$f":"IF($B150=\"*\",\"\",VLOOKUP($A150,'2026-2027'!#REF!,G$26,FALSE))","v":{"$error":"#REF!"}},null,{"$f":"IF($B150=\"*\",\"\",VLOOKUP($A150,'2026-2027'!#REF!,I$26,FALSE))","v":{"$error":"#REF!"}},null,{"$f":"IF($B150=\"*\",\"\",VLOOKUP($A150,'2026-2027'!#REF!,K$5,FALSE))","v":{"$error":"#REF!"}},null,{"$f":"IF($B150=\"*\",\"\",VLOOKUP($A150,'2026-2027'!#REF!,M$5,FALSE))","v":{"$error":"#REF!"}}]
[118,{"$f":"VLOOKUP(A151,'2026-2027'!#REF!,9,FALSE)","v":{"$error":"#REF!"}},{"$f":"VLOOKUP($A151,'2026-2027'!#REF!,C$26,FALSE)","v":{"$error":"#REF!"}},{"$f":"IF($B151=\"*\",\"\",VLOOKUP($A151,'2026-2027'!#REF!,D$26,FALSE))","v":{"$error":"#REF!"}},{"$f":"IF($B151=\"*\",\"\",VLOOKUP($A151,'2026-2027'!#REF!,E$26,FALSE))","v":{"$error":"#REF!"}},{"$f":"IF($B151=\"*\",\"\",VLOOKUP($A151,'2026-2027'!#REF!,F$26,FALSE))","v":{"$error":"#REF!"}},{"$f":"IF($B151=\"*\",\"\",VLOOKUP($A151,'2026-2027'!#REF!,G$26,FALSE))","v":{"$error":"#REF!"}},null,{"$f":"IF($B151=\"*\",\"\",VLOOKUP($A151,'2026-2027'!#REF!,I$26,FALSE))","v":{"$error":"#REF!"}},null,{"$f":"IF($B151=\"*\",\"\",VLOOKUP($A151,'2026-2027'!#REF!,K$5,FALSE))","v":{"$error":"#REF!"}},null,{"$f":"IF($B151=\"*\",\"\",VLOOKUP($A151,'2026-2027'!#REF!,M$5,FALSE))","v":{"$error":"#REF!"}}]
[119,{"$f":"VLOOKUP(A152,'2026-2027'!#REF!,9,FALSE)","v":{"$error":"#REF!"}},{"$f":"VLOOKUP($A152,'2026-2027'!#REF!,C$26,FALSE)","v":{"$error":"#REF!"}},{"$f":"IF($B152=\"*\",\"\",VLOOKUP($A152,'2026-2027'!#REF!,D$26,FALSE))","v":{"$error":"#REF!"}},{"$f":"IF($B152=\"*\",\"\",VLOOKUP($A152,'2026-2027'!#REF!,E$26,FALSE))","v":{"$error":"#REF!"}},{"$f":"IF($B152=\"*\",\"\",VLOOKUP($A152,'2026-2027'!#REF!,F$26,FALSE))","v":{"$error":"#REF!"}},{"$f":"IF($B152=\"*\",\"\",VLOOKUP($A152,'2026-2027'!#REF!,G$26,FALSE))","v":{"$error":"#REF!"}},null,{"$f":"IF($B152=\"*\",\"\",VLOOKUP($A152,'2026-2027'!#REF!,I$26,FALSE))","v":{"$error":"#REF!"}},null,{"$f":"IF($B152=\"*\",\"\",VLOOKUP($A152,'2026-2027'!#REF!,K$5,FALSE))","v":{"$error":"#REF!"}},null,{"$f":"IF($B152=\"*\",\"\",VLOOKUP($A152,'2026-2027'!#REF!,M$5,FALSE))","v":{"$error":"#REF!"}}]
[120,{"$f":"VLOOKUP(A153,'2026-2027'!#REF!,9,FALSE)","v":{"$error":"#REF!"}},{"$f":"VLOOKUP($A153,'2026-2027'!#REF!,C$26,FALSE)","v":{"$error":"#REF!"}},{"$f":"IF($B153=\"*\",\"\",VLOOKUP($A153,'2026-2027'!#REF!,D$26,FALSE))","v":{"$error":"#REF!"}},{"$f":"IF($B153=\"*\",\"\",VLOOKUP($A153,'2026-2027'!#REF!,E$26,FALSE))","v":{"$error":"#REF!"}},{"$f":"IF($B153=\"*\",\"\",VLOOKUP($A153,'2026-2027'!#REF!,F$26,FALSE))","v":{"$error":"#REF!"}},{"$f":"IF($B153=\"*\",\"\",VLOOKUP($A153,'2026-2027'!#REF!,G$26,FALSE))","v":{"$error":"#REF!"}},null,{"$f":"IF($B153=\"*\",\"\",VLOOKUP($A153,'2026-2027'!#REF!,I$26,FALSE))","v":{"$error":"#REF!"}},null,{"$f":"IF($B153=\"*\",\"\",VLOOKUP($A153,'2026-2027'!#REF!,K$5,FALSE))","v":{"$error":"#REF!"}},null,{"$f":"IF($B153=\"*\",\"\",VLOOKUP($A153,'2026-2027'!#REF!,M$5,FALSE))","v":{"$error":"#REF!"}}]
[121,{"$f":"VLOOKUP(A154,'2026-2027'!#REF!,9,FALSE)","v":{"$error":"#REF!"}},{"$f":"VLOOKUP($A154,'2026-2027'!#REF!,C$26,FALSE)","v":{"$error":"#REF!"}},{"$f":"IF($B154=\"*\",\"\",VLOOKUP($A154,'2026-2027'!#REF!,D$26,FALSE))","v":{"$error":"#REF!"}},{"$f":"IF($B154=\"*\",\"\",VLOOKUP($A154,'2026-2027'!#REF!,E$26,FALSE))","v":{"$error":"#REF!"}},{"$f":"IF($B154=\"*\",\"\",VLOOKUP($A154,'2026-2027'!#REF!,F$26,FALSE))","v":{"$error":"#REF!"}},{"$f":"IF($B154=\"*\",\"\",VLOOKUP($A154,'2026-2027'!#REF!,G$26,FALSE))","v":{"$error":"#REF!"}},null,{"$f":"IF($B154=\"*\",\"\",VLOOKUP($A154,'2026-2027'!#REF!,I$26,FALSE))","v":{"$error":"#REF!"}},null,{"$f":"IF($B154=\"*\",\"\",VLOOKUP($A154,'2026-2027'!#REF!,K$5,FALSE))","v":{"$error":"#REF!"}},null,{"$f":"IF($B154=\"*\",\"\",VLOOKUP($A154,'2026-2027'!#REF!,M$5,FALSE))","v":{"$error":"#REF!"}}]
[122,{"$f":"VLOOKUP(A155,'2026-2027'!#REF!,9,FALSE)","v":{"$error":"#REF!"}},{"$f":"VLOOKUP($A155,'2026-2027'!#REF!,C$26,FALSE)","v":{"$error":"#REF!"}},{"$f":"IF($B155=\"*\",\"\",VLOOKUP($A155,'2026-2027'!#REF!,D$26,FALSE))","v":{"$error":"#REF!"}},{"$f":"IF($B155=\"*\",\"\",VLOOKUP($A155,'2026-2027'!#REF!,E$26,FALSE))","v":{"$error":"#REF!"}},{"$f":"IF($B155=\"*\",\"\",VLOOKUP($A155,'2026-2027'!#REF!,F$26,FALSE))","v":{"$error":"#REF!"}},{"$f":"IF($B155=\"*\",\"\",VLOOKUP($A155,'2026-2027'!#REF!,G$26,FALSE))","v":{"$error":"#REF!"}},null,{"$f":"IF($B155=\"*\",\"\",VLOOKUP($A155,'2026-2027'!#REF!,I$26,FALSE))","v":{"$error":"#REF!"}},null,{"$f":"IF($B155=\"*\",\"\",VLOOKUP($A155,'2026-2027'!#REF!,K$5,FALSE))","v":{"$error":"#REF!"}},null,{"$f":"IF($B155=\"*\",\"\",VLOOKUP($A155,'2026-2027'!#REF!,M$5,FALSE))","v":{"$error":"#REF!"}}]
[123,{"$f":"VLOOKUP(A156,'2026-2027'!#REF!,9,FALSE)","v":{"$error":"#REF!"}},{"$f":"VLOOKUP($A156,'2026-2027'!#REF!,C$26,FALSE)","v":{"$error":"#REF!"}},{"$f":"IF($B156=\"*\",\"\",VLOOKUP($A156,'2026-2027'!#REF!,D$26,FALSE))","v":{"$error":"#REF!"}},{"$f":"IF($B156=\"*\",\"\",VLOOKUP($A156,'2026-2027'!#REF!,E$26,FALSE))","v":{"$error":"#REF!"}},{"$f":"IF($B156=\"*\",\"\",VLOOKUP($A156,'2026-2027'!#REF!,F$26,FALSE))","v":{"$error":"#REF!"}},{"$f":"IF($B156=\"*\",\"\",VLOOKUP($A156,'2026-2027'!#REF!,G$26,FALSE))","v":{"$error":"#REF!"}},null,{"$f":"IF($B156=\"*\",\"\",VLOOKUP($A156,'2026-2027'!#REF!,I$26,FALSE))","v":{"$error":"#REF!"}},null,{"$f":"IF($B156=\"*\",\"\",VLOOKUP($A156,'2026-2027'!#REF!,K$5,FALSE))","v":{"$error":"#REF!"}},null,{"$f":"IF($B156=\"*\",\"\",VLOOKUP($A156,'2026-2027'!#REF!,M$5,FALSE))","v":{"$error":"#REF!"}}]
[124,{"$f":"VLOOKUP(A157,'2026-2027'!#REF!,9,FALSE)","v":{"$error":"#REF!"}},{"$f":"VLOOKUP($A157,'2026-2027'!#REF!,C$26,FALSE)","v":{"$error":"#REF!"}},{"$f":"IF($B157=\"*\",\"\",VLOOKUP($A157,'2026-2027'!#REF!,D$26,FALSE))","v":{"$error":"#REF!"}},{"$f":"IF($B157=\"*\",\"\",VLOOKUP($A157,'2026-2027'!#REF!,E$26,FALSE))","v":{"$error":"#REF!"}},{"$f":"IF($B157=\"*\",\"\",VLOOKUP($A157,'2026-2027'!#REF!,F$26,FALSE))","v":{"$error":"#REF!"}},{"$f":"IF($B157=\"*\",\"\",VLOOKUP($A157,'2026-2027'!#REF!,G$26,FALSE))","v":{"$error":"#REF!"}},null,{"$f":"IF($B157=\"*\",\"\",VLOOKUP($A157,'2026-2027'!#REF!,I$26,FALSE))","v":{"$error":"#REF!"}},null,{"$f":"IF($B157=\"*\",\"\",VLOOKUP($A157,'2026-2027'!#REF!,K$5,FALSE))","v":{"$error":"#REF!"}},null,{"$f":"IF($B157=\"*\",\"\",VLOOKUP($A157,'2026-2027'!#REF!,M$5,FALSE))","v":{"$error":"#REF!"}}]
[125,{"$f":"VLOOKUP(A158,'2026-2027'!#REF!,9,FALSE)","v":{"$error":"#REF!"}},{"$f":"VLOOKUP($A158,'2026-2027'!#REF!,C$26,FALSE)","v":{"$error":"#REF!"}},{"$f":"IF($B158=\"*\",\"\",VLOOKUP($A158,'2026-2027'!#REF!,D$26,FALSE))","v":{"$error":"#REF!"}},{"$f":"IF($B158=\"*\",\"\",VLOOKUP($A158,'2026-2027'!#REF!,E$26,FALSE))","v":{"$error":"#REF!"}},{"$f":"IF($B158=\"*\",\"\",VLOOKUP($A158,'2026-2027'!#REF!,F$26,FALSE))","v":{"$error":"#REF!"}},{"$f":"IF($B158=\"*\",\"\",VLOOKUP($A158,'2026-2027'!#REF!,G$26,FALSE))","v":{"$error":"#REF!"}},null,{"$f":"IF($B158=\"*\",\"\",VLOOKUP($A158,'2026-2027'!#REF!,I$26,FALSE))","v":{"$error":"#REF!"}},null,{"$f":"IF($B158=\"*\",\"\",VLOOKUP($A158,'2026-2027'!#REF!,K$5,FALSE))","v":{"$error":"#REF!"}},null,{"$f":"IF($B158=\"*\",\"\",VLOOKUP($A158,'2026-2027'!#REF!,M$5,FALSE))","v":{"$error":"#REF!"}}]
[126,{"$f":"VLOOKUP(A159,'2026-2027'!#REF!,9,FALSE)","v":{"$error":"#REF!"}},{"$f":"VLOOKUP($A159,'2026-2027'!#REF!,C$26,FALSE)","v":{"$error":"#REF!"}},{"$f":"IF($B159=\"*\",\"\",VLOOKUP($A159,'2026-2027'!#REF!,D$26,FALSE))","v":{"$error":"#REF!"}},{"$f":"IF($B159=\"*\",\"\",VLOOKUP($A159,'2026-2027'!#REF!,E$26,FALSE))","v":{"$error":"#REF!"}},{"$f":"IF($B159=\"*\",\"\",VLOOKUP($A159,'2026-2027'!#REF!,F$26,FALSE))","v":{"$error":"#REF!"}},{"$f":"IF($B159=\"*\",\"\",VLOOKUP($A159,'2026-2027'!#REF!,G$26,FALSE))","v":{"$error":"#REF!"}},null,{"$f":"IF($B159=\"*\",\"\",VLOOKUP($A159,'2026-2027'!#REF!,I$26,FALSE))","v":{"$error":"#REF!"}},null,{"$f":"IF($B159=\"*\",\"\",VLOOKUP($A159,'2026-2027'!#REF!,K$5,FALSE))","v":{"$error":"#REF!"}},null,{"$f":"IF($B159=\"*\",\"\",VLOOKUP($A159,'2026-2027'!#REF!,M$5,FALSE))","v":{"$error":"#REF!"}}]
[127,{"$f":"VLOOKUP(A160,'2026-2027'!#REF!,9,FALSE)","v":{"$error":"#REF!"}},{"$f":"VLOOKUP($A160,'2026-2027'!#REF!,C$26,FALSE)","v":{"$error":"#REF!"}},{"$f":"IF($B160=\"*\",\"\",VLOOKUP($A160,'2026-2027'!#REF!,D$26,FALSE))","v":{"$error":"#REF!"}},{"$f":"IF($B160=\"*\",\"\",VLOOKUP($A160,'2026-2027'!#REF!,E$26,FALSE))","v":{"$error":"#REF!"}},{"$f":"IF($B160=\"*\",\"\",VLOOKUP($A160,'2026-2027'!#REF!,F$26,FALSE))","v":{"$error":"#REF!"}},{"$f":"IF($B160=\"*\",\"\",VLOOKUP($A160,'2026-2027'!#REF!,G$26,FALSE))","v":{"$error":"#REF!"}},null,{"$f":"IF($B160=\"*\",\"\",VLOOKUP($A160,'2026-2027'!#REF!,I$26,FALSE))","v":{"$error":"#REF!"}},null,{"$f":"IF($B160=\"*\",\"\",VLOOKUP($A160,'2026-2027'!#REF!,K$5,FALSE))","v":{"$error":"#REF!"}},null,{"$f":"IF($B160=\"*\",\"\",VLOOKUP($A160,'2026-2027'!#REF!,M$5,FALSE))","v":{"$error":"#REF!"}}]
[128,{"$f":"VLOOKUP(A161,'2026-2027'!#REF!,9,FALSE)","v":{"$error":"#REF!"}},{"$f":"VLOOKUP($A161,'2026-2027'!#REF!,C$26,FALSE)","v":{"$error":"#REF!"}},{"$f":"IF($B161=\"*\",\"\",VLOOKUP($A161,'2026-2027'!#REF!,D$26,FALSE))","v":{"$error":"#REF!"}},{"$f":"IF($B161=\"*\",\"\",VLOOKUP($A161,'2026-2027'!#REF!,E$26,FALSE))","v":{"$error":"#REF!"}},{"$f":"IF($B161=\"*\",\"\",VLOOKUP($A161,'2026-2027'!#REF!,F$26,FALSE))","v":{"$error":"#REF!"}},{"$f":"IF($B161=\"*\",\"\",VLOOKUP($A161,'2026-2027'!#REF!,G$26,FALSE))","v":{"$error":"#REF!"}},null,{"$f":"IF($B161=\"*\",\"\",VLOOKUP($A161,'2026-2027'!#REF!,I$26,FALSE))","v":{"$error":"#REF!"}},null,{"$f":"IF($B161=\"*\",\"\",VLOOKUP($A161,'2026-2027'!#REF!,K$5,FALSE))","v":{"$error":"#REF!"}},null,{"$f":"IF($B161=\"*\",\"\",VLOOKUP($A161,'2026-2027'!#REF!,M$5,FALSE))","v":{"$error":"#REF!"}}]
[129,{"$f":"VLOOKUP(A162,'2026-2027'!#REF!,9,FALSE)","v":{"$error":"#REF!"}},{"$f":"VLOOKUP($A162,'2026-2027'!#REF!,C$26,FALSE)","v":{"$error":"#REF!"}},{"$f":"IF($B162=\"*\",\"\",VLOOKUP($A162,'2026-2027'!#REF!,D$26,FALSE))","v":{"$error":"#REF!"}},{"$f":"IF($B162=\"*\",\"\",VLOOKUP($A162,'2026-2027'!#REF!,E$26,FALSE))","v":{"$error":"#REF!"}},{"$f":"IF($B162=\"*\",\"\",VLOOKUP($A162,'2026-2027'!#REF!,F$26,FALSE))","v":{"$error":"#REF!"}},{"$f":"IF($B162=\"*\",\"\",VLOOKUP($A162,'2026-2027'!#REF!,G$26,FALSE))","v":{"$error":"#REF!"}},null,{"$f":"IF($B162=\"*\",\"\",VLOOKUP($A162,'2026-2027'!#REF!,I$26,FALSE))","v":{"$error":"#REF!"}},null,{"$f":"IF($B162=\"*\",\"\",VLOOKUP($A162,'2026-2027'!#REF!,K$5,FALSE))","v":{"$error":"#REF!"}},null,{"$f":"IF($B162=\"*\",\"\",VLOOKUP($A162,'2026-2027'!#REF!,M$5,FALSE))","v":{"$error":"#REF!"}}]
[130,{"$f":"VLOOKUP(A163,'2026-2027'!#REF!,9,FALSE)","v":{"$error":"#REF!"}},{"$f":"VLOOKUP($A163,'2026-2027'!#REF!,C$26,FALSE)","v":{"$error":"#REF!"}},{"$f":"IF($B163=\"*\",\"\",VLOOKUP($A163,'2026-2027'!#REF!,D$26,FALSE))","v":{"$error":"#REF!"}},{"$f":"IF($B163=\"*\",\"\",VLOOKUP($A163,'2026-2027'!#REF!,E$26,FALSE))","v":{"$error":"#REF!"}},{"$f":"IF($B163=\"*\",\"\",VLOOKUP($A163,'2026-2027'!#REF!,F$26,FALSE))","v":{"$error":"#REF!"}},{"$f":"IF($B163=\"*\",\"\",VLOOKUP($A163,'2026-2027'!#REF!,G$26,FALSE))","v":{"$error":"#REF!"}},null,{"$f":"IF($B163=\"*\",\"\",VLOOKUP($A163,'2026-2027'!#REF!,I$26,FALSE))","v":{"$error":"#REF!"}},null,{"$f":"IF($B163=\"*\",\"\",VLOOKUP($A163,'2026-2027'!#REF!,K$5,FALSE))","v":{"$error":"#REF!"}},null,{"$f":"IF($B163=\"*\",\"\",VLOOKUP($A163,'2026-2027'!#REF!,M$5,FALSE))","v":{"$error":"#REF!"}}]
[{"$f":"A163+1","v":131},{"$f":"VLOOKUP(A164,'2026-2027'!#REF!,9,FALSE)","v":{"$error":"#REF!"}},{"$f":"VLOOKUP($A164,'2026-2027'!#REF!,C$26,FALSE)","v":{"$error":"#REF!"}},{"$f":"IF($B164=\"*\",\"\",VLOOKUP($A164,'2026-2027'!#REF!,D$26,FALSE))","v":{"$error":"#REF!"}},{"$f":"IF($B164=\"*\",\"\",VLOOKUP($A164,'2026-2027'!#REF!,E$26,FALSE))","v":{"$error":"#REF!"}},{"$f":"IF($B164=\"*\",\"\",VLOOKUP($A164,'2026-2027'!#REF!,F$26,FALSE))","v":{"$error":"#REF!"}},{"$f":"IF($B164=\"*\",\"\",VLOOKUP($A164,'2026-2027'!#REF!,G$26,FALSE))","v":{"$error":"#REF!"}},null,{"$f":"IF($B164=\"*\",\"\",VLOOKUP($A164,'2026-2027'!#REF!,I$26,FALSE))","v":{"$error":"#REF!"}},null,{"$f":"IF($B164=\"*\",\"\",VLOOKUP($A164,'2026-2027'!#REF!,K$5,FALSE))","v":{"$error":"#REF!"}},null,{"$f":"IF($B164=\"*\",\"\",VLOOKUP($A164,'2026-2027'!#REF!,M$5,FALSE))","v":{"$error":"#REF!"}}]
[132,{"$f":"VLOOKUP(A165,'2026-2027'!#REF!,9,FALSE)","v":{"$error":"#REF!"}},{"$f":"VLOOKUP($A165,'2026-2027'!#REF!,C$26,FALSE)","v":{"$error":"#REF!"}},{"$f":"IF($B165=\"*\",\"\",VLOOKUP($A165,'2026-2027'!#REF!,D$26,FALSE))","v":{"$error":"#REF!"}},{"$f":"IF($B165=\"*\",\"\",VLOOKUP($A165,'2026-2027'!#REF!,E$26,FALSE))","v":{"$error":"#REF!"}},{"$f":"IF($B165=\"*\",\"\",VLOOKUP($A165,'2026-2027'!#REF!,F$26,FALSE))","v":{"$error":"#REF!"}},{"$f":"IF($B165=\"*\",\"\",VLOOKUP($A165,'2026-2027'!#REF!,G$26,FALSE))","v":{"$error":"#REF!"}},null,{"$f":"IF($B165=\"*\",\"\",VLOOKUP($A165,'2026-2027'!#REF!,I$26,FALSE))","v":{"$error":"#REF!"}},null,{"$f":"IF($B165=\"*\",\"\",VLOOKUP($A165,'2026-2027'!#REF!,K$5,FALSE))","v":{"$error":"#REF!"}},null,{"$f":"IF($B165=\"*\",\"\",VLOOKUP($A165,'2026-2027'!#REF!,M$5,FALSE))","v":{"$error":"#REF!"}}]
[133,{"$f":"VLOOKUP(A166,'2026-2027'!#REF!,9,FALSE)","v":{"$error":"#REF!"}},{"$f":"VLOOKUP($A166,'2026-2027'!#REF!,C$26,FALSE)","v":{"$error":"#REF!"}},null,null,null,null,null,null,null,{"$f":"IF($B166=\"*\",\"\",VLOOKUP($A166,'2026-2027'!#REF!,K$5,FALSE))","v":{"$error":"#REF!"}},null,{"$f":"IF($B166=\"*\",\"\",VLOOKUP($A166,'2026-2027'!#REF!,M$5,FALSE))","v":{"$error":"#REF!"}}]
[134,{"$f":"VLOOKUP(A167,'2026-2027'!#REF!,9,FALSE)","v":{"$error":"#REF!"}},{"$f":"VLOOKUP($A167,'2026-2027'!#REF!,C$26,FALSE)","v":{"$error":"#REF!"}},{"$f":"IF($B167=\"*\",\"\",VLOOKUP($A167,'2026-2027'!#REF!,D$26,FALSE))","v":{"$error":"#REF!"}},{"$f":"IF($B167=\"*\",\"\",VLOOKUP($A167,'2026-2027'!#REF!,E$26,FALSE))","v":{"$error":"#REF!"}},{"$f":"IF($B167=\"*\",\"\",VLOOKUP($A167,'2026-2027'!#REF!,F$26,FALSE))","v":{"$error":"#REF!"}},{"$f":"IF($B167=\"*\",\"\",VLOOKUP($A167,'2026-2027'!#REF!,G$26,FALSE))","v":{"$error":"#REF!"}},null,{"$f":"IF($B167=\"*\",\"\",VLOOKUP($A167,'2026-2027'!#REF!,I$26,FALSE))","v":{"$error":"#REF!"}},null,{"$f":"IF($B167=\"*\",\"\",VLOOKUP($A167,'2026-2027'!#REF!,K$5,FALSE))","v":{"$error":"#REF!"}},null,{"$f":"IF($B167=\"*\",\"\",VLOOKUP($A167,'2026-2027'!#REF!,M$5,FALSE))","v":{"$error":"#REF!"}}]
[135,{"$f":"VLOOKUP(A168,'2026-2027'!#REF!,9,FALSE)","v":{"$error":"#REF!"}},{"$f":"VLOOKUP($A168,'2026-2027'!#REF!,C$26,FALSE)","v":{"$error":"#REF!"}},{"$f":"IF($B168=\"*\",\"\",VLOOKUP($A168,'2026-2027'!#REF!,D$26,FALSE))","v":{"$error":"#REF!"}},{"$f":"IF($B168=\"*\",\"\",VLOOKUP($A168,'2026-2027'!#REF!,E$26,FALSE))","v":{"$error":"#REF!"}},{"$f":"IF($B168=\"*\",\"\",VLOOKUP($A168,'2026-2027'!#REF!,F$26,FALSE))","v":{"$error":"#REF!"}},{"$f":"IF($B168=\"*\",\"\",VLOOKUP($A168,'2026-2027'!#REF!,G$26,FALSE))","v":{"$error":"#REF!"}},null,{"$f":"IF($B168=\"*\",\"\",VLOOKUP($A168,'2026-2027'!#REF!,I$26,FALSE))","v":{"$error":"#REF!"}},null,{"$f":"IF($B168=\"*\",\"\",VLOOKUP($A168,'2026-2027'!#REF!,K$5,FALSE))","v":{"$error":"#REF!"}},null,{"$f":"IF($B168=\"*\",\"\",VLOOKUP($A168,'2026-2027'!#REF!,M$5,FALSE))","v":{"$error":"#REF!"}}]
[136,{"$f":"VLOOKUP(A169,'2026-2027'!#REF!,9,FALSE)","v":{"$error":"#REF!"}},{"$f":"VLOOKUP($A169,'2026-2027'!#REF!,C$26,FALSE)","v":{"$error":"#REF!"}},{"$f":"IF($B169=\"*\",\"\",VLOOKUP($A169,'2026-2027'!#REF!,D$26,FALSE))","v":{"$error":"#REF!"}},{"$f":"IF($B169=\"*\",\"\",VLOOKUP($A169,'2026-2027'!#REF!,E$26,FALSE))","v":{"$error":"#REF!"}},{"$f":"IF($B169=\"*\",\"\",VLOOKUP($A169,'2026-2027'!#REF!,F$26,FALSE))","v":{"$error":"#REF!"}},{"$f":"IF($B169=\"*\",\"\",VLOOKUP($A169,'2026-2027'!#REF!,G$26,FALSE))","v":{"$error":"#REF!"}},null,{"$f":"IF($B169=\"*\",\"\",VLOOKUP($A169,'2026-2027'!#REF!,I$26,FALSE))","v":{"$error":"#REF!"}},null,{"$f":"IF($B169=\"*\",\"\",VLOOKUP($A169,'2026-2027'!#REF!,K$5,FALSE))","v":{"$error":"#REF!"}},null,{"$f":"IF($B169=\"*\",\"\",VLOOKUP($A169,'2026-2027'!#REF!,M$5,FALSE))","v":{"$error":"#REF!"}}]
[137,{"$f":"VLOOKUP(A170,'2026-2027'!#REF!,9,FALSE)","v":{"$error":"#REF!"}},{"$f":"VLOOKUP($A170,'2026-2027'!#REF!,C$26,FALSE)","v":{"$error":"#REF!"}},{"$f":"IF($B170=\"*\",\"\",VLOOKUP($A170,'2026-2027'!#REF!,D$26,FALSE))","v":{"$error":"#REF!"}},{"$f":"IF($B170=\"*\",\"\",VLOOKUP($A170,'2026-2027'!#REF!,E$26,FALSE))","v":{"$error":"#REF!"}},{"$f":"IF($B170=\"*\",\"\",VLOOKUP($A170,'2026-2027'!#REF!,F$26,FALSE))","v":{"$error":"#REF!"}},{"$f":"IF($B170=\"*\",\"\",VLOOKUP($A170,'2026-2027'!#REF!,G$26,FALSE))","v":{"$error":"#REF!"}},null,{"$f":"IF($B170=\"*\",\"\",VLOOKUP($A170,'2026-2027'!#REF!,I$26,FALSE))","v":{"$error":"#REF!"}},null,{"$f":"IF($B170=\"*\",\"\",VLOOKUP($A170,'2026-2027'!#REF!,K$5,FALSE))","v":{"$error":"#REF!"}},null,{"$f":"IF($B170=\"*\",\"\",VLOOKUP($A170,'2026-2027'!#REF!,M$5,FALSE))","v":{"$error":"#REF!"}}]
[138,{"$f":"VLOOKUP(A171,'2026-2027'!#REF!,9,FALSE)","v":{"$error":"#REF!"}},{"$f":"VLOOKUP($A171,'2026-2027'!#REF!,C$26,FALSE)","v":{"$error":"#REF!"}},{"$f":"IF($B171=\"*\",\"\",VLOOKUP($A171,'2026-2027'!#REF!,D$26,FALSE))","v":{"$error":"#REF!"}},{"$f":"IF($B171=\"*\",\"\",VLOOKUP($A171,'2026-2027'!#REF!,E$26,FALSE))","v":{"$error":"#REF!"}},{"$f":"IF($B171=\"*\",\"\",VLOOKUP($A171,'2026-2027'!#REF!,F$26,FALSE))","v":{"$error":"#REF!"}},{"$f":"IF($B171=\"*\",\"\",VLOOKUP($A171,'2026-2027'!#REF!,G$26,FALSE))","v":{"$error":"#REF!"}},null,{"$f":"IF($B171=\"*\",\"\",VLOOKUP($A171,'2026-2027'!#REF!,I$26,FALSE))","v":{"$error":"#REF!"}},null,{"$f":"IF($B171=\"*\",\"\",VLOOKUP($A171,'2026-2027'!#REF!,K$5,FALSE))","v":{"$error":"#REF!"}},null,{"$f":"IF($B171=\"*\",\"\",VLOOKUP($A171,'2026-2027'!#REF!,M$5,FALSE))","v":{"$error":"#REF!"}}]
[139,{"$f":"VLOOKUP(A172,'2026-2027'!#REF!,9,FALSE)","v":{"$error":"#REF!"}},{"$f":"VLOOKUP($A172,'2026-2027'!#REF!,C$26,FALSE)","v":{"$error":"#REF!"}},{"$f":"IF($B172=\"*\",\"\",VLOOKUP($A172,'2026-2027'!#REF!,D$26,FALSE))","v":{"$error":"#REF!"}},{"$f":"IF($B172=\"*\",\"\",VLOOKUP($A172,'2026-2027'!#REF!,E$26,FALSE))","v":{"$error":"#REF!"}},{"$f":"IF($B172=\"*\",\"\",VLOOKUP($A172,'2026-2027'!#REF!,F$26,FALSE))","v":{"$error":"#REF!"}},{"$f":"IF($B172=\"*\",\"\",VLOOKUP($A172,'2026-2027'!#REF!,G$26,FALSE))","v":{"$error":"#REF!"}},null,{"$f":"IF($B172=\"*\",\"\",VLOOKUP($A172,'2026-2027'!#REF!,I$26,FALSE))","v":{"$error":"#REF!"}},null,{"$f":"IF($B172=\"*\",\"\",VLOOKUP($A172,'2026-2027'!#REF!,K$5,FALSE))","v":{"$error":"#REF!"}},null,{"$f":"IF($B172=\"*\",\"\",VLOOKUP($A172,'2026-2027'!#REF!,M$5,FALSE))","v":{"$error":"#REF!"}}]
[140,{"$f":"VLOOKUP(A173,'2026-2027'!#REF!,9,FALSE)","v":{"$error":"#REF!"}},{"$f":"VLOOKUP($A173,'2026-2027'!#REF!,C$26,FALSE)","v":{"$error":"#REF!"}},{"$f":"IF($B173=\"*\",\"\",VLOOKUP($A173,'2026-2027'!#REF!,D$26,FALSE))","v":{"$error":"#REF!"}},{"$f":"IF($B173=\"*\",\"\",VLOOKUP($A173,'2026-2027'!#REF!,E$26,FALSE))","v":{"$error":"#REF!"}},{"$f":"IF($B173=\"*\",\"\",VLOOKUP($A173,'2026-2027'!#REF!,F$26,FALSE))","v":{"$error":"#REF!"}},{"$f":"IF($B173=\"*\",\"\",VLOOKUP($A173,'2026-2027'!#REF!,G$26,FALSE))","v":{"$error":"#REF!"}},null,{"$f":"IF($B173=\"*\",\"\",VLOOKUP($A173,'2026-2027'!#REF!,I$26,FALSE))","v":{"$error":"#REF!"}},null,{"$f":"IF($B173=\"*\",\"\",VLOOKUP($A173,'2026-2027'!#REF!,K$5,FALSE))","v":{"$error":"#REF!"}},null,{"$f":"IF($B173=\"*\",\"\",VLOOKUP($A173,'2026-2027'!#REF!,M$5,FALSE))","v":{"$error":"#REF!"}}]
[141,{"$f":"VLOOKUP(A174,'2026-2027'!#REF!,9,FALSE)","v":{"$error":"#REF!"}},{"$f":"VLOOKUP($A174,'2026-2027'!#REF!,C$26,FALSE)","v":{"$error":"#REF!"}},{"$f":"IF($B174=\"*\",\"\",VLOOKUP($A174,'2026-2027'!#REF!,D$26,FALSE))","v":{"$error":"#REF!"}},{"$f":"IF($B174=\"*\",\"\",VLOOKUP($A174,'2026-2027'!#REF!,E$26,FALSE))","v":{"$error":"#REF!"}},{"$f":"IF($B174=\"*\",\"\",VLOOKUP($A174,'2026-2027'!#REF!,F$26,FALSE))","v":{"$error":"#REF!"}},{"$f":"IF($B174=\"*\",\"\",VLOOKUP($A174,'2026-2027'!#REF!,G$26,FALSE))","v":{"$error":"#REF!"}},null,{"$f":"IF($B174=\"*\",\"\",VLOOKUP($A174,'2026-2027'!#REF!,I$26,FALSE))","v":{"$error":"#REF!"}},null,{"$f":"IF($B174=\"*\",\"\",VLOOKUP($A174,'2026-2027'!#REF!,K$5,FALSE))","v":{"$error":"#REF!"}},null,{"$f":"IF($B174=\"*\",\"\",VLOOKUP($A174,'2026-2027'!#REF!,M$5,FALSE))","v":{"$error":"#REF!"}}]
[142,{"$f":"VLOOKUP(A175,'2026-2027'!#REF!,9,FALSE)","v":{"$error":"#REF!"}},{"$f":"VLOOKUP($A175,'2026-2027'!#REF!,C$26,FALSE)","v":{"$error":"#REF!"}},{"$f":"IF($B175=\"*\",\"\",VLOOKUP($A175,'2026-2027'!#REF!,D$26,FALSE))","v":{"$error":"#REF!"}},{"$f":"IF($B175=\"*\",\"\",VLOOKUP($A175,'2026-2027'!#REF!,E$26,FALSE))","v":{"$error":"#REF!"}},{"$f":"IF($B175=\"*\",\"\",VLOOKUP($A175,'2026-2027'!#REF!,F$26,FALSE))","v":{"$error":"#REF!"}},{"$f":"IF($B175=\"*\",\"\",VLOOKUP($A175,'2026-2027'!#REF!,G$26,FALSE))","v":{"$error":"#REF!"}},null,{"$f":"IF($B175=\"*\",\"\",VLOOKUP($A175,'2026-2027'!#REF!,I$26,FALSE))","v":{"$error":"#REF!"}},null,{"$f":"IF($B175=\"*\",\"\",VLOOKUP($A175,'2026-2027'!#REF!,K$5,FALSE))","v":{"$error":"#REF!"}},null,{"$f":"IF($B175=\"*\",\"\",VLOOKUP($A175,'2026-2027'!#REF!,M$5,FALSE))","v":{"$error":"#REF!"}}]
[143,{"$f":"VLOOKUP(A176,'2026-2027'!#REF!,9,FALSE)","v":{"$error":"#REF!"}},{"$f":"VLOOKUP($A176,'2026-2027'!#REF!,C$26,FALSE)","v":{"$error":"#REF!"}},{"$f":"IF($B176=\"*\",\"\",VLOOKUP($A176,'2026-2027'!#REF!,D$26,FALSE))","v":{"$error":"#REF!"}},{"$f":"IF($B176=\"*\",\"\",VLOOKUP($A176,'2026-2027'!#REF!,E$26,FALSE))","v":{"$error":"#REF!"}},{"$f":"IF($B176=\"*\",\"\",VLOOKUP($A176,'2026-2027'!#REF!,F$26,FALSE))","v":{"$error":"#REF!"}},{"$f":"IF($B176=\"*\",\"\",VLOOKUP($A176,'2026-2027'!#REF!,G$26,FALSE))","v":{"$error":"#REF!"}},null,{"$f":"IF($B176=\"*\",\"\",VLOOKUP($A176,'2026-2027'!#REF!,I$26,FALSE))","v":{"$error":"#REF!"}},null,{"$f":"IF($B176=\"*\",\"\",VLOOKUP($A176,'2026-2027'!#REF!,K$5,FALSE))","v":{"$error":"#REF!"}},null,{"$f":"IF($B176=\"*\",\"\",VLOOKUP($A176,'2026-2027'!#REF!,M$5,FALSE))","v":{"$error":"#REF!"}}]
[144,{"$f":"VLOOKUP(A177,'2026-2027'!#REF!,9,FALSE)","v":{"$error":"#REF!"}},{"$f":"VLOOKUP($A177,'2026-2027'!#REF!,C$26,FALSE)","v":{"$error":"#REF!"}},{"$f":"IF($B177=\"*\",\"\",VLOOKUP($A177,'2026-2027'!#REF!,D$26,FALSE))","v":{"$error":"#REF!"}},{"$f":"IF($B177=\"*\",\"\",VLOOKUP($A177,'2026-2027'!#REF!,E$26,FALSE))","v":{"$error":"#REF!"}},{"$f":"IF($B177=\"*\",\"\",VLOOKUP($A177,'2026-2027'!#REF!,F$26,FALSE))","v":{"$error":"#REF!"}},{"$f":"IF($B177=\"*\",\"\",VLOOKUP($A177,'2026-2027'!#REF!,G$26,FALSE))","v":{"$error":"#REF!"}},null,{"$f":"IF($B177=\"*\",\"\",VLOOKUP($A177,'2026-2027'!#REF!,I$26,FALSE))","v":{"$error":"#REF!"}},null,{"$f":"IF($B177=\"*\",\"\",VLOOKUP($A177,'2026-2027'!#REF!,K$5,FALSE))","v":{"$error":"#REF!"}},null,{"$f":"IF($B177=\"*\",\"\",VLOOKUP($A177,'2026-2027'!#REF!,M$5,FALSE))","v":{"$error":"#REF!"}}]
[145,{"$f":"VLOOKUP(A178,'2026-2027'!#REF!,9,FALSE)","v":{"$error":"#REF!"}},{"$f":"VLOOKUP($A178,'2026-2027'!#REF!,C$26,FALSE)","v":{"$error":"#REF!"}},{"$f":"IF($B178=\"*\",\"\",VLOOKUP($A178,'2026-2027'!#REF!,D$26,FALSE))","v":{"$error":"#REF!"}},{"$f":"IF($B178=\"*\",\"\",VLOOKUP($A178,'2026-2027'!#REF!,E$26,FALSE))","v":{"$error":"#REF!"}},{"$f":"IF($B178=\"*\",\"\",VLOOKUP($A178,'2026-2027'!#REF!,F$26,FALSE))","v":{"$error":"#REF!"}},{"$f":"IF($B178=\"*\",\"\",VLOOKUP($A178,'2026-2027'!#REF!,G$26,FALSE))","v":{"$error":"#REF!"}},null,{"$f":"IF($B178=\"*\",\"\",VLOOKUP($A178,'2026-2027'!#REF!,I$26,FALSE))","v":{"$error":"#REF!"}},null,{"$f":"IF($B178=\"*\",\"\",VLOOKUP($A178,'2026-2027'!#REF!,K$5,FALSE))","v":{"$error":"#REF!"}},null,{"$f":"IF($B178=\"*\",\"\",VLOOKUP($A178,'2026-2027'!#REF!,M$5,FALSE))","v":{"$error":"#REF!"}}]
[146,{"$f":"VLOOKUP(A179,'2026-2027'!#REF!,9,FALSE)","v":{"$error":"#REF!"}},{"$f":"VLOOKUP($A179,'2026-2027'!#REF!,C$26,FALSE)","v":{"$error":"#REF!"}},null,null,null,null,null,null,null,{"$f":"IF($B179=\"*\",\"\",VLOOKUP($A179,'2026-2027'!#REF!,K$5,FALSE))","v":{"$error":"#REF!"}},null,{"$f":"IF($B179=\"*\",\"\",VLOOKUP($A179,'2026-2027'!#REF!,M$5,FALSE))","v":{"$error":"#REF!"}}]
[147,{"$f":"VLOOKUP(A180,'2026-2027'!#REF!,9,FALSE)","v":{"$error":"#REF!"}},{"$f":"VLOOKUP($A180,'2026-2027'!#REF!,C$26,FALSE)","v":{"$error":"#REF!"}},{"$f":"IF($B180=\"*\",\"\",VLOOKUP($A180,'2026-2027'!#REF!,D$26,FALSE))","v":{"$error":"#REF!"}},{"$f":"IF($B180=\"*\",\"\",VLOOKUP($A180,'2026-2027'!#REF!,E$26,FALSE))","v":{"$error":"#REF!"}},{"$f":"IF($B180=\"*\",\"\",VLOOKUP($A180,'2026-2027'!#REF!,F$26,FALSE))","v":{"$error":"#REF!"}},{"$f":"IF($B180=\"*\",\"\",VLOOKUP($A180,'2026-2027'!#REF!,G$26,FALSE))","v":{"$error":"#REF!"}},null,{"$f":"IF($B180=\"*\",\"\",VLOOKUP($A180,'2026-2027'!#REF!,I$26,FALSE))","v":{"$error":"#REF!"}},null,{"$f":"IF($B180=\"*\",\"\",VLOOKUP($A180,'2026-2027'!#REF!,K$5,FALSE))","v":{"$error":"#REF!"}},null,{"$f":"IF($B180=\"*\",\"\",VLOOKUP($A180,'2026-2027'!#REF!,M$5,FALSE))","v":{"$error":"#REF!"}}]
[148,{"$f":"VLOOKUP(A181,'2026-2027'!#REF!,9,FALSE)","v":{"$error":"#REF!"}},{"$f":"VLOOKUP($A181,'2026-2027'!#REF!,C$26,FALSE)","v":{"$error":"#REF!"}},{"$f":"IF($B181=\"*\",\"\",VLOOKUP($A181,'2026-2027'!#REF!,D$26,FALSE))","v":{"$error":"#REF!"}},{"$f":"IF($B181=\"*\",\"\",VLOOKUP($A181,'2026-2027'!#REF!,E$26,FALSE))","v":{"$error":"#REF!"}},{"$f":"IF($B181=\"*\",\"\",VLOOKUP($A181,'2026-2027'!#REF!,F$26,FALSE))","v":{"$error":"#REF!"}},{"$f":"IF($B181=\"*\",\"\",VLOOKUP($A181,'2026-2027'!#REF!,G$26,FALSE))","v":{"$error":"#REF!"}},null,{"$f":"IF($B181=\"*\",\"\",VLOOKUP($A181,'2026-2027'!#REF!,I$26,FALSE))","v":{"$error":"#REF!"}},null,{"$f":"IF($B181=\"*\",\"\",VLOOKUP($A181,'2026-2027'!#REF!,K$5,FALSE))","v":{"$error":"#REF!"}},null,{"$f":"IF($B181=\"*\",\"\",VLOOKUP($A181,'2026-2027'!#REF!,M$5,FALSE))","v":{"$error":"#REF!"}}]
[149,{"$f":"VLOOKUP(A182,'2026-2027'!#REF!,9,FALSE)","v":{"$error":"#REF!"}},{"$f":"VLOOKUP($A182,'2026-2027'!#REF!,C$26,FALSE)","v":{"$error":"#REF!"}},{"$f":"IF($B182=\"*\",\"\",VLOOKUP($A182,'2026-2027'!#REF!,D$26,FALSE))","v":{"$error":"#REF!"}},{"$f":"IF($B182=\"*\",\"\",VLOOKUP($A182,'2026-2027'!#REF!,E$26,FALSE))","v":{"$error":"#REF!"}},{"$f":"IF($B182=\"*\",\"\",VLOOKUP($A182,'2026-2027'!#REF!,F$26,FALSE))","v":{"$error":"#REF!"}},{"$f":"IF($B182=\"*\",\"\",VLOOKUP($A182,'2026-2027'!#REF!,G$26,FALSE))","v":{"$error":"#REF!"}},null,{"$f":"IF($B182=\"*\",\"\",VLOOKUP($A182,'2026-2027'!#REF!,I$26,FALSE))","v":{"$error":"#REF!"}},null,{"$f":"IF($B182=\"*\",\"\",VLOOKUP($A182,'2026-2027'!#REF!,K$5,FALSE))","v":{"$error":"#REF!"}},null,{"$f":"IF($B182=\"*\",\"\",VLOOKUP($A182,'2026-2027'!#REF!,M$5,FALSE))","v":{"$error":"#REF!"}}]
[150,{"$f":"VLOOKUP(A183,'2026-2027'!#REF!,9,FALSE)","v":{"$error":"#REF!"}},{"$f":"VLOOKUP($A183,'2026-2027'!#REF!,C$26,FALSE)","v":{"$error":"#REF!"}},{"$f":"IF($B183=\"*\",\"\",VLOOKUP($A183,'2026-2027'!#REF!,D$26,FALSE))","v":{"$error":"#REF!"}},{"$f":"IF($B183=\"*\",\"\",VLOOKUP($A183,'2026-2027'!#REF!,E$26,FALSE))","v":{"$error":"#REF!"}},{"$f":"IF($B183=\"*\",\"\",VLOOKUP($A183,'2026-2027'!#REF!,F$26,FALSE))","v":{"$error":"#REF!"}},{"$f":"IF($B183=\"*\",\"\",VLOOKUP($A183,'2026-2027'!#REF!,G$26,FALSE))","v":{"$error":"#REF!"}},null,{"$f":"IF($B183=\"*\",\"\",VLOOKUP($A183,'2026-2027'!#REF!,I$26,FALSE))","v":{"$error":"#REF!"}},null,{"$f":"IF($B183=\"*\",\"\",VLOOKUP($A183,'2026-2027'!#REF!,K$5,FALSE))","v":{"$error":"#REF!"}},null,{"$f":"IF($B183=\"*\",\"\",VLOOKUP($A183,'2026-2027'!#REF!,M$5,FALSE))","v":{"$error":"#REF!"}}]
[151,{"$f":"VLOOKUP(A184,'2026-2027'!#REF!,9,FALSE)","v":{"$error":"#REF!"}},{"$f":"VLOOKUP($A184,'2026-2027'!#REF!,C$26,FALSE)","v":{"$error":"#REF!"}},{"$f":"IF($B184=\"*\",\"\",VLOOKUP($A184,'2026-2027'!#REF!,D$26,FALSE))","v":{"$error":"#REF!"}},{"$f":"IF($B184=\"*\",\"\",VLOOKUP($A184,'2026-2027'!#REF!,E$26,FALSE))","v":{"$error":"#REF!"}},{"$f":"IF($B184=\"*\",\"\",VLOOKUP($A184,'2026-2027'!#REF!,F$26,FALSE))","v":{"$error":"#REF!"}},{"$f":"IF($B184=\"*\",\"\",VLOOKUP($A184,'2026-2027'!#REF!,G$26,FALSE))","v":{"$error":"#REF!"}},null,{"$f":"IF($B184=\"*\",\"\",VLOOKUP($A184,'2026-2027'!#REF!,I$26,FALSE))","v":{"$error":"#REF!"}},null,{"$f":"IF($B184=\"*\",\"\",VLOOKUP($A184,'2026-2027'!#REF!,K$5,FALSE))","v":{"$error":"#REF!"}},null,{"$f":"IF($B184=\"*\",\"\",VLOOKUP($A184,'2026-2027'!#REF!,M$5,FALSE))","v":{"$error":"#REF!"}}]
[152,{"$f":"VLOOKUP(A185,'2026-2027'!#REF!,9,FALSE)","v":{"$error":"#REF!"}},{"$f":"VLOOKUP($A185,'2026-2027'!#REF!,C$26,FALSE)","v":{"$error":"#REF!"}},null,null,null,null,null,null,null,{"$f":"IF($B185=\"*\",\"\",VLOOKUP($A185,'2026-2027'!#REF!,K$5,FALSE))","v":{"$error":"#REF!"}},null,{"$f":"IF($B185=\"*\",\"\",VLOOKUP($A185,'2026-2027'!#REF!,M$5,FALSE))","v":{"$error":"#REF!"}}]
[153,{"$f":"VLOOKUP(A186,'2026-2027'!#REF!,9,FALSE)","v":{"$error":"#REF!"}},{"$f":"VLOOKUP($A186,'2026-2027'!#REF!,C$26,FALSE)","v":{"$error":"#REF!"}},{"$f":"IF($B186=\"*\",\"\",VLOOKUP($A186,'2026-2027'!#REF!,D$26,FALSE))","v":{"$error":"#REF!"}},{"$f":"IF($B186=\"*\",\"\",VLOOKUP($A186,'2026-2027'!#REF!,E$26,FALSE))","v":{"$error":"#REF!"}},{"$f":"IF($B186=\"*\",\"\",VLOOKUP($A186,'2026-2027'!#REF!,F$26,FALSE))","v":{"$error":"#REF!"}},{"$f":"IF($B186=\"*\",\"\",VLOOKUP($A186,'2026-2027'!#REF!,G$26,FALSE))","v":{"$error":"#REF!"}},null,{"$f":"IF($B186=\"*\",\"\",VLOOKUP($A186,'2026-2027'!#REF!,I$26,FALSE))","v":{"$error":"#REF!"}},null,{"$f":"IF($B186=\"*\",\"\",VLOOKUP($A186,'2026-2027'!#REF!,K$5,FALSE))","v":{"$error":"#REF!"}},null,{"$f":"IF($B186=\"*\",\"\",VLOOKUP($A186,'2026-2027'!#REF!,M$5,FALSE))","v":{"$error":"#REF!"}}]
[154,{"$f":"VLOOKUP(A187,'2026-2027'!#REF!,9,FALSE)","v":{"$error":"#REF!"}},{"$f":"VLOOKUP($A187,'2026-2027'!#REF!,C$26,FALSE)","v":{"$error":"#REF!"}},{"$f":"IF($B187=\"*\",\"\",VLOOKUP($A187,'2026-2027'!#REF!,D$26,FALSE))","v":{"$error":"#REF!"}},{"$f":"IF($B187=\"*\",\"\",VLOOKUP($A187,'2026-2027'!#REF!,E$26,FALSE))","v":{"$error":"#REF!"}},{"$f":"IF($B187=\"*\",\"\",VLOOKUP($A187,'2026-2027'!#REF!,F$26,FALSE))","v":{"$error":"#REF!"}},{"$f":"IF($B187=\"*\",\"\",VLOOKUP($A187,'2026-2027'!#REF!,G$26,FALSE))","v":{"$error":"#REF!"}},null,{"$f":"IF($B187=\"*\",\"\",VLOOKUP($A187,'2026-2027'!#REF!,I$26,FALSE))","v":{"$error":"#REF!"}},null,{"$f":"IF($B187=\"*\",\"\",VLOOKUP($A187,'2026-2027'!#REF!,K$5,FALSE))","v":{"$error":"#REF!"}},null,{"$f":"IF($B187=\"*\",\"\",VLOOKUP($A187,'2026-2027'!#REF!,M$5,FALSE))","v":{"$error":"#REF!"}}]
[155,{"$f":"VLOOKUP(A188,'2026-2027'!#REF!,9,FALSE)","v":{"$error":"#REF!"}},{"$f":"VLOOKUP($A188,'2026-2027'!#REF!,C$26,FALSE)","v":{"$error":"#REF!"}},{"$f":"IF($B188=\"*\",\"\",VLOOKUP($A188,'2026-2027'!#REF!,D$26,FALSE))","v":{"$error":"#REF!"}},{"$f":"IF($B188=\"*\",\"\",VLOOKUP($A188,'2026-2027'!#REF!,E$26,FALSE))","v":{"$error":"#REF!"}},{"$f":"IF($B188=\"*\",\"\",VLOOKUP($A188,'2026-2027'!#REF!,F$26,FALSE))","v":{"$error":"#REF!"}},{"$f":"IF($B188=\"*\",\"\",VLOOKUP($A188,'2026-2027'!#REF!,G$26,FALSE))","v":{"$error":"#REF!"}},null,{"$f":"IF($B188=\"*\",\"\",VLOOKUP($A188,'2026-2027'!#REF!,I$26,FALSE))","v":{"$error":"#REF!"}},null,{"$f":"IF($B188=\"*\",\"\",VLOOKUP($A188,'2026-2027'!#REF!,K$5,FALSE))","v":{"$error":"#REF!"}},null,{"$f":"IF($B188=\"*\",\"\",VLOOKUP($A188,'2026-2027'!#REF!,M$5,FALSE))","v":{"$error":"#REF!"}}]
[156,{"$f":"VLOOKUP(A189,'2026-2027'!#REF!,9,FALSE)","v":{"$error":"#REF!"}},{"$f":"VLOOKUP($A189,'2026-2027'!#REF!,C$26,FALSE)","v":{"$error":"#REF!"}},null,null,null,null,null,null,null,{"$f":"IF($B189=\"*\",\"\",VLOOKUP($A189,'2026-2027'!#REF!,K$5,FALSE))","v":{"$error":"#REF!"}},null,{"$f":"IF($B189=\"*\",\"\",VLOOKUP($A189,'2026-2027'!#REF!,M$5,FALSE))","v":{"$error":"#REF!"}}]
[157,{"$f":"VLOOKUP(A190,'2026-2027'!#REF!,9,FALSE)","v":{"$error":"#REF!"}},{"$f":"VLOOKUP($A190,'2026-2027'!#REF!,C$26,FALSE)","v":{"$error":"#REF!"}},{"$f":"IF($B190=\"*\",\"\",VLOOKUP($A190,'2026-2027'!#REF!,D$26,FALSE))","v":{"$error":"#REF!"}},{"$f":"IF($B190=\"*\",\"\",VLOOKUP($A190,'2026-2027'!#REF!,E$26,FALSE))","v":{"$error":"#REF!"}},{"$f":"IF($B190=\"*\",\"\",VLOOKUP($A190,'2026-2027'!#REF!,F$26,FALSE))","v":{"$error":"#REF!"}},{"$f":"IF($B190=\"*\",\"\",VLOOKUP($A190,'2026-2027'!#REF!,G$26,FALSE))","v":{"$error":"#REF!"}},null,{"$f":"IF($B190=\"*\",\"\",VLOOKUP($A190,'2026-2027'!#REF!,I$26,FALSE))","v":{"$error":"#REF!"}},null,{"$f":"IF($B190=\"*\",\"\",VLOOKUP($A190,'2026-2027'!#REF!,K$5,FALSE))","v":{"$error":"#REF!"}},null,{"$f":"IF($B190=\"*\",\"\",VLOOKUP($A190,'2026-2027'!#REF!,M$5,FALSE))","v":{"$error":"#REF!"}}]
[158,{"$f":"VLOOKUP(A191,'2026-2027'!#REF!,9,FALSE)","v":{"$error":"#REF!"}},{"$f":"VLOOKUP($A191,'2026-2027'!#REF!,C$26,FALSE)","v":{"$error":"#REF!"}},{"$f":"IF($B191=\"*\",\"\",VLOOKUP($A191,'2026-2027'!#REF!,D$26,FALSE))","v":{"$error":"#REF!"}},{"$f":"IF($B191=\"*\",\"\",VLOOKUP($A191,'2026-2027'!#REF!,E$26,FALSE))","v":{"$error":"#REF!"}},{"$f":"IF($B191=\"*\",\"\",VLOOKUP($A191,'2026-2027'!#REF!,F$26,FALSE))","v":{"$error":"#REF!"}},{"$f":"IF($B191=\"*\",\"\",VLOOKUP($A191,'2026-2027'!#REF!,G$26,FALSE))","v":{"$error":"#REF!"}},null,{"$f":"IF($B191=\"*\",\"\",VLOOKUP($A191,'2026-2027'!#REF!,I$26,FALSE))","v":{"$error":"#REF!"}},null,{"$f":"IF($B191=\"*\",\"\",VLOOKUP($A191,'2026-2027'!#REF!,K$5,FALSE))","v":{"$error":"#REF!"}},null,{"$f":"IF($B191=\"*\",\"\",VLOOKUP($A191,'2026-2027'!#REF!,M$5,FALSE))","v":{"$error":"#REF!"}}]
[159,{"$f":"VLOOKUP(A192,'2026-2027'!#REF!,9,FALSE)","v":{"$error":"#REF!"}},{"$f":"VLOOKUP($A192,'2026-2027'!#REF!,C$26,FALSE)","v":{"$error":"#REF!"}},{"$f":"IF($B192=\"*\",\"\",VLOOKUP($A192,'2026-2027'!#REF!,D$26,FALSE))","v":{"$error":"#REF!"}},{"$f":"IF($B192=\"*\",\"\",VLOOKUP($A192,'2026-2027'!#REF!,E$26,FALSE))","v":{"$error":"#REF!"}},{"$f":"IF($B192=\"*\",\"\",VLOOKUP($A192,'2026-2027'!#REF!,F$26,FALSE))","v":{"$error":"#REF!"}},{"$f":"IF($B192=\"*\",\"\",VLOOKUP($A192,'2026-2027'!#REF!,G$26,FALSE))","v":{"$error":"#REF!"}},null,{"$f":"IF($B192=\"*\",\"\",VLOOKUP($A192,'2026-2027'!#REF!,I$26,FALSE))","v":{"$error":"#REF!"}},null,{"$f":"IF($B192=\"*\",\"\",VLOOKUP($A192,'2026-2027'!#REF!,K$5,FALSE))","v":{"$error":"#REF!"}},null,{"$f":"IF($B192=\"*\",\"\",VLOOKUP($A192,'2026-2027'!#REF!,M$5,FALSE))","v":{"$error":"#REF!"}}]
[160,{"$f":"VLOOKUP(A193,'2026-2027'!#REF!,9,FALSE)","v":{"$error":"#REF!"}},{"$f":"VLOOKUP($A193,'2026-2027'!#REF!,C$26,FALSE)","v":{"$error":"#REF!"}},{"$f":"IF($B193=\"*\",\"\",VLOOKUP($A193,'2026-2027'!#REF!,D$26,FALSE))","v":{"$error":"#REF!"}},{"$f":"IF($B193=\"*\",\"\",VLOOKUP($A193,'2026-2027'!#REF!,E$26,FALSE))","v":{"$error":"#REF!"}},{"$f":"IF($B193=\"*\",\"\",VLOOKUP($A193,'2026-2027'!#REF!,F$26,FALSE))","v":{"$error":"#REF!"}},{"$f":"IF($B193=\"*\",\"\",VLOOKUP($A193,'2026-2027'!#REF!,G$26,FALSE))","v":{"$error":"#REF!"}},null,{"$f":"IF($B193=\"*\",\"\",VLOOKUP($A193,'2026-2027'!#REF!,I$26,FALSE))","v":{"$error":"#REF!"}},null,{"$f":"IF($B193=\"*\",\"\",VLOOKUP($A193,'2026-2027'!#REF!,K$5,FALSE))","v":{"$error":"#REF!"}},null,{"$f":"IF($B193=\"*\",\"\",VLOOKUP($A193,'2026-2027'!#REF!,M$5,FALSE))","v":{"$error":"#REF!"}}]
[161,{"$f":"VLOOKUP(A194,'2026-2027'!#REF!,9,FALSE)","v":{"$error":"#REF!"}},{"$f":"VLOOKUP($A194,'2026-2027'!#REF!,C$26,FALSE)","v":{"$error":"#REF!"}},{"$f":"IF($B194=\"*\",\"\",VLOOKUP($A194,'2026-2027'!#REF!,D$26,FALSE))","v":{"$error":"#REF!"}},{"$f":"IF($B194=\"*\",\"\",VLOOKUP($A194,'2026-2027'!#REF!,E$26,FALSE))","v":{"$error":"#REF!"}},{"$f":"IF($B194=\"*\",\"\",VLOOKUP($A194,'2026-2027'!#REF!,F$26,FALSE))","v":{"$error":"#REF!"}},{"$f":"IF($B194=\"*\",\"\",VLOOKUP($A194,'2026-2027'!#REF!,G$26,FALSE))","v":{"$error":"#REF!"}},null,{"$f":"IF($B194=\"*\",\"\",VLOOKUP($A194,'2026-2027'!#REF!,I$26,FALSE))","v":{"$error":"#REF!"}},null,{"$f":"IF($B194=\"*\",\"\",VLOOKUP($A194,'2026-2027'!#REF!,K$5,FALSE))","v":{"$error":"#REF!"}},null,{"$f":"IF($B194=\"*\",\"\",VLOOKUP($A194,'2026-2027'!#REF!,M$5,FALSE))","v":{"$error":"#REF!"}}]
[162,{"$f":"VLOOKUP(A195,'2026-2027'!#REF!,9,FALSE)","v":{"$error":"#REF!"}},{"$f":"VLOOKUP($A195,'2026-2027'!#REF!,C$26,FALSE)","v":{"$error":"#REF!"}},{"$f":"IF($B195=\"*\",\"\",VLOOKUP($A195,'2026-2027'!#REF!,D$26,FALSE))","v":{"$error":"#REF!"}},{"$f":"IF($B195=\"*\",\"\",VLOOKUP($A195,'2026-2027'!#REF!,E$26,FALSE))","v":{"$error":"#REF!"}},{"$f":"IF($B195=\"*\",\"\",VLOOKUP($A195,'2026-2027'!#REF!,F$26,FALSE))","v":{"$error":"#REF!"}},{"$f":"IF($B195=\"*\",\"\",VLOOKUP($A195,'2026-2027'!#REF!,G$26,FALSE))","v":{"$error":"#REF!"}},null,{"$f":"IF($B195=\"*\",\"\",VLOOKUP($A195,'2026-2027'!#REF!,I$26,FALSE))","v":{"$error":"#REF!"}},null,{"$f":"IF($B195=\"*\",\"\",VLOOKUP($A195,'2026-2027'!#REF!,K$5,FALSE))","v":{"$error":"#REF!"}},null,{"$f":"IF($B195=\"*\",\"\",VLOOKUP($A195,'2026-2027'!#REF!,M$5,FALSE))","v":{"$error":"#REF!"}}]
[163,{"$f":"VLOOKUP(A196,'2026-2027'!#REF!,9,FALSE)","v":{"$error":"#REF!"}},{"$f":"VLOOKUP($A196,'2026-2027'!#REF!,C$26,FALSE)","v":{"$error":"#REF!"}},{"$f":"IF($B196=\"*\",\"\",VLOOKUP($A196,'2026-2027'!#REF!,D$26,FALSE))","v":{"$error":"#REF!"}},{"$f":"IF($B196=\"*\",\"\",VLOOKUP($A196,'2026-2027'!#REF!,E$26,FALSE))","v":{"$error":"#REF!"}},{"$f":"IF($B196=\"*\",\"\",VLOOKUP($A196,'2026-2027'!#REF!,F$26,FALSE))","v":{"$error":"#REF!"}},{"$f":"IF($B196=\"*\",\"\",VLOOKUP($A196,'2026-2027'!#REF!,G$26,FALSE))","v":{"$error":"#REF!"}},null,{"$f":"IF($B196=\"*\",\"\",VLOOKUP($A196,'2026-2027'!#REF!,I$26,FALSE))","v":{"$error":"#REF!"}},null,{"$f":"IF($B196=\"*\",\"\",VLOOKUP($A196,'2026-2027'!#REF!,K$5,FALSE))","v":{"$error":"#REF!"}},null,{"$f":"IF($B196=\"*\",\"\",VLOOKUP($A196,'2026-2027'!#REF!,M$5,FALSE))","v":{"$error":"#REF!"}}]
[164,{"$f":"VLOOKUP(A197,'2026-2027'!#REF!,9,FALSE)","v":{"$error":"#REF!"}},{"$f":"VLOOKUP($A197,'2026-2027'!#REF!,C$26,FALSE)","v":{"$error":"#REF!"}},{"$f":"IF($B197=\"*\",\"\",VLOOKUP($A197,'2026-2027'!#REF!,D$26,FALSE))","v":{"$error":"#REF!"}},{"$f":"IF($B197=\"*\",\"\",VLOOKUP($A197,'2026-2027'!#REF!,E$26,FALSE))","v":{"$error":"#REF!"}},{"$f":"IF($B197=\"*\",\"\",VLOOKUP($A197,'2026-2027'!#REF!,F$26,FALSE))","v":{"$error":"#REF!"}},{"$f":"IF($B197=\"*\",\"\",VLOOKUP($A197,'2026-2027'!#REF!,G$26,FALSE))","v":{"$error":"#REF!"}},null,{"$f":"IF($B197=\"*\",\"\",VLOOKUP($A197,'2026-2027'!#REF!,I$26,FALSE))","v":{"$error":"#REF!"}},null,{"$f":"IF($B197=\"*\",\"\",VLOOKUP($A197,'2026-2027'!#REF!,K$5,FALSE))","v":{"$error":"#REF!"}},null,{"$f":"IF($B197=\"*\",\"\",VLOOKUP($A197,'2026-2027'!#REF!,M$5,FALSE))","v":{"$error":"#REF!"}}]
[165,{"$f":"VLOOKUP(A198,'2026-2027'!#REF!,9,FALSE)","v":{"$error":"#REF!"}},{"$f":"VLOOKUP($A198,'2026-2027'!#REF!,C$26,FALSE)","v":{"$error":"#REF!"}},{"$f":"IF($B198=\"*\",\"\",VLOOKUP($A198,'2026-2027'!#REF!,D$26,FALSE))","v":{"$error":"#REF!"}},{"$f":"IF($B198=\"*\",\"\",VLOOKUP($A198,'2026-2027'!#REF!,E$26,FALSE))","v":{"$error":"#REF!"}},{"$f":"IF($B198=\"*\",\"\",VLOOKUP($A198,'2026-2027'!#REF!,F$26,FALSE))","v":{"$error":"#REF!"}},{"$f":"IF($B198=\"*\",\"\",VLOOKUP($A198,'2026-2027'!#REF!,G$26,FALSE))","v":{"$error":"#REF!"}},null,{"$f":"IF($B198=\"*\",\"\",VLOOKUP($A198,'2026-2027'!#REF!,I$26,FALSE))","v":{"$error":"#REF!"}},null,{"$f":"IF($B198=\"*\",\"\",VLOOKUP($A198,'2026-2027'!#REF!,K$5,FALSE))","v":{"$error":"#REF!"}},null,{"$f":"IF($B198=\"*\",\"\",VLOOKUP($A198,'2026-2027'!#REF!,M$5,FALSE))","v":{"$error":"#REF!"}}]
[166,{"$f":"VLOOKUP(A199,'2026-2027'!#REF!,9,FALSE)","v":{"$error":"#REF!"}},{"$f":"VLOOKUP($A199,'2026-2027'!#REF!,C$26,FALSE)","v":{"$error":"#REF!"}},{"$f":"IF($B199=\"*\",\"\",VLOOKUP($A199,'2026-2027'!#REF!,D$26,FALSE))","v":{"$error":"#REF!"}},{"$f":"IF($B199=\"*\",\"\",VLOOKUP($A199,'2026-2027'!#REF!,E$26,FALSE))","v":{"$error":"#REF!"}},{"$f":"IF($B199=\"*\",\"\",VLOOKUP($A199,'2026-2027'!#REF!,F$26,FALSE))","v":{"$error":"#REF!"}},{"$f":"IF($B199=\"*\",\"\",VLOOKUP($A199,'2026-2027'!#REF!,G$26,FALSE))","v":{"$error":"#REF!"}},null,{"$f":"IF($B199=\"*\",\"\",VLOOKUP($A199,'2026-2027'!#REF!,I$26,FALSE))","v":{"$error":"#REF!"}},null,{"$f":"IF($B199=\"*\",\"\",VLOOKUP($A199,'2026-2027'!#REF!,K$5,FALSE))","v":{"$error":"#REF!"}},null,{"$f":"IF($B199=\"*\",\"\",VLOOKUP($A199,'2026-2027'!#REF!,M$5,FALSE))","v":{"$error":"#REF!"}}]
[167,{"$f":"VLOOKUP(A200,'2026-2027'!#REF!,9,FALSE)","v":{"$error":"#REF!"}},{"$f":"VLOOKUP($A200,'2026-2027'!#REF!,C$26,FALSE)","v":{"$error":"#REF!"}},{"$f":"IF($B200=\"*\",\"\",VLOOKUP($A200,'2026-2027'!#REF!,D$26,FALSE))","v":{"$error":"#REF!"}},{"$f":"IF($B200=\"*\",\"\",VLOOKUP($A200,'2026-2027'!#REF!,E$26,FALSE))","v":{"$error":"#REF!"}},{"$f":"IF($B200=\"*\",\"\",VLOOKUP($A200,'2026-2027'!#REF!,F$26,FALSE))","v":{"$error":"#REF!"}},{"$f":"IF($B200=\"*\",\"\",VLOOKUP($A200,'2026-2027'!#REF!,G$26,FALSE))","v":{"$error":"#REF!"}},null,{"$f":"IF($B200=\"*\",\"\",VLOOKUP($A200,'2026-2027'!#REF!,I$26,FALSE))","v":{"$error":"#REF!"}},null,{"$f":"IF($B200=\"*\",\"\",VLOOKUP($A200,'2026-2027'!#REF!,K$5,FALSE))","v":{"$error":"#REF!"}},null,{"$f":"IF($B200=\"*\",\"\",VLOOKUP($A200,'2026-2027'!#REF!,M$5,FALSE))","v":{"$error":"#REF!"}}]
[168,{"$f":"VLOOKUP(A201,'2026-2027'!#REF!,9,FALSE)","v":{"$error":"#REF!"}},{"$f":"VLOOKUP($A201,'2026-2027'!#REF!,C$26,FALSE)","v":{"$error":"#REF!"}},{"$f":"IF($B201=\"*\",\"\",VLOOKUP($A201,'2026-2027'!#REF!,D$26,FALSE))","v":{"$error":"#REF!"}},{"$f":"IF($B201=\"*\",\"\",VLOOKUP($A201,'2026-2027'!#REF!,E$26,FALSE))","v":{"$error":"#REF!"}},{"$f":"IF($B201=\"*\",\"\",VLOOKUP($A201,'2026-2027'!#REF!,F$26,FALSE))","v":{"$error":"#REF!"}},{"$f":"IF($B201=\"*\",\"\",VLOOKUP($A201,'2026-2027'!#REF!,G$26,FALSE))","v":{"$error":"#REF!"}},null,{"$f":"IF($B201=\"*\",\"\",VLOOKUP($A201,'2026-2027'!#REF!,I$26,FALSE))","v":{"$error":"#REF!"}},null,{"$f":"IF($B201=\"*\",\"\",VLOOKUP($A201,'2026-2027'!#REF!,K$5,FALSE))","v":{"$error":"#REF!"}},null,{"$f":"IF($B201=\"*\",\"\",VLOOKUP($A201,'2026-2027'!#REF!,M$5,FALSE))","v":{"$error":"#REF!"}}]
[169,{"$f":"VLOOKUP(A202,'2026-2027'!#REF!,9,FALSE)","v":{"$error":"#REF!"}},{"$f":"VLOOKUP($A202,'2026-2027'!#REF!,C$26,FALSE)","v":{"$error":"#REF!"}},{"$f":"IF($B202=\"*\",\"\",VLOOKUP($A202,'2026-2027'!#REF!,D$26,FALSE))","v":{"$error":"#REF!"}},{"$f":"IF($B202=\"*\",\"\",VLOOKUP($A202,'2026-2027'!#REF!,E$26,FALSE))","v":{"$error":"#REF!"}},{"$f":"IF($B202=\"*\",\"\",VLOOKUP($A202,'2026-2027'!#REF!,F$26,FALSE))","v":{"$error":"#REF!"}},{"$f":"IF($B202=\"*\",\"\",VLOOKUP($A202,'2026-2027'!#REF!,G$26,FALSE))","v":{"$error":"#REF!"}},null,{"$f":"IF($B202=\"*\",\"\",VLOOKUP($A202,'2026-2027'!#REF!,I$26,FALSE))","v":{"$error":"#REF!"}},null,{"$f":"IF($B202=\"*\",\"\",VLOOKUP($A202,'2026-2027'!#REF!,K$5,FALSE))","v":{"$error":"#REF!"}},null,{"$f":"IF($B202=\"*\",\"\",VLOOKUP($A202,'2026-2027'!#REF!,M$5,FALSE))","v":{"$error":"#REF!"}}]
[170,{"$f":"VLOOKUP(A203,'2026-2027'!#REF!,9,FALSE)","v":{"$error":"#REF!"}},{"$f":"VLOOKUP($A203,'2026-2027'!#REF!,C$26,FALSE)","v":{"$error":"#REF!"}},{"$f":"IF($B203=\"*\",\"\",VLOOKUP($A203,'2026-2027'!#REF!,D$26,FALSE))","v":{"$error":"#REF!"}},{"$f":"IF($B203=\"*\",\"\",VLOOKUP($A203,'2026-2027'!#REF!,E$26,FALSE))","v":{"$error":"#REF!"}},{"$f":"IF($B203=\"*\",\"\",VLOOKUP($A203,'2026-2027'!#REF!,F$26,FALSE))","v":{"$error":"#REF!"}},{"$f":"IF($B203=\"*\",\"\",VLOOKUP($A203,'2026-2027'!#REF!,G$26,FALSE))","v":{"$error":"#REF!"}},null,{"$f":"IF($B203=\"*\",\"\",VLOOKUP($A203,'2026-2027'!#REF!,I$26,FALSE))","v":{"$error":"#REF!"}},null,{"$f":"IF($B203=\"*\",\"\",VLOOKUP($A203,'2026-2027'!#REF!,K$5,FALSE))","v":{"$error":"#REF!"}},null,{"$f":"IF($B203=\"*\",\"\",VLOOKUP($A203,'2026-2027'!#REF!,M$5,FALSE))","v":{"$error":"#REF!"}}]
[171,{"$f":"VLOOKUP(A204,'2026-2027'!#REF!,9,FALSE)","v":{"$error":"#REF!"}},{"$f":"VLOOKUP($A204,'2026-2027'!#REF!,C$26,FALSE)","v":{"$error":"#REF!"}},{"$f":"IF($B204=\"*\",\"\",VLOOKUP($A204,'2026-2027'!#REF!,D$26,FALSE))","v":{"$error":"#REF!"}},{"$f":"IF($B204=\"*\",\"\",VLOOKUP($A204,'2026-2027'!#REF!,E$26,FALSE))","v":{"$error":"#REF!"}},{"$f":"IF($B204=\"*\",\"\",VLOOKUP($A204,'2026-2027'!#REF!,F$26,FALSE))","v":{"$error":"#REF!"}},{"$f":"IF($B204=\"*\",\"\",VLOOKUP($A204,'2026-2027'!#REF!,G$26,FALSE))","v":{"$error":"#REF!"}},null,{"$f":"IF($B204=\"*\",\"\",VLOOKUP($A204,'2026-2027'!#REF!,I$26,FALSE))","v":{"$error":"#REF!"}},null,{"$f":"IF($B204=\"*\",\"\",VLOOKUP($A204,'2026-2027'!#REF!,K$5,FALSE))","v":{"$error":"#REF!"}},null,{"$f":"IF($B204=\"*\",\"\",VLOOKUP($A204,'2026-2027'!#REF!,M$5,FALSE))","v":{"$error":"#REF!"}}]
[172,{"$f":"VLOOKUP(A205,'2026-2027'!#REF!,9,FALSE)","v":{"$error":"#REF!"}},{"$f":"VLOOKUP($A205,'2026-2027'!#REF!,C$26,FALSE)","v":{"$error":"#REF!"}},{"$f":"IF($B205=\"*\",\"\",VLOOKUP($A205,'2026-2027'!#REF!,D$26,FALSE))","v":{"$error":"#REF!"}},{"$f":"IF($B205=\"*\",\"\",VLOOKUP($A205,'2026-2027'!#REF!,E$26,FALSE))","v":{"$error":"#REF!"}},{"$f":"IF($B205=\"*\",\"\",VLOOKUP($A205,'2026-2027'!#REF!,F$26,FALSE))","v":{"$error":"#REF!"}},{"$f":"IF($B205=\"*\",\"\",VLOOKUP($A205,'2026-2027'!#REF!,G$26,FALSE))","v":{"$error":"#REF!"}},null,{"$f":"IF($B205=\"*\",\"\",VLOOKUP($A205,'2026-2027'!#REF!,I$26,FALSE))","v":{"$error":"#REF!"}},null,{"$f":"IF($B205=\"*\",\"\",VLOOKUP($A205,'2026-2027'!#REF!,K$5,FALSE))","v":{"$error":"#REF!"}},null,{"$f":"IF($B205=\"*\",\"\",VLOOKUP($A205,'2026-2027'!#REF!,M$5,FALSE))","v":{"$error":"#REF!"}}]
[173,{"$f":"VLOOKUP(A206,'2026-2027'!#REF!,9,FALSE)","v":{"$error":"#REF!"}},{"$f":"VLOOKUP($A206,'2026-2027'!#REF!,C$26,FALSE)","v":{"$error":"#REF!"}},{"$f":"IF($B206=\"*\",\"\",VLOOKUP($A206,'2026-2027'!#REF!,D$26,FALSE))","v":{"$error":"#REF!"}},{"$f":"IF($B206=\"*\",\"\",VLOOKUP($A206,'2026-2027'!#REF!,E$26,FALSE))","v":{"$error":"#REF!"}},{"$f":"IF($B206=\"*\",\"\",VLOOKUP($A206,'2026-2027'!#REF!,F$26,FALSE))","v":{"$error":"#REF!"}},{"$f":"IF($B206=\"*\",\"\",VLOOKUP($A206,'2026-2027'!#REF!,G$26,FALSE))","v":{"$error":"#REF!"}},null,{"$f":"IF($B206=\"*\",\"\",VLOOKUP($A206,'2026-2027'!#REF!,I$26,FALSE))","v":{"$error":"#REF!"}},null,{"$f":"IF($B206=\"*\",\"\",VLOOKUP($A206,'2026-2027'!#REF!,K$5,FALSE))","v":{"$error":"#REF!"}},null,{"$f":"IF($B206=\"*\",\"\",VLOOKUP($A206,'2026-2027'!#REF!,M$5,FALSE))","v":{"$error":"#REF!"}}]
[174,{"$f":"VLOOKUP(A207,'2026-2027'!#REF!,9,FALSE)","v":{"$error":"#REF!"}},{"$f":"VLOOKUP($A207,'2026-2027'!#REF!,C$26,FALSE)","v":{"$error":"#REF!"}},null,null,null,null,null,null,null,{"$f":"IF($B207=\"*\",\"\",VLOOKUP($A207,'2026-2027'!#REF!,K$5,FALSE))","v":{"$error":"#REF!"}},null,{"$f":"IF($B207=\"*\",\"\",VLOOKUP($A207,'2026-2027'!#REF!,M$5,FALSE))","v":{"$error":"#REF!"}}]
[175,{"$f":"VLOOKUP(A208,'2026-2027'!#REF!,9,FALSE)","v":{"$error":"#REF!"}},{"$f":"VLOOKUP($A208,'2026-2027'!#REF!,C$26,FALSE)","v":{"$error":"#REF!"}},{"$f":"IF($B208=\"*\",\"\",VLOOKUP($A208,'2026-2027'!#REF!,D$26,FALSE))","v":{"$error":"#REF!"}},{"$f":"IF($B208=\"*\",\"\",VLOOKUP($A208,'2026-2027'!#REF!,E$26,FALSE))","v":{"$error":"#REF!"}},{"$f":"IF($B208=\"*\",\"\",VLOOKUP($A208,'2026-2027'!#REF!,F$26,FALSE))","v":{"$error":"#REF!"}},{"$f":"IF($B208=\"*\",\"\",VLOOKUP($A208,'2026-2027'!#REF!,G$26,FALSE))","v":{"$error":"#REF!"}},null,{"$f":"IF($B208=\"*\",\"\",VLOOKUP($A208,'2026-2027'!#REF!,I$26,FALSE))","v":{"$error":"#REF!"}},null,{"$f":"IF($B208=\"*\",\"\",VLOOKUP($A208,'2026-2027'!#REF!,K$5,FALSE))","v":{"$error":"#REF!"}},null,{"$f":"IF($B208=\"*\",\"\",VLOOKUP($A208,'2026-2027'!#REF!,M$5,FALSE))","v":{"$error":"#REF!"}}]
[176,{"$f":"VLOOKUP(A209,'2026-2027'!#REF!,9,FALSE)","v":{"$error":"#REF!"}},{"$f":"VLOOKUP($A209,'2026-2027'!#REF!,C$26,FALSE)","v":{"$error":"#REF!"}},{"$f":"IF($B209=\"*\",\"\",VLOOKUP($A209,'2026-2027'!#REF!,D$26,FALSE))","v":{"$error":"#REF!"}},{"$f":"IF($B209=\"*\",\"\",VLOOKUP($A209,'2026-2027'!#REF!,E$26,FALSE))","v":{"$error":"#REF!"}},{"$f":"IF($B209=\"*\",\"\",VLOOKUP($A209,'2026-2027'!#REF!,F$26,FALSE))","v":{"$error":"#REF!"}},{"$f":"IF($B209=\"*\",\"\",VLOOKUP($A209,'2026-2027'!#REF!,G$26,FALSE))","v":{"$error":"#REF!"}},null,{"$f":"IF($B209=\"*\",\"\",VLOOKUP($A209,'2026-2027'!#REF!,I$26,FALSE))","v":{"$error":"#REF!"}},null,{"$f":"IF($B209=\"*\",\"\",VLOOKUP($A209,'2026-2027'!#REF!,K$5,FALSE))","v":{"$error":"#REF!"}},null,{"$f":"IF($B209=\"*\",\"\",VLOOKUP($A209,'2026-2027'!#REF!,M$5,FALSE))","v":{"$error":"#REF!"}}]
[177,{"$f":"VLOOKUP(A210,'2026-2027'!#REF!,9,FALSE)","v":{"$error":"#REF!"}},{"$f":"VLOOKUP($A210,'2026-2027'!#REF!,C$26,FALSE)","v":{"$error":"#REF!"}},{"$f":"IF($B210=\"*\",\"\",VLOOKUP($A210,'2026-2027'!#REF!,D$26,FALSE))","v":{"$error":"#REF!"}},{"$f":"IF($B210=\"*\",\"\",VLOOKUP($A210,'2026-2027'!#REF!,E$26,FALSE))","v":{"$error":"#REF!"}},{"$f":"IF($B210=\"*\",\"\",VLOOKUP($A210,'2026-2027'!#REF!,F$26,FALSE))","v":{"$error":"#REF!"}},{"$f":"IF($B210=\"*\",\"\",VLOOKUP($A210,'2026-2027'!#REF!,G$26,FALSE))","v":{"$error":"#REF!"}},null,{"$f":"IF($B210=\"*\",\"\",VLOOKUP($A210,'2026-2027'!#REF!,I$26,FALSE))","v":{"$error":"#REF!"}},null,{"$f":"IF($B210=\"*\",\"\",VLOOKUP($A210,'2026-2027'!#REF!,K$5,FALSE))","v":{"$error":"#REF!"}},null,{"$f":"IF($B210=\"*\",\"\",VLOOKUP($A210,'2026-2027'!#REF!,M$5,FALSE))","v":{"$error":"#REF!"}}]
[null,null,null,null,null,"Sous total PERFECTIONNEMENT PROFESSIONNEL PATROUILLEUR",{"$f":"SUM(G137:G210)","v":{"$error":"#REF!"}},null,{"$f":"SUM(I137:I210)","v":{"$error":"#REF!"}},null,{"$f":"SUM(K137:K210)","v":{"$error":"#REF!"}},null,{"$f":"SUM(M137:M210)","v":{"$error":"#REF!"}}]
[{"$f":"A210+1","v":178},{"$f":"VLOOKUP(A212,'2026-2027'!#REF!,9,FALSE)","v":{"$error":"#REF!"}},{"$f":"VLOOKUP($A212,'2026-2027'!#REF!,C$26,FALSE)","v":{"$error":"#REF!"}},null,null,null,null,null,null,null,{"$f":"IF($B212=\"*\",\"\",VLOOKUP($A212,'2026-2027'!#REF!,K$5,FALSE))","v":{"$error":"#REF!"}},null,{"$f":"IF($B212=\"*\",\"\",VLOOKUP($A212,'2026-2027'!#REF!,M$5,FALSE))","v":{"$error":"#REF!"}}]
[179,{"$f":"VLOOKUP(A213,'2026-2027'!#REF!,9,FALSE)","v":{"$error":"#REF!"}},{"$f":"VLOOKUP($A213,'2026-2027'!#REF!,C$26,FALSE)","v":{"$error":"#REF!"}},{"$f":"IF($B213=\"*\",\"\",VLOOKUP($A213,'2026-2027'!#REF!,D$26,FALSE))","v":{"$error":"#REF!"}},{"$f":"IF($B213=\"*\",\"\",VLOOKUP($A213,'2026-2027'!#REF!,E$26,FALSE))","v":{"$error":"#REF!"}},{"$f":"IF($B213=\"*\",\"\",VLOOKUP($A213,'2026-2027'!#REF!,F$26,FALSE))","v":{"$error":"#REF!"}},{"$f":"IF($B213=\"*\",\"\",VLOOKUP($A213,'2026-2027'!#REF!,G$26,FALSE))","v":{"$error":"#REF!"}},null,{"$f":"IF($B213=\"*\",\"\",VLOOKUP($A213,'2026-2027'!#REF!,I$26,FALSE))","v":{"$error":"#REF!"}},null,{"$f":"IF($B213=\"*\",\"\",VLOOKUP($A213,'2026-2027'!#REF!,K$5,FALSE))","v":{"$error":"#REF!"}},null,{"$f":"IF($B213=\"*\",\"\",VLOOKUP($A213,'2026-2027'!#REF!,M$5,FALSE))","v":{"$error":"#REF!"}}]
[180,{"$f":"VLOOKUP(A214,'2026-2027'!#REF!,9,FALSE)","v":{"$error":"#REF!"}},{"$f":"VLOOKUP($A214,'2026-2027'!#REF!,C$26,FALSE)","v":{"$error":"#REF!"}},{"$f":"IF($B214=\"*\",\"\",VLOOKUP($A214,'2026-2027'!#REF!,D$26,FALSE))","v":{"$error":"#REF!"}},{"$f":"IF($B214=\"*\",\"\",VLOOKUP($A214,'2026-2027'!#REF!,E$26,FALSE))","v":{"$error":"#REF!"}},{"$f":"IF($B214=\"*\",\"\",VLOOKUP($A214,'2026-2027'!#REF!,F$26,FALSE))","v":{"$error":"#REF!"}},{"$f":"IF($B214=\"*\",\"\",VLOOKUP($A214,'2026-2027'!#REF!,G$26,FALSE))","v":{"$error":"#REF!"}},null,{"$f":"IF($B214=\"*\",\"\",VLOOKUP($A214,'2026-2027'!#REF!,I$26,FALSE))","v":{"$error":"#REF!"}},null,{"$f":"IF($B214=\"*\",\"\",VLOOKUP($A214,'2026-2027'!#REF!,K$5,FALSE))","v":{"$error":"#REF!"}},null,{"$f":"IF($B214=\"*\",\"\",VLOOKUP($A214,'2026-2027'!#REF!,M$5,FALSE))","v":{"$error":"#REF!"}}]
[181,{"$f":"VLOOKUP(A215,'2026-2027'!#REF!,9,FALSE)","v":{"$error":"#REF!"}},{"$f":"VLOOKUP($A215,'2026-2027'!#REF!,C$26,FALSE)","v":{"$error":"#REF!"}},{"$f":"IF($B215=\"*\",\"\",VLOOKUP($A215,'2026-2027'!#REF!,D$26,FALSE))","v":{"$error":"#REF!"}},{"$f":"IF($B215=\"*\",\"\",VLOOKUP($A215,'2026-2027'!#REF!,E$26,FALSE))","v":{"$error":"#REF!"}},{"$f":"IF($B215=\"*\",\"\",VLOOKUP($A215,'2026-2027'!#REF!,F$26,FALSE))","v":{"$error":"#REF!"}},{"$f":"IF($B215=\"*\",\"\",VLOOKUP($A215,'2026-2027'!#REF!,G$26,FALSE))","v":{"$error":"#REF!"}},null,{"$f":"IF($B215=\"*\",\"\",VLOOKUP($A215,'2026-2027'!#REF!,I$26,FALSE))","v":{"$error":"#REF!"}},null,{"$f":"IF($B215=\"*\",\"\",VLOOKUP($A215,'2026-2027'!#REF!,K$5,FALSE))","v":{"$error":"#REF!"}},null,{"$f":"IF($B215=\"*\",\"\",VLOOKUP($A215,'2026-2027'!#REF!,M$5,FALSE))","v":{"$error":"#REF!"}}]
[182,{"$f":"VLOOKUP(A216,'2026-2027'!#REF!,9,FALSE)","v":{"$error":"#REF!"}},{"$f":"VLOOKUP($A216,'2026-2027'!#REF!,C$26,FALSE)","v":{"$error":"#REF!"}},{"$f":"IF($B216=\"*\",\"\",VLOOKUP($A216,'2026-2027'!#REF!,D$26,FALSE))","v":{"$error":"#REF!"}},{"$f":"IF($B216=\"*\",\"\",VLOOKUP($A216,'2026-2027'!#REF!,E$26,FALSE))","v":{"$error":"#REF!"}},{"$f":"IF($B216=\"*\",\"\",VLOOKUP($A216,'2026-2027'!#REF!,F$26,FALSE))","v":{"$error":"#REF!"}},{"$f":"IF($B216=\"*\",\"\",VLOOKUP($A216,'2026-2027'!#REF!,G$26,FALSE))","v":{"$error":"#REF!"}},null,{"$f":"IF($B216=\"*\",\"\",VLOOKUP($A216,'2026-2027'!#REF!,I$26,FALSE))","v":{"$error":"#REF!"}},null,{"$f":"IF($B216=\"*\",\"\",VLOOKUP($A216,'2026-2027'!#REF!,K$5,FALSE))","v":{"$error":"#REF!"}},null,{"$f":"IF($B216=\"*\",\"\",VLOOKUP($A216,'2026-2027'!#REF!,M$5,FALSE))","v":{"$error":"#REF!"}}]
[183,{"$f":"VLOOKUP(A217,'2026-2027'!#REF!,9,FALSE)","v":{"$error":"#REF!"}},{"$f":"VLOOKUP($A217,'2026-2027'!#REF!,C$26,FALSE)","v":{"$error":"#REF!"}},{"$f":"IF($B217=\"*\",\"\",VLOOKUP($A217,'2026-2027'!#REF!,D$26,FALSE))","v":{"$error":"#REF!"}},{"$f":"IF($B217=\"*\",\"\",VLOOKUP($A217,'2026-2027'!#REF!,E$26,FALSE))","v":{"$error":"#REF!"}},{"$f":"IF($B217=\"*\",\"\",VLOOKUP($A217,'2026-2027'!#REF!,F$26,FALSE))","v":{"$error":"#REF!"}},{"$f":"IF($B217=\"*\",\"\",VLOOKUP($A217,'2026-2027'!#REF!,G$26,FALSE))","v":{"$error":"#REF!"}},null,{"$f":"IF($B217=\"*\",\"\",VLOOKUP($A217,'2026-2027'!#REF!,I$26,FALSE))","v":{"$error":"#REF!"}},null,{"$f":"IF($B217=\"*\",\"\",VLOOKUP($A217,'2026-2027'!#REF!,K$5,FALSE))","v":{"$error":"#REF!"}},null,{"$f":"IF($B217=\"*\",\"\",VLOOKUP($A217,'2026-2027'!#REF!,M$5,FALSE))","v":{"$error":"#REF!"}}]
[184,{"$f":"VLOOKUP(A218,'2026-2027'!#REF!,9,FALSE)","v":{"$error":"#REF!"}},{"$f":"VLOOKUP($A218,'2026-2027'!#REF!,C$26,FALSE)","v":{"$error":"#REF!"}},{"$f":"IF($B218=\"*\",\"\",VLOOKUP($A218,'2026-2027'!#REF!,D$26,FALSE))","v":{"$error":"#REF!"}},{"$f":"IF($B218=\"*\",\"\",VLOOKUP($A218,'2026-2027'!#REF!,E$26,FALSE))","v":{"$error":"#REF!"}},{"$f":"IF($B218=\"*\",\"\",VLOOKUP($A218,'2026-2027'!#REF!,F$26,FALSE))","v":{"$error":"#REF!"}},{"$f":"IF($B218=\"*\",\"\",VLOOKUP($A218,'2026-2027'!#REF!,G$26,FALSE))","v":{"$error":"#REF!"}},null,{"$f":"IF($B218=\"*\",\"\",VLOOKUP($A218,'2026-2027'!#REF!,I$26,FALSE))","v":{"$error":"#REF!"}},null,{"$f":"IF($B218=\"*\",\"\",VLOOKUP($A218,'2026-2027'!#REF!,K$5,FALSE))","v":{"$error":"#REF!"}},null,{"$f":"IF($B218=\"*\",\"\",VLOOKUP($A218,'2026-2027'!#REF!,M$5,FALSE))","v":{"$error":"#REF!"}}]
[null,null,null,null,null,"Sous total ENQUÊTE COLLISION",{"$f":"SUM(G213:G218)","v":{"$error":"#REF!"}},null,{"$f":"SUM(I213:I218)","v":{"$error":"#REF!"}},null,{"$f":"SUM(K213:K218)","v":{"$error":"#REF!"}},null,{"$f":"SUM(M213:M218)","v":{"$error":"#REF!"}}]
[{"$f":"A218+1","v":185},{"$f":"VLOOKUP(A220,'2026-2027'!#REF!,9,FALSE)","v":{"$error":"#REF!"}},{"$f":"VLOOKUP($A220,'2026-2027'!#REF!,C$26,FALSE)","v":{"$error":"#REF!"}},null,null,null,null,null,null,null,{"$f":"IF($B220=\"*\",\"\",VLOOKUP($A220,'2026-2027'!#REF!,K$5,FALSE))","v":{"$error":"#REF!"}},null,{"$f":"IF($B220=\"*\",\"\",VLOOKUP($A220,'2026-2027'!#REF!,M$5,FALSE))","v":{"$error":"#REF!"}}]
[186,{"$f":"VLOOKUP(A221,'2026-2027'!#REF!,9,FALSE)","v":{"$error":"#REF!"}},{"$f":"VLOOKUP($A221,'2026-2027'!#REF!,C$26,FALSE)","v":{"$error":"#REF!"}},{"$f":"IF($B221=\"*\",\"\",VLOOKUP($A221,'2026-2027'!#REF!,D$26,FALSE))","v":{"$error":"#REF!"}},{"$f":"IF($B221=\"*\",\"\",VLOOKUP($A221,'2026-2027'!#REF!,E$26,FALSE))","v":{"$error":"#REF!"}},{"$f":"IF($B221=\"*\",\"\",VLOOKUP($A221,'2026-2027'!#REF!,F$26,FALSE))","v":{"$error":"#REF!"}},{"$f":"IF($B221=\"*\",\"\",VLOOKUP($A221,'2026-2027'!#REF!,G$26,FALSE))","v":{"$error":"#REF!"}},null,{"$f":"IF($B221=\"*\",\"\",VLOOKUP($A221,'2026-2027'!#REF!,I$26,FALSE))","v":{"$error":"#REF!"}},null,{"$f":"IF($B221=\"*\",\"\",VLOOKUP($A221,'2026-2027'!#REF!,K$5,FALSE))","v":{"$error":"#REF!"}},null,{"$f":"IF($B221=\"*\",\"\",VLOOKUP($A221,'2026-2027'!#REF!,M$5,FALSE))","v":{"$error":"#REF!"}}]
[187,{"$f":"VLOOKUP(A222,'2026-2027'!#REF!,9,FALSE)","v":{"$error":"#REF!"}},{"$f":"VLOOKUP($A222,'2026-2027'!#REF!,C$26,FALSE)","v":{"$error":"#REF!"}},{"$f":"IF($B222=\"*\",\"\",VLOOKUP($A222,'2026-2027'!#REF!,D$26,FALSE))","v":{"$error":"#REF!"}},{"$f":"IF($B222=\"*\",\"\",VLOOKUP($A222,'2026-2027'!#REF!,E$26,FALSE))","v":{"$error":"#REF!"}},{"$f":"IF($B222=\"*\",\"\",VLOOKUP($A222,'2026-2027'!#REF!,F$26,FALSE))","v":{"$error":"#REF!"}},{"$f":"IF($B222=\"*\",\"\",VLOOKUP($A222,'2026-2027'!#REF!,G$26,FALSE))","v":{"$error":"#REF!"}},null,{"$f":"IF($B222=\"*\",\"\",VLOOKUP($A222,'2026-2027'!#REF!,I$26,FALSE))","v":{"$error":"#REF!"}},null,{"$f":"IF($B222=\"*\",\"\",VLOOKUP($A222,'2026-2027'!#REF!,K$5,FALSE))","v":{"$error":"#REF!"}},null,{"$f":"IF($B222=\"*\",\"\",VLOOKUP($A222,'2026-2027'!#REF!,M$5,FALSE))","v":{"$error":"#REF!"}}]
[188,{"$f":"VLOOKUP(A223,'2026-2027'!#REF!,9,FALSE)","v":{"$error":"#REF!"}},{"$f":"VLOOKUP($A223,'2026-2027'!#REF!,C$26,FALSE)","v":{"$error":"#REF!"}},{"$f":"IF($B223=\"*\",\"\",VLOOKUP($A223,'2026-2027'!#REF!,D$26,FALSE))","v":{"$error":"#REF!"}},{"$f":"IF($B223=\"*\",\"\",VLOOKUP($A223,'2026-2027'!#REF!,E$26,FALSE))","v":{"$error":"#REF!"}},{"$f":"IF($B223=\"*\",\"\",VLOOKUP($A223,'2026-2027'!#REF!,F$26,FALSE))","v":{"$error":"#REF!"}},{"$f":"IF($B223=\"*\",\"\",VLOOKUP($A223,'2026-2027'!#REF!,G$26,FALSE))","v":{"$error":"#REF!"}},null,{"$f":"IF($B223=\"*\",\"\",VLOOKUP($A223,'2026-2027'!#REF!,I$26,FALSE))","v":{"$error":"#REF!"}},null,{"$f":"IF($B223=\"*\",\"\",VLOOKUP($A223,'2026-2027'!#REF!,K$5,FALSE))","v":{"$error":"#REF!"}},null,{"$f":"IF($B223=\"*\",\"\",VLOOKUP($A223,'2026-2027'!#REF!,M$5,FALSE))","v":{"$error":"#REF!"}}]
[189,{"$f":"VLOOKUP(A224,'2026-2027'!#REF!,9,FALSE)","v":{"$error":"#REF!"}},{"$f":"VLOOKUP($A224,'2026-2027'!#REF!,C$26,FALSE)","v":{"$error":"#REF!"}},{"$f":"IF($B224=\"*\",\"\",VLOOKUP($A224,'2026-2027'!#REF!,D$26,FALSE))","v":{"$error":"#REF!"}},{"$f":"IF($B224=\"*\",\"\",VLOOKUP($A224,'2026-2027'!#REF!,E$26,FALSE))","v":{"$error":"#REF!"}},{"$f":"IF($B224=\"*\",\"\",VLOOKUP($A224,'2026-2027'!#REF!,F$26,FALSE))","v":{"$error":"#REF!"}},{"$f":"IF($B224=\"*\",\"\",VLOOKUP($A224,'2026-2027'!#REF!,G$26,FALSE))","v":{"$error":"#REF!"}},null,{"$f":"IF($B224=\"*\",\"\",VLOOKUP($A224,'2026-2027'!#REF!,I$26,FALSE))","v":{"$error":"#REF!"}},null,{"$f":"IF($B224=\"*\",\"\",VLOOKUP($A224,'2026-2027'!#REF!,K$5,FALSE))","v":{"$error":"#REF!"}},null,{"$f":"IF($B224=\"*\",\"\",VLOOKUP($A224,'2026-2027'!#REF!,M$5,FALSE))","v":{"$error":"#REF!"}}]
[190,{"$f":"VLOOKUP(A225,'2026-2027'!#REF!,9,FALSE)","v":{"$error":"#REF!"}},{"$f":"VLOOKUP($A225,'2026-2027'!#REF!,C$26,FALSE)","v":{"$error":"#REF!"}},{"$f":"IF($B225=\"*\",\"\",VLOOKUP($A225,'2026-2027'!#REF!,D$26,FALSE))","v":{"$error":"#REF!"}},{"$f":"IF($B225=\"*\",\"\",VLOOKUP($A225,'2026-2027'!#REF!,E$26,FALSE))","v":{"$error":"#REF!"}},{"$f":"IF($B225=\"*\",\"\",VLOOKUP($A225,'2026-2027'!#REF!,F$26,FALSE))","v":{"$error":"#REF!"}},{"$f":"IF($B225=\"*\",\"\",VLOOKUP($A225,'2026-2027'!#REF!,G$26,FALSE))","v":{"$error":"#REF!"}},null,{"$f":"IF($B225=\"*\",\"\",VLOOKUP($A225,'2026-2027'!#REF!,I$26,FALSE))","v":{"$error":"#REF!"}},null,{"$f":"IF($B225=\"*\",\"\",VLOOKUP($A225,'2026-2027'!#REF!,K$5,FALSE))","v":{"$error":"#REF!"}},null,{"$f":"IF($B225=\"*\",\"\",VLOOKUP($A225,'2026-2027'!#REF!,M$5,FALSE))","v":{"$error":"#REF!"}}]
[191,{"$f":"VLOOKUP(A226,'2026-2027'!#REF!,9,FALSE)","v":{"$error":"#REF!"}},{"$f":"VLOOKUP($A226,'2026-2027'!#REF!,C$26,FALSE)","v":{"$error":"#REF!"}},{"$f":"IF($B226=\"*\",\"\",VLOOKUP($A226,'2026-2027'!#REF!,D$26,FALSE))","v":{"$error":"#REF!"}},{"$f":"IF($B226=\"*\",\"\",VLOOKUP($A226,'2026-2027'!#REF!,E$26,FALSE))","v":{"$error":"#REF!"}},{"$f":"IF($B226=\"*\",\"\",VLOOKUP($A226,'2026-2027'!#REF!,F$26,FALSE))","v":{"$error":"#REF!"}},{"$f":"IF($B226=\"*\",\"\",VLOOKUP($A226,'2026-2027'!#REF!,G$26,FALSE))","v":{"$error":"#REF!"}},null,{"$f":"IF($B226=\"*\",\"\",VLOOKUP($A226,'2026-2027'!#REF!,I$26,FALSE))","v":{"$error":"#REF!"}},null,{"$f":"IF($B226=\"*\",\"\",VLOOKUP($A226,'2026-2027'!#REF!,K$5,FALSE))","v":{"$error":"#REF!"}},null,{"$f":"IF($B226=\"*\",\"\",VLOOKUP($A226,'2026-2027'!#REF!,M$5,FALSE))","v":{"$error":"#REF!"}}]
[192,{"$f":"VLOOKUP(A227,'2026-2027'!#REF!,9,FALSE)","v":{"$error":"#REF!"}},{"$f":"VLOOKUP($A227,'2026-2027'!#REF!,C$26,FALSE)","v":{"$error":"#REF!"}},{"$f":"IF($B227=\"*\",\"\",VLOOKUP($A227,'2026-2027'!#REF!,D$26,FALSE))","v":{"$error":"#REF!"}},{"$f":"IF($B227=\"*\",\"\",VLOOKUP($A227,'2026-2027'!#REF!,E$26,FALSE))","v":{"$error":"#REF!"}},{"$f":"IF($B227=\"*\",\"\",VLOOKUP($A227,'2026-2027'!#REF!,F$26,FALSE))","v":{"$error":"#REF!"}},{"$f":"IF($B227=\"*\",\"\",VLOOKUP($A227,'2026-2027'!#REF!,G$26,FALSE))","v":{"$error":"#REF!"}},null,{"$f":"IF($B227=\"*\",\"\",VLOOKUP($A227,'2026-2027'!#REF!,I$26,FALSE))","v":{"$error":"#REF!"}},null,{"$f":"IF($B227=\"*\",\"\",VLOOKUP($A227,'2026-2027'!#REF!,K$5,FALSE))","v":{"$error":"#REF!"}},null,{"$f":"IF($B227=\"*\",\"\",VLOOKUP($A227,'2026-2027'!#REF!,M$5,FALSE))","v":{"$error":"#REF!"}}]
[193,{"$f":"VLOOKUP(A228,'2026-2027'!#REF!,9,FALSE)","v":{"$error":"#REF!"}},{"$f":"VLOOKUP($A228,'2026-2027'!#REF!,C$26,FALSE)","v":{"$error":"#REF!"}},{"$f":"IF($B228=\"*\",\"\",VLOOKUP($A228,'2026-2027'!#REF!,D$26,FALSE))","v":{"$error":"#REF!"}},{"$f":"IF($B228=\"*\",\"\",VLOOKUP($A228,'2026-2027'!#REF!,E$26,FALSE))","v":{"$error":"#REF!"}},{"$f":"IF($B228=\"*\",\"\",VLOOKUP($A228,'2026-2027'!#REF!,F$26,FALSE))","v":{"$error":"#REF!"}},{"$f":"IF($B228=\"*\",\"\",VLOOKUP($A228,'2026-2027'!#REF!,G$26,FALSE))","v":{"$error":"#REF!"}},null,{"$f":"IF($B228=\"*\",\"\",VLOOKUP($A228,'2026-2027'!#REF!,I$26,FALSE))","v":{"$error":"#REF!"}},null,{"$f":"IF($B228=\"*\",\"\",VLOOKUP($A228,'2026-2027'!#REF!,K$5,FALSE))","v":{"$error":"#REF!"}},null,{"$f":"IF($B228=\"*\",\"\",VLOOKUP($A228,'2026-2027'!#REF!,M$5,FALSE))","v":{"$error":"#REF!"}}]
[194,{"$f":"VLOOKUP(A229,'2026-2027'!#REF!,9,FALSE)","v":{"$error":"#REF!"}},{"$f":"VLOOKUP($A229,'2026-2027'!#REF!,C$26,FALSE)","v":{"$error":"#REF!"}},{"$f":"IF($B229=\"*\",\"\",VLOOKUP($A229,'2026-2027'!#REF!,D$26,FALSE))","v":{"$error":"#REF!"}},{"$f":"IF($B229=\"*\",\"\",VLOOKUP($A229,'2026-2027'!#REF!,E$26,FALSE))","v":{"$error":"#REF!"}},{"$f":"IF($B229=\"*\",\"\",VLOOKUP($A229,'2026-2027'!#REF!,F$26,FALSE))","v":{"$error":"#REF!"}},{"$f":"IF($B229=\"*\",\"\",VLOOKUP($A229,'2026-2027'!#REF!,G$26,FALSE))","v":{"$error":"#REF!"}},null,{"$f":"IF($B229=\"*\",\"\",VLOOKUP($A229,'2026-2027'!#REF!,I$26,FALSE))","v":{"$error":"#REF!"}},null,{"$f":"IF($B229=\"*\",\"\",VLOOKUP($A229,'2026-2027'!#REF!,K$5,FALSE))","v":{"$error":"#REF!"}},null,{"$f":"IF($B229=\"*\",\"\",VLOOKUP($A229,'2026-2027'!#REF!,M$5,FALSE))","v":{"$error":"#REF!"}}]
[{"$f":"A229+1","v":195},{"$f":"VLOOKUP(A230,'2026-2027'!#REF!,9,FALSE)","v":{"$error":"#REF!"}},{"$f":"VLOOKUP($A230,'2026-2027'!#REF!,C$26,FALSE)","v":{"$error":"#REF!"}},{"$f":"IF($B230=\"*\",\"\",VLOOKUP($A230,'2026-2027'!#REF!,D$26,FALSE))","v":{"$error":"#REF!"}},{"$f":"IF($B230=\"*\",\"\",VLOOKUP($A230,'2026-2027'!#REF!,E$26,FALSE))","v":{"$error":"#REF!"}},{"$f":"IF($B230=\"*\",\"\",VLOOKUP($A230,'2026-2027'!#REF!,F$26,FALSE))","v":{"$error":"#REF!"}},{"$f":"IF($B230=\"*\",\"\",VLOOKUP($A230,'2026-2027'!#REF!,G$26,FALSE))","v":{"$error":"#REF!"}},null,{"$f":"IF($B230=\"*\",\"\",VLOOKUP($A230,'2026-2027'!#REF!,I$26,FALSE))","v":{"$error":"#REF!"}},null,{"$f":"IF($B230=\"*\",\"\",VLOOKUP($A230,'2026-2027'!#REF!,K$5,FALSE))","v":{"$error":"#REF!"}},null,{"$f":"IF($B230=\"*\",\"\",VLOOKUP($A230,'2026-2027'!#REF!,M$5,FALSE))","v":{"$error":"#REF!"}}]
[196,{"$f":"VLOOKUP(A231,'2026-2027'!#REF!,9,FALSE)","v":{"$error":"#REF!"}},{"$f":"VLOOKUP($A231,'2026-2027'!#REF!,C$26,FALSE)","v":{"$error":"#REF!"}},{"$f":"IF($B231=\"*\",\"\",VLOOKUP($A231,'2026-2027'!#REF!,D$26,FALSE))","v":{"$error":"#REF!"}},{"$f":"IF($B231=\"*\",\"\",VLOOKUP($A231,'2026-2027'!#REF!,E$26,FALSE))","v":{"$error":"#REF!"}},{"$f":"IF($B231=\"*\",\"\",VLOOKUP($A231,'2026-2027'!#REF!,F$26,FALSE))","v":{"$error":"#REF!"}},{"$f":"IF($B231=\"*\",\"\",VLOOKUP($A231,'2026-2027'!#REF!,G$26,FALSE))","v":{"$error":"#REF!"}},null,{"$f":"IF($B231=\"*\",\"\",VLOOKUP($A231,'2026-2027'!#REF!,I$26,FALSE))","v":{"$error":"#REF!"}},null,{"$f":"IF($B231=\"*\",\"\",VLOOKUP($A231,'2026-2027'!#REF!,K$5,FALSE))","v":{"$error":"#REF!"}},null,{"$f":"IF($B231=\"*\",\"\",VLOOKUP($A231,'2026-2027'!#REF!,M$5,FALSE))","v":{"$error":"#REF!"}}]
[197,{"$f":"VLOOKUP(A232,'2026-2027'!#REF!,9,FALSE)","v":{"$error":"#REF!"}},{"$f":"VLOOKUP($A232,'2026-2027'!#REF!,C$26,FALSE)","v":{"$error":"#REF!"}},{"$f":"IF($B232=\"*\",\"\",VLOOKUP($A232,'2026-2027'!#REF!,D$26,FALSE))","v":{"$error":"#REF!"}},{"$f":"IF($B232=\"*\",\"\",VLOOKUP($A232,'2026-2027'!#REF!,E$26,FALSE))","v":{"$error":"#REF!"}},{"$f":"IF($B232=\"*\",\"\",VLOOKUP($A232,'2026-2027'!#REF!,F$26,FALSE))","v":{"$error":"#REF!"}},{"$f":"IF($B232=\"*\",\"\",VLOOKUP($A232,'2026-2027'!#REF!,G$26,FALSE))","v":{"$error":"#REF!"}},null,{"$f":"IF($B232=\"*\",\"\",VLOOKUP($A232,'2026-2027'!#REF!,I$26,FALSE))","v":{"$error":"#REF!"}},null,{"$f":"IF($B232=\"*\",\"\",VLOOKUP($A232,'2026-2027'!#REF!,K$5,FALSE))","v":{"$error":"#REF!"}},null,{"$f":"IF($B232=\"*\",\"\",VLOOKUP($A232,'2026-2027'!#REF!,M$5,FALSE))","v":{"$error":"#REF!"}}]
[198,{"$f":"VLOOKUP(A233,'2026-2027'!#REF!,9,FALSE)","v":{"$error":"#REF!"}},{"$f":"VLOOKUP($A233,'2026-2027'!#REF!,C$26,FALSE)","v":{"$error":"#REF!"}},{"$f":"IF($B233=\"*\",\"\",VLOOKUP($A233,'2026-2027'!#REF!,D$26,FALSE))","v":{"$error":"#REF!"}},{"$f":"IF($B233=\"*\",\"\",VLOOKUP($A233,'2026-2027'!#REF!,E$26,FALSE))","v":{"$error":"#REF!"}},{"$f":"IF($B233=\"*\",\"\",VLOOKUP($A233,'2026-2027'!#REF!,F$26,FALSE))","v":{"$error":"#REF!"}},{"$f":"IF($B233=\"*\",\"\",VLOOKUP($A233,'2026-2027'!#REF!,G$26,FALSE))","v":{"$error":"#REF!"}},null,{"$f":"IF($B233=\"*\",\"\",VLOOKUP($A233,'2026-2027'!#REF!,I$26,FALSE))","v":{"$error":"#REF!"}},null,{"$f":"IF($B233=\"*\",\"\",VLOOKUP($A233,'2026-2027'!#REF!,K$5,FALSE))","v":{"$error":"#REF!"}},null,{"$f":"IF($B233=\"*\",\"\",VLOOKUP($A233,'2026-2027'!#REF!,M$5,FALSE))","v":{"$error":"#REF!"}}]
[199,{"$f":"VLOOKUP(A234,'2026-2027'!#REF!,9,FALSE)","v":{"$error":"#REF!"}},{"$f":"VLOOKUP($A234,'2026-2027'!#REF!,C$26,FALSE)","v":{"$error":"#REF!"}},{"$f":"IF($B234=\"*\",\"\",VLOOKUP($A234,'2026-2027'!#REF!,D$26,FALSE))","v":{"$error":"#REF!"}},{"$f":"IF($B234=\"*\",\"\",VLOOKUP($A234,'2026-2027'!#REF!,E$26,FALSE))","v":{"$error":"#REF!"}},{"$f":"IF($B234=\"*\",\"\",VLOOKUP($A234,'2026-2027'!#REF!,F$26,FALSE))","v":{"$error":"#REF!"}},{"$f":"IF($B234=\"*\",\"\",VLOOKUP($A234,'2026-2027'!#REF!,G$26,FALSE))","v":{"$error":"#REF!"}},null,{"$f":"IF($B234=\"*\",\"\",VLOOKUP($A234,'2026-2027'!#REF!,I$26,FALSE))","v":{"$error":"#REF!"}},null,{"$f":"IF($B234=\"*\",\"\",VLOOKUP($A234,'2026-2027'!#REF!,K$5,FALSE))","v":{"$error":"#REF!"}},null,{"$f":"IF($B234=\"*\",\"\",VLOOKUP($A234,'2026-2027'!#REF!,M$5,FALSE))","v":{"$error":"#REF!"}}]
[200,{"$f":"VLOOKUP(A235,'2026-2027'!#REF!,9,FALSE)","v":{"$error":"#REF!"}},{"$f":"VLOOKUP($A235,'2026-2027'!#REF!,C$26,FALSE)","v":{"$error":"#REF!"}},{"$f":"IF($B235=\"*\",\"\",VLOOKUP($A235,'2026-2027'!#REF!,D$26,FALSE))","v":{"$error":"#REF!"}},{"$f":"IF($B235=\"*\",\"\",VLOOKUP($A235,'2026-2027'!#REF!,E$26,FALSE))","v":{"$error":"#REF!"}},{"$f":"IF($B235=\"*\",\"\",VLOOKUP($A235,'2026-2027'!#REF!,F$26,FALSE))","v":{"$error":"#REF!"}},{"$f":"IF($B235=\"*\",\"\",VLOOKUP($A235,'2026-2027'!#REF!,G$26,FALSE))","v":{"$error":"#REF!"}},null,{"$f":"IF($B235=\"*\",\"\",VLOOKUP($A235,'2026-2027'!#REF!,I$26,FALSE))","v":{"$error":"#REF!"}},null,{"$f":"IF($B235=\"*\",\"\",VLOOKUP($A235,'2026-2027'!#REF!,K$5,FALSE))","v":{"$error":"#REF!"}},null,{"$f":"IF($B235=\"*\",\"\",VLOOKUP($A235,'2026-2027'!#REF!,M$5,FALSE))","v":{"$error":"#REF!"}}]
[201,{"$f":"VLOOKUP(A236,'2026-2027'!#REF!,9,FALSE)","v":{"$error":"#REF!"}},{"$f":"VLOOKUP($A236,'2026-2027'!#REF!,C$26,FALSE)","v":{"$error":"#REF!"}},null,null,null,null,null,null,null,{"$f":"IF($B236=\"*\",\"\",VLOOKUP($A236,'2026-2027'!#REF!,K$5,FALSE))","v":{"$error":"#REF!"}},null,{"$f":"IF($B236=\"*\",\"\",VLOOKUP($A236,'2026-2027'!#REF!,M$5,FALSE))","v":{"$error":"#REF!"}}]
[202,{"$f":"VLOOKUP(A237,'2026-2027'!#REF!,9,FALSE)","v":{"$error":"#REF!"}},{"$f":"VLOOKUP($A237,'2026-2027'!#REF!,C$26,FALSE)","v":{"$error":"#REF!"}},{"$f":"IF($B237=\"*\",\"\",VLOOKUP($A237,'2026-2027'!#REF!,D$26,FALSE))","v":{"$error":"#REF!"}},{"$f":"IF($B237=\"*\",\"\",VLOOKUP($A237,'2026-2027'!#REF!,E$26,FALSE))","v":{"$error":"#REF!"}},{"$f":"IF($B237=\"*\",\"\",VLOOKUP($A237,'2026-2027'!#REF!,F$26,FALSE))","v":{"$error":"#REF!"}},{"$f":"IF($B237=\"*\",\"\",VLOOKUP($A237,'2026-2027'!#REF!,G$26,FALSE))","v":{"$error":"#REF!"}},null,{"$f":"IF($B237=\"*\",\"\",VLOOKUP($A237,'2026-2027'!#REF!,I$26,FALSE))","v":{"$error":"#REF!"}},null,{"$f":"IF($B237=\"*\",\"\",VLOOKUP($A237,'2026-2027'!#REF!,K$5,FALSE))","v":{"$error":"#REF!"}},null,{"$f":"IF($B237=\"*\",\"\",VLOOKUP($A237,'2026-2027'!#REF!,M$5,FALSE))","v":{"$error":"#REF!"}}]
[203,{"$f":"VLOOKUP(A238,'2026-2027'!#REF!,9,FALSE)","v":{"$error":"#REF!"}},{"$f":"VLOOKUP($A238,'2026-2027'!#REF!,C$26,FALSE)","v":{"$error":"#REF!"}},{"$f":"IF($B238=\"*\",\"\",VLOOKUP($A238,'2026-2027'!#REF!,D$26,FALSE))","v":{"$error":"#REF!"}},{"$f":"IF($B238=\"*\",\"\",VLOOKUP($A238,'2026-2027'!#REF!,E$26,FALSE))","v":{"$error":"#REF!"}},{"$f":"IF($B238=\"*\",\"\",VLOOKUP($A238,'2026-2027'!#REF!,F$26,FALSE))","v":{"$error":"#REF!"}},{"$f":"IF($B238=\"*\",\"\",VLOOKUP($A238,'2026-2027'!#REF!,G$26,FALSE))","v":{"$error":"#REF!"}},null,{"$f":"IF($B238=\"*\",\"\",VLOOKUP($A238,'2026-2027'!#REF!,I$26,FALSE))","v":{"$error":"#REF!"}},null,{"$f":"IF($B238=\"*\",\"\",VLOOKUP($A238,'2026-2027'!#REF!,K$5,FALSE))","v":{"$error":"#REF!"}},null,{"$f":"IF($B238=\"*\",\"\",VLOOKUP($A238,'2026-2027'!#REF!,M$5,FALSE))","v":{"$error":"#REF!"}}]
[204,{"$f":"VLOOKUP(A239,'2026-2027'!#REF!,9,FALSE)","v":{"$error":"#REF!"}},{"$f":"VLOOKUP($A239,'2026-2027'!#REF!,C$26,FALSE)","v":{"$error":"#REF!"}},{"$f":"IF($B239=\"*\",\"\",VLOOKUP($A239,'2026-2027'!#REF!,D$26,FALSE))","v":{"$error":"#REF!"}},{"$f":"IF($B239=\"*\",\"\",VLOOKUP($A239,'2026-2027'!#REF!,E$26,FALSE))","v":{"$error":"#REF!"}},{"$f":"IF($B239=\"*\",\"\",VLOOKUP($A239,'2026-2027'!#REF!,F$26,FALSE))","v":{"$error":"#REF!"}},{"$f":"IF($B239=\"*\",\"\",VLOOKUP($A239,'2026-2027'!#REF!,G$26,FALSE))","v":{"$error":"#REF!"}},null,{"$f":"IF($B239=\"*\",\"\",VLOOKUP($A239,'2026-2027'!#REF!,I$26,FALSE))","v":{"$error":"#REF!"}},null,{"$f":"IF($B239=\"*\",\"\",VLOOKUP($A239,'2026-2027'!#REF!,K$5,FALSE))","v":{"$error":"#REF!"}},null,{"$f":"IF($B239=\"*\",\"\",VLOOKUP($A239,'2026-2027'!#REF!,M$5,FALSE))","v":{"$error":"#REF!"}}]
[205,{"$f":"VLOOKUP(A240,'2026-2027'!#REF!,9,FALSE)","v":{"$error":"#REF!"}},{"$f":"VLOOKUP($A240,'2026-2027'!#REF!,C$26,FALSE)","v":{"$error":"#REF!"}},{"$f":"IF($B240=\"*\",\"\",VLOOKUP($A240,'2026-2027'!#REF!,D$26,FALSE))","v":{"$error":"#REF!"}},{"$f":"IF($B240=\"*\",\"\",VLOOKUP($A240,'2026-2027'!#REF!,E$26,FALSE))","v":{"$error":"#REF!"}},{"$f":"IF($B240=\"*\",\"\",VLOOKUP($A240,'2026-2027'!#REF!,F$26,FALSE))","v":{"$error":"#REF!"}},{"$f":"IF($B240=\"*\",\"\",VLOOKUP($A240,'2026-2027'!#REF!,G$26,FALSE))","v":{"$error":"#REF!"}},null,{"$f":"IF($B240=\"*\",\"\",VLOOKUP($A240,'2026-2027'!#REF!,I$26,FALSE))","v":{"$error":"#REF!"}},null,{"$f":"IF($B240=\"*\",\"\",VLOOKUP($A240,'2026-2027'!#REF!,K$5,FALSE))","v":{"$error":"#REF!"}},null,{"$f":"IF($B240=\"*\",\"\",VLOOKUP($A240,'2026-2027'!#REF!,M$5,FALSE))","v":{"$error":"#REF!"}}]
[206,{"$f":"VLOOKUP(A241,'2026-2027'!#REF!,9,FALSE)","v":{"$error":"#REF!"}},{"$f":"VLOOKUP($A241,'2026-2027'!#REF!,C$26,FALSE)","v":{"$error":"#REF!"}},{"$f":"IF($B241=\"*\",\"\",VLOOKUP($A241,'2026-2027'!#REF!,D$26,FALSE))","v":{"$error":"#REF!"}},{"$f":"IF($B241=\"*\",\"\",VLOOKUP($A241,'2026-2027'!#REF!,E$26,FALSE))","v":{"$error":"#REF!"}},{"$f":"IF($B241=\"*\",\"\",VLOOKUP($A241,'2026-2027'!#REF!,F$26,FALSE))","v":{"$error":"#REF!"}},{"$f":"IF($B241=\"*\",\"\",VLOOKUP($A241,'2026-2027'!#REF!,G$26,FALSE))","v":{"$error":"#REF!"}},null,{"$f":"IF($B241=\"*\",\"\",VLOOKUP($A241,'2026-2027'!#REF!,I$26,FALSE))","v":{"$error":"#REF!"}},null,{"$f":"IF($B241=\"*\",\"\",VLOOKUP($A241,'2026-2027'!#REF!,K$5,FALSE))","v":{"$error":"#REF!"}},null,{"$f":"IF($B241=\"*\",\"\",VLOOKUP($A241,'2026-2027'!#REF!,M$5,FALSE))","v":{"$error":"#REF!"}}]
[207,{"$f":"VLOOKUP(A242,'2026-2027'!#REF!,9,FALSE)","v":{"$error":"#REF!"}},{"$f":"VLOOKUP($A242,'2026-2027'!#REF!,C$26,FALSE)","v":{"$error":"#REF!"}},{"$f":"IF($B242=\"*\",\"\",VLOOKUP($A242,'2026-2027'!#REF!,D$26,FALSE))","v":{"$error":"#REF!"}},{"$f":"IF($B242=\"*\",\"\",VLOOKUP($A242,'2026-2027'!#REF!,E$26,FALSE))","v":{"$error":"#REF!"}},{"$f":"IF($B242=\"*\",\"\",VLOOKUP($A242,'2026-2027'!#REF!,F$26,FALSE))","v":{"$error":"#REF!"}},{"$f":"IF($B242=\"*\",\"\",VLOOKUP($A242,'2026-2027'!#REF!,G$26,FALSE))","v":{"$error":"#REF!"}},null,{"$f":"IF($B242=\"*\",\"\",VLOOKUP($A242,'2026-2027'!#REF!,I$26,FALSE))","v":{"$error":"#REF!"}},null,{"$f":"IF($B242=\"*\",\"\",VLOOKUP($A242,'2026-2027'!#REF!,K$5,FALSE))","v":{"$error":"#REF!"}},null,{"$f":"IF($B242=\"*\",\"\",VLOOKUP($A242,'2026-2027'!#REF!,M$5,FALSE))","v":{"$error":"#REF!"}}]
[208,{"$f":"VLOOKUP(A243,'2026-2027'!#REF!,9,FALSE)","v":{"$error":"#REF!"}},{"$f":"VLOOKUP($A243,'2026-2027'!#REF!,C$26,FALSE)","v":{"$error":"#REF!"}},{"$f":"IF($B243=\"*\",\"\",VLOOKUP($A243,'2026-2027'!#REF!,D$26,FALSE))","v":{"$error":"#REF!"}},{"$f":"IF($B243=\"*\",\"\",VLOOKUP($A243,'2026-2027'!#REF!,E$26,FALSE))","v":{"$error":"#REF!"}},{"$f":"IF($B243=\"*\",\"\",VLOOKUP($A243,'2026-2027'!#REF!,F$26,FALSE))","v":{"$error":"#REF!"}},{"$f":"IF($B243=\"*\",\"\",VLOOKUP($A243,'2026-2027'!#REF!,G$26,FALSE))","v":{"$error":"#REF!"}},null,{"$f":"IF($B243=\"*\",\"\",VLOOKUP($A243,'2026-2027'!#REF!,I$26,FALSE))","v":{"$error":"#REF!"}},null,{"$f":"IF($B243=\"*\",\"\",VLOOKUP($A243,'2026-2027'!#REF!,K$5,FALSE))","v":{"$error":"#REF!"}},null,{"$f":"IF($B243=\"*\",\"\",VLOOKUP($A243,'2026-2027'!#REF!,M$5,FALSE))","v":{"$error":"#REF!"}}]
[209,{"$f":"VLOOKUP(A244,'2026-2027'!#REF!,9,FALSE)","v":{"$error":"#REF!"}},{"$f":"VLOOKUP($A244,'2026-2027'!#REF!,C$26,FALSE)","v":{"$error":"#REF!"}},{"$f":"IF($B244=\"*\",\"\",VLOOKUP($A244,'2026-2027'!#REF!,D$26,FALSE))","v":{"$error":"#REF!"}},{"$f":"IF($B244=\"*\",\"\",VLOOKUP($A244,'2026-2027'!#REF!,E$26,FALSE))","v":{"$error":"#REF!"}},{"$f":"IF($B244=\"*\",\"\",VLOOKUP($A244,'2026-2027'!#REF!,F$26,FALSE))","v":{"$error":"#REF!"}},{"$f":"IF($B244=\"*\",\"\",VLOOKUP($A244,'2026-2027'!#REF!,G$26,FALSE))","v":{"$error":"#REF!"}},null,{"$f":"IF($B244=\"*\",\"\",VLOOKUP($A244,'2026-2027'!#REF!,I$26,FALSE))","v":{"$error":"#REF!"}},null,{"$f":"IF($B244=\"*\",\"\",VLOOKUP($A244,'2026-2027'!#REF!,K$5,FALSE))","v":{"$error":"#REF!"}},null,{"$f":"IF($B244=\"*\",\"\",VLOOKUP($A244,'2026-2027'!#REF!,M$5,FALSE))","v":{"$error":"#REF!"}}]
[210,{"$f":"VLOOKUP(A245,'2026-2027'!#REF!,9,FALSE)","v":{"$error":"#REF!"}},{"$f":"VLOOKUP($A245,'2026-2027'!#REF!,C$26,FALSE)","v":{"$error":"#REF!"}},{"$f":"IF($B245=\"*\",\"\",VLOOKUP($A245,'2026-2027'!#REF!,D$26,FALSE))","v":{"$error":"#REF!"}},{"$f":"IF($B245=\"*\",\"\",VLOOKUP($A245,'2026-2027'!#REF!,E$26,FALSE))","v":{"$error":"#REF!"}},{"$f":"IF($B245=\"*\",\"\",VLOOKUP($A245,'2026-2027'!#REF!,F$26,FALSE))","v":{"$error":"#REF!"}},{"$f":"IF($B245=\"*\",\"\",VLOOKUP($A245,'2026-2027'!#REF!,G$26,FALSE))","v":{"$error":"#REF!"}},null,{"$f":"IF($B245=\"*\",\"\",VLOOKUP($A245,'2026-2027'!#REF!,I$26,FALSE))","v":{"$error":"#REF!"}},null,{"$f":"IF($B245=\"*\",\"\",VLOOKUP($A245,'2026-2027'!#REF!,K$5,FALSE))","v":{"$error":"#REF!"}},null,{"$f":"IF($B245=\"*\",\"\",VLOOKUP($A245,'2026-2027'!#REF!,M$5,FALSE))","v":{"$error":"#REF!"}}]
[211,{"$f":"VLOOKUP(A246,'2026-2027'!#REF!,9,FALSE)","v":{"$error":"#REF!"}},{"$f":"VLOOKUP($A246,'2026-2027'!#REF!,C$26,FALSE)","v":{"$error":"#REF!"}},{"$f":"IF($B246=\"*\",\"\",VLOOKUP($A246,'2026-2027'!#REF!,D$26,FALSE))","v":{"$error":"#REF!"}},{"$f":"IF($B246=\"*\",\"\",VLOOKUP($A246,'2026-2027'!#REF!,E$26,FALSE))","v":{"$error":"#REF!"}},{"$f":"IF($B246=\"*\",\"\",VLOOKUP($A246,'2026-2027'!#REF!,F$26,FALSE))","v":{"$error":"#REF!"}},{"$f":"IF($B246=\"*\",\"\",VLOOKUP($A246,'2026-2027'!#REF!,G$26,FALSE))","v":{"$error":"#REF!"}},null,{"$f":"IF($B246=\"*\",\"\",VLOOKUP($A246,'2026-2027'!#REF!,I$26,FALSE))","v":{"$error":"#REF!"}},null,{"$f":"IF($B246=\"*\",\"\",VLOOKUP($A246,'2026-2027'!#REF!,K$5,FALSE))","v":{"$error":"#REF!"}},null,{"$f":"IF($B246=\"*\",\"\",VLOOKUP($A246,'2026-2027'!#REF!,M$5,FALSE))","v":{"$error":"#REF!"}}]
[212,{"$f":"VLOOKUP(A247,'2026-2027'!#REF!,9,FALSE)","v":{"$error":"#REF!"}},{"$f":"VLOOKUP($A247,'2026-2027'!#REF!,C$26,FALSE)","v":{"$error":"#REF!"}},{"$f":"IF($B247=\"*\",\"\",VLOOKUP($A247,'2026-2027'!#REF!,D$26,FALSE))","v":{"$error":"#REF!"}},{"$f":"IF($B247=\"*\",\"\",VLOOKUP($A247,'2026-2027'!#REF!,E$26,FALSE))","v":{"$error":"#REF!"}},{"$f":"IF($B247=\"*\",\"\",VLOOKUP($A247,'2026-2027'!#REF!,F$26,FALSE))","v":{"$error":"#REF!"}},{"$f":"IF($B247=\"*\",\"\",VLOOKUP($A247,'2026-2027'!#REF!,G$26,FALSE))","v":{"$error":"#REF!"}},null,{"$f":"IF($B247=\"*\",\"\",VLOOKUP($A247,'2026-2027'!#REF!,I$26,FALSE))","v":{"$error":"#REF!"}},null,{"$f":"IF($B247=\"*\",\"\",VLOOKUP($A247,'2026-2027'!#REF!,K$5,FALSE))","v":{"$error":"#REF!"}},null,{"$f":"IF($B247=\"*\",\"\",VLOOKUP($A247,'2026-2027'!#REF!,M$5,FALSE))","v":{"$error":"#REF!"}}]
[213,{"$f":"VLOOKUP(A248,'2026-2027'!#REF!,9,FALSE)","v":{"$error":"#REF!"}},{"$f":"VLOOKUP($A248,'2026-2027'!#REF!,C$26,FALSE)","v":{"$error":"#REF!"}},{"$f":"IF($B248=\"*\",\"\",VLOOKUP($A248,'2026-2027'!#REF!,D$26,FALSE))","v":{"$error":"#REF!"}},{"$f":"IF($B248=\"*\",\"\",VLOOKUP($A248,'2026-2027'!#REF!,E$26,FALSE))","v":{"$error":"#REF!"}},{"$f":"IF($B248=\"*\",\"\",VLOOKUP($A248,'2026-2027'!#REF!,F$26,FALSE))","v":{"$error":"#REF!"}},{"$f":"IF($B248=\"*\",\"\",VLOOKUP($A248,'2026-2027'!#REF!,G$26,FALSE))","v":{"$error":"#REF!"}},null,{"$f":"IF($B248=\"*\",\"\",VLOOKUP($A248,'2026-2027'!#REF!,I$26,FALSE))","v":{"$error":"#REF!"}},null,{"$f":"IF($B248=\"*\",\"\",VLOOKUP($A248,'2026-2027'!#REF!,K$5,FALSE))","v":{"$error":"#REF!"}},null,{"$f":"IF($B248=\"*\",\"\",VLOOKUP($A248,'2026-2027'!#REF!,M$5,FALSE))","v":{"$error":"#REF!"}}]
[214,{"$f":"VLOOKUP(A249,'2026-2027'!#REF!,9,FALSE)","v":{"$error":"#REF!"}},{"$f":"VLOOKUP($A249,'2026-2027'!#REF!,C$26,FALSE)","v":{"$error":"#REF!"}},{"$f":"IF($B249=\"*\",\"\",VLOOKUP($A249,'2026-2027'!#REF!,D$26,FALSE))","v":{"$error":"#REF!"}},{"$f":"IF($B249=\"*\",\"\",VLOOKUP($A249,'2026-2027'!#REF!,E$26,FALSE))","v":{"$error":"#REF!"}},{"$f":"IF($B249=\"*\",\"\",VLOOKUP($A249,'2026-2027'!#REF!,F$26,FALSE))","v":{"$error":"#REF!"}},{"$f":"IF($B249=\"*\",\"\",VLOOKUP($A249,'2026-2027'!#REF!,G$26,FALSE))","v":{"$error":"#REF!"}},null,{"$f":"IF($B249=\"*\",\"\",VLOOKUP($A249,'2026-2027'!#REF!,I$26,FALSE))","v":{"$error":"#REF!"}},null,{"$f":"IF($B249=\"*\",\"\",VLOOKUP($A249,'2026-2027'!#REF!,K$5,FALSE))","v":{"$error":"#REF!"}},null,{"$f":"IF($B249=\"*\",\"\",VLOOKUP($A249,'2026-2027'!#REF!,M$5,FALSE))","v":{"$error":"#REF!"}}]
[215,{"$f":"VLOOKUP(A250,'2026-2027'!#REF!,9,FALSE)","v":{"$error":"#REF!"}},{"$f":"VLOOKUP($A250,'2026-2027'!#REF!,C$26,FALSE)","v":{"$error":"#REF!"}},{"$f":"IF($B250=\"*\",\"\",VLOOKUP($A250,'2026-2027'!#REF!,D$26,FALSE))","v":{"$error":"#REF!"}},{"$f":"IF($B250=\"*\",\"\",VLOOKUP($A250,'2026-2027'!#REF!,E$26,FALSE))","v":{"$error":"#REF!"}},{"$f":"IF($B250=\"*\",\"\",VLOOKUP($A250,'2026-2027'!#REF!,F$26,FALSE))","v":{"$error":"#REF!"}},{"$f":"IF($B250=\"*\",\"\",VLOOKUP($A250,'2026-2027'!#REF!,G$26,FALSE))","v":{"$error":"#REF!"}},null,{"$f":"IF($B250=\"*\",\"\",VLOOKUP($A250,'2026-2027'!#REF!,I$26,FALSE))","v":{"$error":"#REF!"}},null,{"$f":"IF($B250=\"*\",\"\",VLOOKUP($A250,'2026-2027'!#REF!,K$5,FALSE))","v":{"$error":"#REF!"}},null,{"$f":"IF($B250=\"*\",\"\",VLOOKUP($A250,'2026-2027'!#REF!,M$5,FALSE))","v":{"$error":"#REF!"}}]
[216,{"$f":"VLOOKUP(A251,'2026-2027'!#REF!,9,FALSE)","v":{"$error":"#REF!"}},{"$f":"VLOOKUP($A251,'2026-2027'!#REF!,C$26,FALSE)","v":{"$error":"#REF!"}},null,null,null,null,null,null,null,{"$f":"IF($B251=\"*\",\"\",VLOOKUP($A251,'2026-2027'!#REF!,K$5,FALSE))","v":{"$error":"#REF!"}},null,{"$f":"IF($B251=\"*\",\"\",VLOOKUP($A251,'2026-2027'!#REF!,M$5,FALSE))","v":{"$error":"#REF!"}}]
[217,{"$f":"VLOOKUP(A252,'2026-2027'!#REF!,9,FALSE)","v":{"$error":"#REF!"}},{"$f":"VLOOKUP($A252,'2026-2027'!#REF!,C$26,FALSE)","v":{"$error":"#REF!"}},{"$f":"IF($B252=\"*\",\"\",VLOOKUP($A252,'2026-2027'!#REF!,D$26,FALSE))","v":{"$error":"#REF!"}},{"$f":"IF($B252=\"*\",\"\",VLOOKUP($A252,'2026-2027'!#REF!,E$26,FALSE))","v":{"$error":"#REF!"}},{"$f":"IF($B252=\"*\",\"\",VLOOKUP($A252,'2026-2027'!#REF!,F$26,FALSE))","v":{"$error":"#REF!"}},{"$f":"IF($B252=\"*\",\"\",VLOOKUP($A252,'2026-2027'!#REF!,G$26,FALSE))","v":{"$error":"#REF!"}},null,{"$f":"IF($B252=\"*\",\"\",VLOOKUP($A252,'2026-2027'!#REF!,I$26,FALSE))","v":{"$error":"#REF!"}},null,{"$f":"IF($B252=\"*\",\"\",VLOOKUP($A252,'2026-2027'!#REF!,K$5,FALSE))","v":{"$error":"#REF!"}},null,{"$f":"IF($B252=\"*\",\"\",VLOOKUP($A252,'2026-2027'!#REF!,M$5,FALSE))","v":{"$error":"#REF!"}}]
[218,{"$f":"VLOOKUP(A253,'2026-2027'!#REF!,9,FALSE)","v":{"$error":"#REF!"}},{"$f":"VLOOKUP($A253,'2026-2027'!#REF!,C$26,FALSE)","v":{"$error":"#REF!"}},{"$f":"IF($B253=\"*\",\"\",VLOOKUP($A253,'2026-2027'!#REF!,D$26,FALSE))","v":{"$error":"#REF!"}},{"$f":"IF($B253=\"*\",\"\",VLOOKUP($A253,'2026-2027'!#REF!,E$26,FALSE))","v":{"$error":"#REF!"}},{"$f":"IF($B253=\"*\",\"\",VLOOKUP($A253,'2026-2027'!#REF!,F$26,FALSE))","v":{"$error":"#REF!"}},{"$f":"IF($B253=\"*\",\"\",VLOOKUP($A253,'2026-2027'!#REF!,G$26,FALSE))","v":{"$error":"#REF!"}},null,{"$f":"IF($B253=\"*\",\"\",VLOOKUP($A253,'2026-2027'!#REF!,I$26,FALSE))","v":{"$error":"#REF!"}},null,{"$f":"IF($B253=\"*\",\"\",VLOOKUP($A253,'2026-2027'!#REF!,K$5,FALSE))","v":{"$error":"#REF!"}},null,{"$f":"IF($B253=\"*\",\"\",VLOOKUP($A253,'2026-2027'!#REF!,M$5,FALSE))","v":{"$error":"#REF!"}}]
[219,{"$f":"VLOOKUP(A254,'2026-2027'!#REF!,9,FALSE)","v":{"$error":"#REF!"}},{"$f":"VLOOKUP($A254,'2026-2027'!#REF!,C$26,FALSE)","v":{"$error":"#REF!"}},{"$f":"IF($B254=\"*\",\"\",VLOOKUP($A254,'2026-2027'!#REF!,D$26,FALSE))","v":{"$error":"#REF!"}},{"$f":"IF($B254=\"*\",\"\",VLOOKUP($A254,'2026-2027'!#REF!,E$26,FALSE))","v":{"$error":"#REF!"}},{"$f":"IF($B254=\"*\",\"\",VLOOKUP($A254,'2026-2027'!#REF!,F$26,FALSE))","v":{"$error":"#REF!"}},{"$f":"IF($B254=\"*\",\"\",VLOOKUP($A254,'2026-2027'!#REF!,G$26,FALSE))","v":{"$error":"#REF!"}},null,{"$f":"IF($B254=\"*\",\"\",VLOOKUP($A254,'2026-2027'!#REF!,I$26,FALSE))","v":{"$error":"#REF!"}},null,{"$f":"IF($B254=\"*\",\"\",VLOOKUP($A254,'2026-2027'!#REF!,K$5,FALSE))","v":{"$error":"#REF!"}},null,{"$f":"IF($B254=\"*\",\"\",VLOOKUP($A254,'2026-2027'!#REF!,M$5,FALSE))","v":{"$error":"#REF!"}}]
[220,{"$f":"VLOOKUP(A255,'2026-2027'!#REF!,9,FALSE)","v":{"$error":"#REF!"}},{"$f":"VLOOKUP($A255,'2026-2027'!#REF!,C$26,FALSE)","v":{"$error":"#REF!"}},{"$f":"IF($B255=\"*\",\"\",VLOOKUP($A255,'2026-2027'!#REF!,D$26,FALSE))","v":{"$error":"#REF!"}},{"$f":"IF($B255=\"*\",\"\",VLOOKUP($A255,'2026-2027'!#REF!,E$26,FALSE))","v":{"$error":"#REF!"}},{"$f":"IF($B255=\"*\",\"\",VLOOKUP($A255,'2026-2027'!#REF!,F$26,FALSE))","v":{"$error":"#REF!"}},{"$f":"IF($B255=\"*\",\"\",VLOOKUP($A255,'2026-2027'!#REF!,G$26,FALSE))","v":{"$error":"#REF!"}},null,{"$f":"IF($B255=\"*\",\"\",VLOOKUP($A255,'2026-2027'!#REF!,I$26,FALSE))","v":{"$error":"#REF!"}},null,{"$f":"IF($B255=\"*\",\"\",VLOOKUP($A255,'2026-2027'!#REF!,K$5,FALSE))","v":{"$error":"#REF!"}},null,{"$f":"IF($B255=\"*\",\"\",VLOOKUP($A255,'2026-2027'!#REF!,M$5,FALSE))","v":{"$error":"#REF!"}}]
[221,{"$f":"VLOOKUP(A256,'2026-2027'!#REF!,9,FALSE)","v":{"$error":"#REF!"}},{"$f":"VLOOKUP($A256,'2026-2027'!#REF!,C$26,FALSE)","v":{"$error":"#REF!"}},{"$f":"IF($B256=\"*\",\"\",VLOOKUP($A256,'2026-2027'!#REF!,D$26,FALSE))","v":{"$error":"#REF!"}},{"$f":"IF($B256=\"*\",\"\",VLOOKUP($A256,'2026-2027'!#REF!,E$26,FALSE))","v":{"$error":"#REF!"}},{"$f":"IF($B256=\"*\",\"\",VLOOKUP($A256,'2026-2027'!#REF!,F$26,FALSE))","v":{"$error":"#REF!"}},{"$f":"IF($B256=\"*\",\"\",VLOOKUP($A256,'2026-2027'!#REF!,G$26,FALSE))","v":{"$error":"#REF!"}},null,{"$f":"IF($B256=\"*\",\"\",VLOOKUP($A256,'2026-2027'!#REF!,I$26,FALSE))","v":{"$error":"#REF!"}},null,{"$f":"IF($B256=\"*\",\"\",VLOOKUP($A256,'2026-2027'!#REF!,K$5,FALSE))","v":{"$error":"#REF!"}},null,{"$f":"IF($B256=\"*\",\"\",VLOOKUP($A256,'2026-2027'!#REF!,M$5,FALSE))","v":{"$error":"#REF!"}}]
[222,{"$f":"VLOOKUP(A257,'2026-2027'!#REF!,9,FALSE)","v":{"$error":"#REF!"}},{"$f":"VLOOKUP($A257,'2026-2027'!#REF!,C$26,FALSE)","v":{"$error":"#REF!"}},{"$f":"IF($B257=\"*\",\"\",VLOOKUP($A257,'2026-2027'!#REF!,D$26,FALSE))","v":{"$error":"#REF!"}},{"$f":"IF($B257=\"*\",\"\",VLOOKUP($A257,'2026-2027'!#REF!,E$26,FALSE))","v":{"$error":"#REF!"}},{"$f":"IF($B257=\"*\",\"\",VLOOKUP($A257,'2026-2027'!#REF!,F$26,FALSE))","v":{"$error":"#REF!"}},{"$f":"IF($B257=\"*\",\"\",VLOOKUP($A257,'2026-2027'!#REF!,G$26,FALSE))","v":{"$error":"#REF!"}},null,{"$f":"IF($B257=\"*\",\"\",VLOOKUP($A257,'2026-2027'!#REF!,I$26,FALSE))","v":{"$error":"#REF!"}},null,{"$f":"IF($B257=\"*\",\"\",VLOOKUP($A257,'2026-2027'!#REF!,K$5,FALSE))","v":{"$error":"#REF!"}},null,{"$f":"IF($B257=\"*\",\"\",VLOOKUP($A257,'2026-2027'!#REF!,M$5,FALSE))","v":{"$error":"#REF!"}}]
[223,{"$f":"VLOOKUP(A258,'2026-2027'!#REF!,9,FALSE)","v":{"$error":"#REF!"}},{"$f":"VLOOKUP($A258,'2026-2027'!#REF!,C$26,FALSE)","v":{"$error":"#REF!"}},{"$f":"IF($B258=\"*\",\"\",VLOOKUP($A258,'2026-2027'!#REF!,D$26,FALSE))","v":{"$error":"#REF!"}},{"$f":"IF($B258=\"*\",\"\",VLOOKUP($A258,'2026-2027'!#REF!,E$26,FALSE))","v":{"$error":"#REF!"}},{"$f":"IF($B258=\"*\",\"\",VLOOKUP($A258,'2026-2027'!#REF!,F$26,FALSE))","v":{"$error":"#REF!"}},{"$f":"IF($B258=\"*\",\"\",VLOOKUP($A258,'2026-2027'!#REF!,G$26,FALSE))","v":{"$error":"#REF!"}},null,{"$f":"IF($B258=\"*\",\"\",VLOOKUP($A258,'2026-2027'!#REF!,I$26,FALSE))","v":{"$error":"#REF!"}},null,{"$f":"IF($B258=\"*\",\"\",VLOOKUP($A258,'2026-2027'!#REF!,K$5,FALSE))","v":{"$error":"#REF!"}},null,{"$f":"IF($B258=\"*\",\"\",VLOOKUP($A258,'2026-2027'!#REF!,M$5,FALSE))","v":{"$error":"#REF!"}}]
[224,{"$f":"VLOOKUP(A259,'2026-2027'!#REF!,9,FALSE)","v":{"$error":"#REF!"}},{"$f":"VLOOKUP($A259,'2026-2027'!#REF!,C$26,FALSE)","v":{"$error":"#REF!"}},{"$f":"IF($B259=\"*\",\"\",VLOOKUP($A259,'2026-2027'!#REF!,D$26,FALSE))","v":{"$error":"#REF!"}},{"$f":"IF($B259=\"*\",\"\",VLOOKUP($A259,'2026-2027'!#REF!,E$26,FALSE))","v":{"$error":"#REF!"}},{"$f":"IF($B259=\"*\",\"\",VLOOKUP($A259,'2026-2027'!#REF!,F$26,FALSE))","v":{"$error":"#REF!"}},{"$f":"IF($B259=\"*\",\"\",VLOOKUP($A259,'2026-2027'!#REF!,G$26,FALSE))","v":{"$error":"#REF!"}},null,{"$f":"IF($B259=\"*\",\"\",VLOOKUP($A259,'2026-2027'!#REF!,I$26,FALSE))","v":{"$error":"#REF!"}},null,{"$f":"IF($B259=\"*\",\"\",VLOOKUP($A259,'2026-2027'!#REF!,K$5,FALSE))","v":{"$error":"#REF!"}},null,{"$f":"IF($B259=\"*\",\"\",VLOOKUP($A259,'2026-2027'!#REF!,M$5,FALSE))","v":{"$error":"#REF!"}}]
[225,{"$f":"VLOOKUP(A260,'2026-2027'!#REF!,9,FALSE)","v":{"$error":"#REF!"}},{"$f":"VLOOKUP($A260,'2026-2027'!#REF!,C$26,FALSE)","v":{"$error":"#REF!"}},{"$f":"IF($B260=\"*\",\"\",VLOOKUP($A260,'2026-2027'!#REF!,D$26,FALSE))","v":{"$error":"#REF!"}},{"$f":"IF($B260=\"*\",\"\",VLOOKUP($A260,'2026-2027'!#REF!,E$26,FALSE))","v":{"$error":"#REF!"}},{"$f":"IF($B260=\"*\",\"\",VLOOKUP($A260,'2026-2027'!#REF!,F$26,FALSE))","v":{"$error":"#REF!"}},{"$f":"IF($B260=\"*\",\"\",VLOOKUP($A260,'2026-2027'!#REF!,G$26,FALSE))","v":{"$error":"#REF!"}},null,{"$f":"IF($B260=\"*\",\"\",VLOOKUP($A260,'2026-2027'!#REF!,I$26,FALSE))","v":{"$error":"#REF!"}},null,{"$f":"IF($B260=\"*\",\"\",VLOOKUP($A260,'2026-2027'!#REF!,K$5,FALSE))","v":{"$error":"#REF!"}},null,{"$f":"IF($B260=\"*\",\"\",VLOOKUP($A260,'2026-2027'!#REF!,M$5,FALSE))","v":{"$error":"#REF!"}}]
[226,{"$f":"VLOOKUP(A261,'2026-2027'!#REF!,9,FALSE)","v":{"$error":"#REF!"}},{"$f":"VLOOKUP($A261,'2026-2027'!#REF!,C$26,FALSE)","v":{"$error":"#REF!"}},{"$f":"IF($B261=\"*\",\"\",VLOOKUP($A261,'2026-2027'!#REF!,D$26,FALSE))","v":{"$error":"#REF!"}},{"$f":"IF($B261=\"*\",\"\",VLOOKUP($A261,'2026-2027'!#REF!,E$26,FALSE))","v":{"$error":"#REF!"}},{"$f":"IF($B261=\"*\",\"\",VLOOKUP($A261,'2026-2027'!#REF!,F$26,FALSE))","v":{"$error":"#REF!"}},{"$f":"IF($B261=\"*\",\"\",VLOOKUP($A261,'2026-2027'!#REF!,G$26,FALSE))","v":{"$error":"#REF!"}},null,{"$f":"IF($B261=\"*\",\"\",VLOOKUP($A261,'2026-2027'!#REF!,I$26,FALSE))","v":{"$error":"#REF!"}},null,{"$f":"IF($B261=\"*\",\"\",VLOOKUP($A261,'2026-2027'!#REF!,K$5,FALSE))","v":{"$error":"#REF!"}},null,{"$f":"IF($B261=\"*\",\"\",VLOOKUP($A261,'2026-2027'!#REF!,M$5,FALSE))","v":{"$error":"#REF!"}}]
[227,{"$f":"VLOOKUP(A262,'2026-2027'!#REF!,9,FALSE)","v":{"$error":"#REF!"}},{"$f":"VLOOKUP($A262,'2026-2027'!#REF!,C$26,FALSE)","v":{"$error":"#REF!"}},{"$f":"IF($B262=\"*\",\"\",VLOOKUP($A262,'2026-2027'!#REF!,D$26,FALSE))","v":{"$error":"#REF!"}},{"$f":"IF($B262=\"*\",\"\",VLOOKUP($A262,'2026-2027'!#REF!,E$26,FALSE))","v":{"$error":"#REF!"}},{"$f":"IF($B262=\"*\",\"\",VLOOKUP($A262,'2026-2027'!#REF!,F$26,FALSE))","v":{"$error":"#REF!"}},{"$f":"IF($B262=\"*\",\"\",VLOOKUP($A262,'2026-2027'!#REF!,G$26,FALSE))","v":{"$error":"#REF!"}},null,{"$f":"IF($B262=\"*\",\"\",VLOOKUP($A262,'2026-2027'!#REF!,I$26,FALSE))","v":{"$error":"#REF!"}},null,{"$f":"IF($B262=\"*\",\"\",VLOOKUP($A262,'2026-2027'!#REF!,K$5,FALSE))","v":{"$error":"#REF!"}},null,{"$f":"IF($B262=\"*\",\"\",VLOOKUP($A262,'2026-2027'!#REF!,M$5,FALSE))","v":{"$error":"#REF!"}}]
[228,{"$f":"VLOOKUP(A263,'2026-2027'!#REF!,9,FALSE)","v":{"$error":"#REF!"}},{"$f":"VLOOKUP($A263,'2026-2027'!#REF!,C$26,FALSE)","v":{"$error":"#REF!"}},{"$f":"IF($B263=\"*\",\"\",VLOOKUP($A263,'2026-2027'!#REF!,D$26,FALSE))","v":{"$error":"#REF!"}},{"$f":"IF($B263=\"*\",\"\",VLOOKUP($A263,'2026-2027'!#REF!,E$26,FALSE))","v":{"$error":"#REF!"}},{"$f":"IF($B263=\"*\",\"\",VLOOKUP($A263,'2026-2027'!#REF!,F$26,FALSE))","v":{"$error":"#REF!"}},{"$f":"IF($B263=\"*\",\"\",VLOOKUP($A263,'2026-2027'!#REF!,G$26,FALSE))","v":{"$error":"#REF!"}},null,{"$f":"IF($B263=\"*\",\"\",VLOOKUP($A263,'2026-2027'!#REF!,I$26,FALSE))","v":{"$error":"#REF!"}},null,{"$f":"IF($B263=\"*\",\"\",VLOOKUP($A263,'2026-2027'!#REF!,K$5,FALSE))","v":{"$error":"#REF!"}},null,{"$f":"IF($B263=\"*\",\"\",VLOOKUP($A263,'2026-2027'!#REF!,M$5,FALSE))","v":{"$error":"#REF!"}}]
[229,{"$f":"VLOOKUP(A264,'2026-2027'!#REF!,9,FALSE)","v":{"$error":"#REF!"}},{"$f":"VLOOKUP($A264,'2026-2027'!#REF!,C$26,FALSE)","v":{"$error":"#REF!"}},{"$f":"IF($B264=\"*\",\"\",VLOOKUP($A264,'2026-2027'!#REF!,D$26,FALSE))","v":{"$error":"#REF!"}},{"$f":"IF($B264=\"*\",\"\",VLOOKUP($A264,'2026-2027'!#REF!,E$26,FALSE))","v":{"$error":"#REF!"}},{"$f":"IF($B264=\"*\",\"\",VLOOKUP($A264,'2026-2027'!#REF!,F$26,FALSE))","v":{"$error":"#REF!"}},{"$f":"IF($B264=\"*\",\"\",VLOOKUP($A264,'2026-2027'!#REF!,G$26,FALSE))","v":{"$error":"#REF!"}},null,{"$f":"IF($B264=\"*\",\"\",VLOOKUP($A264,'2026-2027'!#REF!,I$26,FALSE))","v":{"$error":"#REF!"}},null,{"$f":"IF($B264=\"*\",\"\",VLOOKUP($A264,'2026-2027'!#REF!,K$5,FALSE))","v":{"$error":"#REF!"}},null,{"$f":"IF($B264=\"*\",\"\",VLOOKUP($A264,'2026-2027'!#REF!,M$5,FALSE))","v":{"$error":"#REF!"}}]
[230,{"$f":"VLOOKUP(A265,'2026-2027'!#REF!,9,FALSE)","v":{"$error":"#REF!"}},{"$f":"VLOOKUP($A265,'2026-2027'!#REF!,C$26,FALSE)","v":{"$error":"#REF!"}},{"$f":"IF($B265=\"*\",\"\",VLOOKUP($A265,'2026-2027'!#REF!,D$26,FALSE))","v":{"$error":"#REF!"}},{"$f":"IF($B265=\"*\",\"\",VLOOKUP($A265,'2026-2027'!#REF!,E$26,FALSE))","v":{"$error":"#REF!"}},{"$f":"IF($B265=\"*\",\"\",VLOOKUP($A265,'2026-2027'!#REF!,F$26,FALSE))","v":{"$error":"#REF!"}},{"$f":"IF($B265=\"*\",\"\",VLOOKUP($A265,'2026-2027'!#REF!,G$26,FALSE))","v":{"$error":"#REF!"}},null,{"$f":"IF($B265=\"*\",\"\",VLOOKUP($A265,'2026-2027'!#REF!,I$26,FALSE))","v":{"$error":"#REF!"}},null,{"$f":"IF($B265=\"*\",\"\",VLOOKUP($A265,'2026-2027'!#REF!,K$5,FALSE))","v":{"$error":"#REF!"}},null,{"$f":"IF($B265=\"*\",\"\",VLOOKUP($A265,'2026-2027'!#REF!,M$5,FALSE))","v":{"$error":"#REF!"}}]
[231,{"$f":"VLOOKUP(A266,'2026-2027'!#REF!,9,FALSE)","v":{"$error":"#REF!"}},{"$f":"VLOOKUP($A266,'2026-2027'!#REF!,C$26,FALSE)","v":{"$error":"#REF!"}},{"$f":"IF($B266=\"*\",\"\",VLOOKUP($A266,'2026-2027'!#REF!,D$26,FALSE))","v":{"$error":"#REF!"}},{"$f":"IF($B266=\"*\",\"\",VLOOKUP($A266,'2026-2027'!#REF!,E$26,FALSE))","v":{"$error":"#REF!"}},{"$f":"IF($B266=\"*\",\"\",VLOOKUP($A266,'2026-2027'!#REF!,F$26,FALSE))","v":{"$error":"#REF!"}},{"$f":"IF($B266=\"*\",\"\",VLOOKUP($A266,'2026-2027'!#REF!,G$26,FALSE))","v":{"$error":"#REF!"}},null,{"$f":"IF($B266=\"*\",\"\",VLOOKUP($A266,'2026-2027'!#REF!,I$26,FALSE))","v":{"$error":"#REF!"}},null,{"$f":"IF($B266=\"*\",\"\",VLOOKUP($A266,'2026-2027'!#REF!,K$5,FALSE))","v":{"$error":"#REF!"}},null,{"$f":"IF($B266=\"*\",\"\",VLOOKUP($A266,'2026-2027'!#REF!,M$5,FALSE))","v":{"$error":"#REF!"}}]
[232,{"$f":"VLOOKUP(A267,'2026-2027'!#REF!,9,FALSE)","v":{"$error":"#REF!"}},{"$f":"VLOOKUP($A267,'2026-2027'!#REF!,C$26,FALSE)","v":{"$error":"#REF!"}},{"$f":"IF($B267=\"*\",\"\",VLOOKUP($A267,'2026-2027'!#REF!,D$26,FALSE))","v":{"$error":"#REF!"}},{"$f":"IF($B267=\"*\",\"\",VLOOKUP($A267,'2026-2027'!#REF!,E$26,FALSE))","v":{"$error":"#REF!"}},{"$f":"IF($B267=\"*\",\"\",VLOOKUP($A267,'2026-2027'!#REF!,F$26,FALSE))","v":{"$error":"#REF!"}},{"$f":"IF($B267=\"*\",\"\",VLOOKUP($A267,'2026-2027'!#REF!,G$26,FALSE))","v":{"$error":"#REF!"}},null,{"$f":"IF($B267=\"*\",\"\",VLOOKUP($A267,'2026-2027'!#REF!,I$26,FALSE))","v":{"$error":"#REF!"}},null,{"$f":"IF($B267=\"*\",\"\",VLOOKUP($A267,'2026-2027'!#REF!,K$5,FALSE))","v":{"$error":"#REF!"}},null,{"$f":"IF($B267=\"*\",\"\",VLOOKUP($A267,'2026-2027'!#REF!,M$5,FALSE))","v":{"$error":"#REF!"}}]
[null,null,null,null,null,"Sous total EMPLOI DE LA FORCE ET TACTIQUE",{"$f":"SUM(G221:G267)","v":{"$error":"#REF!"}},null,{"$f":"SUM(I221:I267)","v":{"$error":"#REF!"}},null,{"$f":"SUM(K221:K267)","v":{"$error":"#REF!"}},null,{"$f":"SUM(M221:M267)","v":{"$error":"#REF!"}}]

{"sheet":"2024-2025 (Non publié)","index":3,"n_rows":49,"n_cols":16,"rows_kept":49,"cut":false,"hidden":true,"merged":[[35,0,35,15],[29,9,29,15],[39,0,39,10],[28,1,28,3],[30,0,30,10],[36,0,36,10],[37,5,38,5],[37,7,38,7],[37,6,38,6],[37,0,38,0],[37,1,38,1],[37,2,38,2],[31,1,31,10],[32,0,33,0],[32,1,33,1],[32,3,33,3],[27,0,27,3],[27,4,27,8],[27,9,27,12],[34,9,34,15],[27,13,27,15],[32,2,33,2],[45,0,45,15],[37,3,38,3],[37,4,38,4],[37,14,38,14],[37,15,38,15],[37,8,38,8],[37,9,38,9],[37,10,38,10],[37,11,38,11],[37,12,38,12],[37,13,38,13],[41,0,41,10],[43,0,43,15],[44,10,44,11]]}
[]
[null,null,null,null,null,null,null,null,null,null,null,null,null,null,null,"Programmes de formation initiale et perfectionnement policier"]
[null,null,null,null,null,null,null,null,null,null,null,null,null,null,null,"Calendrier des cours 2024-2025"]
[]
["LÉGENDE"]
[null,"Volet - Patrouille gendarmerie",null,null,"A","Annulé"]
[null,"Volet - Enquête policière",null,null,"R","Reporté"]
[null,"Volet - Gestion policière",null,null,null,"Ajouté en cours d'année"]
[null,"CECAP"]
[null,"Programme ACCÈS"]
["Act. Prép. En ligne (Xh)","Activité préparatoire en ligne"]
[]
["MODES DE DIFFUSION"]
["C","Sur le Campus : Activité se déroulant exclusivement dans les bâtiments, les installations et les plateaux de simulation de l'ENPQ incluant les sites de simulation de l'ENPQ "]
[null,"incluant les sites de simulation dans la ville de Nicolet et le circuit routier."]
["HC","Hors campus : Activité se déroulant exclusivement hors des bâtiments, des installations et des plateaux de simulation de l'ENPQ."]
["MS","Multi-sites : Activité se déroulant en partie sur le campus et en partie hors campus."]
["S","Synchrone : Activité en ligne dans laquelle les échanges avec le formateur et les autres apprenants se font en temps réel par des modes de communication qui exigent une connexion en simultané."]
["A","Asynchrone : Activité en ligne dans laquelle les échanges avec le formateur et les autres apprenants se font en temps différé par des modes de communication qui n'exigent par une connexion en simultané. "]
[null,"Les activités en ligne réalisées de manière autonome entrent également dans cette catégorie."]
["MX","Mixte : Combinaison, en proportion variable, d'activités en ligne synchrones et asynchrones."]
["H","Hybride : Comtinaison, en proportion variable, d'activités en présentiel et d'activités en ligne. Les activités ayant des travaux préparatoires à réaliser en ligne entrent dans cette catégorie."]
[1,"Formateurs ENPQ (incluant les prêts de personnel temporaire PPT)"]
[2,"Réseau (moniteurs, instructeurs)"]
[3,"Autres collaborateurs (individus et organisations)"]
[]
[]
[null,null,null,null,"Session automne 2024",null,null,null,null,"Session hiver 2025",null,null,null,"Session printemps/été 2025"]
["Code de cours","Titre du cours",null,null,"Août","Sept.","Oct","Nov.","Déc.","Janv.","Fév.","Mars","Avril","Mai","Juin","Juillet"]
[null,null,null,null,null,null,null,null,null,"PROGRAMMES DE FORMATION INITIALE"]
["n PATROUILLE-GENDARMERIE"]
["436-008-21","Activité préparatoire au Volet 2-PFIEP \"Passerelle\""]
["436-008-21","Activité préparatoire au Volet 2-PFIEP \"Passerelle\"","H1",16]
[]
[null,null,null,null,null,null,null,null,null,"PERFECTIONNEMENT POLICIER"]
["n PATROUILLE-GENDARMERIE"]
["Activités du patrouilleur"]
["209-709-20","Épreuves de coordination des mouvements - L'instructeur - Requalification","C1",6]
[]
["Appareils de détection approuvés"]
["209-707-20","Alco-Sensor FST - L'instructeur - Requalification","C1",6]
["Cinémomètres"]
["206-701-20","Cinémomètre laser - L'instructeur","C1",6]
["Intervention tactique"]
["215-718-23","Didactique de l'intervention tactique - L'instructeur","C1",12]
["Utilisation des armes à feu"]
["216-709-20","Carabine – Plateforme AR - L'instructeur\nHors campus\nChamp de tir Les Seigneurs\nPointe-du-Lac","HC1",8]
["216-710-20","Carabine – Plateforme AR - L'instructeur - Requalification\nHors campus\nChamp de tir Les Seigneurs\nPointe-du-Lac","HC1",8]
["216-711-23","Didactique du tir au pistolet – L'instructeur","C1",8]

{"sheet":"DFSP 2024-2025","index":4,"n_rows":84,"n_cols":26,"rows_kept":84,"cut":false,"hidden":true,"merged":[[7,6,7,7],[7,8,7,24],[8,6,8,7],[8,8,8,24],[9,6,9,7],[9,8,9,24],[10,6,10,7],[10,8,10,24],[11,6,11,7],[11,8,11,24],[12,6,12,7],[12,8,12,24],[26,18,26,24],[27,6,27,24],[14,18,14,24],[15,6,15,10],[15,13,15,17],[15,18,15,21],[15,22,15,24],[19,6,19,24],[61,6,61,24],[63,6,63,24],[72,6,72,24],[48,6,48,24],[54,6,54,24],[55,6,55,24],[81,6,82,6],[74,6,74,24],[76,6,76,24],[79,6,79,24],[81,7,82,7],[81,8,82,8],[81,9,82,9],[81,10,82,10],[81,12,82,12]]}
[null,null,null,null,null,null,null,null,null,null,null,null,null,null,null,null,null,null,null,null,null,null,null,null,"Programmes de formation initiale et formations en sécurité publique"]
[null,null,null,null,null,null,null,null,null,null,null,null,null,null,null,null,null,null,null,null,null,null,null,null,"Calendrier des cours 2023-2024"]
[]
[null,null,null,null,null,null,"LÉGENDE"]
[null,null,null,null,null,null,"A","Annulé",null,null,null,null,null,"R","Reporté",null,null,null,null,"Ajouté en cours d’année"]
[]
[null,null,null,null,null,null,"MODES DE DIFFUSION"]
[null,null,null,null,null,null,"C",null,"Sur le Campus : Activité se déroulant exclusivement dans les bâtiments, les installations et les plateaux de simulation de l'ENPQ incluant les sites de simulation de l'ENPQ, les sites de simulation dans la ville de Nicolet et le circuit routier."]
[null,null,null,null,null,null,"HC",null,"Hors campus : Activité se déroulant exclusivement hors des bâtiments, des installations et des plateaux de simulation de l'ENPQ."]
[null,null,null,null,null,null,"MS",null,"Multi-sites : Activité se déroulant en partie sur le campus et en partie hors campus."]
[null,null,null,null,null,null,1,null,"Formateurs ENPQ (incluant les prêts de personnel temporaire PPT)"]
[null,null,null,null,null,null,2,null,"Réseau (moniteurs, instructeurs)"]
[null,null,null,null,null,null,3,null,"Autres collaborateurs (individus et organisations)"]
[]
[null,null,null,null,null,null,null,null,null,null,null,null,null,null,null,null,null,null,"PROGRAMMES DE FORMATION INITIALE"]
[null,null,null,null,null,null,null,null,null,null,null,null,null,"Session automne 2023",null,null,null,null,"Session hiver 2024",null,null,null,"Session printemps/été 2024"]
[]
[]
[null,null,"TRI-1","TRI-2","TRI-3","COURS","Numéro CRM","FOR BAR","Code de cours","Titre du cours",null,"Mode diffusion","Coordonnateur","Août","Sept.","Oct","Nov.","Déc.","Janv.","Fév.","Mars","Avril","Mai","Juin","Juillet","Commentaires"]
[null,null,"Programmes de formation initiale",null,null,null,"PROGRAMME DE FORMATION INITIALE"]
[null,null,"Programmes de formation initiale",null,"ASC","Programme d’intégration à la fonction d’agent des services correctionnels",null,null,"ASC","Programme d’intégration à la fonction d’agent des services correctionnels",60]
[null,null,"Programmes de formation initiale",null,"CRQ","Programme de formation initiale des contrôleurs routiers du Québec",null,null,"CRQ","Programme de formation initiale des contrôleurs routiers du Québec","2x18","H1"]
[null,null,"Programmes de formation initiale",null,"EXO","Programme de formation initiale des inspecteurs-sûreté",null,null,"EXO","Programme de formation initiale des inspecteurs-sûreté",9,"HC1"]
[null,null,"Programmes de formation initiale",null,"DSPJ","Programme de formation initiale des inspecteurs-sûreté",null,null,"DSPJ","Programme de formation initiale des inspecteurs-sûreté",36]
[null,null,"Programmes de formation initiale",null,"STM","Programme de formation initiale des constables spéciaux de la STM",null,null,"STM","Programme de formation initiale des constables spéciaux de la STM",18,"C1"]
[null,null,"Programmes de formation initiale",null,"STM","Programme de formation initiale des constables spéciaux de la STM",null,null,"STM","Programme de formation initiale des constables spéciaux de la STM",18,"C1"]
[null,null,"Formations en sécurité publique",null,null,null,null,null,null,null,null,null,null,null,null,null,null,null,"FORMATIONS EN SÉCURITÉ PUBLIQUE"]
[null,null,"Formations en sécurité publique","Enquête, inspection et renseignement",null,null,"ENQUÊTE, INSPECTION ET RENSEIGNEMENT"]
[null,null,"Formations en sécurité publique","Enquête, inspection et renseignement","À VENIR","Inspection (CCQ)",null,null,"À VENIR","Inspection (CCQ)",10,"C1"]
[null,null,"Formations en sécurité publique","Enquête, inspection et renseignement","041-101-16","Éléments d'enquête pour les intervenants en sécurité incendie",null,null,"041-101-16","Éléments d'enquête pour les intervenants en sécurité incendie",12,"C1"]
[null,null,"Formations en sécurité publique","Enquête, inspection et renseignement","826-112-21","Aspects légaux – Constables spéciaux STM",null,null,"826-112-21","Aspects légaux – Constables spéciaux STM",22]
[null,null,"Formations en sécurité publique","Enquête, inspection et renseignement","836-126-18","Techniques d’entrevue de suspect (RQ)",null,null,"836-126-18","Techniques d’entrevue de suspect (RQ)",12,"C ou HC"]
[null,null,"Formations en sécurité publique","Enquête, inspection et renseignement","836-127-19","Techniques d’enquête (RBQ)",null,null,"836-127-19","Techniques d’enquête (RBQ)",12,"H1"]
[null,null,"Formations en sécurité publique","Enquête, inspection et renseignement","836-129-16","Techniques d'entrevue et communication efficace (CCQ)",null,null,"836-129-16","Techniques d'entrevue et communication efficace (CCQ)",8]
[null,null,"Formations en sécurité publique","Enquête, inspection et renseignement","836-137-18","Tech entrevue suspect et témoignage à la cour (AMF)",null,null,"836-137-18","Tech entrevue suspect et témoignage à la cour (AMF)",12,"C1"]
[null,null,"Formations en sécurité publique","Enquête, inspection et renseignement","836-141-19","Planifier et exécuter une perquisition (Santé Canada)",null,null,"836-141-19","Planifier et exécuter une perquisition (Santé Canada)",12]
[null,null,"Formations en sécurité publique","Enquête, inspection et renseignement","836-143-20","Techniques d’entrevue de témoin et prise de déclaration (CCQ)",null,null,"836-143-20","Techniques d’entrevue de témoin et prise de déclaration (CCQ)",8]
[null,null,"Formations en sécurité publique","Enquête, inspection et renseignement","836-146-20","Processus d’enquête (ARC)",null,null,"836-146-20","Processus d’enquête (ARC)",12,"H1"]
[null,null,"Formations en sécurité publique","Enquête, inspection et renseignement","836-147-21","Techniques d’entrevue de témoins (ARC)",null,null,"836-147-21","Techniques d’entrevue de témoins (ARC)",8]
[null,null,"Formations en sécurité publique","Enquête, inspection et renseignement","836-148-22","Techniques d’entrevue de suspect (ARC)",null,null,"836-148-22","Techniques d’entrevue de suspect (ARC)",12]
[null,null,"Formations en sécurité publique","Enquête, inspection et renseignement","837-101-17","Enquête criminelle (MTESS)",null,null,"837-101-17","Enquête criminelle (MTESS)",8]
[null,null,"Formations en sécurité publique","Enquête, inspection et renseignement","839-301-16","Gestion des informateurs – Volet pratique",null,null,"839-301-16","Gestion des informateurs – Volet pratique",16]
[null,null,"Formations en sécurité publique","Enquête, inspection et renseignement","839-302-17","Agent de renseignement criminel (RQ)",null,null,"839-302-17","Agent de renseignement criminel (RQ)",12]
[null,null,"Formations en sécurité publique","Enquête, inspection et renseignement","839-303-19","Agent de renseignement criminel (RBQ et CCQ)",null,null,"839-303-19","Agent de renseignement criminel (RBQ et CCQ)",12]
[null,null,"Formations en sécurité publique","Enquête, inspection et renseignement","840-102-14","Processus d’enquête (RQ)",null,null,"840-102-14","Processus d’enquête (RQ)",12,"C ou HC"]
[null,null,"Formations en sécurité publique","Enquête, inspection et renseignement","840-107-18","Processus d'enquête (AMF)",null,null,"840-107-18","Processus d'enquête (AMF)",12,"H1"]
[null,null,"Formations en sécurité publique","Enquête, inspection et renseignement","840-108-19","Inspection (RQ) ",null,null,"840-108-19","Inspection (RQ) ",12,"C1"]
[null,null,"Formations en sécurité publique","Enquête, inspection et renseignement","À VENIR","Technique d'entrevue de suspect (CCQ)",null,null,"À VENIR","Technique d'entrevue de suspect (CCQ)",12,"?"]
[null,null,"Formations en sécurité publique","Gestion",null,null,"GESTION"]
[null,null,"Formations en sécurité publique","Gestion","PPU-010-38","Habiletés de supervision en sécurité publique",null,null,"PPU-010-38","Habiletés de supervision en sécurité publique",16]
[null,null,"Formations en sécurité publique","Gestion","PPU-010-47 ","Activité d’immersion à la fonction de cadre de 1er niveau",null,null,"PPU-010-47 ","Activité d’immersion à la fonction de cadre de 1er niveau",16]
[null,null,"Formations en sécurité publique","Gestion","PPU-010-49","Habiletés de supervision opérationnelle et administrative",null,null,"PPU-010-49","Habiletés de supervision opérationnelle et administrative",16]
[null,null,"Formations en sécurité publique","Gestion","758-103-16","Gestion d’une équipe de travail et prise décision (MSP)",null,null,"758-103-16","Gestion d’une équipe de travail et prise décision (MSP)",16]
[null,null,"Formations en sécurité publique","Gestion","758-104-17","Gestion au quotidien – Volet coaching et supervision (MSP)",null,null,"758-104-17","Gestion au quotidien – Volet coaching et supervision (MSP)",16]
[null,null,"Formations en sécurité publique","Perfectionnement",null,null,"PERFECTIONNEMENT"]
[null,null,"Formations en sécurité publique","Communication et intervention physique",null,null,"COMMUNICATION ET INTERVENTION PHYSIQUE"]
[null,null,"Formations en sécurité publique","Communication et intervention physique","814-108-16","Interventions verbales et physiques (Loto Québec)",null,null,"814-108-16","Interventions verbales et physiques (Loto Québec)",10]
[null,null,"Formations en sécurité publique","Communication et intervention physique","814-110-18","Interventions physiques 2 (Société des casinos du Québec)",null,null,"814-110-18","Interventions physiques 2 (Société des casinos du Québec)",10]
[null,null,"Formations en sécurité publique","Communication et intervention physique","814-112-21","Révision des techniques d'intervention verbale et physique - Société des casinos du Québec",null,null,"814-112-21","Révision des techniques d'intervention verbale et physique - Société des casinos du Québec",10]
[null,null,"Formations en sécurité publique","Communication et intervention physique","817-101-11","Gestion de situations menaçantes (ACIA)",null,null,"817-101-11","Gestion de situations menaçantes (ACIA)",20]
[null,null,"Formations en sécurité publique","Communication et intervention physique","818-302-22","Formation de mise à niveau pour cadre - Constable spécial du MSP",null,null,"818-302-22","Formation de mise à niveau pour cadre - Constable spécial du MSP",2]
[null,null,"Formations en sécurité publique","Conduite",null,null,"CONDUITE"]
[null,null,"Formations en sécurité publique","Conduite","801-212-22","Conduite de véhicule en utilisant les techniques de base (ASFC)",null,null,"801-212-22","Conduite de véhicule en utilisant les techniques de base (ASFC)",12,"C1"]
[null,null,"Formations en sécurité publique","Emploi de la force",null,null,"EMPLOI DE LA FORCE"]
[null,null,"Formations en sécurité publique","Emploi de la force","214-103-18","Intervention avec le bouclier inversé (DSPJ)",null,null,"214-103-18","Intervention avec le bouclier inversé (DSPJ)",8]
[null,null,"Formations en sécurité publique","Emploi de la force","214-712-20","Intervention avec le bouclier inversé - L'instructeur (sans requalification) (DSPJ)",null,null,"214-712-20","Intervention avec le bouclier inversé - L'instructeur (sans requalification) (DSPJ)",5]
[null,null,"Formations en sécurité publique","Emploi de la force","217-103-19","Communication – Transition (Projet communication ASFC) - Anglais",null,null,"217-103-19","Communication – Transition (Projet communication ASFC) - Anglais",8]
[null,null,"Formations en sécurité publique","Emploi de la force","218-301-18","Fondements théoriques de l’emploi de la force (Projet communication ASFC) - Anglais",null,null,"218-301-18","Fondements théoriques de l’emploi de la force (Projet communication ASFC) - Anglais",8]
[null,null,"Formations en sécurité publique","Emploi de la force","XXX-XXX-XX","Parrainage + IP 23 (Projet communication ASFC) - Anglais",null,null,"XXX-XXX-XX","Parrainage + IP 23 (Projet communication ASFC) - Anglais",8]
[null,null,"Formations en sécurité publique","Emploi de la force","814-103-22","Méthodes d'intervention (Centres jeunesse)",null,null,"814-103-22","Méthodes d'intervention (Centres jeunesse)",12]
[null,null,"Formations en sécurité publique","Emploi de la force","817-107-XX","La communication (CCQ)",null,null,"817-107-XX","La communication (CCQ)",10]
[null,null,"Formations en sécurité publique","Emploi de la force","841-102-22","Actualisation des compétences des inspecteurs exo",null,null,"841-102-22","Actualisation des compétences des inspecteurs exo",9]
[null,null,"Formations en sécurité publique","Sécurité routière",null,null,"SÉCURITÉ ROUTIÈRE"]
[null,null,"Formations en sécurité publique","Sécurité routière","810-201-18","Agent de surveillance de sentier FQCQ",null,null,"810-201-18","Agent de surveillance de sentier FQCQ",15]
[null,null,"Formations en sécurité publique","Technicien qualifié en éthylomètre",null,null,"TECHNICIEN QUALIFIÉ EN ÉTHYLOMÈTRE"]
[null,null,"Formations en sécurité publique","Technicien qualifié en éthylomètre","810-201-18","Agent de surveillance de sentier FQCQ",null,null,"209-204-18","Technicien qualifié en éthylomètre - DataMaster DMT-C",12]
[null,null,"Formations en sécurité publique","Utilisation des armes à feu",null,null,"UTILISATION DES ARMES À FEU"]
[null,null,"Formations en sécurité publique","Utilisation des armes à feu","216-207-07","Tir au pistolet - Requalification",null,null,"216-207-07","Tir au pistolet - Requalification",8]
[null,null,"Formations en sécurité publique","Utilisation des armes à feu","216-302-19","Carabine – Plateforme AR –  Requalification",null,null,"216-302-19","Carabine – Plateforme AR –  Requalification",7]
[null,null,"Formations en sécurité publique","CECAP",null,null,"n CENTRE D’ÉVALUATION DES COMPÉTENCES ET APTITUDES PROFESSIONNELLES"]
[null,null,"Formations en sécurité publique","CECAP","828-002-18","Séance d'information - La prévention des impacts psychologiques inhérents aux métiers des intervenants en situation d'urgence (Dessercom)",null,null,"828-002-18","Séance d'information - La prévention des impacts psychologiques inhérents aux métiers des intervenants en situation d'urgence (Dessercom)",35]
[null,null,"Formations en sécurité publique","CECAP","828-103-15","Prévention des impacts psychologiques (SUPERVISEUR)",null,null,"828-103-15","Prévention des impacts psychologiques (SUPERVISEUR)",14,"Entente SQ\n4 C1\n10 HC1"]
[null,null,"Formations en sécurité publique","CECAP",null,null,null,null,null,null,null,"Calendrier PP - C1"]
[null,null,"Formations en sécurité publique","CECAP","828-108-18","Prévention des impacts psychologiques (superviseur) - Mise à jour",null,null,"828-108-18","Prévention des impacts psychologiques (superviseur) - Mise à jour",16]

{"sheet":"Légende","index":5,"n_rows":48,"n_cols":10,"rows_kept":48,"cut":false,"hidden":false,"merged":[[1,9,2,20],[41,4,41,18],[6,2,6,3],[7,2,7,3],[8,2,8,3],[9,2,9,3],[10,2,10,3],[11,2,11,3],[12,2,12,3],[14,2,14,4],[17,4,17,18],[15,4,15,18],[25,4,25,18],[34,4,34,18],[37,4,37,18],[39,4,39,18]]}
[]
[null,null,null,null,null,null,null,null,null,"Calendrier institutionnel 2025-2026"]
[]
[]
[]
[]
[null,null,"LÉGENDE"]
[null,null,null,null,"Volet - Patrouille gendarmerie",null,null,"A","Annulé"]
[null,null,null,null,"Volet - Enquête policière",null,null,"R","Reporté"]
[null,null,null,null,"Volet - Gestion policière",null,null,null,"Ajouté en cours d'année"]
[null,null,null,null,"CECAP"]
[null,null,null,null,"Programme ACCÈS"]
[null,null,"Act. Prép. En ligne (Xh)",null,"Activité préparatoire en ligne"]
[]
[null,null,"MODES DE DIFFUSION"]
[null,null,null,null,"Diffusions en présentiel :"]
[]
[null,null,null,"C","Sur le Campus : Activité se déroulant exclusivement dans les bâtiments, les installations et les plateaux de simulation de l'ENPQ.  Ceci inclue les sites de simulation de l'ENPQ, les sites de simulation dans la ville de Nicolet, ainsi que le circuit routier. Ce mode de diffusion inclus aussi toutes les formations offertes au campus de Montréal."]
[]
[null,null,null,"CM","Campus de Montréal : Activité se déroulant exclusivement dans les locaux du campus de Montréal de l'ENPQ. "]
[]
[null,null,null,"HC","Hors campus : Activité se déroulant exclusivement hors des bâtiments, des installations et des plateaux de simulation de l'ENPQ."]
[]
[null,null,null,"MS","Multi-sites : Activité se déroulant en partie sur le campus et en partie hors campus."]
[]
[null,null,null,null,"Diffusions en ligne :"]
[]
[null,null,null,"S","Synchrone : Activité en ligne dans laquelle les échanges avec le formateur et les autres apprenants se font en temps réel par des modes de communication qui exigent une connexion en simultané."]
[]
[null,null,null,"A","Asynchrone : Activité en ligne dans laquelle les échanges avec le formateur et les autres apprenants se font en temps différé par des modes de communication qui n'exigent par une connexion en simultané. "]
[null,null,null,null,"Les activités en ligne réalisées de manière autonome entrent également dans cette catégorie."]
[]
[null,null,null,"MX","Mixte : Combinaison, en proportion variable, d'activités en ligne synchrones et asynchrones."]
[]
[null,null,null,null,"Particularité des diffusions en présentiel & en ligne : "]
[]
[null,null,null,"H","Hybride : Combinaison, en proportion variable, d'activités en présentiel et d'activités en ligne. Les activités ayant des travaux préparatoires à réaliser en ligne entrent dans cette catégorie."]
[null,null,null,null,"Le mode de diffusion hybride est toujours suivi de la mention de chacune des portions présentiel et en ligne entre crochets.  Par exemple, un cours hybride dont la portion en ligne se fait de façon synchrone et dont la portion en présentiel se fait à l'École portera le code de diffusion H1-[S-C]"]
[]
[null,null,null,null,"Provenance des formateurs"]
[]
[null,null,null,null,"Le code alphabétique du mode de diffusion est toujours suivi d'un code numérique indiquant la provenance du formateur : "]
[]
[null,null,null,1,"Formateurs ENPQ (incluant les prêts de personnel temporaire PPT)"]
[]
[null,null,null,2,"Réseau (moniteurs, instructeurs, Maîtres-Instructeurs)"]
[]
[null,null,null,3,"Autres collaborateurs (individus et organisations)"]

{"sheet":"Adresses de diffusion","index":6,"n_rows":39,"n_cols":6,"rows_kept":39,"cut":false,"hidden":false,"merged":[]}
[]
[null,null,null,null,null,"Adresses de diffusion"]
[]
[]
[]
[]
[]
[]
[]
[]
[]
[null,null,"École nationale de police du Québec",null,null,"Service de police de Sherbrooke"]
[null,null,"350, rue Marguerute-d'Youville",null,null,"575 rue Maurice-Houle"]
[null,null,"NICOLET",null,null,"SHERBROOKE"]
[null,null,"J3T 1X4",null,null,"J1H 1Z6"]
[]
[]
[null,null,"ENPQ - Campus de Montréal",null,null,"SANAIR"]
[null,null,"8491 rue Ernest-Cormier",null,null,"669 Le Bas du Petit rang St-François"]
[null,null,"MONTRÉAL (arrondissement Anjou)",null,null,"SAINT-PIE"]
[null,null,"H1J 1B5",null,null,"J0H 1W0"]
[]
[]
[null,null,"Service de police de Blainville",null,null,"Club de tir des Seigneurs"]
[null,null,"640, boul. du Curé-Labelle",null,null,"1120 Rang Saint-Nicolas"]
[null,null,"BLAINVILLE",null,null,"TROIS-RIVIÈRES (Secteur Pointe-du-Lac)"]
[null,null,"J7C 2J2",null,null,"G9B 7X9"]
[]
[]
[null,null,"UQTR - Campus Québec",null,null,"Domaine Scout"]
[null,null,"550, Boulevard Wilfrid-Hamel",null,null,"1295 chemin des Pins"]
[null,null,"QUÉBEC",null,null,"TROIS-RIVIÈRES (Secteur Saint-Lois-de-France)"]
[null,null,"G1M 3E5",null,null,"G8W 2K1"]
[]
[]
[null,null,"Collège Ahuntsic"]
[null,null,"9155, rue St-Hubert"]
[null,null,"MONTRÉAL"]
[null,null,"H2M 1Y8"]