{"text_format":"1","workbook":"xlsx","n_sheets":7,"sheets":["2024-2025 ","PN_","Rapport_Volum","2024-2025 (Non publié)","DFSP 2024-2025","Légende","Adresses de diffusion"],"not_rendered":{"charts":0,"images":3,"macros":1,"external_links":1,"defined_names":28,"comments":0,"pivot_tables":0},"unopened":[],"bounds":{"document_bytes":16777216,"sheet_cells":100000,"rows_first":2000,"rows_last":500,"rows_between":2000,"halvings":0,"cell_chars":16384,"cell_head_chars":4096},"cells_cut":0,"cells_raw":0,"read":"whole","date_system":"1900"}

{"sheet":"2024-2025 ","index":0,"n_rows":541,"n_cols":28,"rows_kept":541,"cut":false,"hidden":false,"merged":[[411,16,412,16],[413,24,414,24],[409,23,410,23],[407,15,408,15],[438,16,439,16],[479,17,481,17],[479,18,481,18],[429,14,430,14],[427,21,427,27],[276,24,276,25],[283,16,284,16],[381,20,383,20],[295,12,295,27],[309,16,309,17],[307,16,307,17],[313,23,314,23],[347,12,348,12],[377,21,378,21],[407,22,408,22],[391,23,392,23],[347,19,348,19],[326,16,327,16],[326,18,327,18],[326,25,327,25],[332,16,332,17],[329,16,329,17],[340,24,341,24],[285,27,286,27],[285,16,286,16],[282,19,284,19],[296,16,296,17],[291,16,291,17],[510,27,511,27],[510,26,511,26],[510,15,511,15],[510,16,511,16],[510,17,511,17],[510,18,511,18],[388,13,389,13],[381,21,383,21],[381,18,383,18],[391,21,392,21],[407,14,408,14],[406,23,406,26],[405,17,405,20],[409,19,410,19],[409,16,409,18],[409,22,410,22],[409,13,410,13],[505,18,506,18],[438,24,439,24],[407,16,407,17],[407,23,408,23],[427,19,428,19],[386,26,386,27],[391,19,392,19],[388,19,389,19],[425,27,426,27],[419,14,420,14],[425,17,426,17],[411,17,411,19],[409,14,410,14],[409,27,410,27],[411,15,412,15],[407,21,408,21],[407,27,408,27],[379,16,379,17],[326,26,327,26],[337,18,337,19],[407,19,408,19],[402,24,402,27],[322,23,323,23],[368,16,368,17],[358,16,358,27],[357,16,357,27],[340,22,341,22],[340,21,341,21],[342,25,342,27],[340,27,341,27],[395,21,395,27],[381,27,383,27],[391,18,392,18],[407,18,408,18],[407,25,408,25],[407,24,408,24],[388,20,389,20],[340,26,341,26],[340,17,341,17],[365,16,365,17],[347,27,348,27],[391,26,392,26],[240,27,241,27],[304,27,305,27],[340,14,341,14],[283,17,283,18],[204,25,205,25],[201,17,205,17],[226,16,226,17],[257,24,258,25],[240,21,241,21],[236,27,237,27],[318,21,319,21],[278,22,279,22],[260,22,267,22],[278,21,279,21],[322,25,323,25],[260,21,267,21],[238,14,239,14],[255,25,256,25],[257,21,258,21],[282,27,284,27],[334,16,334,27],[304,26,305,26],[218,16,218,17],[230,16,230,17],[313,16,314,16],[313,26,314,26],[238,24,239,24],[231,17,232,17],[260,14,267,14],[236,21,237,21],[231,26,232,26],[206,14,210,14],[204,21,205,21],[236,18,237,18],[238,20,239,20],[202,24,203,24],[242,16,244,16],[236,14,237,14],[225,16,225,17],[242,22,244,22],[233,18,235,18],[201,12,205,12],[231,14,232,14],[202,23,203,23],[242,23,244,23],[233,21,235,21],[233,14,235,14],[240,26,241,26],[233,24,235,24],[238,15,239,15],[242,15,244,15],[255,18,258,18],[163,16,164,16],[174,16,174,17],[183,24,184,24],[199,18,200,18],[200,23,200,24],[190,18,193,18],[175,16,175,17],[183,22,184,22],[163,22,164,22],[190,22,193,22],[190,20,193,20],[148,18,149,18],[199,16,200,16],[198,16,198,17],[190,19,193,19],[145,19,145,23],[163,25,164,25],[163,23,164,24],[168,12,168,27],[183,16,184,16],[190,21,193,21],[151,25,152,25],[199,19,200,19],[199,26,200,26],[155,21,155,27],[151,27,152,27],[163,20,164,20],[199,13,200,13],[199,21,200,21],[242,12,244,12],[255,13,258,13],[202,26,203,26],[248,27,249,27],[271,16,271,17],[278,19,279,19],[201,15,205,15],[201,13,205,13],[274,16,274,17],[299,12,299,27],[278,15,279,15],[278,24,279,24],[304,13,305,13],[304,14,305,14],[199,20,200,20],[199,17,200,17],[199,12,200,12],[201,14,205,14],[255,16,258,16],[260,23,267,23],[260,20,263,20],[253,12,253,27],[278,13,279,13],[233,27,235,27],[278,12,279,12],[242,21,244,21],[242,25,244,25],[242,17,244,17],[240,13,241,13],[238,19,239,19],[216,16,216,18],[377,14,378,14],[304,24,305,24],[377,15,378,15],[377,22,378,22],[318,26,319,26],[287,16,287,17],[313,15,314,15],[285,25,286,25],[285,15,286,15],[318,14,319,14],[347,23,348,23],[340,15,341,15],[282,22,284,22],[278,16,279,16],[242,19,244,19],[260,17,267,17],[278,18,279,18],[242,14,244,14],[242,20,244,20],[286,23,286,24],[347,26,348,26],[343,16,343,17],[255,15,258,15],[342,16,342,20],[328,16,328,17],[347,15,348,15],[248,26,249,26],[366,16,366,17],[370,16,370,17],[262,24,263,24],[264,24,265,24],[264,20,267,20],[255,12,258,12],[313,21,314,21],[322,27,323,27],[260,26,267,26],[381,14,383,14],[304,12,305,12],[242,27,244,27],[246,16,246,17],[231,15,232,15],[231,16,232,16],[231,18,232,18],[231,19,232,19],[231,20,232,20],[231,22,232,22],[231,23,232,23],[240,23,241,23],[238,12,239,12],[236,12,237,12],[238,23,239,23],[236,13,237,13],[238,13,239,13],[236,15,237,15],[233,17,235,17],[233,16,235,16],[233,23,235,23],[241,24,241,25],[388,16,388,17],[285,12,286,12],[313,13,314,13],[411,12,412,12],[413,12,414,12],[409,15,410,15],[381,12,383,12],[407,20,408,20],[391,15,392,15],[388,15,389,15],[377,17,378,17],[377,13,378,13],[217,16,217,17],[206,16,210,16],[240,19,241,19],[240,18,241,18],[231,27,232,27],[224,12,224,27],[229,26,229,27],[206,13,210,13],[285,22,286,22],[275,16,275,17],[240,15,241,15],[242,18,244,18],[242,13,244,13],[255,17,258,17],[282,16,282,17],[282,23,284,23],[282,24,284,24],[282,25,284,25],[318,23,319,23],[318,24,319,24],[116,12,117,12],[110,17,110,24],[116,23,117,23],[116,16,117,16],[116,14,117,14],[104,13,106,13],[112,14,113,14],[105,25,105,27],[141,13,142,13],[116,24,117,24],[490,14,493,14],[490,16,493,16],[490,18,493,18],[490,19,493,19],[313,17,314,17],[278,17,279,17],[278,26,279,26],[419,12,420,12],[425,12,426,12],[409,25,410,25],[417,25,418,25],[411,22,412,22],[411,21,412,21],[413,25,414,25],[411,26,412,26],[415,23,416,23],[407,26,408,26],[340,12,341,12],[313,12,314,12],[397,23,397,24],[377,24,378,24],[371,16,371,17],[42,27,45,27],[81,25,82,25],[73,19,76,19],[81,17,82,17],[81,19,82,19],[67,19,68,19],[73,20,76,20],[88,25,88,26],[85,21,85,24],[202,21,203,21],[204,26,205,26],[81,18,82,18],[101,26,102,26],[87,16,87,17],[81,20,82,20],[94,25,94,26],[148,16,149,16],[148,19,149,19],[173,16,173,17],[93,18,94,18],[116,25,117,25],[159,21,159,27],[78,24,79,26],[183,26,184,26],[183,27,184,27],[163,21,164,21],[141,17,142,17],[81,22,82,22],[43,18,43,19],[98,21,98,27],[163,27,164,27],[151,26,152,26],[31,20,32,20],[31,16,32,16],[71,16,71,20],[65,13,66,13],[54,22,56,22],[54,12,56,12],[54,13,56,13],[54,14,56,14],[151,24,152,24],[106,18,106,19],[145,24,145,27],[77,24,77,25],[71,21,71,23],[67,26,68,26],[81,27,82,27],[75,24,76,24],[42,20,43,20],[67,24,68,24],[116,15,117,15],[151,16,152,16],[151,15,152,15],[141,24,142,24],[141,27,142,27],[141,26,142,26],[130,12,130,22],[141,14,142,14],[141,15,142,15],[141,12,142,12],[148,12,149,12],[148,13,149,13],[148,14,149,14],[116,19,117,19],[15,23,15,24],[14,27,15,27],[28,12,28,22],[24,22,24,25],[67,16,68,16],[67,13,68,13],[78,12,79,12],[78,13,79,13],[42,12,45,12],[44,19,44,20],[42,23,43,23],[42,21,45,21],[73,12,76,12],[65,12,66,12],[65,14,66,14],[31,24,32,24],[73,15,76,15],[73,16,76,16],[29,24,30,24],[31,13,32,13],[31,19,32,19],[32,21,32,22],[29,25,30,25],[31,25,32,26],[29,23,30,23],[29,21,30,21],[73,13,76,13],[42,24,45,24],[54,23,56,23],[29,12,30,12],[73,14,76,14],[73,23,76,23],[14,25,15,25],[14,22,15,22],[14,18,15,18],[48,21,50,21],[36,19,36,20],[37,16,37,18],[50,24,50,26],[47,12,50,12],[38,23,38,24],[31,23,32,23],[29,26,30,26],[54,25,55,25],[47,17,50,17],[47,18,50,18],[63,14,64,14],[54,18,56,18],[42,17,45,17],[34,18,34,19],[29,17,30,17],[30,18,30,19],[29,19,29,20],[36,24,36,25],[63,20,64,20],[31,12,32,12],[29,13,30,13],[42,14,45,14],[42,26,45,26],[44,18,45,18],[31,14,32,14],[42,18,42,19],[44,23,45,23],[46,21,46,23],[318,15,319,15],[5,15,5,19],[67,27,68,27],[61,18,61,19],[46,16,46,17],[67,23,68,23],[9,13,9,22],[10,15,11,15],[12,23,12,27],[20,16,20,19],[27,21,27,27],[54,17,56,17],[41,25,41,26],[67,18,68,18],[54,21,56,21],[23,22,23,25],[29,27,30,27],[21,21,21,24],[42,15,45,15],[46,18,46,20],[42,22,45,22],[47,16,50,16],[47,26,49,26],[47,21,47,23],[29,16,30,16],[13,13,13,22],[12,12,12,22],[10,12,11,12],[23,13,24,13],[23,12,24,12],[5,23,5,27],[14,21,15,21],[411,23,412,23],[14,19,15,19],[14,20,15,20],[14,13,15,13],[14,14,15,14],[14,17,15,17],[29,22,30,22],[8,12,8,22],[8,23,8,27],[63,13,64,13],[54,27,56,27],[47,13,50,13],[47,14,50,14],[47,15,50,15],[377,19,378,19],[377,16,378,16],[322,26,323,26],[340,18,341,18],[347,17,348,17],[326,15,327,15],[377,25,378,25],[367,16,367,17],[369,16,369,17],[335,16,335,27],[377,26,378,26],[347,21,348,21],[63,22,64,22],[42,25,45,25],[347,14,348,14],[285,14,286,14],[326,12,327,12],[342,21,342,24],[539,22,540,22],[526,12,526,27],[411,25,412,25],[521,27,522,27],[505,25,506,25],[425,18,426,18],[425,20,425,26],[359,16,359,27],[347,20,348,20],[377,27,378,27],[380,16,380,17],[431,20,432,20],[521,26,522,26],[476,24,477,24],[521,22,522,22],[521,23,522,23],[521,24,522,24],[521,25,522,25],[476,16,477,16],[421,18,421,24],[417,17,417,23],[512,21,515,21],[512,23,515,23],[505,26,506,26],[438,12,439,12],[438,13,439,13],[438,14,439,14],[438,27,439,27],[438,26,439,26],[407,13,408,13],[417,14,418,14],[391,16,391,17],[510,21,510,23],[413,22,414,22],[421,13,422,13],[419,16,420,16],[415,27,416,27],[417,27,418,27],[407,12,408,12],[411,20,412,20],[413,21,414,21],[423,14,424,14],[417,12,418,12],[413,26,414,26],[413,27,414,27],[539,12,540,12],[533,12,533,27],[539,15,540,15],[539,16,540,16],[539,13,540,13],[531,14,532,14],[531,15,532,15],[529,15,530,15],[531,12,532,12],[531,13,532,13],[529,14,530,14],[539,20,540,20],[539,14,540,14],[539,17,540,17],[539,18,540,18],[539,27,540,27],[529,13,530,13],[539,24,540,24],[539,25,540,25],[512,22,515,22],[539,26,540,26],[529,12,530,12],[524,12,524,27],[521,20,522,20],[512,24,515,24],[517,12,520,12],[517,13,520,13],[427,18,428,18],[502,16,503,16],[479,24,481,24],[479,23,481,23],[479,25,481,25],[431,17,432,17],[486,12,486,27],[509,12,509,27],[502,13,503,13],[517,27,520,27],[479,27,481,27],[502,21,503,21],[502,23,503,23],[492,22,492,24],[517,15,520,15],[517,16,520,16],[517,17,520,17],[496,25,498,25],[512,16,515,16],[427,15,428,15],[512,20,515,20],[502,12,503,12],[505,27,506,27],[512,18,515,18],[452,17,452,18],[521,16,522,16],[521,17,522,17],[512,19,515,19],[517,14,520,14],[505,19,505,20],[479,26,481,26],[510,14,511,14],[517,18,520,18],[517,19,520,19],[517,20,520,20],[517,21,520,21],[517,22,520,22],[517,23,520,23],[517,24,520,24],[517,25,520,25],[504,12,504,27],[505,24,506,24],[505,13,506,13],[505,15,506,15],[505,16,506,16],[505,17,506,17],[510,12,511,12],[521,12,522,12],[512,27,515,27],[502,19,503,19],[479,14,481,14],[490,20,493,20],[490,21,493,21],[510,20,511,20],[521,13,522,13],[521,18,522,18],[512,12,515,12],[512,13,515,13],[496,16,498,16],[479,12,481,12],[409,21,410,21],[411,14,412,14],[467,14,469,14],[467,15,469,15],[419,15,420,15],[479,20,481,20],[421,16,422,16],[409,24,410,24],[429,18,430,18],[479,15,481,15],[313,27,314,27],[322,14,323,14],[318,20,319,20],[328,18,328,27],[340,20,341,20],[324,24,324,25],[391,24,392,24],[391,25,392,25],[409,20,410,20],[409,26,410,26],[340,23,341,23],[401,22,401,24],[393,16,393,17],[318,16,319,16],[318,18,319,18],[322,16,323,16],[388,14,389,14],[381,26,383,26],[351,24,351,25],[377,20,378,20],[322,12,323,12],[318,12,319,12],[322,24,323,24],[409,12,410,12],[356,16,356,27],[347,22,348,22],[404,17,404,22],[523,21,523,27],[512,14,515,14],[419,26,420,26],[417,15,418,15],[419,27,420,27],[423,19,423,25],[421,26,422,26],[423,26,424,26],[512,25,515,25],[512,15,515,15],[476,25,477,25],[431,23,431,27],[425,14,426,14],[415,26,416,26],[415,16,415,21],[415,24,416,24],[511,22,511,24],[510,25,511,25],[490,22,490,25],[476,22,477,22],[476,20,477,20],[472,12,472,27],[499,23,499,24],[505,21,506,21],[505,22,506,22],[505,23,506,23],[490,12,493,12],[490,13,493,13],[390,16,390,17],[391,12,392,12],[377,12,378,12],[388,27,389,27],[326,14,327,14],[377,18,378,18],[360,12,360,27],[318,22,319,22],[326,21,327,21],[318,13,319,13],[388,12,389,12],[381,13,383,13],[388,25,389,25],[381,16,383,16],[347,16,348,16],[326,22,327,22],[344,18,344,27],[343,18,343,27],[344,16,344,17],[332,18,332,27],[347,24,348,24],[318,27,319,27],[381,19,383,19],[381,22,383,22],[388,18,389,18],[338,12,338,27],[391,20,392,20],[285,20,286,20],[285,21,286,21],[278,14,279,14],[304,16,305,16],[347,18,348,18],[493,23,493,25],[431,14,432,14],[431,15,432,15],[433,12,433,27],[476,27,477,27],[490,17,493,17],[502,20,503,20],[512,26,515,26],[438,19,439,19],[438,18,439,18],[438,17,439,17],[438,23,439,23],[505,14,506,14],[429,12,430,12],[438,20,439,20],[443,24,443,25],[507,12,507,27],[443,18,443,22],[476,23,477,23],[431,16,432,16],[479,13,481,13],[494,24,494,25],[483,12,483,27],[510,19,511,19],[502,24,503,24],[510,13,511,13],[505,12,506,12],[199,27,200,27],[148,17,149,17],[163,13,164,13],[151,13,152,13],[160,12,160,27],[521,14,522,14],[521,15,522,15],[479,16,481,16],[340,25,341,25],[278,23,279,23],[322,22,323,22],[282,15,284,15],[326,13,327,13],[260,13,267,13],[322,20,323,20],[255,14,258,14],[272,16,272,17],[265,18,267,18],[340,19,341,19],[290,16,290,17],[266,24,267,24],[260,25,261,25],[313,25,314,25],[322,18,323,18],[322,17,323,17],[304,17,305,17],[255,19,258,19],[340,13,341,13],[282,13,284,13],[285,13,286,13],[281,16,281,17],[285,19,286,19],[151,12,152,12],[163,12,164,12],[183,12,184,12],[183,21,184,21],[183,17,184,17],[322,19,323,19],[322,21,323,21],[151,22,152,22],[197,18,197,27],[190,17,193,17],[236,24,237,24],[236,20,237,20],[285,26,286,26],[144,12,144,22],[146,23,146,27],[233,20,235,20],[156,12,156,22],[183,15,184,15],[190,16,193,16],[199,15,200,15],[187,16,187,17],[169,24,169,25],[206,12,210,12],[231,12,232,12],[231,24,232,24],[163,14,164,14],[163,26,164,26],[313,22,314,22],[313,20,314,20],[233,15,235,15],[233,12,235,12],[233,19,235,19],[103,25,103,26],[116,26,117,26],[104,14,106,14],[104,15,106,15],[101,19,102,19],[206,17,206,18],[206,15,210,15],[206,24,206,25],[202,25,203,25],[201,18,205,18],[199,25,200,25],[231,25,232,25],[163,15,164,15],[164,18,164,19],[183,20,184,20],[190,15,193,15],[190,23,193,23],[197,16,197,17],[134,12,134,22],[133,21,133,27],[112,12,113,12],[112,15,113,15],[116,13,117,13],[112,13,113,13],[116,22,117,22],[141,22,142,22],[106,25,106,27],[105,22,105,24],[116,20,117,20],[116,17,117,17],[116,21,117,21],[108,12,108,22],[81,12,82,12],[99,12,99,22],[65,15,66,15],[81,24,82,24],[63,25,64,25],[101,27,102,27],[93,24,93,25],[100,23,100,25],[104,19,104,20],[104,24,104,26],[101,25,102,25],[101,15,102,15],[104,21,104,22],[100,18,100,20],[199,22,200,22],[201,16,205,16],[148,15,149,15],[151,14,152,14],[183,23,184,23],[148,24,149,24],[151,20,152,20],[183,25,184,25],[141,23,142,23],[129,21,129,27],[143,21,143,27],[141,25,142,25],[141,18,142,18],[141,16,142,16],[105,17,105,19],[116,27,117,27],[103,17,103,19],[101,16,102,16],[63,21,64,21],[101,18,102,18],[81,13,82,13],[81,14,82,14],[101,21,102,21],[101,17,102,17],[101,22,102,23],[54,16,56,16],[63,15,64,15],[63,23,64,23],[67,25,68,25],[81,21,82,21],[73,18,76,18],[78,16,79,20],[101,20,102,20],[101,24,102,24],[81,23,82,23],[101,13,102,13],[73,17,76,17],[93,15,94,15],[81,16,82,16],[47,27,50,27],[67,15,68,15],[85,16,85,20],[81,15,82,15],[47,19,50,19],[48,22,48,24],[49,23,49,25],[47,25,48,25],[183,19,184,19],[161,12,161,27],[31,15,32,15],[46,24,46,26],[47,20,50,20],[78,21,79,23],[31,27,32,27],[42,13,45,13],[67,17,68,17],[107,24,107,25],[106,22,106,24],[183,13,184,13],[183,14,184,14],[78,14,79,14],[93,13,94,13],[101,12,102,12],[93,12,94,12],[104,12,106,12],[63,24,64,24],[60,21,60,24],[104,17,104,18],[67,12,68,12],[63,26,64,26],[63,27,64,27],[63,12,64,12],[7,21,7,27],[19,17,19,20],[17,12,17,22],[18,21,18,25],[18,13,22,13],[67,14,68,14],[63,16,64,16],[77,17,77,18],[190,14,193,14],[190,13,193,13],[14,12,15,12],[190,12,193,12],[54,15,56,15],[73,27,76,27],[93,19,94,20],[18,17,18,20],[14,15,15,15],[14,16,15,16],[19,21,19,26],[148,27,149,27],[148,26,149,26],[148,25,149,25],[18,14,22,14],[18,15,22,15],[101,14,102,14],[23,15,24,15],[29,14,30,14],[85,25,85,27],[93,14,94,14],[233,13,235,13],[248,24,249,24],[242,24,244,24],[248,23,249,23],[31,17,32,18],[39,23,39,24],[78,15,79,15],[60,16,60,20],[228,16,228,19],[227,16,227,19],[148,22,149,22],[148,21,149,21],[148,20,149,20],[238,16,239,16],[163,17,164,17],[5,20,5,22]],"merged_total":1208,"flags":["merged_cut"]}
[]
[null,null,null,null,null,null,null,null,null,null,null,null,null,null,null,null,"Calendrier institutionnel 2024-2025"]
[]
[]
[]
[null,null,null,null,null,null,null,null,null,null,null,null,null,null,null,"Session automne 2024",null,null,null,null,"Session hiver 2025",null,null,"Session printemps/été 2025"]
[null,null,"Clientèle","Secteurs","Département","Discipline","Diffusion","Langue","COURS","Lieu de formation","Colonne1",null,"Code de cours","Titre du cours","Diffusion","nb","Août","Sept.","Oct","Nov.","Déc.","Janv.","Fév.","Mars","Avril","Mai","Juin","Juillet"]
[null,null,"Policiers","Enquête","Enquête - Formation initiale","Enquête policière","-","Français",null,null,null,null,null,null,null,null,null,null,null,null,null,"PROGRAMMES DE FORMATION INITIALE"]
[null,null,"Policiers","Enquête","Enquête - Formation initiale","Enquête policière","-","Français",null,null,null,null,"n PROGRAMME DE FORMATION PRÉPARATOIRE EN ENQUÊTE"]
[null,null,"Policiers","Enquête","Enquête - Formation initiale","Enquête policière","-","Français","PFPEN-2302-365",null,null,null,"PFPEN-2302-365","Programme de formation préparatoire en enquête (Réservé UPAC et BEI)"]
[null,null,"Policiers","Enquête","Enquête - Formation initiale","Enquête policière",{"$f":"O11","v":"HC3"},"Français","PFPEN-2302-365","Collège Ahuntsic",null," ","PFPEN-2302-365","Volet collégial\nHors campus\nCollège Ahuntsic","HC3",9]
[null,null,"Policiers","Enquête","Enquête - Formation initiale","Enquête policière","C1","Français","PFPEN-2302-365","ENPQ",null,null,null,"Volet ENPQ","C1"]
[null,null,"Policiers","Enquête","Enquête - Formation initiale","Enquête policière","-","Français",null,null,null,null,"n PROGRAMME DE FORMATION INITIALE EN ENQUÊTE POLICIÈRE"]
[null,null,"Policiers","Enquête","Enquête - Formation initiale","Enquête policière","-","Français","CRI-010-27",null,null,null,"🎓 CRI-010-27","Principes généraux en enquête policière"]
[null,null,"Policiers","Enquête","Enquête - Formation initiale","Enquête policière","H1-[S-C]","Français","CRI-010-27","ENPQ",null,null,"CRI-010-27","Principes généraux en enquête policière (Volet 1)","H1-[S-C]",32,null,null,"7 au 10\nEn ligne et\n17 au 18",null,"10 au 13\nEn ligne et\n19 au 20","13 au 16\nEn ligne et\n21 au 22","17 au 20\nEn ligne et\n27 au 28","17 au 20\nEn ligne et\n27 au 28","22 au 25\nEn ligne et\n28 au 29","12 au 15\nEn ligne et\n20 au 21","16 au 19\nEn ligne et\n25 au 26"]
[null,null,"Policiers","Enquête","Enquête - Formation initiale","Enquête policière",{"$f":"O15","v":"H1-[S-C]"},"Français","CRI-010-27","ENPQ",null,null,null,null,null,null,null,null,null,null,null,null,null,"31 mars au 3 avril\nEn ligne et\n10 au 11 avril",null,null,"2 au 5\n En ligne et 11 au 12\nExclusif SQ"]
[null,null,"Policiers","Enquête","Enquête - Formation initiale","Enquête policière","H1-[S-CM]","Français","CRI-010-27","ENPQ - Campus de Montréal",null,null,"CRI-010-27","Principes généraux en enquête policière (Volet 1)\nCampus de Montréal","H1-[S-CM]",32,null,null,null,"11 au 14\nEn ligne et\n19 au 20"]
[null,null,"Policiers","Enquête","Enquête - Formation initiale","Enquête policière","-","Français","PFIEP",null,null,null,"🎓  Volet 2 - Programme de formation intiale en enquête policière"]
[null,null,"Policiers","Enquête","Enquête - Formation initiale","Enquête policière","C1","Français","PFIEP","ENPQ",null,null,"DRT-015-01\n\n\n\nETA-002-01\n\n\n\nENQ-010-01\n\n\nCRI-010-28\n","Mise en application du droit pénal dans un contexte d'enquête policière (DRT-015-01)\n\nIntégration de la compétence éthique en contexte d'enquête policière (ETA-002-01)\n\nTechnologies en contexte d'enquête policière (ENQ-010-01)\n\nIntégration à la fonction d’enquêteur policier (CRI-010-28)","C1",32,null,null,null,null,null,"12e cohorte\n6 au 17 janvier,\n17 au 28 février,\n31 mars au 11 avril et\n12 au 23 mai"]
[null,null,"Policiers","Enquête","Enquête - Formation initiale","Enquête policière","C1","Français","PFIEP","ENPQ",null,null,null,null,null,null,null,"11e cohorte\n16 au 27 septembre,\n14 au 25 octobre,\n11 au 22 novembre et \n9 au 20 décembre",null,null,null,"14e cohorte\n20 au 31 janvier,\n3 au 14 mars,\n14 au 25 avril et \n26 mai au 6 juin"]
[null,null,"Policiers","Enquête","Enquête - Formation initiale","Enquête policière","C1","Français","PFIEP","ENPQ",null,null,null,null,null,null,"9e cohorte\n26 août au 6 septembre,\n23 septembre au 4 octobre,\n21 octobre au 1er novembre et \n18 au 29  novembre",null,null,null,null,null,"16e cohorte\n3 au 14 février,\n17 au 28 mars,\n28 avril au 9 mai et\n9 au 20 juin"]
[null,null,"Policiers","Enquête","Enquête - Formation initiale","Enquête policière","C1","Français","PFIEP","ENPQ",null,null,null,null,null,null,null,"10e cohorte\n9 au 20 septembre,\n7 au 18 octobre,\n4 au 15 novembre et\n2 au 13 décembre",null,null,null,"13e cohorte\n13 au 24 janvier,\n10 au 21 février,\n10 au 21 mars et\n7 au 18 avril"]
[null,null,"Policiers","Enquête","Enquête - Formation initiale","Enquête policière","C1","Français","PFIEP","ENPQ",null,null,null,null,null,null,null,null,null,null,null,"15e cohorte\n27 janvier au 7 février,\n24 février au 7 mars, \n24 mars au 4 avril et\n21 avril au 2 mai"]
[null,null,"Policiers","Enquête","Enquête - Formation initiale","Enquête policière","CM1","Français","PFIEP","ENPQ - Campus de Montréal",null,null,"\nDRT-015-01\n\n\n\nETA-002-01\n\n\n\nENQ-010-01\n\n\nCRI-010-28","Mise en application du droit pénal dans un contexte d'enquête policière (DRT-015-01)\n\nIntégration de la compétence éthique en contexte d'enquête policière (ETA-002-01)\n\nTechnologies en contexte d'enquête policière (ENQ-010-01)\n\nIntégration à la fonction d’enquêteur policier (CRI-010-28)\n\nCampus de Montréal","CM1",32,null,null,null,null,null,null,"17e cohorte\n10 au 21 février,\n10 au 21 mars,\n7 au 18 asvril et \n5 au 16 mai"]
[null,null,"Policiers","Enquête","Enquête - Formation initiale","Enquête policière",{"$f":"O24","v":"CM1"},"Français","PFIEP","ENPQ - Campus de Montréal",null,null,null,null,null,null,null,null,null,null,null,null,"18e cohorte\n24 février au 7 mars,\n24 mars au 4 avril,\n21 au 2 mai et\n19 au 30 mai"]
[null,null,"Policiers","Enquête",null,null,"-","Français",null,null,null,null,"Cours individuels"]
[null,null,"Policiers","Enquête","Enquête - Perfectionnement professionnel","Enquête policière","S1","Français","436-216-18","En Ligne",null,null,"🎓 436-216-18","Examen de validation des acquis - Droit pénal appliqué à l'enquête policière (après plus de 10 ans)","S1",12,null,null,"R 16 En ligne\n(9h à 12h)",null,null,null,null,"26 En ligne\n(9h à 12h)"]
[null,null,"Policiers","Enquête","Enquête - Perfectionnement professionnel",null,"-","Français",null,null,null,null,null,null,null,null,null,null,null,null,null,"PERFECTIONNEMENT POLICIER"]
[null,null,"Policiers","Enquête","Enquête - Perfectionnement professionnel",null,"-","Français",null,null,null,null,"n ENQUÊTE POLICIÈRE"]
[null,null,"Policiers","Enquête","Enquête - Perfectionnement professionnel","Enquête de crimes majeurs","C1","Français","CRI-010-08","ENPQ",null,null,"🎓 CRI-010-08","Entrevue filmée d'un suspect","C1",16,null,null,null,"25 au 29 novembre et\n 2 au 6 décembre ",null,null,null,"3 au 7 et\n10 au 14",null,"5 au 9 et\n12 au 16","9 au 13 et\n16 au 20"]
[null,null,"Policiers","Enquête","Enquête - Perfectionnement professionnel","Enquête de crimes majeurs",{"$f":"O30","v":"C1"},"Français","CRI-010-08","ENPQ",null,null,null,null,null,null,null,null,"28 octobre au 1er nov. et\n4 au 8 novembre "]
[null,null,"Policiers","Enquête","Enquête - Perfectionnement professionnel","Enquête de crimes majeurs","CM1","Français","CRI-010-08","ENPQ - Campus de Montréal",null,null,"🎓 CRI-010-08","Entrevue filmée d'un suspect\nCampus de Montréal","CM1",16,null,"30 sept. au 4 octobre et \n7 au 11 octobre",null,"11 au 15 et\n18 au 22 ",null,"6 au 10 et\n13 au 17",null,null,null,"26 au 30 mai et\n2 au 6 juin"]
[null,null,"Policiers","Enquête","Enquête - Perfectionnement professionnel","Enquête de crimes majeurs",{"$f":"O32","v":"CM1"},"Français","CRI-010-08","ENPQ - Campus de Montréal",null,null,null,null,null,null,null,null,null,null,null,"27 au 31 janvier et\n 3 au 7 février"]
[null,null,"Policiers","Enquête","Enquête - Perfectionnement professionnel","Enquête policière","C1","Français","CRI-010-16","ENPQ",null,null,"🎓 CRI-010-16","Investigation d'une scène d'incendie","C1",12]
[null,null,"Policiers","Enquête","Enquête - Perfectionnement professionnel","Enquête policière","C1","Français","CRI-010-18","ENPQ",null,null,"🎓 CRI-010-18","Enquête en matière de drogues","C1",20,null,null,"28 octobre au 1er nov. et\n4 au 8 novembre",null,null,null,null,null,null,"5 au 9 et\n12 au 16","Annulé\n9 au 13 et\n16 au 20"]
[null,null,"Policiers","Enquête","Enquête - Perfectionnement professionnel","Enquête policière","C1","Français","CRI-010-20","ENPQ",null,null,"🎓 CRI-010-20","Enquête à la suite d'un incendie","C1",12,null,null,null,null,null,"27 au 31 janvier et\n17 au 21 février",null,null,null,"R 5 au 9 et\n26 au 30"]
[null,null,"Policiers","Enquête","Enquête - Perfectionnement professionnel","Enquête sur les activités économiques","CM1","Français","CRI-010-24","ENPQ - Campus de Montréal",null,null,"🎓 CRI-010-24","Enquête sur les crimes\néconomiques I\nCampus de Montréal","CM1",16,null,null,null,"25 au 29 novembre et\n2 au 6 décembre",null,null,"Annulé\n10 au 14 et\n17 au 21",null,"Annulé\n28 avril au 2 mai et\n5 au 9 mai",null,"9 au 13 et\n16 au 20"]
[null,null,"Policiers","Enquête","Enquête - Perfectionnement professionnel","Enquête sur les activités économiques","C1","Français","CRI-010-25","ENPQ",null,null,"🎓 CRI-010-25","Enquête sur les crimes\néconomiques II","C1",16,"En développement"]
[null,null,"Policiers","Enquête","Enquête - Perfectionnement professionnel","Enquête policière","H1-[S-C]","Français","CRI-010-29","ENPQ",null,null,"🎓 CRI-010-29","Enquête sur les crimes à  caractère sexuel\nSemaine 1 : En ligne\nSemaine 2 : En présentiel","H1-[S-C]",24,null,null,"30 sept. au 4 octobre En ligne et \n7 au 11 octobre",null,null,"6 au 10 En ligne et\n13 au 17","10 au 14 En ligne et\n17 au 21","24 au 28 mars En ligne et\n31 mars au 4 avril",null,null,"9 au 13 En ligne et\n16 au 20"]
[null,null,"Policiers","Enquête","Enquête - Perfectionnement professionnel","Enquête policière",{"$f":"O40","v":"H1-[S-CM]"},"Français","CRI-010-29","ENPQ - Campus de Montréal",null,null,"🎓 CRI-010-29","Enquête sur les crimes à  caractère sexuel\nSemaine 1 : En ligne\nSemaine 2 : Campus de Montréal","H1-[S-CM]",24,null,"9 au 13 En ligne et\n16 au 20"]
[null,null,"Policiers","Enquête","Enquête - Perfectionnement professionnel","Enquête policière","C1","Français","436-315-23","ENPQ",null,null,"436-315-23","Enquête sur l'abus physique et le décès de jeunes enfants","C1",16,null,null,"21 au 25","18 au 22","16 au 20",null,"3 au 7","Annulé\n17 au 21",null,"12 au 16"]
[null,null,"Policiers","Enquête","Enquête - Perfectionnement professionnel","Enquête policière","H1-[S-C]","Français","436-307-24","ENPQ",null,null,"436-307-24","Entrevue d'enfants - Le guide NICHD","H1-[S-C]",12,null,null,"15 octobre En ligne et\n21 au 25",null,null,"7 janvier\nEn ligne et\n13 au 17","18 février\nEn ligne et\n24 au 28",null,null,"27 mai En ligne et\n2 au 6 juin"]
[null,null,"Policiers","Enquête","Enquête - Perfectionnement professionnel","Enquête policière","H1-[S-CM]","Français","436-307-24","ENPQ - Campus de Montréal",null,null,"436-307-24","Entrevue d'enfants - Le guide NICHD\n\nCampus de Montréal","H1-[S-CM]",12,null,"Reporté\n3 En ligne\n9 au 13","22 octobre En ligne\n28 octobre au 1er novembre\nExclusif SQ",null,null,"21 janvier\nEn ligne\n27 au 31",null,"4 mars\nEn ligne\n10 au 14",null,null,"3 En ligne\n9 au 13"]
[null,null,"Policiers","Enquête","Enquête - Perfectionnement professionnel","Enquête policière",{"$f":"O43","v":"H1-[S-CM]"},"Français","436-307-08","ENPQ - Campus de Montréal",null,null,null,null,null,null,null,null,"29 octobre En ligne\n4 au 8 novembre"]
[null,null,"Policiers","Enquête","Enquête - Perfectionnement professionnel","Enquête policière",{"$f":"O43","v":"H1-[S-CM]"},"Français","436-307-08","ENPQ - Campus de Montréal",null,null,null,null,null,null,null,null,null,"26 novembre En ligne\n2 au 6 décembre",null,null,null,"18 mars\nEn ligne\n24 au 28"]
[null,null,"Policiers","Enquête","Enquête - Perfectionnement professionnel","Enquête policière",{"$f":"O43","v":"H1-[S-CM]"},"Français","436-307-24","ENPQ - Campus de Montréal",null,null,null,null,null,null,null,null,null,"19 novembre En ligne\n25 au 29","12 décembre En ligne\n16 au 20"]
[null,null,"Policiers","Enquête","Enquête - Perfectionnement professionnel","Enquête policière","A1","Français","436-101-08","En Ligne",null,null,"436-101-08","L.E.R.D.S\nEn ligne","A1","so","2 juillet au 30 septembre",null,"1er octobre au 13 décembre",null,null,"Reporté\n6 janvier au 14 mars",null,null,"Reporté\n1er avril au 20 juin"]
[null,null,"Policiers","Enquête","Enquête - Perfectionnement professionnel","Enquête policière",{"$f":"O48","v":"A1"},"Français","436-101-24","En Ligne",null,null,"436-101-24","L.E.R.D.S\nEn ligne","A1","so",null,null,null,null,null,"Reporté 20 janvier au 28 mars"]
[null,null,"Policiers","Enquête","Enquête - Perfectionnement professionnel","Enquête policière",{"$f":"O48","v":"A1"},"Français","436-101-24","En Ligne",null,null,null,null,null,null,null,null,null,null,null,null,"Reporté 17 février au 11 avril"]
[null,null,"Policiers","Enquête","Enquête - Perfectionnement professionnel","Enquête policière",{"$f":"O48","v":"A1"},"Français","436-101-24","En Ligne",null,null,null,null,null,null,null,null,null,null,null,null,null,"17 mars au 16 mai"]
[null,null,"Policiers","Enquête","Enquête - Perfectionnement professionnel","Enquête policière",{"$f":"O48","v":"A1"},"Français","436-101-24","En Ligne",null,null,null,null,null,null,null,null,null,null,null,null,null,null,"7 avril au 27 juin"]
[null,null,"Policiers","Enquête","Enquête - Perfectionnement professionnel","Enquête policière","C1","Français","436-103-12","ENPQ",null,null,"436-103-12","Formation en normes professionnelles","C1",12,null,null,null,"11 au 15",null,null,"Annulé\n 24 au 28"]
[null,null,"Policiers","Enquête","Enquête - Perfectionnement professionnel","Enquête policière",{"$f":"O53","v":"CM1"},"Français","436-103-12","ENPQ - Campus de Montréal",null,null,"436-103-12","Formation en normes professionnelles","CM1",12,null,null,null,null,null,null,null,null,"Annulé\n7 au 11"]
[null,null,"Policiers","Enquête","Enquête - Perfectionnement professionnel","Enquête policière","C1","Français","436-107-16","ENPQ",null,null,"436-107-16","Policier judiciaire","C1",12,null,null,"29 octobre au 1er novembre"]
[null,null,"Policiers","Enquête","Enquête - Perfectionnement professionnel","Enquête policière",{"$f":"O54","v":"C1"},"Français","436-110-17","ENPQ",null,null,"436-110-17","Agent couvreur                                           ","C1",12,null,30,22,4,9,6,3,3,1,12]
[null,null,"Policiers","Enquête","Enquête - Perfectionnement professionnel","Enquête policière",{"$f":"O55","v":"C1"},"Français","436-110-17","ENPQ",null,null,null,null,null,null,null,null,null,null,null,null,null,null,14]
[null,null,"Policiers","Enquête","Enquête - Perfectionnement professionnel","Enquête policière","C1","Français","436-110-17","ENPQ",null,null,null,null,null,null,null,null,null,null,null,null,null,null,28,20]
[null,null,"Policiers","Enquête","Enquête - Perfectionnement professionnel","Enquête policière","C1","Français","436-111-17","ENPQ",null,null,"436-111-17","Introduction aux méthodes d'entrevues enregistrées","C1",16,null,null,null,"25 au 26"]
[null,null,"Policiers","Enquête","Enquête - Perfectionnement professionnel","Enquête policière","HC1","Français","436-111-17","BLAINVILLE",null,null,"436-111-17","Introduction aux méthodes d'entrevues \nHors campus - BLAINVILLE","HC1",16,null,null,"15 au 16","19 au 20",null,null,"3 au 4","24 au 25"]
[null,null,"Policiers","Enquête","Enquête - Perfectionnement professionnel","Enquête policière","HC1","Français","436-111-17","UQTR - QUÉBEC",null,null,"436-111-17","Introduction aux méthodes d'entrevues enregistrées\nHors campus - UQTR - QUÉBEC","HC1",16,null,null,null,null,"Annulé\n16 au 17",null,null,null,"Annulé\n14 au 15"]
[null,null,"Policiers","Enquête","Enquête - Perfectionnement professionnel","Enquête policière","A1","Français","436-114-20","En Ligne",null,null,"436-114-20","Enquêtes sur la cybercriminalité - Niveau 1 - RCSP/CPKN \nEn ligne","A1","SO","12 août au 13 décembre",null,null,null,null,"1er janvier au 25 avril",null,null,null,"28 avril au 11 juillet"]
[null,null,"Policiers","Enquête","Enquête - Perfectionnement professionnel","Enquête policière","C3","Français","436-316-23","ENPQ",null,null,"436-316-23","Gestion des cas graves\nCCP","C3",30,null,null,"Annulé\n29 octobre au 1er novembre\net 4 au 7 novembre"]
[null,null,"Policiers","Enquête","Enquête - Perfectionnement professionnel","Enquête policière","HC1","Français","436-117-22","HC - Voir détail sous les dates",null,null,"436-117-22","Infiltration virtuelle","HC1",12,null,null,"7 au 11\nBoucherville"]
[null,null,"Policiers","Enquête","Enquête - Perfectionnement professionnel","Enquête policière","H1-[A-C]","Français","436-118-24","ENPQ",null,null,"436-118-24","Récupération d'actifs criminels","H1-[A-C]",20,null,null,"Act. Prép. En ligne (1,h)","Annulé\n27 au 29","Act. Prép. En ligne (1,h)","7 au 9"]
[null,null,"Policiers","Enquête","Enquête - Perfectionnement professionnel","Enquête policière",{"$f":"O64","v":"H1-[A-C]"},"Français","436-118-24","ENPQ",null,null,null,null,null,null,null,"Act. Prép. En ligne (1,h)","7 au 9"]
[null,null,"Policiers","Enquête","Enquête - Perfectionnement professionnel","Enquête policière","H1-[A-HC]","Français","436-118-24","BLAINVILLE",null,null,"436-118-24","Récupération d'actifs criminels\nHors campus - BLAINVILLE\n","H1-[A-HC]",20,null,"Act. Prép. En ligne (1,h)","Annulé\n7 au 9"]
[null,null,"Policiers","Enquête","Enquête - Perfectionnement professionnel","Enquête policière",{"$f":"O66","v":"H1-[A-HC]"},"Français","436-118-24","BLAINVILLE",null,null,null,null,null,null,null,null,"Act. Prép. En ligne (1,h)","13 au 15"]
[null,null,"Policiers","Enquête","Enquête - Perfectionnement professionnel","Enquête policière","H1-[A-CM]","Français","436-118-24","ENPQ - Campus de Montréal",null,null,"436-118-24","Récupération d'actifs criminels\nCampus de Montréal","H1-[A-CM]",20,null,null,null,null,"Act. Prép. En ligne (1,h)","21 au 23"]
[null,null,"Policiers","Enquête","Enquête - Perfectionnement professionnel","Enquête policière",{"$f":"O68","v":"H1-[A-CM]"},"Français","436-118-24","ENPQ - Campus de Montréal",null,null,null,null,null,null,null,null,null,null,null,"Act. Prép. En ligne (1,h)","11 au 13"]
[null,null,"Policiers","Enquête","Enquête - Perfectionnement professionnel","Enquête policière","H1-[A-HC]","Français","436-118-24","UQTR - QUÉBEC",null,null,"436-118-24","Récupération d'actifs criminels\nHors campus - UQTR - Québec","H1-[A-HC]",20,null,null,null,"Act. Prép. En ligne (1,h)","4 au 6","Act. Prép. En ligne (1,h)","Annulé\n5 au 7"]
[null,null,"Policiers","Enquête","Enquête - Perfectionnement professionnel","Enquête policière","HC1","Français","436-206-08","ST-HUBERT",null,null,"436-206-08","Identification de véhicule\nHors campus\n5225, J.-Armand-Bombardier\nSt-Hubert Qc","HC1",9,null,"Annulé \n9 au 20"]
[null,null,"Policiers","Enquête","Enquête - Perfectionnement professionnel","Enquête policière","A1","Français","436-208-15","En Ligne",null,null,"436-208-15","Imagerie numérique judiciaire\nEn ligne","A1","so","19 août au  13 décembre",null,null,null,null,"6 janvier au 21 mars",null,null,"7 avril au 27 juin"]
[null,null,"Policiers","Enquête","Enquête - Perfectionnement professionnel","Enquête policière","C1","Français","436-209-15","ENPQ",null,null,"436-209-15","Introduction à la surveillance physique auxiliaire","C1",16]
[null,null,"Policiers","Enquête","Enquête - Perfectionnement professionnel","Enquête policière","HC1","Français","436-209-15","HC - Voir détail sous les dates",null,null,"436-209-15","Introduction à la surveillance physique auxiliaire\nHors campus","HC1",16,null,"17 au 20\nMascouche","8 au 11\n3-Rivières","12 au 15\nMascouche",null,null,null,null,"29 avril au 2 mai\n(Mascouche)",null,"3 au 6\n(Trois-Rivières)"]
[null,null,"Policiers","Enquête","Enquête - Perfectionnement professionnel","Enquête policière","HC1","Français","436-209-15","HC - Voir détail sous les dates",null,null,null,null,null,null,null,null,null,null,null,null,null,null,null,"6 au 9\n(Trois-Rivières)","10 au 13\n(Mascouche)"]
[null,null,"Policiers","Enquête","Enquête - Perfectionnement professionnel","Enquête policière","HC1","Français","436-209-15","HC - Voir détail sous les dates",null,null,null,null,null,null,null,null,null,null,null,null,null,null,null,"13 au 16\n(Trois-Rivières)","17 au 20\n(Trois-Rivières)"]
[null,null,"Policiers","Enquête","Enquête - Perfectionnement professionnel","Enquête policière","HC1","Français","436-209-15","HC - Voir détail sous les dates",null,null,null,null,null,null,null,null,null,null,null,null,null,null,null,"27 au 30\n(Mascouche)"]
[null,null,"Policiers","Enquête","Enquête - Perfectionnement professionnel","Enquête policière",{"$f":"O78","v":"A1"},"Français","436-112-17","En Ligne",null,null,"436-112-17","Gestion des informateurs - Gestionnaire de premier niveau\nEn ligne","A1","so",null,"9 septembre au 25 octobre",null,null,null,null,null,null,"14 avril au 23 mai"]
[null,null,"Policiers","Enquête","Enquête - Perfectionnement professionnel","Enquête policière","A1","Français","436-210-15","En Ligne",null,null,"436-210-15","Gestion des informateurs\nEn ligne","A1","so","19 août au 13 décembre",null,null,null,null,"6 janvier au 21 mars",null,null,"7 avril au 20 juin"]
[null,null,"Policiers","Enquête","Enquête - Perfectionnement professionnel","Enquête policière","A1","Français","436-210-15","En Ligne"]
[null,null,"Policiers","Enquête","Enquête - Perfectionnement professionnel","Enquête policière","C1","Français","436-302-16","ENPQ",null,null,"436-302-16","Gestion des informateurs - Volet pratique","C1",12,null,null,"28 au 31",null,null,"28 au 31"]
[null,null,"Policiers","Enquête","Enquête - Perfectionnement professionnel","Enquête policière","CM1","Français","436-302-16","ENPQ - Campus de Montréal",null,null,"436-302-16","Gestion des informateurs - Volet pratique\n\nCampus de Montréal","CM1",12,null,null,null,"18 au 21",null,null,null,null,"Annulé\n15 au 18",null,"Reporté\n3 au 6"]
[null,null,"Policiers","Enquête","Enquête - Perfectionnement professionnel","Enquête policière","CM1","Français","436-302-16","ENPQ - Campus de Montréal",null,null,null,null,null,null,null,null,null,null,null,null,null,null,null,null,"9 au 12"]
[null,null,"Policiers","Enquête","Enquête - Perfectionnement professionnel","Enquête policière","C1","Français","436-309-19","ENPQ",null,null,"436-309-19","Mégaprocès - Gestion de la preuve et règles juridiques applicables","C1",18,null,null,null,"18 au 22","Repporté\n16 au 20","6 au 10","3 au 7",null,"Annulé\n28 au 2 mai","26 au 30"]
[null,null,"Policiers","Enquête","Enquête - Perfectionnement professionnel","Enquête policière","C1","Français","436-119-23","ENPQ",null,null,"436-119-23","Mégaprocès – Gestion de la preuve et règles juridiques applicables (DPCP)","C1",6,null,null,null,"18 au 22","Reporté\n16 au 20","6 au 10","3 au 7",null,"Annulé\n28 au 2 mai","26 au 30"]
[null,null,"Policiers","Enquête","Enquête - Perfectionnement professionnel","Enquête policière","A1","Français","436-120-23","En Ligne",null,null,"436-120-23","Enquêtes sur les blessures graves et les décès en milieu de travail - RCSP/CPKN \nEn ligne","A1","so","12 août au 13 décembre",null,null,null,null,"1er janvier au 25 avril",null,null,null,"28 avril au 11 juillet"]
[null,null,"Policiers","Enquête","Enquête - Perfectionnement professionnel","Enquête policière","C1","Français","436-310-19","ENPQ",null,null,"436-310-19","Mégaprocès - Gestion de projet appliquée à une enquête longue et complexe","C1",18,null,null,null,null,"10 au 13",null,null,null,"14 au 17","20 au 23"]
[null,null,"Policiers","Enquête","Enquête - Perfectionnement professionnel","Enquête de crimes majeurs","C1","Français","437-103-17","ENPQ",null,null,"437-103-17","Actualisation des connaissances - Négociateur","C1",30,"À la demande"]
[null,null,"Policiers","Enquête","Enquête - Perfectionnement professionnel","Enquête de crimes majeurs","C3","Français","437-302-23","ENPQ",null,null,"437-302-23","Techniques d'enquête sur les crimes majeurs - CCP","C3",30,null,null,null,null,null,null,null,null,null,"26  au 30 mai et\n2 au 6 juin"]
[null,null,"Policiers","Enquête","Enquête - Perfectionnement professionnel","Enquête de crimes majeurs","C1","Français","437-303-23","ENPQ",null,null,"437-303-23","Négociateur","C1",16,null,null,null,"25 au 29",null,null,"10 au 14"]
[null,null,"Policiers","Enquête","Enquête - Perfectionnement professionnel","Renseignement","C1","Français","439-102-17","ENPQ",null,null,"439-102-17","Atelier de sensibilisation et de développement en sécurité nationale","C1",80,null,null,null,null,"3 au 4",null,null,"20 au 21"]
[null,null,"Policiers","Enquête","Enquête - Perfectionnement professionnel","Renseignement","S1","Français","439-102-17","En Ligne",null,null,"439-102-17","Atelier de sensibilisation et de développement en sécurité nationale\nEn ligne","S1","s.o."]
[null,null,"Policiers","Enquête","Enquête - Perfectionnement professionnel","Renseignement","MS1","Français","439-302-17","ENPQ &\nENPQ - Campus de Montréal",null,null,"439-302-17","Agent de renseignement criminel\nCampus de Montréal & ENPQ","MS1",12,null,null,"7 au 11 \nCampus MTL\n\n21 au 24 \nCampus ENPQ"]
[null,null,"Policiers","Enquête","Enquête - Perfectionnement professionnel","Renseignement",{"$f":"O94","v":"C1"},"Français","439-302-17","ENPQ",null,null,"439-302-17","Agent de renseignement criminel","C1",12,null,null,null,"26 au 29 novembre et\n2 au 5 décembre",null,null,null,null,"28 avril au 2 mai et\n5 au 8 mai"]
[null,null,"Policiers","Enquête","Enquête - Perfectionnement professionnel","Renseignement","C1","Français","439-302-17","ENPQ",null,null,null,null,null,null,null,null,null,null,null,null,null,null,null,"26 au 30 mai et\n2 au 5 juin"]
[null,null,"Policiers","Enquête","Enquête - Perfectionnement professionnel","Enquête policière","C3","Français","436-311-21","ENPQ",null,null,"436-311-21","Témoignage d'expert en identité judiciaire - CCP","C3",20,null,null,"Annulé\n7 au 11"]
[null,null,"Policiers","Enquête","Enquête - Perfectionnement professionnel","Enquête policière","C3","Français","436-312-21","ENPQ",null,null,"436-312-21","Comparaison d'élément de preuve matérielle","C3",20,null,null,"7 au 11"]
[null,null,"Policiers","Enquête","Enquête - Perfectionnement professionnel","Enquête policière","C3","Français","436-313-21","ENPQ",null,null,"436-313-21","Analyse Lophoscopique avancée ","C3",20]
[null,null,"Policiers","Gestion","Gestion - Formation initiale","Gestionnaires de 1er niveau","-","Français",null,null,null,null,null,null,null,null,null,null,null,null,null,"PROGRAMMES DE FORMATION INITIALE"]
[null,null,"Policiers","Gestion","Gestion - Formation initiale","Gestionnaires de 1er niveau","-","Français",null,null,null,null,"n PROGRAMME DE FORMATION  INITIALE EN GESTION POLICIÈRE"]
[null,null,"Policiers","Gestion","Gestion - Formation initiale","Gestionnaires de 1er niveau","C1","Français","CRI-010-19","ENPQ",null,null,"🎓 CRI-010-19","Supervision d'enquêtes","C1",16,null,null,"21 au 24 octobre,\n12 au 15 novembre et\n17 au 20 décembre",null,null,null,null,"24 au 27 mars,\n7 au 10 avril et\n29 avril au 2 mai"]
[null,null,"Policiers","Gestion","Gestion - Formation initiale","Gestionnaires de 1er niveau",{"$f":"O102","v":"MS1"},"Français","CRI-010-19","ENPQ - Campus de Montréal",null,null,"🎓 CRI-010-19","Supervision d'enquêtes\nCampus de Montréal & ENPQ","MS1",16,null,null,null,null,null,null,"3 au 6 février (C-Mtl)\n24 au 27 février (C-Mtl) et\n10 au 13 mars (ENPQ)"]
[null,null,"Policiers","Gestion","Gestion - Formation initiale","Gestionnaires de 1er niveau",{"$f":"O103","v":0},"Français","CRI-010-19","ENPQ"]
[null,null,"Policiers","Gestion","Gestion - Formation initiale","Gestionnaires de 1er niveau",{"$f":"O104","v":"CM1"},"Français","CRI-010-19","ENPQ - Campus de Montréal",null,null,"🎓 CRI-010-19","Supervision d'enquêtes\nCampus de Montréal","CM1",16,null,"16 au 19 septembre,\n7 au 10 octobre et\n5 au 8 novembre",null,null,null,null,null,null,null,"12 au 15 mai,\n2 au 5 juin et\n17 au 20 juin"]
[null,null,"Policiers","Gestion","Gestion - Formation initiale","Gestionnaires de 1er niveau","C1","Français","PPU-010-39","ENPQ",null,null,"🎓 PPU-010-39","Supervision de patrouille","C1",16,null,"3 au 6 septembre, \n24 au 27 septembre et \n22 au 25 octobre",null,"4 au 7 novembre,\n25 su 28 novembre et\n10 au 13 décembre",null,"6 au 9 janvier,\n27 au 30 janvier et\n18 au 21 février",null,null,"29 avril au 2 mai,\n13 au 16 mai et\n10 au 13 juin"]
[null,null,"Policiers","Gestion","Gestion - Formation initiale","Gestionnaires de 1er niveau","C1","Français","PPU-010-39","ENPQ",null,null,null,null,null,null,null,"9 au 12 septembre,\n1er au 4 octobre et\n29 octobre au 1er novembre",null,null,null,null,"11 au 14 février,\n4 au 7 mars et\n1er au 4 avril",null,null,"Annulé\n27 au 30 mai,\n16 au 19 juin et\n8 au 11 juillet"]
[null,null,"Policiers","Gestion","Gestion - Formation initiale","Gestionnaires de 1er niveau","C1","Français","PPU-010-39","ENPQ",null,null,null,null,null,null,null,null,"15 au 18 octobre,\n12 au 15 novembre et\n3 au 6 décembre",null,null,null,"25 au 28 février,\n24 au 27 mars et\n8 au 11 avril",null,null,"6 au 9 mai,\n2 au 5 juin et\n1er au 4 juillet"]
[null,null,"Policiers","Gestion","Gestion - Formation initiale","Gestionnaires de 1er niveau","C1","Français","PPU-010-40","ENPQ",null,null,"🎓 PPU-010-40","Activité d'immersion à la fonction de cadre de premier niveau","C1",16,null,null,null,null,null,null,null,null,"31 mars au 3 avril\n22 au 25 avril et\n20 au 23 mai"]
[null,null,"Policiers","Gestion",null,null,"-","Français",null,null,null,null,"n AUTRES COURS EN GESTION POLICIÈRE (Offerts à l'ENPQ)"]
[null,null,"Policiers","Gestion","Gestion - Perfectionnement professionnel","Gestionnaires de 1er niveau","C1","Français","ETA-001-01","ENPQ",null,null,"🎓 ETA-001-01 ","Prise de décision en situation difficile","C1",36,"Veuillez communiquer avec renee.bastien@uqtr.ca pour obtenir de l'information supplémentaire pour ETA-001-01"]
[null,null,"Policiers","Gestion","Sécurité publique - Perfectionnement professionnel",null,"C1","Français","PPU-010-45","ENPQ",null,null,"🎓 PPU-010-45","Activité synthèse - Fonction de direction d'une organisation policière","C1",7,null,"25 au 26 septembre 2024 : 1re Rencontre\n30 octobre 2024 : 2e Rencontre\n6 décembre 2024 : Rencontre de mi-étape\n16 au17 avril 2025 : Rencontre finale"]
[null,null,"Policiers","Gestion","Sécurité publique - Perfectionnement professionnel","Gestionnaires de 1er niveau","C1","Français","PPU-010-46","ENPQ",null,null,"🎓 PPU-010-46","Activité d'intégration en gestion policière","C1",9,null,null,"Bloc 3 :\n15 au 17\n(prévu pour les\nétudiants inscrits en\n2023-2024)",null,null,null,null,null,null,"Bloc 1\n12 au 15"]
[null,null,"Clientèle sur mesure","Gestion","Sécurité publique - Perfectionnement professionnel","Gestionnaires de 1er niveau","HC1","Français","PPU-060-01\n","HC - Voir détail sous les dates",null,null,"🎓 PPU-060-01","Activité de synthèse en management en sécurité publique (2e cycle) (Cohorte fermée)","HC1",20,null,null,null,null,null,null,null,null,"11\nDrummondville","9\nDrummondville","6\nDrummondville"]
[null,null,"Clientèle sur mesure","Gestion","Sécurité publique - Perfectionnement professionnel","Gestionnaires de 1er niveau","HC1","Français"," PPU-060-01","HC - Voir détail sous les dates",null,null,null,null,null,null,null,null,null,null,null,null,null,null,"25\nDrummondville","23\nDrummondville","20\nDrummondville"]
[null,null,"Policiers","Enquête","Enquête - Perfectionnement professionnel","Enquête de crimes majeurs","C1","Français","437-101-12","ENPQ",null,null,"437-101-12","Actualisation des connaissances - Commandant \"Filet\"","C1",40,null,null,null,null,null,"29 au 30"]
[null,null,"Policiers","Enquête","Enquête - Perfectionnement professionnel","Enquête de crimes majeurs","C1","Français","437-105-23","ENPQ",null,null,"437-105-23","Actualisation des connaissances – Commandant « Filet » pour officier d’opération et membre d’un GTI","C1",80,null,null,null,null,null,29]
[null,null,"Policiers","Enquête","Enquête - Perfectionnement professionnel","Enquête de crimes majeurs","MS1","Français","437-102-07","ENPQ",null,null,"437-102-07","Introduction à l'Opération Filet II","MS1",20,null,null,"2 au 4","5 au 7",null,null,null,null,"23 au 25","28 au 30","18 au 20"]
[null,null,"Policiers","Enquête","Enquête - Perfectionnement professionnel","Enquête de crimes majeurs","MS1","Français","437-102-07","ENPQ",null,null,null,null,null,null,null,null,"16 au 18"]
[null,null,"Policiers","Enquête","Enquête - Perfectionnement professionnel","Enquête de crimes majeurs","C1","Français","437-104-19","ENPQ",null,null,"437-104-19","Officier d'opération - Filet II et Filet III - Phase de validation","C1",16,null,null,"23 au 25",null,null,null,null,null,"14 au 16","21 au 23"]
[null,null,"Policiers","Enquête","Enquête - Perfectionnement professionnel","Enquête de crimes majeurs","C1","Français","437-204-09","ENPQ",null,null,"437-204-09","Opération Filet - Le commandant","C1",16,null,null,null,null,null,null,null,null,null,"5 au 9"]
[null,null,"Policiers","Gestion","Gestion - Perfectionnement professionnel","Police communautaire","C1","Français","602-101-18","ENPQ",null,null,"602-101-18","Gestion des stratégies proactives ","C1",10,null,null,null,"Annulé\n11",null,null,"Annulé\n24"]
[null,null,"Policiers","Gestion","Gestion - Perfectionnement professionnel","Police communautaire",{"$f":"O122","v":"HC1"},"Français","602-101-18","BLAINVILLE",null,null,"602-101-18","Gestion des stratégies proactives\nHors campus - BLAINVILLE ","HC1",10,null,null,null,null,null,null,"Annulé\n6"]
[null,null,"Policiers","Gestion","Gestion - Perfectionnement professionnel","Recherche terrestre","C1","Français","622-101-24","ENPQ",null,null,"622-101-24","Gestion initiale en recherche terrestre","C1",20,null,null,null,null,"16 au 18","7 au 9"]
[null,null,"Policiers","Gestion","Gestion - Perfectionnement professionnel","Recherche terrestre","HC1","Français","622-101-24","HC - Voir détail sous les dates",null,null,"622-101-24","Gestion initiale en recherche terrestre\nHors Campus","HC1",20,null,null,"29 au 31\nVal d'Or"]
[null,null,"Policiers","Gestion","Gestion - Perfectionnement professionnel","Recherche terrestre",{"$f":"O125","v":"CM1"},"Français","622-101-24","ENPQ - Campus de Montréal",null,null,"622-101-24","Gestion initiale en recherche terrestre\nCampus de Montréal","CM1",20,null,null,null,null,null,null,"18 au 20"]
[null,null,"Clientèle sur mesure","Gestion","Sécurité publique - Perfectionnement professionnel","Psychologie",{"$f":"O126","v":"C1"},"Français","828-102-15","ENPQ",null,null,"828-102-15","Prévention des impacts psychologiques (CADRE)","C1",12,null,null,"16 octobre",null,null,null,"25 février"]
[null,null,"Clientèle sur mesure","Gestion","Sécurité publique - Perfectionnement professionnel","Psychologie","HC1","Français","828-103-15","HC - Voir détail sous les dates",null,null,"828-103-15","Prévention des impacts psychologiques\n(SUPERVISEUR)","HC1",14,null,null,null,null,null,null,null,"27 au 28\nCandiac\n(police de Rousillon) "]
[null,null,"Clientèle sur mesure","Gestion","Sécurité publique - Perfectionnement professionnel","Psychologie",{"$f":"O128","v":"CM1"},"Français","828-103-15","ENPQ - Campus de Montréal",null,null,"828-103-15","Prévention des impacts psychologiques\n(SUPERVISEUR)\nCampus de Montréal","CM1",14,null,null,"23 au 24"]
[null,null,"Clientèle sur mesure","Gestion","Sécurité publique - Perfectionnement professionnel","Psychologie",{"$f":"O129","v":"C1"},"Français","828-103-15","ENPQ",null,null,"828-103-15","Prévention des impacts psychologiques\n(SUPERVISEUR)","C1",14,null,"18 au 19",null,null,"16 au 17","27 au 28","18 au 19","10 au 11","15 au 16"]
[null,null,null,null,null,null,"-","Français",null,null,null,null,null,null,null,null,null,null,null,null,null,"PERFECTIONNEMENT POLICIER"]
[null,null,"Clientèle sur mesure","Gestion","Sécurité publique - Perfectionnement professionnel","Psychologie","-","Français",null,null,null,null,"n CENTRE D'ÉVALUATION DES COMPÉTENCES ET APTITUDES PROFESSIONNELLES"]
[null,null,"Clientèle sur mesure","Gestion","Sécurité publique - Perfectionnement professionnel","Psychologie","C1","Français","828-201-07","ENPQ",null,null,"828-201-07","Sélection du personnel policier 1 - Concepts et application - Appréciation par simulation","C1",14,null,null,null,"12 au 15",null,null,null,"Annulé\n18 au 21"]
[null,null,"Clientèle sur mesure","Gestion","Sécurité publique - Perfectionnement professionnel","Psychologie","C1","Français","828-202-07","ENPQ",null,null,"828-202-07","Sélection du personnel policier 2 - Principes et méthodes - Entrevue structurée","C1",14,null,null,null,null,"Annulé\n3 au 6 (12h)",null,null,null,"Annulé\n22 au 25 (12h)"]
[null,null,"Policiers","Enquête","Enquête - Perfectionnement professionnel",null,"-","Français",null,null,null,null,null,null,null,null,null,null,null,null,null,"PERFECTIONNEMENT POLICIER"]
[null,null,"Policiers","Enquête","Enquête - Perfectionnement professionnel",null,"-","Français",null,null,null,null,"n PROGRAMME ACCES (Alcool, Tabac, Cannabis)"]
[null,null,"Policiers","Enquête","Enquête - Perfectionnement professionnel","Enquête policière","C1","Français","436-004-07","ENPQ",null,null,"436-004-07","Inspections systématiques dans les endroits licenciés\n*Réservé aux corps de police municipaux (SAUF SPVM)","C1",16,null,null,"15 au 18",null,null,"Annulé\n21 au 24","Annulé\n25 au 28*","Annulé\n25 au 28",null,"6 au 9"]
[null,null,"Policiers","Enquête","Enquête - Perfectionnement professionnel","Enquête policière","CM1","Français","436-004-07","ENPQ - Campus de Montréal",null,null,"436-004-07","Inspections systématiques dans les endroits licenciés\nCampus de  Montréal","CM1",16,null,null,"22 au 25","12 au 15",null,"Annulé\n6 au 9"]
[null,null,"Policiers","Enquête","Enquête - Perfectionnement professionnel","Enquête sur les activités économiques","C1","Français","847-102-20","ENPQ",null,null,"847-102-20","Gestion administrative et opérationnelle ","C1",30,null,null,null,null,null,null,"Reporté\n10 au 12",null,null,null,"11 au 13"]
[null,null,"Policiers","Enquête","Enquête - Perfectionnement professionnel","Enquête sur les activités économiques","HC1","Français","847-102-20","HC - Voir détail sous les dates",null,null,"847-102-20","Gestion administrative et opérationnelle \nHors campus","HC1",30]
[null,null,"Policiers","Enquête","Enquête - Perfectionnement professionnel","Enquête sur les activités économiques","HC1","Français","440-101-23","HC - Voir détail sous les dates",null,null,"440-101-23","Intervention en matière de contrebande de tabac\nHors campus","HC1",30,null,"17 au 18\nSt-Hyacinthe",null,"27 au 28\nTerrebonne","4 au 5\nGatineau",null,"26 au 27\nQuébec"]
[null,null,"Policiers","Enquête","Enquête - Perfectionnement professionnel","Enquête sur les activités économiques","C1","Français","440-101-23","ENPQ",null,null,"440-101-23","Intervention en matière de contrebande de tabac","C1","20\n30"]
[null,null,"Policiers","Enquête","Enquête - Perfectionnement professionnel","Enquête sur les activités économiques","C1","Français","836-136-18","ENPQ",null,null,"836-136-18","Intervention en matière de cannabis","C1",20,null,null,"Reporté\n9 au 11\nExclusif SQ","18 au 20","10 au 12","8 au 10","18 au 20",null,"15 au 17",null,"2 au 4"]
[null,null,"Policiers","Enquête","Enquête - Perfectionnement professionnel","Enquête sur les activités économiques","C1","Français","836-136-18","ENPQ",null,null,null,null,null,null,null,null,null,"27 au 29\nExclusif SQ","Reporté\n16 au 18","Annulé\n15 au 17"]
[null,null,"Autochtones",null,null,null,"-","Français",null,null,null,null,null,null,null,null,null,null,null,null,null,"Formations autochtones"]
[null,null,"Autochtones",null,null,null,"-","Français",null,null,null,null,"n Formations autochtones"]
[null,null,"Autochtones","Patrouille-gendarmerie","Patrouille-gendarmerie - Formation initiale","Activités du patrouilleur - autres","C1","Anglais","PFIPG-AUT","ENPQ",null,null,"PFIPG-Autochtone","PFIPG-Autochtone - ANGLAIS - 251e cohorte","C1",18,null,null,null,"november 20, 2024 to march 14, 2025"]
[null,null,"Autochtones","Patrouille-gendarmerie","Patrouille-gendarmerie - Formation initiale","Activités du patrouilleur - autres",{"$f":"O147","v":"C1"},"Français","PFIPG-AUT","ENPQ",null,null,"PFIPG-Autochtone","PFIPG-Autochtone - 261e cohorte","C1",18,null,null,null,null,null,null,null,"31 mars au 11 juillet 2025"]
[null,null,"Autochtones","Enquête","Enquête - Perfectionnement professionnel","Enquête policière","HC1","Français","436-314-22","GATINEAU",null,null,"436-314-22","Criminal Investigators Training (OPC)\nHors campus - Gatineau\nHoliday Inn Express & Suites \n11 Impasse de la Gare-Talon\nGatineau, J8T 0B1","HC1",18,"19 au 30"]
[null,null,"Autochtones","Enquête","Enquête - Perfectionnement professionnel","Enquête policière",{"$f":"O149","v":"C1"},"Anglais","436-115-21","ENPQ",null,null,"436-115-22","Intervention in Conjugal, Intrafamily and Sexual Violence Situations – Indigenous Police Forces","C1",18,null,null,null,null,null,null,null,"Annulé\n16 au 18\n(251e)"]
[null,null,"Autochtones","Enquête","Enquête - Perfectionnement professionnel","Enquête policière","C1","Anglais","436-115-21","ENPQ",null,null,null,null,null,null,null,null,null,null,null,null,null,"Report\n19 to 21\n(251e)"]
[null,null,"Autochtones","Enquête","Enquête - Perfectionnement professionnel","Enquête policière",{"$f":"O149","v":"C1"},"Français","436-115-22","ENPQ",null,null,"436-115-22","Intervenir en matière de violence conjugale, intrafamiliale et sexuelle - Corps de police autochtones","C1",18,null,null,null,null,null,null,null,null,null,null,null,"Annulé\n16 au 18\n(261e)"]
[null,null,"Autochtones","Enquête","Enquête - Perfectionnement professionnel","Enquête policière",{"$f":"O152","v":"HC1"},"Anglais","436-115-22","HC - Voir détail sous les dates",null,null,"436-115-22","Intervention in Conjugal, Intrafamily and Sexual Violence Situations – Indigenous Police Forces\nHors campus","HC1",12,null,"Annulé\n10 to 12\n\n\n\n\nChisasibi","Annulé\n22 to 24\n\nMistissini\nOujé-Bougoumou\nWaswanipi\nNemaska","Annulé\n5 to 7\n\nRouyn-Noranda\nTéminskaming\nKeobaowek\nKitigan Zibi",null,"21 to 23\n\n\nKahnawake\nAkwasasne",null,"11 to 13\n\nEastmain\nNemasca\nWaskaganish"]
[null,null,"Autochtones","Enquête","Enquête - Perfectionnement professionnel","Enquête policière",{"$f":"O152","v":"HC1"},"Anglais","436-115-22","HC - Voir détail sous les dates",null,null,null,null,null,null,null,"22 au 24\nKahnawake\n\n\n24 to 26\nReporté \nKujjuak(MTL)\nPuvirnituk\nKujjuarapik\nWhapmagoostiu\nUmiujaq",null,null,null,null,null,"25 to 27\n\n\nGesgapediag\nListuguj\nKawawachikamach"]
[null,null,"Autochtones","Enquête","Enquête - Perfectionnement professionnel","Enquête policière",{"$f":"O152","v":"HC1"},"Français","436-115-22","HC - Voir détail sous les dates",null,null,"436-115-22","Intervenir en matière de violence conjugale, intrafamiliale et sexuelle - Corps de police autochtones\nHors campus","HC1",12,null,null,null,"\n19 au 21\n\n\nSept-Îles\nPessamit\nPakuashipi\nUsahat\nMani Utenam","3 au 5\n\n\nWendake\nOpticiwan\nAbenakis\nManawan",null,"25 au 27\n\nRoberval\nMasheuiasht\nManawan\nWemotaci\nEssipit"]
[null,null,"Autochtones","Enquête","Enquête - Perfectionnement professionnel","Enquête policière","HC1","Français","436-109-17","HC - Voir détail sous les dates",null,null,"436-109-17","Prélèvements d'échantillons d'ADN\nHors campus","HC1"]
[null,null,"Policiers",null,"Patrouille-gendarmerie - Formation initiale","Activités du patrouilleur - autres","-","Français",null,null,null,null,null,null,null,null,null,null,null,null,null,"Équivalences"]
[null,null,"Policiers",null,"Patrouille-gendarmerie - Formation initiale","Activités du patrouilleur - autres","-","Français",null,null,null,null,"n Équivalences"]
[null,null,"Policiers","Patrouille-gendarmerie","Patrouille-gendarmerie - Formation initiale","Activités du patrouilleur - autres",{"$f":"O158","v":"C1"},"Anglais","103-201-18","ENPQ",null,null,"103-201-18","Equivalence acquisition session 5 days","C1",6,null,null,null,"4 to 8",null,null,null,"17 to 21"]
[null,null,"Policiers","Patrouille-gendarmerie","Patrouille-gendarmerie - Formation initiale","Activités du patrouilleur - autres","C1","Français","103-201-18","ENPQ",null,null,"103-201-18","Session d'équivalence 5 jours","C1",6,null,"23 au 27",null,null,"Annulé\n9 au 13","Annulé\n6 au 10",null,"17 au 21",null,"26 au 30"]
[null,null,"Policiers",null,null,null,"-","Français",null,null,null,null,null,null,null,null,null,null,null,null,null,"PERFECTIONNEMENT POLICIER"]
[null,null,"Policiers","Patrouille-gendarmerie","Patrouille-gendarmerie - Perfectionnement professionnel",null,"-","Français",null,null,null,null,"n PATROUILLE-GENDARMERIE"]
[null,null,"Policiers","Patrouille-gendarmerie","Patrouille-gendarmerie - Perfectionnement professionnel",null,"-","Français",null,null,null,null,"Formation en pédagogie"]
[null,null,"Policiers","Patrouille-gendarmerie","Patrouille-gendarmerie - Perfectionnement professionnel","Pédagogie","C1","Anglais","232-201-24","ENPQ",null,null,"232-201-24","Teaching and Learning Practices","C1",8,null,null,"7 to 11"]
[null,null,"Policiers","Patrouille-gendarmerie","Patrouille-gendarmerie - Perfectionnement professionnel","Pédagogie",{"$f":"O163","v":"C1"},"Français","232-201-24","ENPQ",null,null,"232-201-24","Interventions pédagogiques","C1",8,null,null,null,"4 au 8",null,null,"3 au 7","31 mars au 4 avril"]
[null,null,"Policiers","Patrouille-gendarmerie","Patrouille-gendarmerie - Perfectionnement professionnel","Pédagogie",{"$f":"O163","v":"C1"},"Français","232-201-24","ENPQ",null,null,null,null,null,null,null,null,"28 octobre au 1er novembre"]
[null,null,"Policiers","Patrouille-gendarmerie","Patrouille-gendarmerie - Perfectionnement professionnel","Pédagogie","HC1","Français","232-201-24","BLAINVILLE",null,null,"232-201-24","Interventions pédagogiques\nHors campus - BLAINVILLE","HC1",8,null,"9 au 13","30 sept au 4 oct",null,null,"20 au 24","17 au 21"]
[null,null,"Policiers","Enquête","Enquête - Formation initiale","Pédagogie",{"$f":"O167","v":"H1[S-C]"},"Français","432-101-24","ENPQ",null,null,"432-101-24","Agent d'information","H1[S-C]",6,null,"3 En ligne\net 5 au 6",null,null,"17 En ligne\net 19 au 20"]
[null,null,"Policiers","Enquête","Gestion - Perfectionnement professionnel","Pédagogie",{"$f":"O168","v":"H1[S-C]"},"Français","648-101-24","ENPQ",null,null,"648-101-24","Agent d'information","H1[S-C]",6,null,null,null,null,null,"21 En ligne\net 23 au 24",null,null,"R 28 avril En ligne et\n30 avril au 1er mai","Annulé\n5 mai En ligne et 7 au 8 mai"]
[null,null,"Policiers","Patrouille-gendarmerie","Patrouille-gendarmerie - Perfectionnement professionnel",null,"-","Français",null,null,null,null,"Activités du patrouilleur"]
[null,null,"Policiers","Patrouille-gendarmerie","Patrouille-gendarmerie - Perfectionnement professionnel","Police communautaire","CM1","Français","202-201-11","ENPQ - Campus de Montréal",null,null,"202-201-11","Stratégies proactives\nCampus de Montréal","CM1",20,null,null,"Reporté\n21 au 25",null,"Reporté\n9 au 13",null,null,null,"28 avril au 2 mai"]
[null,null,"Policiers","Patrouille-gendarmerie","Patrouille-gendarmerie - Perfectionnement professionnel","Police communautaire","HC1","Français","202-201-11","BLAINVILLE",null,null,"202-201-11","Stratégies proactives\nHors campus - BLAINVILLE","HC1",20,null,null,null,"11 au 15\nSPVM MTL",null,null,null,"10 au 14 "]
[null,null,"Policiers","Patrouille-gendarmerie","Patrouille-gendarmerie - Perfectionnement professionnel","Police communautaire",{"$f":"O172","v":"C1"},"Français","202-201-11","ENPQ",null,null,"202-201-11","Stratégies proactives","C1",20,null,null,"Annulé\n7 au 11"]
[null,null,"Policiers","Patrouille-gendarmerie","Gestion - Perfectionnement professionnel","Gestionnaires de 1er niveau","A3","Français","203-005-22","En Ligne",null,null,"203-005-22","Méthode d'intervention SEXTO pour les policiers\nEn ligne","A3","so"]
[null,null,"Policiers","Patrouille-gendarmerie","Patrouille-gendarmerie - Perfectionnement professionnel","Activités du patrouilleur - autres","A1","Français","203-104-16","En Ligne",null,null,"203-104-16","Référentiel sur les biens infractionnels\nEn ligne","A1","so","À la demande"]
[null,null,"Policiers","Patrouille-gendarmerie","Patrouille-gendarmerie - Perfectionnement professionnel","Activités du patrouilleur - autres","HC1","Français","203-108-17","HC - Voir détail sous les dates",null,null,"203-108-17","Intervenir conjointement auprès d'une personne en crise","HC1",6,"À la demande "]
[null,null,"Policiers","Patrouille-gendarmerie","Patrouille-gendarmerie - Perfectionnement professionnel","Activités du patrouilleur - autres","A1","Français","203-110-19","En Ligne",null,null,"203-110-19","Capsules interactives - Intervention en contexte de violence conjugale\nEn ligne","A1","so","À la demande"]
[null,null,"Policiers","Patrouille-gendarmerie","Patrouille-gendarmerie - Perfectionnement professionnel","Activités du patrouilleur - autres","A1","Français","203-115-22","En Ligne",null,null,"203-115-22","FLAIR CRPQ\nEn ligne","A1","so"]
[null,null,"Policiers","Patrouille-gendarmerie","Patrouille-gendarmerie - Perfectionnement professionnel","Activités du patrouilleur - autres","A1","Français","203-112-20","En Ligne",null,null,"203-112-20","Adopter une approche adaptée aux traumatismes – RCSP/CPKN \nEn ligne","A1","so"]
[null,null,"Policiers","Patrouille-gendarmerie","Patrouille-gendarmerie - Perfectionnement professionnel","Activités du patrouilleur - autres","A1","Français","203-114-21","En Ligne",null,null,"203-114-21","Introduction à la traite des personnes – RCSP/CPKN \nEn ligne","A1","so"]
[null,null,"Policiers","Patrouille-gendarmerie","Patrouille-gendarmerie - Perfectionnement professionnel","Activités du patrouilleur - autres","A1","Français","203-116-22","En Ligne",null,null,"203-116-22","Droit du consentement et mythes entourant les agressions sexuelles RCSP/CPKN\nEn ligne","A1","so"]
[null,null,"Policiers","Patrouille-gendarmerie","Patrouille-gendarmerie - Perfectionnement professionnel","Activités du patrouilleur - autres","A1","Français","203-117-22","En Ligne",null,null,"203-117-22","Amélioration de la déclaration de la cybercriminalité au moyen du programme de déclaration uniforme de la criminalité (DUC) - RCSP/CPKN \nEn ligne","A1","so"]
[null,null,"Policiers","Patrouille-gendarmerie","Patrouille-gendarmerie - Perfectionnement professionnel","Activités du patrouilleur - autres","A1","Français","203-118-22","En Ligne",null,null,"203-118-22","Sensibilisation aux autochtones - RCSP/CPKN \nEn ligne","A1","so"]
[null,null,"Policiers","Patrouille-gendarmerie","Patrouille-gendarmerie - Perfectionnement professionnel","Activités du patrouilleur - autres","HC1","Français","203-120-24","HC - Voir détail sous les dates",null,null,"203-120-24","Formation des répondants - Capsules  pour contrer le racisme ainsi que le profilage racial et social (capsules 1 et 2)","HC1",null,null,null,"15\nTrois-Rivières"]
[null,null,"Policiers","Patrouille-gendarmerie","Patrouille-gendarmerie - Perfectionnement professionnel","Activités du patrouilleur - autres","HC1","Français","203-124-24","HC - Voir détail sous les dates",null,null,"203-124-24","Formation des répondants - Capsules  pour contrer le racisme ainsi que le profilage racial et social (capsule 3)","HC1",null,null,null,"16\nTrois-Rivières"]
[null,null,"Policiers","Patrouille-gendarmerie","Patrouille-gendarmerie - Perfectionnement professionnel","Activités du patrouilleur - autres","HC1","Français","203-124-24","HC - Voir détail sous les dates",null,null,null,null,null,null,null,null,"17\nTrois-Rivières"]
[null,null,"Policiers","Patrouille-gendarmerie","Patrouille-gendarmerie - Perfectionnement professionnel","Activités du patrouilleur - autres","A1","Français","203-121-23","En Ligne",null,null,"203-121-23","2SLGBTQ+ - RCSP/CPKN \nEn ligne","A1","so"]
[null,null,"Policiers","Patrouille-gendarmerie","Patrouille-gendarmerie - Perfectionnement professionnel","Activités du patrouilleur - autres","A1","Français","203-122-23","En Ligne",null,null,"203-122-23","Droit des victimes au Canada - RCSP/CPKN \nEn ligne","A1","so"]
[null,null,"Policiers","Patrouille-gendarmerie","Sécurité publique - Perfectionnement professionnel","Psychologie","A1","Français","828-107-17","En Ligne",null,null,"828-107-17","Prévention des impacts psychologiques chez les policiers\nEn ligne","A1","so","À la demande"]
[null,null,"Policiers","Patrouille-gendarmerie","Patrouille-gendarmerie - Perfectionnement professionnel","Activités du patrouilleur - autres","C1","Français","203-106-16","ENPQ",null,null,"203-106-16","Actualisation des connaissances juridiques du patrouilleur","C1",30,null,null,15,null,null,null,null,null,null,26]
[null,null,"Policiers","Patrouille-gendarmerie","Patrouille-gendarmerie - Perfectionnement professionnel","Activités du patrouilleur - autres","HC1","Français","203-106-16","BLAINVILLE",null,null,"203-106-16","Actualisation des connaissances juridiques du patrouilleur\nHors campus - BLAINVILLE","HC1",30,"À la demande"]
[null,null,"Policiers","Patrouille-gendarmerie","Patrouille-gendarmerie - Perfectionnement professionnel","Activités du patrouilleur - autres","HC1","Français","203-106-16","HC - Voir détail sous les dates",null,null,"203-106-16","Actualisation des connaissances juridiques du patrouilleur","HC1",15,null,null,null,null,null,null,null,null,"22\nSaguenay","Annulé\n20\nSaguenay","10\nSaguenay"]
[null,null,"Policiers","Patrouille-gendarmerie","Patrouille-gendarmerie - Perfectionnement professionnel","Activités du patrouilleur - autres","HC1","Français","203-106-16","HC - Voir détail sous les dates",null,null,null,null,null,null,null,null,null,null,null,null,null,null,"23\nSaguenay","21\nSaguenay","11\nSaguenay"]
[null,null,"Policiers","Patrouille-gendarmerie","Patrouille-gendarmerie - Perfectionnement professionnel","Activités du patrouilleur - autres","HC1","Français","203-106-16","HC - Voir détail sous les dates",null,null,null,null,null,null,null,null,null,null,null,null,null,null,"24\nSaguenay","22\nSaguenay","12\nSaguenay"]
[null,null,"Policiers","Patrouille-gendarmerie","Patrouille-gendarmerie - Perfectionnement professionnel","Activités du patrouilleur - autres","HC1","Français","203-106-16","HC - Voir détail sous les dates",null,null,null,null,null,null,null,null,null,null,null,null,null,null,"25\nSaguenay","23\nSaguenay","13\nSaguenay"]
[null,null,"Policiers","Patrouille-gendarmerie","Patrouille-gendarmerie - Perfectionnement professionnel","Activités du patrouilleur - autres",{"$f":"O195","v":"C1"},"Anglais","203-123-24","ENPQ",null,null,"203-123-24","Patroller Competencies Update","C1",24,null,null,null,null,null,null,null,"Annulé\n3 to 7 &\n10 to 14"]
[null,null,"Policiers","Patrouille-gendarmerie","Patrouille-gendarmerie - Perfectionnement professionnel","Activités du patrouilleur - autres",{"$f":"O196","v":"C1"},"Français","208-123-24","ENPQ",null,null,"203-123-24","Actualisation des compétences du patrouilleur","C1",24,null,null,null,"4 au 8 et\n11 au 15",null,null,null,null,null,null,"2 au 6 et\n9 au 13"]
[null,null,"Policiers","Patrouille-gendarmerie","Patrouille-gendarmerie - Perfectionnement professionnel","Enquête capacité affaiblie","C1","Français","209-107-11","ENPQ",null,null,"209-107-11","Journée d'information - Agent évaluateur","C1",150,null,null,null,20]
[null,null,"Policiers","Patrouille-gendarmerie","Patrouille-gendarmerie - Perfectionnement professionnel","Enquête capacité affaiblie","HC1","Français","209-112-19","HC - Voir détail sous les dates",null,null,"209-112-19","Mise à jour : épreuves de coordination des mouvements","HC1",6,"À la demande"]
[null,null,"Policiers","Patrouille-gendarmerie","Patrouille-gendarmerie - Perfectionnement professionnel","Enquête capacité affaiblie","A1","Français","209-113-19","En Ligne",null,null,"209-113-19","Prélèvement sanguin \nEn ligne","A1","so","À la demande"]
[null,null,"Policiers","Patrouille-gendarmerie","Patrouille-gendarmerie - Perfectionnement professionnel","Enquête capacité affaiblie",{"$f":"O200","v":"C1"},"Français","209-310-10","ENPQ",null,null,"209-310-10","Agent évaluateur","C1",12,null,"9 au 13 et\n16 au 20",null,null,"9 au 13 et\n16 au 20","Reporté\n13 au 17 et\n20 au 24","3 au 7 et\n10 au 14","Annulé\n17 au 21 et\n24 au 28"]
[null,null,"Policiers","Patrouille-gendarmerie","Patrouille-gendarmerie - Perfectionnement professionnel","Enquête capacité affaiblie",{"$f":"O200","v":"C1"},"Français","209-310-10","ENPQ",null,null,null,null,null,null,null,null,null,null,null,null,null,"Reporté\n31 mars au 4 avril et\n7 au 11 avril"]
[null,null,"Policiers","Patrouille-gendarmerie","Patrouille-gendarmerie - Perfectionnement professionnel","Enquête capacité affaiblie","C1","Français","209-211-10","ENPQ",null,null,"209-311-10","Agent évaluateur - Requalification","C1",4,null,23,28,11,null,"Reporté\n10","Reporté\n3","Reporté\n3",7,20,9]
[null,null,"Policiers","Patrouille-gendarmerie","Patrouille-gendarmerie - Perfectionnement professionnel","Enquête capacité affaiblie",{"$f":"O202","v":"C1"},"Français","209-311-10","ENPQ",null,null,null,null,null,null,null,null,null,15,null,"Reporté\n28","Annulé\n20","Reporté\n4",14,21,10]
[null,null,"Policiers","Patrouille-gendarmerie","Patrouille-gendarmerie - Perfectionnement professionnel","Enquête capacité affaiblie",{"$f":"O202","v":"C1"},"Français","209-311-10","ENPQ",null,null,null,null,null,null,null,null,null,18,null,null,"Annulé\n21"]
[null,null,"Policiers","Patrouille-gendarmerie","Patrouille-gendarmerie - Perfectionnement professionnel","Enquête capacité affaiblie",{"$f":"O202","v":"C1"},"Français","209-311-10","ENPQ",null,null,null,null,null,null,null,null,null,22,null,"Reporté\n31",24,"Reporté\n11",15,26,18]
[null,null,"Policiers","Patrouille-gendarmerie","Patrouille-gendarmerie - Perfectionnement professionnel","Enquête capacité affaiblie","C1","Français","209-311-10","ENPQ",null,null,null,null,null,null,null,null,null,25,null,null,28,"Reporté\n21",25]
[null,null,"Policiers","Patrouille-gendarmerie","Patrouille-gendarmerie - Perfectionnement professionnel","Enquête capacité affaiblie","HC1","Français","209-312-11","TERRAIN",null,null,"209-312-11","Agent évaluateur - Pratique \nHors campus","HC1",3,null,"30 septembre au\n4 octobre",null,null,null,"6 au 10","R 3 au 7","3 au 7","R 28 avril au 2 mai"]
[null,null,"Policiers","Patrouille-gendarmerie","Patrouille-gendarmerie - Perfectionnement professionnel","Enquête capacité affaiblie","HC1","Français","209-312-11","TERRAIN",null,null,null,null,null,null,null,null,"7 au 11",null,null,"13 au 17 (MS1)","R 10 au 14","10 au 14",null,"R 5 au 9"]
[null,null,"Policiers","Patrouille-gendarmerie","Patrouille-gendarmerie - Perfectionnement professionnel","Enquête capacité affaiblie","HC1","Français","209-312-11","TERRAIN",null,null,null,null,null,null,null,null,"14 au 18",null,null,"20 au 24 (MS1)","R 17 au 21","17 au 21",null,"R 12 au 16"]
[null,null,"Policiers","Patrouille-gendarmerie","Patrouille-gendarmerie - Perfectionnement professionnel","Enquête capacité affaiblie","HC1","Français","209-312-11","TERRAIN",null,null,null,null,null,null,null,null,"21 au 25",null,null,"27 au 31 (MS1)","R 24 au 28","24 au 28",null,"R 19 au 23"]
[null,null,"Policiers","Patrouille-gendarmerie","Patrouille-gendarmerie - Perfectionnement professionnel","Enquête capacité affaiblie","HC1","Français","209-312-11","TERRAIN",null,null,null,null,null,null,null,null,null,null,null,null,"24 au 28"]
[null,null,"Policiers","Patrouille-gendarmerie","Patrouille-gendarmerie - Perfectionnement professionnel","Enquête capacité affaiblie","C1","Français","209-205-08","ENPQ",null,null,"209-205-08","Épreuves de coordination des mouvements","C1",6,"À la demande",null,null,null,null,null,null,null,"30 avril au 2 mai"]
[null,null,"Policiers","Patrouille-gendarmerie","Patrouille-gendarmerie - Perfectionnement professionnel","Enquête capacité affaiblie","C1","Français","209-708-20","ENPQ",null,null,"209-708-20","Épreuves de coordination des mouvements - L'instructeur","C1",12,null,null,null,null,null,null,null,"19 au 21"]
[null,null,"Policiers","Patrouille-gendarmerie","Patrouille-gendarmerie - Perfectionnement professionnel","Enquête capacité affaiblie","HC1","Français","209-708-20","HC - Voir détail sous les dates",null,null,"209-708-20","Épreuves de coordination des mouvements - L'instructeur","HC1",4]
[null,null,"Policiers","Patrouille-gendarmerie","Patrouille-gendarmerie - Perfectionnement professionnel","Enquête capacité affaiblie","C1","Français","209-709-20","ENPQ",null,null,"209-709-20","Épreuves de coordination des mouvements - L'instructeur - Requalification","C1",6,null,null,21,null,5]
[null,null,"Policiers","Patrouille-gendarmerie","Patrouille-gendarmerie - Perfectionnement professionnel","Enquête capacité affaiblie",{"$f":"O216","v":"HC1"},"Français","209-709-20","HC - Voir détail sous les dates",null,null,"209-709-20","Épreuves de coordination des mouvements - L'instructeur - Requalification","HC1",null,null,null,null,null,null,null,null,null,null,"14\nT-R"]
[null,null,"Policiers","Patrouille-gendarmerie","Patrouille-gendarmerie - Perfectionnement professionnel","Enquête capacité affaiblie","HC1","Français","209-109-18","HC - Voir détail sous les dates",null,null,"209-109-18","Mise à jour des pouvoirs et devoirs de l'agent de la paix en matière de capacité de conduire affaiblie","HC1",20,"À la demande\n(sous réserve de la reconduite des subventions du programme de chantier cannabis)"]
[null,null,"Policiers","Patrouille-gendarmerie","Patrouille-gendarmerie - Perfectionnement professionnel","Pouvoirs et devoirs","A1","Français","226-101-18","En Ligne",null,null,"226-101-18","Introduction aux dispositions législatives sur le cannabis \nEn ligne","A1","s.o.","À la demande"]
[null,null,"Policiers","Patrouille-gendarmerie","Patrouille-gendarmerie - Perfectionnement professionnel","Sécurité routière - Autres","C1","Français","211-101-13","ENPQ",null,null,"211-101-13","Sonomètre","C1",6,"À la demande"]
[null,null,"Policiers","Patrouille-gendarmerie","Patrouille-gendarmerie - Perfectionnement professionnel","Sécurité routière - Autres","C1","Français","211-102-19","ENPQ",null,null,"211-102-19","Inspection systématique du système d'échappement d'une motocyclette et d'un cyclomoteur","C1",10,null,null,null,null,null,null,null,null,null,5]
[null,null,"Policiers","Patrouille-gendarmerie","Patrouille-gendarmerie - Perfectionnement professionnel","Sécurité routière - Autres","HC1","Français","211-102-19","BLAINVILLE",null,null,"211-102-19","Inspection systématique du système d'échappement d'une motocyclette et d'un cyclomoteur\nHors campus - BLAINVILLE","HC1",10,null,null,null,null,null,null,null,null,null,20]
[null,null,"Policiers","Patrouille-gendarmerie","Patrouille-gendarmerie - Perfectionnement professionnel","Sécurité routière - Autres",{"$f":"O222","v":"HC1"},"Français","211-102-19","HC - Voir détail sous les dates",null,null,"211-102-19","Inspection systématique du système d'échappement d'une motocyclette et d'un cyclomoteur\nHors campus ","HC1",10,null,null,null,"19\nTrois-Rivières"]
[null,null,"Policiers","Patrouille-gendarmerie","Patrouille-gendarmerie - Perfectionnement professionnel","Sécurité routière - Autres","A1","Français","211-104-23","En Ligne",null,null,"211-104-23","Intervention intiale en cas d'incident critique - RCSP/CPKN \nEn ligne","A1","s.o."]
[null,null,"Policiers","Patrouille-gendarmerie","Patrouille-gendarmerie - Perfectionnement professionnel","Sécurité routière - Autres","C1","Français","211-201-20","ENPQ",null,null,"211-201-20","Code de la sécurité routière","C1",16,null,null,"15 au 18",null,null,null,null,"4 au 7"]
[null,null,"Policiers","Patrouille-gendarmerie","Patrouille-gendarmerie - Perfectionnement professionnel","Conduite","-","Français",null,null,null,null,"Patrouille spécialisée"]
[null,null,"Policiers","Patrouille-gendarmerie","Patrouille-gendarmerie - Perfectionnement professionnel","Conduite","HC1","Français","201-102-19","HC - Voir détail sous les dates",null,null,"201-102-19","Conduite d'un véhicule tirant une remorque\nHors campus","HC1",2,"À la demande"]
[null,null,"Policiers","Patrouille-gendarmerie","Patrouille-gendarmerie - Perfectionnement professionnel","Conduite","HC1","Français","201-103-19","HC - Voir détail sous les dates",null,null,"201-103-19","Conduite d'un véhicule tirant une remorque exigeant un permis ou une ronde de sécurité\nHors campus","HC1",2,"À la demande"]
[null,null,"Policiers","PDPP","Patrouille-gendarmerie - Perfectionnement professionnel","Conduite","HC1","Français","201-201-18","SANAIR",null,null,"201-201-18","Conduire un véhicule d'urgence - Niveau 2\nHors campus - SANAIR","HC1",9,"Dates à venir"]
[null,null,"Policiers","PGPP","Patrouille-gendarmerie - Perfectionnement professionnel","Conduite","HC1","Français","201-601-18","SANAIR",null,null,"201-601-18","Conduire un véhicule d'urgence - Le moniteur\nHors campus - SANAIR","HC1",9,"Dates à venir"]
[null,null,"Policiers","PGPP","Patrouille-gendarmerie - Perfectionnement professionnel","Conduite","C1","Français","201-602-18","ENPQ",null,null,"201-602-18","Conduire un véhicule d'urgence - Le moniteur - Requalification","C1",9,null,null,null,"19 au 20",null,null,null,"17 au 18",null,null,"30 juin au 1er juillet"]
[null,null,"Policiers","Patrouille-gendarmerie","Patrouille-gendarmerie - Perfectionnement professionnel","Conduite",{"$f":"O231","v":"C1"},"Français","201-105-19","ENPQ",null,null,"201-105-19","Contrôle d'un véhicule d’urgence en situation de dérapage ","C1",6,"À la demande"]
[null,null,"Policiers","Patrouille-gendarmerie","Patrouille-gendarmerie - Perfectionnement professionnel","Patrouilles spécialisées","S1","Français","210-203-06","En Ligne",null,null,"210-203-06","Loi sur les véhicules hors route\nEn ligne","S1",12,null,null,null,null,null,27,null,19,28]
[null,null,"Policiers","Patrouille-gendarmerie","Patrouille-gendarmerie - Perfectionnement professionnel","Patrouilles spécialisées",{"$f":"O232","v":"S1"},"Français","210-203-06","En Ligne",null,null,null,null,null,null,null,null,null,null,null,28]
[null,null,"Policiers","Patrouille-gendarmerie","Patrouille-gendarmerie - Perfectionnement professionnel","Patrouilles spécialisées","C1","Français","210-201-08","ENPQ",null,null,"210-201-08","Patrouille à bicyclette","C1",6,null,null,null,null,null,null,null,null,null,"20 au 22","3 au 5"]
[null,null,"Policiers","Patrouille-gendarmerie",null,"Patrouilles spécialisées","C1","Français","210-201-08","ENPQ",null,null,null,null,null,null,null,null,null,null,null,null,null,null,null,"R 21 au 23","R 4 au 6"]
[null,null,"Policiers","Patrouille-gendarmerie","Patrouille-gendarmerie - Perfectionnement professionnel","Patrouilles spécialisées","C1","Français","210-201-08","ENPQ",null,null,null,null,null,null,null,null,null,null,null,null,null,null,null,"28 au 30","11 au 13"]
[null,null,"Policiers","Patrouille-gendarmerie","Patrouille-gendarmerie - Perfectionnement professionnel","Patrouilles spécialisées","MS1","Français","210-301-06","ENPQ",null,null,"210-301-06","Patrouille à motoquad","MS1",8,null,null,null,null,null,null,null,null,null,"7 au 9"]
[null,null,"Policiers","Patrouille-gendarmerie","Patrouille-gendarmerie - Perfectionnement professionnel","Patrouilles spécialisées","MS1","Français","210-301-06","ENPQ",null,null,null,null,null,null,null,null,null,null,null,null,null,null,null,"14 au 16"]
[null,null,"Policiers","Patrouille-gendarmerie","Patrouille-gendarmerie - Perfectionnement professionnel","Patrouilles spécialisées","HC1","Français","210-302-06","MATTAWIN",null,null,"210-302-06","Patrouille à motoneige\n\nHors campus\nHôtel Marineau Mattawin\n2911, QC-155, Trois-Rives  G0X 2C0","HC1",8,null,null,null,null,null,null,"5 au 7"]
[null,null,"Policiers","Patrouille-gendarmerie","Patrouille-gendarmerie - Perfectionnement professionnel","Patrouilles spécialisées","HC1","Français","210-302-06","MATTAWIN",null,null,null,null,null,null,null,null,null,null,null,null,"12 au 14"]
[null,null,"Policiers","Patrouille-gendarmerie","Patrouille-gendarmerie - Perfectionnement professionnel","Patrouilles spécialisées","S1","Français","210-103-24","En Ligne",null,null,"210-103-24","Cadre légal lié à la patrouille nautique - Bloc 1\nEn ligne","S1",10,null,null,null,null,null,null,null,null,"Annulé\n8 au 10"]
[null,null,"Policiers","Patrouille-gendarmerie","Patrouille-gendarmerie - Perfectionnement professionnel","Patrouilles spécialisées","S1","Français","210-103-24","En Ligne",null,null,null,null,null,null,null,null,null,null,null,null,null,null,"29 avril au 1er mai"]
[null,null,"Policiers","Patrouille-gendarmerie","Patrouille-gendarmerie - Perfectionnement professionnel","Patrouilles spécialisées",{"$f":"O243","v":"MS1"},"Français","210-303-18","ENPQ",null,null,"210-303-18","Patrouille nautique - Bloc 2","MS1",6,null,null,null,null,null,null,null,null,null,"26 au 30","2 au 6"]
[null,null,"Policiers","Patrouille-gendarmerie","Patrouille-gendarmerie - Perfectionnement professionnel","Patrouilles spécialisées",{"$f":"O243","v":"MS1"},"Français","210-303-18","ENPQ",null,null,null,null,null,null,null,null,null,null,null,null,null,null,null,null,"9 au 13"]
[null,null,"Policiers","Patrouille-gendarmerie","Patrouille-gendarmerie - Perfectionnement professionnel","Patrouilles spécialisées","MS1","Français","210-303-18","ENPQ",null,null,null,null,null,null,null,null,null,null,null,null,null,null,null,null,"16 au 20\nExclusif SQ"]
[null,null,"Policiers","Patrouille-gendarmerie","Patrouille-gendarmerie - Perfectionnement professionnel","Enquête capacité affaiblie","-","Français",null,null,null,null,"Appareils de détection approuvés"]
[null,null,"Policiers","Patrouille-gendarmerie","Patrouille-gendarmerie - Perfectionnement professionnel","Enquête capacité affaiblie","C1","Français","209-105-13","ENPQ",null,null,"209-105-13","Alco-Sensor FST","C1",6,"À la demande"]
[null,null,"Policiers","Patrouille-gendarmerie","Patrouille-gendarmerie - Perfectionnement professionnel","Enquête capacité affaiblie",{"$f":"O248","v":"HC1"},"Français","209-105-13","HC - Voir détail sous les dates",null,null,"209-105-13","Alco-Sensor FST","HC1",6,null,null,null,null,"12\nMercier"]
[null,null,"Policiers","Patrouille-gendarmerie","Patrouille-gendarmerie - Perfectionnement professionnel","Enquête capacité affaiblie",{"$f":"O249","v":"C1"},"Français","209-106-13","ENPQ",null,null,"209-106-13","Alco-Sensor FST - Le technicien en étalonnage","C1",6,"À la demande",null,null,null,null,17]
[null,null,"Policiers","Patrouille-gendarmerie","Patrouille-gendarmerie - Perfectionnement professionnel","Enquête capacité affaiblie",{"$f":"O249","v":"C1"},"Français","209-106-13","ENPQ",null,null,null,null,null,null,null,null,null,null,null,24]
[null,null,"Policiers","Patrouille-gendarmerie","Patrouille-gendarmerie - Perfectionnement professionnel","Enquête capacité affaiblie","C1","Français","209-706-20","ENPQ",null,null,"209-706-20","Alco-Sensor FST - L'instructeur","C1",6,null,null,"R 17 au 18",null,"17 au 18"]
[null,null,"Policiers","Patrouille-gendarmerie","Patrouille-gendarmerie - Perfectionnement professionnel","Enquête capacité affaiblie","HC1","Français","209-706-20","HC - Voir détail sous les dates",null,null,"209-706-20","Alco-Sensor FST - L'instructeur","HC1",4]
[null,null,"Policiers","Patrouille-gendarmerie","Patrouille-gendarmerie - Perfectionnement professionnel","Enquête capacité affaiblie","C1","Français","209-707-20","ENPQ",null,null,"209-707-20","Alco-Sensor FST - L'instructeur - Requalification","C1",6,null,null,28,21,19,null,null,null,null,28]
[null,null,"Policiers","Patrouille-gendarmerie","Patrouille-gendarmerie - Perfectionnement professionnel","Enquête capacité affaiblie","-","Français",null,null,null,null,"Technicien qualifié en éthylomètre"]
[null,null,"Policiers","Patrouille-gendarmerie","Patrouille-gendarmerie - Perfectionnement professionnel","Enquête capacité affaiblie",{"$f":"O255","v":"C1"},"Anglais","209-204-18","ENPQ",null,null,"209-204-18","Qualified Technician - DataMaster DMT-C","C1",12,null,null,"7 to 11","4 to 8","9 to 13"]
[null,null,"Policiers","Patrouille-gendarmerie","Patrouille-gendarmerie - Perfectionnement professionnel","Enquête capacité affaiblie",{"$f":"O255","v":"C1"},"Français","209-204-18","ENPQ",null,null,"209-204-18","Technicien qualifié en éthylomètre - DataMaster DMT-C","C1",12,null,null,"21 au 25","18 au 22","2 au 6","13 au 17","3 au 7","3 au 7","31 mars au\n4 avril","12 au 16"]
[null,null,"Policiers","Patrouille-gendarmerie","Patrouille-gendarmerie - Perfectionnement professionnel","Enquête capacité affaiblie",{"$f":"O256","v":"C1"},"Français","209-204-18","ENPQ",null,null,null,null,null,null,null,null,null,null,null,"20 au 24","10 au 14","10 au 14","7 au 11"]
[null,null,"Policiers","Patrouille-gendarmerie","Patrouille-gendarmerie - Perfectionnement professionnel","Enquête capacité affaiblie",{"$f":"O256","v":"C1"},"Français","209-204-18","ENPQ",null,null,null,null,null,null,null,null,null,null,null,"27 au 31","17 au 21","17 au 21","28 avril au 2 mai"]
[null,null,"Policiers","Patrouille-gendarmerie","Patrouille-gendarmerie - Perfectionnement professionnel","Enquête capacité affaiblie",{"$f":"O256","v":"C1"},"Français","209-204-18","ENPQ",null,null,null,null,null,null,null,null,null,null,null,null,"24 au 28","24 au 28"]
[null,null,"Policiers","Patrouille-gendarmerie","Patrouille-gendarmerie - Perfectionnement professionnel","Enquête capacité affaiblie","C1","Anglais","209-313-23","ENPQ",null,null,"209-313-23","DataMaster DMT-C - The Qualified Technician- Requalification","C1",9,null,null,"canceled\n15","1st"]
[null,null,"Policiers","Patrouille-gendarmerie","Patrouille-gendarmerie - Perfectionnement professionnel","Enquête capacité affaiblie","C1","Français","209-313-23","ENPQ",null,null,"209-313-23","Technicien qualifié en éthylomètre - DataMaster  DMT-C - Requalification","C1",9,null,null,16,12,16,null,null,null,14,20]
[null,null,"Policiers","Patrouille-gendarmerie","Patrouille-gendarmerie - Perfectionnement professionnel","Enquête capacité affaiblie","C1","Français","209-313-23","ENPQ",null,null,null,null,null,null,null,null,17,13]
[null,null,"Policiers","Patrouille-gendarmerie","Patrouille-gendarmerie - Perfectionnement professionnel","Enquête capacité affaiblie","C1","Français","209-313-23","ENPQ",null,null,null,null,null,null,null,null,18,14,null,null,null,null,15,21]
[null,null,"Policiers","Patrouille-gendarmerie","Patrouille-gendarmerie - Perfectionnement professionnel","Enquête capacité affaiblie","C1","Français","209-313-23","ENPQ",null,null,null,null,null,null,null,null,29,15]
[null,null,"Policiers","Patrouille-gendarmerie","Patrouille-gendarmerie - Perfectionnement professionnel","Enquête capacité affaiblie","C1","Français","209-313-23","ENPQ",null,null,null,null,null,null,null,null,30,26,17,null,null,null,16,22]
[null,null,"Policiers","Patrouille-gendarmerie","Patrouille-gendarmerie - Perfectionnement professionnel","Enquête capacité affaiblie","C1","Français","209-313-23","ENPQ",null,null,null,null,null,null,null,null,31,27,null,null,null,null,null,23]
[null,null,"Policiers","Patrouille-gendarmerie","Patrouille-gendarmerie - Perfectionnement professionnel","Enquête capacité affaiblie","C1","Français","209-313-23","ENPQ",null,null,null,null,null,null,null,null,null,28,null,null,null,null,17,"R 24"]
[null,null,"Policiers","Patrouille-gendarmerie","Patrouille-gendarmerie - Perfectionnement professionnel","Enquête capacité affaiblie","C1","Français","209-313-23","ENPQ",null,null,null,null,null,null,null,null,null,29,null,null,null,null,null,"R 25"]
[null,null,"Policiers","Patrouille-gendarmerie","Patrouille-gendarmerie - Perfectionnement professionnel","Enquête capacité affaiblie","A1","Français","209-108-19","En Ligne",null,null,"209-108-19","Journée d'information - Personnes-ressources en matière d'éthylomètre\nEn ligne","A1","so"]
[null,null,"Policiers","Patrouille-gendarmerie","Patrouille-gendarmerie - Perfectionnement professionnel","Cinémomètre","-","Français",null,null,null,null,"Cinémomètres"]
[null,null,"Policiers","Patrouille-gendarmerie","Patrouille-gendarmerie - Perfectionnement professionnel","Cinémomètre","C1","Français","206-001-17","ENPQ",null,null,"206-001-25","Journée d'information en cinémométrie","C1","so",null,null,null,null," ",null,null,null,30,8]
[null,null,"Policiers","Patrouille-gendarmerie","Patrouille-gendarmerie - Perfectionnement professionnel","Cinémomètre","C1","Français","206-202-06","ENPQ",null,null,"206-202-06","Cinémomètre laser","C1",6,"À la demande"]
[null,null,"Policiers","Patrouille-gendarmerie","Patrouille-gendarmerie - Perfectionnement professionnel","Cinémomètre","C1","Français","206-302-06","ENPQ",null,null,"206-302-06","Cinémomètre laser - Requalification","C1",3,"À la demande"]
[null,null,"Policiers","Patrouille-gendarmerie","Patrouille-gendarmerie - Perfectionnement professionnel","Cinémomètre","HC1","Français","206-302-06","HC - Voir détail sous les dates",null,null,"206-302-06","Cinémomètre laser - Requalification","HC1",2,null,null,null,null,null,null," "]
[null,null,"Policiers","Patrouille-gendarmerie","Patrouille-gendarmerie - Perfectionnement professionnel","Cinémomètre","C1","Français","206-303-06","ENPQ",null,null,"206-303-06","Cinémomètre laser - Notions spécifiques","C1",6,"À la demande"]
[null,null,"Policiers","Patrouille-gendarmerie","Patrouille-gendarmerie - Perfectionnement professionnel","Cinémomètre","C1","Français","206-307-16","ENPQ",null,null,"206-307-16","Cinémomètre laser – Mise à niveau et requalification","C1",4,"À la demande"]
[null,null,"Policiers","Patrouille-gendarmerie","Patrouille-gendarmerie - Perfectionnement professionnel","Cinémomètre",{"$f":"O277","v":"A1"},"Français","206-310-24","ENPQ",null,null,"206-310-24","Cinémomètre Doppler – Mise à niveau – Sens commun","A1","s.o.",null,null,null,null,null,null,null,null,"15 avril au 8 mai"]
[null,null,"Policiers","Patrouille-gendarmerie","Patrouille-gendarmerie - Perfectionnement professionnel","Cinémomètre","C1","Français","206-701-20","ENPQ",null,null,"206-701-20","Cinémomètre laser - L'instructeur","C1",6,null,null,null,null,null,"8 au 10"]
[null,null,"Policiers","Patrouille-gendarmerie","Patrouille-gendarmerie - Perfectionnement professionnel","Cinémomètre","C1","Français","206-702-20","ENPQ",null,null,"206-702-20","Cinémomètre laser - L'instructeur - Requalification","C1",6,null,null,28,7,16,null,null,null,17]
[null,null,"Policiers","Patrouille-gendarmerie","Patrouille-gendarmerie - Perfectionnement professionnel","Cinémomètre","C1","Français","206-702-20","ENPQ",null,null,null,null,null,null,null,null,null,null," Annulé\n20"]
[null,null,"Policiers","Patrouille-gendarmerie","Patrouille-gendarmerie - Perfectionnement professionnel","Cinémomètre","HC1","Français","206-702-20","HC - Voir détail sous les dates",null,null,"206-702-20","Cinémomètre laser - L'instructeur - Requalification\nHors campus","HC1",6]
[null,null,"Policiers","Patrouille-gendarmerie","Patrouille-gendarmerie - Perfectionnement professionnel","Cinémomètre","C1","Français","206-207-15","ENPQ",null,null,"206-207-15","Cinémomètre Doppler - Stationnaire et mobile rencontre","C1",6,"À la demande"]
[null,null,"Policiers","Patrouille-gendarmerie","Patrouille-gendarmerie - Perfectionnement professionnel","Cinémomètre","C1","Français","206-207-15","ENPQ",null,null,"206-207-15","Cinémomètre Doppler - Stationnaire et mobile rencontre","C1",32,"À la demande",null,null,"11 au 14\nExclusif SQ","2 au 6","Annulé\n6 au 10\nExclusif SQ"]
[null,null,"Policiers","Patrouille-gendarmerie","Patrouille-gendarmerie - Perfectionnement professionnel","Cinémomètre",{"$f":"O283","v":"C1"},"Français","206-207-15","ENPQ",null,null,null,null,null,null,null,"30 septembre au 4 octobre"]
[null,null,"Policiers","Patrouille-gendarmerie","Patrouille-gendarmerie - Perfectionnement professionnel","Cinémomètre",{"$f":"O283","v":"C1"},"Français","206-207-15","ENPQ",null,null,null,null,null,null,null,null,"21 au 25"]
[null,null,"Policiers","Patrouille-gendarmerie","Patrouille-gendarmerie - Perfectionnement professionnel","Cinémomètre",{"$f":"O286","v":"C1"},"Français","206-207-25","ENPQ",null,null,"206-207-25","Cinémomètre Doppler","C1",32,null,null,null,null,null,null,"3 au 7\nExclusif SQ","3 au 7\nExclusif SQ","21 au 25\nExclusif SQ","19 au 23\nExclusif SQ","16 au 20\nExclusif SQ","14 au 18\nExclusif SQ"]
[null,null,"Policiers","Patrouille-gendarmerie","Patrouille-gendarmerie - Perfectionnement professionnel","Cinémomètre",{"$f":"O286","v":"C1"},"Français","206-207-25","ENPQ",null,null,null,null,null,null,null,null,null,null,null,null,null,"Annulé\n31 mars au 4 avril\nExclusif SQ"]
[null,null,"Policiers","Patrouille-gendarmerie","Patrouille-gendarmerie - Perfectionnement professionnel","Cinémomètre","C1","Français","206-208-15","ENPQ",null,null,"206-208-15","Cinémomètre Doppler stationnaire","C1",6,"À la demande"]
[null,null,"Policiers","Patrouille-gendarmerie","Patrouille-gendarmerie - Perfectionnement professionnel","Cinémomètre","C1","Français","206-301-15","ENPQ",null,null,"206-301-15","Cinémomètre Doppler - Stationnaire et mobile rencontre - Requalification","C1",3,"À la demande"]
[null,null,"Policiers","Patrouille-gendarmerie","Patrouille-gendarmerie - Perfectionnement professionnel","Cinémomètre","C1","Français","206-305-15","ENPQ",null,null,"206-305-15","Cinémomètre Doppler stationnaire – Requalification","C1",3,"À la demande"]
[null,null,"Policiers","Patrouille-gendarmerie","Patrouille-gendarmerie - Perfectionnement professionnel","Cinémomètre","C1","Français","206-306-15","ENPQ",null,null,"206-306-15","Cinémomètre Doppler stationnaire – Mise à niveau et requalification","C1",4,"À la demande"]
[null,null,"Policiers","Patrouille-gendarmerie","Patrouille-gendarmerie - Perfectionnement professionnel","Cinémomètre","C1","Français","206-308-17","ENPQ",null,null,"206-308-17","Cinémomètre Doppler stationnaire et mobile rencontre – Mise à niveau et requalification","C1",4,"À la demande"]
[null,null,"Policiers","Patrouille-gendarmerie","Patrouille-gendarmerie - Perfectionnement professionnel","Cinémomètre","C1","Français","206-703-20","ENPQ",null,null,"206-703-20","Cinémomètre Doppler – L'instructeur","C1",6,null,null,null,null,"9 au 11",null,null,null,"Reporté\n22 au 24",null,"17 au 19"]
[null,null,"Policiers","Patrouille-gendarmerie","Patrouille-gendarmerie - Perfectionnement professionnel","Cinémomètre","C1","Français","206-704-20","ENPQ",null,null,"206-704-20","Cinémomètre Doppler – L'instructeur - Requalification","C1",6,null,null,null,null,12,null,null,null,"Reporté\n25",null,9]
[null,null,"Policiers","Patrouille-gendarmerie","Patrouille-gendarmerie - Perfectionnement professionnel","Cinémomètre","HC1","Français","206-704-20","BLAINVILLE",null,null,"206-704-20","Cinémomètre Doppler – L'instructeur - Requalification\nHors campus - BLAINVILLE","HC1",6]
[null,null,"Policiers","Patrouille-gendarmerie","Patrouille-gendarmerie - Perfectionnement professionnel","Photomètre","-","Français",null,null,null,null,"Photomètre"]
[null,null,"Policiers","Patrouille-gendarmerie","Patrouille-gendarmerie - Perfectionnement professionnel","Photomètre","C1","Français","207-201-07","ENPQ",null,null,"207-201-07","Photomètre","C1",6,"À la demande"]
[null,null,"Policiers","Patrouille-gendarmerie","Patrouille-gendarmerie - Perfectionnement professionnel","Photomètre","C1","Français","207-701-20","ENPQ",null,null,"207-701-20","Photomètre - L'instructeur","C1",8,null,null,null,null,null,null,null,null,"Annulé\n14 au 15"]
[null,null,"Policiers","Patrouille-gendarmerie","Patrouille-gendarmerie - Perfectionnement professionnel","Photomètre","C1","Français","207-702-20","ENPQ",null,null,"207-702-20","Photomètre - L'instructeur - Requalification","C1",6,null,null,null,"Annulé\n8",null,null,null,null,"Annulé\n16"]
[null,null,"Policiers","Patrouille-gendarmerie","Patrouille-gendarmerie - Perfectionnement professionnel","Enquête de collision","-","Français",null,null,null,null,"Enquête de collision"]
[null,null,"Policiers","Patrouille-gendarmerie","Patrouille-gendarmerie - Perfectionnement professionnel","Enquête de collision","C3","Français","208-201-18","ENPQ",null,null,"208-201-18","Techniques d’enquête de collision","C3",20,null,null,null,null,"2 au 6",null,null,"10 au 14"]
[null,null,"Policiers","Patrouille-gendarmerie","Patrouille-gendarmerie - Perfectionnement professionnel","Enquête de collision",{"$f":"O302","v":"C3"},"Français","208-102-24","ENPQ",null,null,"208-102-24","Dessin de scène d’événement assisté par ordinateur","C3",6,null,"9 au 13",null,null,null,"Annulé\n6 au 10"]
[null,null,"Policiers","Patrouille-gendarmerie","Patrouille-gendarmerie - Perfectionnement professionnel","Enquête de collision","C1","Français","208-203-12","ENPQ",null,null,"208-203-12","Relevé de scène d’événement à l’aide de l’appareil de mesure au laser","C1",12,"À la demande"]
[null,null,"Policiers","Patrouille-gendarmerie","Patrouille-gendarmerie - Perfectionnement professionnel","Enquête de collision","H3-[A-C]","Français","208-303-18","ENPQ",null,null,"208-303-18","Croquis et mesures                                                                                                         ","H3-[A-C]",20,null,null,null,"Act. Prép. En ligne (2,5 h)\nVolet 1","10 (13h) au\n 12 (12h)",null,"Act. Prép. En ligne (2,5 h)\nVolet 1","18 (13h) au\n20 (12h)"]
[null,null,"Policiers","Patrouille-gendarmerie","Patrouille-gendarmerie - Perfectionnement professionnel","Enquête de collision","H3-[A-C]","Français","208-304-18","ENPQ",null,null,"208-304-18","Imagerie numérique judiciaire appliquée à l’enquête de collision              ","H3-[A-C]",10,null,null,null,"Act. Prép. En ligne (3,5 h)\nVolet 1","9 (13h)\nau 10 (12h)",null,"Act. Prép. En ligne (3,5 h)\nVolet 1","17 (13h) et\n18 (12h)"]
[null,null,"Policiers","Patrouille-gendarmerie","Patrouille-gendarmerie - Perfectionnement professionnel","Enquête de collision",{"$f":"O305","v":"H3-[A-C]"},"Français","208-304-18","ENPQ",null,null,null,null,null,null,null,null,null,"Act. Prép. En ligne (3,5 h)\nVolet 1","12 (13h) au\n13 (12h)",null,"Act. Prép. En ligne (3,5 h)\nVolet 1","20 (13h) et\n21 (12h)"]
[null,null,"Policiers","Patrouille-gendarmerie","Patrouille-gendarmerie - Perfectionnement professionnel","Intervention physique","-","Français",null,null,null,null,"Communication et intervention physique"]
[null,null,"Policiers","Patrouille-gendarmerie","Patrouille-gendarmerie - Perfectionnement professionnel","Intervention physique","C1","Français","214-104-19","ENPQ",null,null,"214-104-24","Arme à impulsions électriques - Transition","C1",12,"À la demande"]
[null,null,"Policiers","Patrouille-gendarmerie","Patrouille-gendarmerie - Perfectionnement professionnel","Intervention physique","C1","Français","214-211-20","ENPQ",null,null,"214-211-20","Arme à impulsions électriques (X2 et T7)\nArme à impulsions électriques","C1",8,"À la demande"]
[null,null,"Policiers","Patrouille-gendarmerie","Patrouille-gendarmerie - Perfectionnement professionnel","Intervention physique","C1","Français","214-306-20","ENPQ",null,null,"214-306-20","Arme à impulsions électriques – Requalification (X2 et T7)\nArme à impulsions électriques — Requalification","C1",8,"À la demande",null,null,null,null,null,"Annulé\n14"]
[null,null,"Policiers","Patrouille-gendarmerie","Patrouille-gendarmerie - Perfectionnement professionnel","Intervention physique",{"$f":"O311","v":"C1"},"Français","214-307-25","ENPQ",null,null,"214-305-25","Arme à impulsions électriques – Transition (T10)","C1",8,null,null,null,null,null,null,null,"12 au 13"]
[null,null,"Policiers","Patrouille-gendarmerie","Patrouille-gendarmerie - Perfectionnement professionnel","Intervention physique","C1","Français","214-703-20","ENPQ",null,null,"214-703-20","Arme à impulsions électriques – L’instructeur (X2 et T7)\nArme à impulsions électriques – L'instructeur","C1",8,null,null,null,null,"2 au 6",null,null,null,"Annulé\n14 au 18"]
[null,null,"Policiers","Patrouille-gendarmerie","Patrouille-gendarmerie - Perfectionnement professionnel","Intervention physique",{"$f":"O313","v":"C1"},"Anglais","214-703-20","ENPQ",null,null,"214-703-20","Conducted Energy Weapon – Instructor","C1",8,null,null,null,null,null,"Annulé\n6 au 10",null,null,null,null,null,"14 au 18"]
[null,null,"Policiers","Patrouille-gendarmerie","Patrouille-gendarmerie - Perfectionnement professionnel","Intervention physique","C1","Français","214-704-20","ENPQ",null,null,"214-704-20","Arme à impulsions électriques – L’instructeur – Requalification (X2 et T7)\nArme à impulsions électriques – L'instructeur – Requalification ","C1",8,null,null,null,18,null,null,null,null,25,"30\n4 part."]
[null,null,"Policiers","Patrouille-gendarmerie","Patrouille-gendarmerie - Perfectionnement professionnel","Intervention physique","C1","Français","214-704-20","ENPQ",null,null,null,null,null,null,null,null,null,"Annulé\n29"]
[null,null,"Policiers","Patrouille-gendarmerie","Patrouille-gendarmerie - Perfectionnement professionnel","Intervention physique","C1","Anglais","214-704-20","ENPQ",null,null,"214-704-20","Conducted Energy Weapon – Instructor – Requalification","C1",4,null,null,null,null,null,null,null,"Annulé\n7"]
[null,null,"Policiers","Patrouille-gendarmerie","Patrouille-gendarmerie - Perfectionnement professionnel","Intervention physique","C1","Français","218-103-24","ENPQ",null,null,"218-103-24","Didactique de l'enseignement","C1",18,null,null,null,"Annulé\n21 au 22"]
[null,null,"Policiers","Patrouille-gendarmerie","Patrouille-gendarmerie - Perfectionnement professionnel","Intervention physique","C1","Français","218-103-24","ENPQ - Campus de Montréal",null,null,"218-103-24","Didactique de l'enseignement","CM1",18,null,null,null,null,null,null,null,null,null,"15 au 16"]
[null,null,"Policiers","Patrouille-gendarmerie","Patrouille-gendarmerie - Perfectionnement professionnel","Emploi de la force - Autres","C1","Français","218-301-18","ENPQ",null,null,"218-301-18","Fondements théoriques de l'emploi de la force","C1",12,null,null,null,"18 au 22",null,"13 au 17",null,"24 au 28"]
[null,null,"Policiers","Patrouille-gendarmerie","Patrouille-gendarmerie - Perfectionnement professionnel","Emploi de la force - Autres","C1","Français","218-301-18","ENPQ",null,null,null,null,null,null,null,null,null,"25 au 29"]
[null,null,"Policiers","Patrouille-gendarmerie","Patrouille-gendarmerie - Perfectionnement professionnel","Emploi de la force - Autres","HC1","Anglais","218-301-18","BLAINVILLE",null,null,"218-301-18","Theoretical Foundations of the Use of Force\nHors campus - BLAINVILLE","HC1",12,null,null,null,null,"16 to 20"]
[null,null,"Policiers","Patrouille-gendarmerie","Patrouille-gendarmerie - Perfectionnement professionnel","Emploi de la force - Autres","HC1","Français","218-301-18","BLAINVILLE",null,null,"218-301-18","Fondements théoriques de l'emploi de la force\nHors campus - BLAINVILLE","HC1",12,null,"16 au 20",null,null,null,null,null,null,"7 au 11"]
[null,null,"Policiers","Patrouille-gendarmerie","Patrouille-gendarmerie - Perfectionnement professionnel","Emploi de la force - Autres","HC1","Français","218-301-18","SHERBROOKE",null,null,"218-301-18","Fondements théoriques de l'emploi de la force\nHors campus - Sherbrooke","HC1",12,null,null,"Annulé\n21 au 25",null,null,"27 au 31"]
[null,null,"Policiers","Patrouille-gendarmerie","Patrouille-gendarmerie - Perfectionnement professionnel","Emploi de la force - Autres","HC1","Français","218-301-18","SHERBROOKE"]
[null,null,"Policiers","Patrouille-gendarmerie","Patrouille-gendarmerie - Perfectionnement professionnel","Intervention physique","C1","Français","214-716-23","ENPQ",null,null,"214-716-23","Didactique de l'intervention physique - L'instructeur","C1",12,null,null,null,"11 au 14,\n19 au 22 et\n25 au 28",null,"13 au 16,\n20 au 23 et \n27 au 30",null,null,"14 au 17 avril,\n22 au 25 avril et\n28 avril au 1er mai"]
[null,null,"Policiers","Patrouille-gendarmerie","Patrouille-gendarmerie - Perfectionnement professionnel","Intervention physique",{"$f":"O326","v":"C1"},"Anglais","214-716-23","ENPQ",null,null,"214-716-23","Didactics of Physical Intervention - Instructor ","C1",12,null,null,null,null,null,null,"10 au 13,\n17 au 20 et 24 au 27"]
[null,null,"Policiers","Patrouille-gendarmerie","Patrouille-gendarmerie - Perfectionnement professionnel","Intervention physique","C1","Français","214-717-23","ENPQ",null,null,"214-717-23","Didactique de l'intervention physique - L'instructeur - Requalification","C1",12,null,null,"28 au 31\n6 part.",null,"3 au 6",null,null,null,null,"5 au 8"]
[null,null,"Policiers","Patrouille-gendarmerie","Patrouille-gendarmerie - Perfectionnement professionnel","Intervention physique","C1","Français","214-717-23","ENPQ",null,null,null,null,null,null,null,null,null,null,"17 au 20"]
[null,null,"Policiers","Patrouille-gendarmerie","Patrouille-gendarmerie - Perfectionnement professionnel","Intervention physique","C1","Français","214-103-18","ENPQ",null,null,"214-103-18","Intervention avec le bouclier inversé (en milieu fermé)","C1",8,"À la demande"]
[null,null,"Policiers","Patrouille-gendarmerie","Patrouille-gendarmerie - Perfectionnement professionnel","Intervention physique","C1","Français","214-712-20","ENPQ",null,null,"214-712-20","Intervention avec le bouclier inversé - L'instructeur\n(sans requalification) (en milieu fermé)","C1",8,"À la demande",null,15,null,null,null,null,null,null,9]
[null,null,"Policiers","Patrouille-gendarmerie","Patrouille-gendarmerie - Perfectionnement professionnel","Communication tactique","HC1","Français","217-105-23","DOMAINE SCOUT",null,null,"217-105-23","Réponse à un état mental perturbé (REMP)\n\nHors Campus - DOMAINE SCOUT \n(St-Louis de France)","HC1",8,null,null,"2 au 3 oct",null,null,null,null,null,null,"7 au 8"]
[null,null,"Policiers","Patrouille-gendarmerie","Patrouille-gendarmerie - Perfectionnement professionnel","Communication tactique","C1","Français","217-201-24","ENPQ",null,null,"217-101-24","Désescalade - État mental perturbé (volet pratique)","C1",6,null,null,null,"Annulé\n4",null,"Annulé\n6",null,null,null,null,23]
[null,null,"Policiers","Patrouille-gendarmerie","Patrouille-gendarmerie - Perfectionnement professionnel","Communication tactique","A1","Français","217-201-24","En Ligne",null,null,"217-201-24","Désescalade – État mental perturbé \nEn ligne","A1",25,"À la demande"]
[null,null,"Policiers","Patrouille-gendarmerie","Patrouille-gendarmerie - Perfectionnement professionnel","Communication tactique","C1","Français","217-703-20","ENPQ",null,null,"217-703-20","Désescalade - État mental perturbé - L'instructeur (sans requalification)","C1",12,null,null,null,null,"Annulé\n16 au 17","Annulé\n27 au 28",null,null,"8 au 9"]
[null,null,"Policiers","Patrouille-gendarmerie","Patrouille-gendarmerie - Perfectionnement professionnel","Contrôle de foule","C1","Français","221-102-08","ENPQ",null,null,"221-102-08","Contrôle de foule - Membre de peloton (cotes d'alerte 2 et 3)","C1",30,"À la demande - Dispensée par la Sûreté du Québec - Date à être déterminée"]
[null,null,"Policiers","Patrouille-gendarmerie","Patrouille-gendarmerie - Perfectionnement professionnel","Contrôle de foule","C1","Français","221-301-08","ENPQ",null,null,"221-301-08","Contrôle de foule - Chef de section ou de peloton (cotes d'alerte 1, 2 et 3)","C1",30,"À la demande - Dispensée par la Sûreté du Québec - Date à être déterminée"]
[null,null,"Policiers","Patrouille-gendarmerie","Patrouille-gendarmerie - Perfectionnement professionnel","Pédagogie","C1","Français","232-301-08","ENPQ",null,null,"232-301-08","Fondements stratégiques de l’emploi de la force","C1",12,null,null,null,null,null,null,"3 au 7"]
[null,null,"Policiers","Patrouille-gendarmerie","Patrouille-gendarmerie - Perfectionnement professionnel","Pédagogie",{"$f":"O338","v":"CM1"},"Français","232-301-08","ENPQ - Campus de Montréal",null,null,"232-301-08","Fondements stratégiques de l'emploi de la force\n\nCampus de Montréal","CM1",12,null,"23 au 27\n6 part.","28 oct au 1er novembre\n6 part."]
[null,null,"Policiers","Patrouille-gendarmerie","Patrouille-gendarmerie - Perfectionnement professionnel","Intervention tactique","-","Français",null,null,null,null,"Intervention tactique"]
[null,null,"Policiers","Patrouille-gendarmerie","Patrouille-gendarmerie - Perfectionnement professionnel","Intervention tactique","C1","Français","215-105-18","ENPQ",null,null,"215-105-18","Évaluation du risque associé à une intervention planifiée","C1",20,null,null,28,null,9,null,null,17,null,null,6]
[null,null,"Policiers","Patrouille-gendarmerie","Patrouille-gendarmerie - Perfectionnement professionnel","Intervention tactique","HC1","Français","215-105-18","BLAINVILLE",null,null,"215-105-18","Évaluation du risque associé à une intervention planifiée\nHors campus - BLAINVILLE","HC1",20,null,27,17,null,null,13,5,null,14,23]
[null,null,"Policiers","Patrouille-gendarmerie","Patrouille-gendarmerie - Perfectionnement professionnel","Intervention tactique","HC1","Français","215-105-18","BLAINVILLE"]
[null,null,"Policiers","Patrouille-gendarmerie","Patrouille-gendarmerie - Perfectionnement professionnel","Intervention tactique","A1","Français","215-108-21","En Ligne",null,null,"215-108-21","Tireur actif / Sensibilisation à une intrusion armée – RCSP / CPKN\nEn ligne","A1","SO","xx août au 15 décembre",null,null,null,null,"1er janvier au xx avril",null,null,null,"xx avril au xx juillet"]
[null,null,"Policiers","Patrouille-gendarmerie","Patrouille-gendarmerie - Perfectionnement professionnel","Intervention tactique","C1","Français","215-109-21","ENPQ",null,null,"215-109-21","Techniques d'immobilisation provoquée - Utilisation sécuritaire du hérisson à pointes creuses (HPC)","C1",12,"À la demande"]
[null,null,"Policiers","Patrouille-gendarmerie","Patrouille-gendarmerie - Perfectionnement professionnel","Intervention tactique","HC1","Français","215-109-21","HC - Voir détail sous les dates",null,null,"215-109-21","Techniques d'immobilisation provoquée - Utilisation sécuritaire du hérisson à pointes creuses (HPC)","HC1",12,"À la demande"]
[null,null,"Policiers","Patrouille-gendarmerie","Patrouille-gendarmerie - Perfectionnement professionnel","Intervention tactique","C1","Français","215-110-23","ENPQ",null,null,"215-110-23","Didactique de l’intervention tactique – L’instructeur – Mise à jour","C1",12,null,"Annulé\n16 au 18","8 au 10",null,"17 au 19"]
[null,null,"Policiers","Patrouille-gendarmerie","Patrouille-gendarmerie - Perfectionnement professionnel","Intervention tactique",{"$f":"O347","v":"C1"},"Anglais","215-201-10","ENPQ",null,null,"215-201-10","Low-risk Planned Dynamic Entry","C1",12,null,null,null,null,null,null,null,"24 to 26"]
[null,null,"Policiers","Patrouille-gendarmerie","Patrouille-gendarmerie - Perfectionnement professionnel","Intervention tactique",null,"Français","215-201-10","ENPQ",null,null,"215-201-10","Entrée dynamique planifiée à risque faible","C1",12,null,"17 au 19\n6 part.","21 au 23","25 au 27",null,null,null,null,null,"14 au 16"]
[null,null,"Policiers","Patrouille-gendarmerie","Patrouille-gendarmerie - Perfectionnement professionnel","Intervention tactique",{"$f":"O348","v":"C1"},"Français","215-201-10","ENPQ",null,null,null,null,null,null,null,null,null,null,null,null,null,null,null,"19 au 21"]
[null,null,"Policiers","Patrouille-gendarmerie","Patrouille-gendarmerie - Perfectionnement professionnel","Intervention tactique","C1","Français","215-305-22","ENPQ",null,null,"215-305-22","Officiel de sécurité au plateau d’exercice en combat rapproché","C1",8,null,null,null,null,"Annulé\n10 au 12"]
[null,null,"Policiers","Patrouille-gendarmerie","Patrouille-gendarmerie - Perfectionnement professionnel","Intervention tactique",{"$f":"O351","v":"C1"},"Anglais","215-718-23","ENPQ",null,null,"215-718-23","Didactics of Tactical Intervention - Instructor","C1",12,null,null,null,null,null,null,null,null,null,null,"Annulé\n2 to 6 &\n9 to 13"]
[null,null,"Policiers","Patrouille-gendarmerie","Patrouille-gendarmerie - Perfectionnement professionnel","Intervention tactique","C1","Français","215-718-23","ENPQ",null,null,"215-718-23","Didactique de l'intervention tactique - L'instructeur","C1",12,null,null,null,null,null,null,null,null,"Annulé\n28 avril au 2 mai et\n5 au 9 mai"]
[null,null,"Policiers","Patrouille-gendarmerie","Patrouille-gendarmerie - Perfectionnement professionnel","Intervention tactique","C1","Français","215-719-23","ENPQ",null,null,"215-719-23","Didactique de l'intervention tactique - L'instructeur - Requalification","C1",12]
[null,null,"Policiers","Patrouille-gendarmerie","Patrouille-gendarmerie - Perfectionnement professionnel","Intervention tactique","HC1","Français","215-720-23","SANAIR",null,null,"215-720-23","Didactique de l'intervention tactique - Poursuite et interception - L'instructeur\nHors campus - SANAIR","HC1",12]
[null,null,"Policiers","Patrouille-gendarmerie","Patrouille-gendarmerie - Perfectionnement professionnel","Intervention tactique","C1","Français","215-721-23","ENPQ",null,null,"215-721-23","Didactique de l'intervention tactique - Poursuite et interception - L'instructeur - Requalification","C1",12]
[null,null,"Policiers","Patrouille-gendarmerie","Patrouille-gendarmerie - Perfectionnement professionnel","Intervention tactique","HC1","Français","215-721-23","SANAIR",null,null,"215-721-23","Didactique de l'intervention tactique - Poursuite et interception - L'instructeur - Requalification\nHors campus - SANAIR","HC1",12]
[null,null,"Policiers","Patrouille-gendarmerie","Patrouille-gendarmerie - Perfectionnement professionnel","Intervention tactique","-","Français","215-707-20",null,null,null,"215-707-20","Membre d'un groupe d'intervention –  L'instructeur - Requalification","-",12,"Dates à confirmer"]
[null,null,"Policiers","Patrouille-gendarmerie","Patrouille-gendarmerie - Perfectionnement professionnel","Intervention tactique","-","Français","215-709-20",null,null,null,"215-709-20","Arme à impulsions électriques - L'instructeur GI - Requalification","-",12,"Dates à confirmer"]
[null,null,"Policiers","Patrouille-gendarmerie","Patrouille-gendarmerie - Perfectionnement professionnel","Intervention tactique","-","Français","215-713-20",null,null,null,"215-713-20","Arme de périmètre – L'instructeur GI – Requalification","-",8,"Dates à confirmer"]
[null,null,"Policiers","Patrouille-gendarmerie","Patrouille-gendarmerie - Perfectionnement professionnel","Intervention tactique","-","Français","215-717-20",null,null,null,"215-717-20","Armes intermédiaires d'impact –  L'instructeur GI –  Requalification","-",8,"Dates à confirmer"]
[null,null,"Policiers","Patrouille-gendarmerie","Patrouille-gendarmerie - Perfectionnement professionnel","Utilisation des armes à feu","-","Français",null,null,null,null,"Utilisation des armes à feu"]
[null,null,"Policiers","Patrouille-gendarmerie","Patrouille-gendarmerie - Perfectionnement professionnel","Utilisation des armes à feu","C1","Français","216-001-23","ENPQ",null,null,"216-001-23","Didactique du tir au pistolet – Le maître-instructeur – Journée d’actualisation","C1",23,null,null,null,null,16]
[null,null,"Policiers","Patrouille-gendarmerie","Patrouille-gendarmerie - Perfectionnement professionnel","Utilisation des armes à feu","C1","Français","216-101-19","ENPQ",null,null,"216-101-19","Gestion du déploiement des armes intermédiaires et de la carabine - Plateforme AR – Le superviseur","C1",12,null,null,null,null,null,null,null,3]
[null,null,"Policiers","Patrouille-gendarmerie","Patrouille-gendarmerie - Perfectionnement professionnel","Utilisation des armes à feu","A1","Français","216-103-19","En Ligne",null,null,"216-103-19","Officiel de sécurité du champ de tir\nEn ligne","A1","so",null,"1er au 30","1er au 31","1er au 30","1er au 31","1er au 31","1er au 28","1er au 31","1er au 30","1er au 31","1er au 30"]
[null,null,"Policiers","Patrouille-gendarmerie","Patrouille-gendarmerie - Perfectionnement professionnel","Utilisation des armes à feu","HC1","Français","216-206-07",null,null,null,"216-206-07","Maniement du fusil de calibre 12\nHors campus \nDans les organisations","HC1",4,"À la demande"]
[null,null,"Policiers","Patrouille-gendarmerie","Patrouille-gendarmerie - Perfectionnement professionnel","Utilisation des armes à feu","HC1","Français","216-207-07",null,null,null," 216-207-07","Tir au pistolet - Requalification\nHors campus \nDans les organisations","HC1",4,"À la demande"]
[null,null,"Policiers","Patrouille-gendarmerie","Patrouille-gendarmerie - Perfectionnement professionnel","Utilisation des armes à feu",{"$f":"O367","v":"HC1"},"Anglais","216-209-18","Pointe-du-Lac (Champ de tir Les Seigneurs)",null,null,"216-209-18","Carbine – AR Platform – Block 1\nHors campus - Champ de tir Les Seigneurs (Pointe-du-Lac)","HC1",8,"On demand",null,null,null,null,null,null,null,"Annulé\n23 to 25"]
[null,null,"Policiers","Patrouille-gendarmerie","Patrouille-gendarmerie - Perfectionnement professionnel","Utilisation des armes à feu","HC1","Français","216-209-18","Pointe-du-Lac (Champ de tir Les Seigneurs)",null,null,"216-209-18","Carabine – Plateforme AR - Bloc 1\nHors campus - Champ de tir Les Seigneurs (Pointe-du-Lac)","HC1",8,"À la demande"]
[null,null,"Policiers","Patrouille-gendarmerie","Patrouille-gendarmerie - Perfectionnement professionnel","Utilisation des armes à feu","HC1","Français","216-102-18","Pointe-du-Lac (Champ de tir Les Seigneurs)",null,null,"216-102-18","Carabine - Plateforme AR - Bloc 2\nHors campus - Champ de tir Les Seigneurs (Pointe-du-Lac)","HC1",8,"À la demande"]
[null,null,"Policiers","Patrouille-gendarmerie","Patrouille-gendarmerie - Perfectionnement professionnel","Utilisation des armes à feu",{"$f":"O370","v":"HC1"},"Anglais","216-302-19","Pointe-du-Lac (Champ de tir Les Seigneurs)",null,null,"216-302-19","Carbine – AR Platform – Requalification\nHors campus - Champ de tir Les Seigneurs (Pointe-du-Lac)","HC1",8,"On demand",null,null,null,null,null,null,null,null,20]
[null,null,"Policiers","Patrouille-gendarmerie","Patrouille-gendarmerie - Perfectionnement professionnel","Utilisation des armes à feu","HC1","Français","216-302-19","Pointe-du-Lac (Champ de tir Les Seigneurs)",null,null,"216-302-19","Carabine – Plateforme AR - Requalification\nHors campus - Champ de tir Les Seigneurs (Pointe-du-Lac)","HC1",8,"À la demande",null,null,null,null,null,null,"11 \nTerrebonne\n(4 part.)"]
[null,null,"Policiers","Patrouille-gendarmerie","Patrouille-gendarmerie - Perfectionnement professionnel","Utilisation des armes à feu","HC1","Français","216-708-20","Pointe-du-Lac (Champ de tir Les Seigneurs)",null,null,"216-708-20","Carabine - Plateforme AR - L'instructeur - Mise à niveau\nHors campus - Champ de tir Les Seigneurs (Pointe-du-Lac)","HC1",8,"À la demande"]
[null,null,"Policiers","Patrouille-gendarmerie","Patrouille-gendarmerie - Perfectionnement professionnel","Utilisation des armes à feu",{"$f":"O373","v":"HC1"},"Anglais","216-609-11","Pointe-du-Lac (Champ de tir Les Seigneurs)",null,null,"216-609-11",".223 Calibre (5.56 X 45 mm) Support Weapon - The Monitor\nHors campus - Champ de tir Les Seigneurs (Pointe-du-Lac)","HC1",8,null,null,null,null,null,null,null,null,null,"Annulé\n5 to 9"]
[null,null,"Policiers","Patrouille-gendarmerie","Patrouille-gendarmerie - Perfectionnement professionnel","Utilisation des armes à feu","HC1","Français","216-609-11","Pointe-du-Lac (Champ de tir Les Seigneurs)",null,null,"216-609-11","Carabine - Plateforme AR - Le moniteur\nHors campus - Champ de tir Les Seigneurs (Pointe-du-Lac)","HC1",8,null,null,null,null,null,null,null,null,null,null,"9 au 13 "]
[null,null,"Policiers","Patrouille-gendarmerie","Patrouille-gendarmerie - Perfectionnement professionnel","Utilisation des armes à feu","HC1","Français","216-610-14","Pointe-du-Lac (Champ de tir Les Seigneurs)",null,null,"216-610-14","Carabine - Plateforme AR - Le moniteur - Requalification\nHors campus - Champ de tir Les Seigneurs (Pointe-du-Lac)","HC1",8,null,null,null,null,null,null,null,null,null,"Annulé\n23"]
[null,null,"Policiers","Patrouille-gendarmerie","Patrouille-gendarmerie - Perfectionnement professionnel","Utilisation des armes à feu",{"$f":"O376","v":"HC1"},"Anglais","216-709-20","Pointe-du-Lac (Champ de tir Les Seigneurs)",null,null,"216-709-20","Support Weapon - The Instructor\nHors campus - Champ de tir Les Seigneurs (Pointe-du-Lac)","HC1",8,null,null,null,null,null,null,null,null,"Annulé\n7 to 11"]
[null,null,"Policiers","Patrouille-gendarmerie","Patrouille-gendarmerie - Perfectionnement professionnel","Utilisation des armes à feu","HC1","Français","216-709-20","Pointe-du-Lac (Champ de tir Les Seigneurs)",null,null,"216-709-20","Carabine – Plateforme AR - L'instructeur\nHors campus - Champ de tir Les Seigneurs (Pointe-du-Lac)","HC1",8,null,null,null,"4 au 8\n4 part.",null,null,null,null,null,null,"2 au 6 juin"]
[null,null,"Policiers","Patrouille-gendarmerie","Patrouille-gendarmerie - Perfectionnement professionnel","Utilisation des armes à feu","HC1","Français","216-710-20","Pointe-du-Lac (Champ de tir Les Seigneurs)",null,null,"216-710-20","Carabine – Plateforme AR - L'instructeur - Requalification\nHors campus - Champ de tir Les Seigneurs (Pointe-du-Lac)","HC1",8,null,"Annulé\n4",null,null,null,null,null,null,"Annulé\n22"]
[null,null,"Policiers","Patrouille-gendarmerie","Patrouille-gendarmerie - Perfectionnement professionnel","Utilisation des armes à feu","HC1","Français","216-710-20","Pointe-du-Lac (Champ de tir Les Seigneurs)"]
[null,null,"Policiers","Patrouille-gendarmerie","Patrouille-gendarmerie - Perfectionnement professionnel","Utilisation des armes à feu","HC1","Français","216-706-20","Pointe-du-Lac (Champ de tir Les Seigneurs)",null,null,"216-706-20","Maniement du fusil de calibre 12 –  L'instructeur – Requalification \nHors campus - Champ de tir Les Seigneurs (Pointe-du-Lac)","HC1",8,"À la demande"]
[null,null,"Policiers","Patrouille-gendarmerie","Patrouille-gendarmerie - Perfectionnement professionnel","Utilisation des armes à feu",{"$f":"O381","v":"C1"},"Français","216-304-22","ENPQ",null,null,"216-304-22","Tir au pistolet - Mise à niveau et requalification ","C1",4,"À la demande"]
[null,null,"Policiers","Patrouille-gendarmerie","Patrouille-gendarmerie - Perfectionnement professionnel","Utilisation des armes à feu",{"$f":"O381","v":"C1"},"Français","216-305-22","ENPQ",null,null,"216-305-22","Tir au pistolet - Requalification adaptée","C1",8,null,null,null,null,null,"Annulé\n6",null,"Annulé\n7","Annulé\n16","Annulé\n16","Annulé\n27"]
[null,null,"Policiers","Patrouille-gendarmerie","Patrouille-gendarmerie - Perfectionnement professionnel","Utilisation des armes à feu",{"$f":"O382","v":"C1"},"Français","216-305-22","ENPQ",null,null,null,null,null,null,null,null,null,null,null,null,null,"Reporté\n14",null,"Annulé\n26"]
[null,null,"Policiers","Patrouille-gendarmerie","Patrouille-gendarmerie - Perfectionnement professionnel","Utilisation des armes à feu",{"$f":"O382","v":"C1"},"Français","216-305-22","ENPQ",null,null,null,null,null,null,null,null,null,null,null,null,null,"Reporté\n17"]
[null,null,"Policiers","Patrouille-gendarmerie","Patrouille-gendarmerie - Perfectionnement professionnel","Utilisation des armes à feu","C1","Français","216-711-23","ENPQ",null,null,"216-711-23","Didactique du tir au pistolet – L'instructeur","C1",8,null,null,"7 au 11 et\n14 au 18",null,null,null,"3 au 7 et\n10 au 14"]
[null,null,"Policiers","Patrouille-gendarmerie","Patrouille-gendarmerie - Perfectionnement professionnel","Utilisation des armes à feu",{"$f":"O386","v":"HC1"},"Français","216-711-23","Pointe-du-Lac (Champ de tir Les Seigneurs)",null,null,"216-711-23","Didactique du tir au pistolet – L'instructeur\nHors campus - Champ de tir Les Seigneurs (Pointe-du-Lac)","HC1",8]
[null,null,"Policiers","Patrouille-gendarmerie","Patrouille-gendarmerie - Perfectionnement professionnel","Utilisation des armes à feu",{"$f":"O387","v":"HC1"},"Anglais","216-711-23","Pointe-du-Lac (Champ de tir Les Seigneurs)",null,null,"216-711-23","Didactics of Pistol Shooting - The instructor\nHors campus - Champ de tir Les Seigneurs (Pointe-du-Lac)","HC1",8,null,null,null,null,null,null,null,null,null,null,"30 juin au 4 juillet et \n7 jau 11 juillet"]
[null,null,"Policiers","Patrouille-gendarmerie","Patrouille-gendarmerie - Perfectionnement professionnel","Utilisation des armes à feu","C1","Français","216-712-23","ENPQ",null,null,"216-712-23","Didactique du tir au pistolet – L'instructeur –  Requalification","C1",8,null,null,"3 au 4","4 au 5\n4 part.","19 au 20","27 au 28",null,null,"Annulé\n17 au 18","12 au 13"]
[null,null,"Policiers","Patrouille-gendarmerie","Patrouille-gendarmerie - Perfectionnement professionnel","Utilisation des armes à feu",{"$f":"O388","v":"C1"},"Français","216-210-23","Pointe-du-Lac (Champ de tir Les Seigneurs)",null,null,"216-210-23","Armes intermédiaires d'impact à projectiles – Bloc 1\nHors campus - Champ de tir Les Seigneurs (Pointe-du-Lac)","HC1",8,"À la demande",null,null,null,null,null,null,null,null,21]
[null,null,"Policiers","Patrouille-gendarmerie","Patrouille-gendarmerie - Perfectionnement professionnel","Utilisation des armes à feu",{"$f":"O389","v":"HC1"},"Français","216-210-23","Pointe-du-Lac (Champ de tir Les Seigneurs)",null,null,null,null,null,null,null,5]
[null,null,"Policiers","Patrouille-gendarmerie","Patrouille-gendarmerie - Perfectionnement professionnel","Utilisation des armes à feu","HC2","Français","216-210-23","Pointe-du-Lac (Champ de tir Les Seigneurs)",null,null,"216-210-23","Armes intermédiaires d'impact à projectiles – Bloc 1\nHors campus - Champ de tir Les Seigneurs (Pointe-du-Lac)","HC2",8,"À la demande"]
[null,null,"Policiers","Patrouille-gendarmerie","Patrouille-gendarmerie - Perfectionnement professionnel","Utilisation des armes à feu",{"$f":"O392","v":"HC1"},"Français","216-211-23","Pointe-du-Lac (Champ de tir Les Seigneurs)",null,null,"216-211-23","Armes intermédiaires d’impact à projectiles – Bloc 2 – Gendarmerie\nHors campus - Champ de tir Les Seigneurs (Pointe-du-Lac)","HC1",8,"À la demande",null,null,null,null,null,null,null,null,22]
[null,null,"Policiers","Patrouille-gendarmerie","Patrouille-gendarmerie - Perfectionnement professionnel","Utilisation des armes à feu",{"$f":"O392","v":"HC1"},"Français","216-211-23","Pointe-du-Lac (Champ de tir Les Seigneurs)",null,null,null,null,null,null,null,6]
[null,null,"Policiers","Patrouille-gendarmerie","Patrouille-gendarmerie - Perfectionnement professionnel","Utilisation des armes à feu","HC2","Français","216-211-23","Pointe-du-Lac (Champ de tir Les Seigneurs)",null,null,"216-211-23","Armes intermédiaires d’impact à projectiles – Bloc 2 – Gendarmerie\nHors campus - Champ de tir Les Seigneurs (Pointe-du-Lac)","HC2",8,"À la demande"]
[null,null,"Policiers","Patrouille-gendarmerie","Patrouille-gendarmerie - Perfectionnement professionnel","Utilisation des armes à feu","HC1","Français","216-713-24","Pointe-du-Lac (Champ de tir Les Seigneurs)",null,null,"216-713-24","Armes intermédiaires d'impact - L'instructeur \nHors campus - Champ de tir Les Seigneurs (Pointe-du-Lac)","HC1",8,null,null,"28 octobre au 1er novembre",null,null,null,null,null,null,"26 au 30"]
[null,null,"Clientèle sur mesure","Sécurité publique","Sécurité publique - Perfectionnement professionnel",null,"-","Français",null,null,null,null,null,null,null,null,null,null,null,null,null,"FORMATIONS EN SÉCURITÉ PUBLIQUE"]
[null,null,"Clientèle sur mesure","Sécurité publique","Sécurité publique - Perfectionnement professionnel","Activités du patrouilleur - autres","-","Français",null,null,null,null,"n Activités du patrouilleur"]
[null,null,"Clientèle sur mesure","Sécurité publique","Sécurité publique - Perfectionnement professionnel","Activités du patrouilleur - autres","A1","Français","803-103-18","En Ligne",null,null,"803-103-18","Intervention en cas de surdose d'opioïdes\nEn ligne","A1","so",null,null,null,null,null,null,null,"4 mars au 25 avril"]
[null,null,"Clientèle sur mesure","Sécurité publique","Sécurité publique - Formation initiale",null,"-","Français",null,null,null,null,"n Formations initiales"]
[null,null,"Clientèle sur mesure","Sécurité publique","Sécurité publique - Formation initiale",null,"C1","Français","PFICS-2306-760","ENPQ",null,null,"PFICS-2306-760","PFICS (DSPJ) - 18e cohorte","C1",36,"19 juin au 3 octobre"]
[null,null,"Clientèle sur mesure","Sécurité publique","Sécurité publique - Formation initiale",null,{"$f":"O401","v":"C1"},"Français","PFICS-2306-760","ENPQ",null,null,"PFICS-2306-760","PFICS (DSPJ) - 19e cohorte","C1",36,null,null,"9 octobre au 18 décembre"]
[null,null,"Clientèle sur mesure","Sécurité publique","Sécurité publique - Formation initiale",null,{"$f":"O402","v":"C1"},"Français","PFICS-2306-760","ENPQ",null,null,"PFICS-2306-760","PFICS (DSPJ) - 20e cohorte","C1",36,null,null,null,null,null,null,"5 février au 17 avril"]
[null,null,"Clientèle sur mesure","Sécurité publique","Sécurité publique - Formation initiale",null,{"$f":"O403","v":"C1"},"Français","PFICS-2306-760","ENPQ",null,null,"PFICS-2306-760","PFICS (DSPJ) - 21e cohorte","C1",36,null,null,null,null,null,null,null,null,"30 avril au 17 juillet"]
[null,null,"Clientèle sur mesure","Sécurité publique","Sécurité publique - Formation initiale",null,"MS1","Français","PFICR-2311-750",null,null,null,"PFICR-2311-750","CRQ - 25e cohorte","MS1",18,null,"3 septembre au 5 février"]
[null,null,"Clientèle sur mesure","Sécurité publique","Sécurité publique - Formation initiale",null,{"$f":"O405","v":"MS1"},"Français","PFICR-2311-750",null,null,null,"PFICR-2311-750","CRQ - 26e cohorte","MS1",18,null,"11 septembre au 13 février"]
[null,null,"Clientèle sur mesure","Sécurité publique","Sécurité publique - Formation initiale",null,"MS1","Français","PFSTM-2302-761",null,null,null,"PFSTM-2302-761","STM - 4e cohorte","MS1",24,null,"13 septembre au 19 décembre"]
[null,null,"Clientèle sur mesure","Sécurité publique","Sécurité publique - Formation initiale",null,{"$f":"O407","v":"MS1"},"Français","PFSTM-2302-761",null,null,null,"PFSTM-2302-761","STM - 5e cohorte","MS1",12,null,null,null,null,null,null,null,"17 mars au 20 juin"]
[null,null,"Clientèle sur mesure","Sécurité Civile","Sécurité civile et privée - Perfectionnement professionnel","Psychologie",{"$f":"O408","v":"H1-[MX-MS]"},"Français","PPSY",null,null,null,"PPSY 02","Programme de formation pour psychologues oeuvrant auprès des policiers","H1-[MX-MS]",14,"Entre le 17 janv et le 4 sept 2024 (Volet 3 - Stage d'observation - COBRA)",null,null,null,null,"Max 16 janv\nVolet 5"]
[null,null,"Clientèle sur mesure","Sécurité Civile","Sécurité civile et privée - Perfectionnement professionnel","Psychologie",{"$f":"O408","v":"H1-[MX-MS]"},"Français","PPSY",null,null,null,null,null,null,null,"durée totale\n15 déc 2023 - \n16 janv 2025","5\nVolet 4 \n[en ligne - S]"]
[null,null,"Clientèle sur mesure","Sécurité Civile","Sécurité civile et privée - Perfectionnement professionnel","Psychologie",{"$f":"O410","v":"H1-[MX-MS]"},"Français","PPSY",null,null,null,"PPSY 03","Programme de formation pour psychologues oeuvrant auprès des policiers","H1-[MX-MS]",14,"Entre le 21 fév et le 15 oct 2024 \n(Volet 3 - Stage d'observation - COBRA)",null,null,null,null,null,"Max 20 fév\nVolet 5"]
[null,null,"Clientèle sur mesure","Sécurité Civile","Sécurité civile et privée - Perfectionnement professionnel","Psychologie",{"$f":"O410","v":"H1-[MX-MS]"},"Français","PPSY",null,null,null,null,null,null,null,"durée totale :\n15 janv 2024 - 20 fév 2025",null,"16\nVolet 4\n[en ligne - S]"]
[null,null,"Clientèle sur mesure","Sécurité Civile","Sécurité civile et privée - Perfectionnement professionnel","Psychologie",{"$f":"O412","v":"H1-[MX-MS]"},"Français","PPSY",null,null,null,"PPSY 04","Programme de formation pour psychologues oeuvrant auprès des policiers","H1-[MX-MS]",14,"durée totale : 15 fév 2024 - 13 mars 2025","Entre le 14 mars et le 12 nov 2024 \n(Volet 3 - Stage d'observation - COBRA)",null,null,null,null,null,"Max 13 mars\nVolet 5"]
[null,null,"Clientèle sur mesure","Sécurité Civile","Sécurité civile et privée - Perfectionnement professionnel","Psychologie",{"$f":"O412","v":"H1-[MX-MS]"},"Français","PPSY",null,null,null,null,null,null,null,null,null,null,"13\nVolet 4\n[en ligne - S]"]
[null,null,"Clientèle sur mesure","Sécurité Civile","Sécurité civile et privée - Perfectionnement professionnel","Psychologie",{"$f":"O414","v":"H1-[MX-MS]"},"Français","PPSY",null,null,null,"PPSY 05","Programme de formation pour psychologues oeuvrant auprès des policiers","H1-[MX-MS]",14,"Entre le 11 avril et le 9 déc 2024\n(Volet 3 - Stage d'observation - COBRA)",null,null,null,null,null,null,null,"Max 10 avril\nVolet 5"]
[null,null,"Clientèle sur mesure","Sécurité Civile","Sécurité civile et privée - Perfectionnement professionnel","Psychologie",{"$f":"O414","v":"H1-[MX-MS]"},"Français","PPSY",null,null,null,null,null,null,null,"durée totale : 15 mars 2024 - 10 avril 2025",null,null,null,"10\nVolet 4\n[en ligne - S]"]
[null,null,"Clientèle sur mesure","Sécurité Civile","Sécurité civile et privée - Perfectionnement professionnel","Psychologie","H1-[MX-MS]","Français","PPSY",null,null,null,"PPSY 06","Programme de formation pour psychologues oeuvrant auprès des policiers","H1-[MX-MS]",14,"Entre le 10 mai 2024 et le 9 janv 2025\n(Volet 3 - Stage d'observation - COBRA)",null,null,null,null,null,null,null,null,"Max 9 mai\nVolet 5"]
[null,null,"Clientèle sur mesure","Sécurité Civile","Sécurité civile et privée - Perfectionnement professionnel","Psychologie",{"$f":"O416","v":"H1-[MX-MS]"},"Français","PPSY",null,null,null,null,null,null,null,"durée totale : \n15 avril 2024 - 9 mai 2025",null,null,null,null,"10\nVolet 4\n[en ligne - S]"]
[null,null,"Clientèle sur mesure","Sécurité Civile","Sécurité civile et privée - Perfectionnement professionnel","Psychologie",{"$f":"O418","v":"H1-[MX-MS]"},"Français","PPSY","ENPQ",null,null,"PPSY 07","Programme de formation pour psychologues oeuvrant auprès des policiers","H1-[MX-MS]",14,"durée totale : \n15 août 2024 - 11 sept 2025","Entre le 12 sept et 2024 le 10 mars 2025\n(Volet 3 - Stage d'observation - COBRA)"]
[null,null,"Clientèle sur mesure","Sécurité Civile","Sécurité civile et privée - Perfectionnement professionnel","Psychologie",{"$f":"O418","v":"H1-[MX-MS]"},"Français","PPSY","ENPQ",null,null,null,null,null,null,"Act. Prép. En ligne (3 h)\nVolet 1","11\nVolet 2\n[ENPQ]",null,null,null,null,null,"11\nVolet 4\n[en ligne - S]"]
[null,null,"Clientèle sur mesure","Sécurité Civile","Sécurité civile et privée - Perfectionnement professionnel","Psychologie","H1-[MX-MS]","Français","PPSY","SPVG - HULL",null,null,"PPSY 08","Programme de formation pour psychologues oeuvrant auprès des policiers","H1-[MX-MS]",14,"durée totale : \n15 sept 2024 - 9 oct 2025",null,"Entre le 10 nov 2024 et le 8 avril 2025\n(Volet 3 - Stage d'observation - COBRA)"]
[null,null,"Clientèle sur mesure","Sécurité Civile","Sécurité civile et privée - Perfectionnement professionnel","Psychologie",{"$f":"O420","v":"H1-[MX-MS]"},"Français","PPSY","SPVG - HULL",null,null,null,null,null,null,null,"Act. Prép. En ligne (3 h)\nVolet 1","09\nVolet 2\n[SPVG-Hull]",null,null,null,null,null,"09\nVolet 4\n[en ligne - S]"]
[null,null,"Clientèle sur mesure","Sécurité Civile","Sécurité civile et privée - Perfectionnement professionnel","Psychologie","H1-[MX-MS]","Français","PPSY","UQTR - QUÉBEC",null,null,"PPSY 09","Programme de formation pour psychologues oeuvrant auprès des policiers","H1-[MX-MS]",14,"durée totale : \n15 sept 2024 - 22 oct 2025",null,"Entre le 23 oct 2024 et le 21 avril 2025\n(Volet 3 - Stage d'observation - COBRA)"]
[null,null,"Clientèle sur mesure","Sécurité Civile","Sécurité civile et privée - Perfectionnement professionnel","Psychologie",{"$f":"O422","v":"H1-[MX-MS]"},"Français","PPSY","UQTR - QUÉBEC",null,null,null,null,null,null,null,"Act. Prép. En ligne (3 h)\nVolet 1","22\nVolet 2\n[UQTR-Qc]",null,null,null,null,null,"22\nVolet 4\n[en ligne - S]"]
[null,null,"Clientèle sur mesure","Sécurité Civile","Sécurité civile et privée - Perfectionnement professionnel","Psychologie","H1-[MX-MS]","Français","PPSY","BLAINVILLE",null,null,"PPSY 10","Programme de formation pour psychologues oeuvrant auprès des policiers","H1-[MX-MS]",14,"durée totale : \n15 oct 2024 - 21 nov 2025",null,null,"Entre le 22 nov et le 20 mai 2025\n(Volet 3 - Stage d'observation - COBRA)"]
[null,null,"Clientèle sur mesure","Sécurité Civile","Sécurité civile et privée - Perfectionnement professionnel","Psychologie",{"$f":"O424","v":"H1-[MX-MS]"},"Français","PPSY","BLAINVILLE",null,null,null,null,null,null,null,null,"Act. Prép. En ligne (3 h)\nVolet 1","21\nVolet 2\n[Blainville]",null,null,null,null,null,"21\nVolet 4\n[en ligne - S]"]
[null,null,"Clientèle sur mesure","Sécurité Civile","Sécurité civile et privée - Perfectionnement professionnel","Psychologie","H1-[MX-MS]","Français","PPSY","ENPQ",null,null,"PPSY 11","Programme de formation pour psychologues oeuvrant auprès des policiers","H1-[MX-MS]",14,"durée totale : \n15 nov 2024 - 12 déc 2025",null,null,null,"Entre le 13 déc 2024 et le 11 juin 2025\n(Volet 3 - Stage d'observation - COBRA)"]
[null,null,"Clientèle sur mesure","Sécurité Civile","Sécurité civile et privée - Perfectionnement professionnel","Psychologie",{"$f":"O426","v":"H1-[MX-MS]"},"Français","PPSY","ENPQ",null,null,null,null,null,null,null,null,null,"Act. Prép. En ligne (3 h)\nVolet 1","12\nVolet 2\n[ENPQ]",null,null,null,null,null,"12\nVolet 4\n[en ligne - S]"]
[null,null,"Clientèle sur mesure","Sécurité Civile","Sécurité civile et privée - Perfectionnement professionnel","Psychologie","H1-[MX-MS]","Français","PPSY","UQTR - QUÉBEC",null,null,"PPSY 12","Programme de formation pour psychologues oeuvrant auprès des policiers","H1-[MX-MS]",14,"durée totale : \n15 déc 2024 - 15 janv 2026",null,null,null,null,"Entre le 16 janv et le 8 sept 2025\n(Volet 3 - Stage d'observation - COBRA)"]
[null,null,"Clientèle sur mesure","Sécurité Civile","Sécurité civile et privée - Perfectionnement professionnel","Psychologie",{"$f":"O428","v":"H1-[MX-MS]"},"Français","PPSY","UQTR - QUÉBEC",null,null,null,null,null,null,null,null,null,null,"Act. Prép. En ligne (3 h)\nVolet 1","15\nVolet 2\n[UQTR-Qc]"]
[null,null,"Clientèle sur mesure","Sécurité Civile","Sécurité civile et privée - Perfectionnement professionnel","Psychologie","H1-[MX-MS]","Français","PPSY","BLAINVILLE",null,null,"PPSY 13","Programme de formation pour psychologues oeuvrant auprès des policiers","H1-[MX-MS]",14,"15 janv 2025 - 11 fév 2026",null,null,null,null,null,"Entre le 12 fév et le 8 oct 2025\n(Volet 3 - Stage d'observation - COBRA)"]
[null,null,"Clientèle sur mesure","Sécurité Civile","Sécurité civile et privée - Perfectionnement professionnel","Psychologie",{"$f":"O430","v":"H1-[MX-MS]"},"Français","PPSY","BLAINVILLE",null,null,null,null,null,null,null,null,null,null,null,"Act. Prép. En ligne (3 h)\nVolet 1","11\nVolet 2\n[Blainville]"]
[null,null,"Clientèle sur mesure","Sécurité Civile","Sécurité civile et privée - Perfectionnement professionnel","Psychologie","H1-[MX-MS]","Français","PPSY","ENPQ",null,null,"PPSY 14","Programme de formation pour psychologues oeuvrant auprès des policiers","H1-[MX-MS]",14,"15 fév 2025 - 13 mars 2026",null,null,null,null,null,null,"Entre le 14 mars et le 11 nov 2025\n(Volet 3 - Stage d'observation - COBRA)"]
[null,null,"Clientèle sur mesure","Sécurité Civile","Sécurité civile et privée - Perfectionnement professionnel","Psychologie",{"$f":"O432","v":"H1-[MX-MS]"},"Français","PPSY","ENPQ",null,null,null,null,null,null,null,null,null,null,null,null,"Act. Prép. En ligne (3 h)\nVolet 1","13\nVolet 2\n[ENPQ]"]
[null,null,"Clientèle sur mesure","Sécurité publique","Sécurité publique - Perfectionnement professionnel","Enquête","-","Français",null,null,null,null,"n ENQUÊTE, INSPECTION ET RENSEIGNEMENT"]
[null,null,"Clientèle sur mesure","Sécurité publique","Sécurité publique - Perfectionnement professionnel","Enquête","C1","Français","À VENIR","ENPQ",null,null,"À VENIR","Inspection (CCQ)","C1",10]
[null,null,"Clientèle sur mesure","Sécurité civile","Sécurité civile et privée - Perfectionnement professionnel","Enquête - Autres","C1","Français","041-101-16","ENPQ",null,null,"041-101-16","Éléments d'enquête pour les intervenants en sécurité incendie","C1",12]
[null,null,"Sécurité publique","Pefectionnement professionnement","Sécurité publique - Perfectionnement professionnel","Pouvoirs et devoirs",{"$f":"O437","v":"HC1"},"Français","826-110-19","HC - Voir détail sous les dates",null,null,"826-110-19","Actualisation des connaissance juridiques des gardes du corps-chauffeurs","HC1",null,null,null,null,null,null,null,null,null,"16\nQuébec"]
[null,null,"Sécurité publique","Pefectionnement professionnement","Sécurité publique - Perfectionnement professionnel","Pouvoirs et devoirs","HC1","Français","826-105-24","BLAINVILLE",null,null,"826-105-24","Pouvoirs et devoirs des constables spéciaux du MESS en matière d'arrestation\n\nDans les locaux du client & à BLAINVILLE","HC1",8,null,null,"15 au 16 CLIENT\n& 18 BLAINVILLE\n(6 participants)"]
[null,null,"Clientèle sur mesure","Sécurité publique","Sécurité publique - Perfectionnement professionnel","Pouvoirs et devoirs","HC1","Français","826-111-19","HC - Voir détail sous les dates",null,null,"826-111-19","Pouvoirs et devoirs du constable spécial (Hydro Québec)","HC1",8,null,null,null,null,null,null,null,null,30,6]
[null,null,"Clientèle sur mesure","Sécurité publique","Sécurité publique - Perfectionnement professionnel","Pouvoirs et devoirs",{"$f":"O439","v":"HC1"},"Français","826-111-19","HC - Voir détail sous les dates",null,null,null,null,null,null,null,null,null,null,null,null,null,null,null,22]
[null,null,"Clientèle sur mesure","Sécurité publique","Sécurité publique - Perfectionnement professionnel","Pouvoirs et devoirs","-","Français","826-112-21",null,null,null,"826-112-21","Aspects légaux – Constables spéciaux STM","-",22]
[null,null,"Clientèle sur mesure","Sécurité publique","Sécurité publique - Perfectionnement professionnel","Pouvoirs et devoirs",{"$f":"O442","v":"HC1"},"Français","826-113-24","HC - Voir détail sous les dates",null,null,"826-113-24","Droit pénal général et pouvoirs des agents de la sécurité publique","HC1",12,"29\nCôte Saint-Luc"]
[null,null,"Clientèle sur mesure","Sécurité publique","Sécurité publique - Perfectionnement professionnel","Enquête ","MS1","Français","836-126-18","ENPQ",null,null,"836-126-18","Techniques d’entrevue de suspect (RQ)","MS1",12,null,null,null,null,null,null,"Annulé\n18 au 19 (12hi) HC et\n20 au 21 (ENPQ)"]
[null,null,"Clientèle sur mesure","Sécurité publique","Sécurité publique - Perfectionnement professionnel","Enquête ","MS1","Français","836-127-19","ENPQ",null,null,"836-127-19","Techniques d’enquête (RBQ)","MS1",12,null,null,"21 au 24 octobre (HC),\n28 au 31 octobre (ENPQ),\n4 au 5 novembre (HC)\n6 au 7 novembre (ENPQ) et\n11 au 13 novembre (HC)\n13 au 14 février (HC)",null,null,null,null,null,"Annulé\n22 au 25 avril (HC),\n29 avril au 2 mai (ENPQ),\n6 au 7 mai (HC)\n8 au 9 mai (ENPQ) et\n12 au 14 mai (HC)"]
[null,null,"Clientèle sur mesure","Sécurité publique","Sécurité publique - Perfectionnement professionnel","Enquête ","-","Français","836-129-16",null,null,null,"836-129-16","Techniques d'entrevue et communication efficace (CCQ)","-",8]
[null,null,null,null,null,null,"HC1","Français","836-131-24","CLIENT",null,null,"836-131-24","Interprétation d'une déclaration de type KGB - MESS\n\nDans les locaux du client","HC1",8,null,null,"Annulé\n21\n CLIENT",null,"11\nMontréal\n9 part."]
[null,null,"Clientèle sur mesure","Sécurité publique","Sécurité publique - Perfectionnement professionnel","Enquête ","C1","Français","836-137-18",null,null,null,"836-137-18","Tech entrevue suspect et témoignage à la cour (AMF)","C1",12]
[null,null,"Clientèle sur mesure","Sécurité publique","Sécurité publique - Perfectionnement professionnel","Enquête ","-","Français","836-141-19",null,null,null,"836-141-19","Planifier et exécuter une perquisition (Santé Canada)","-",12]
[null,null,"Clientèle sur mesure","Sécurité publique","Sécurité publique - Perfectionnement professionnel","Enquête ","-","Français","836-143-20",null,null,null,"836-143-20","Techniques d’entrevue de témoin et prise de déclaration (CCQ)","-",8]
[null,null,"Clientèle sur mesure","Sécurité publique","Sécurité publique - Perfectionnement professionnel","Enquête ","MS1","Français","836-146-20",null,null,null,"836-146-20","Processus d’enquête (ARC)","MS1",12]
[null,null,"Clientèle sur mesure","Sécurité publique","Sécurité publique - Perfectionnement professionnel","Enquête ","-","Français","836-147-21",null,null,null,"836-147-21","Techniques d’entrevue de témoins (ARC)","-",8]
[null,null,"Clientèle sur mesure","Sécurité publique","Sécurité publique - Perfectionnement professionnel","Enquête ","-","Français","836-148-22",null,null,null,"836-148-22","Techniques d’entrevue de suspect (ARC)","-",12]
[null,null,"Clientèle sur mesure","Sécurité publique","Sécurité publique - Perfectionnement professionnel","Enquête de crimes majeurs","MS1","Français","837-101-24","ENPQ",null,null,"837-101-24","Enquête criminelle (MESS)","MS1",8,null,"Reporté\n24 au 26 septembre (HC),\n3 au 4 octobre (ENPQ),\n9 au 10 octobre (HC) et\n17 au 18 octobre (ENPQ)",null,null,null,"14 au 16 janvier (HC),\n20 au 21 janvier (ENPQ),\n27 au 28 (HC) et\n3 au 4 février (ENPQ)"]
[null,null,"Clientèle sur mesure","Sécurité publique","Sécurité publique - Perfectionnement professionnel","Renseignement","-","Français","839-301-16",null,null,null,"839-301-16","Gestion des informateurs – Volet pratique","-",16]
[null,null,"Clientèle sur mesure","Sécurité publique","Sécurité publique - Perfectionnement professionnel","Renseignement","-","Français","839-302-17",null,null,null,"839-302-17","Agent de renseignement criminel (RQ)","-",12]
[null,null,"Clientèle sur mesure","Sécurité publique","Sécurité publique - Perfectionnement professionnel","Renseignement","-","Français","839-303-19",null,null,null,"839-303-19","Agent de renseignement criminel (RBQ et CCQ)","-",12,null,null,null,null,null,null,null,null,null,null,"Annulé\n10 au 12 (HC) et\n16 au 20 (ENPQ)"]
[null,null,"Clientèle sur mesure","Sécurité publique","Sécurité publique - Perfectionnement professionnel","Enquête sur les activités économiques","MS1","Français","840-102-14","ENPQ",null,null,"840-102-14","Processus d’enquête (RQ)","MS1",12,null,null,null,"26 au 28 novembre (HC)\n2 au 4 décembre (ENPQ) et\n10 au 12 décembre (ENPQ)"]
[null,null,"Clientèle sur mesure","Sécurité publique","Sécurité publique - Perfectionnement professionnel","Enquête sur les activités économiques","MS1","Français","840-107-18",null,null,null,"840-107-18","Processus d'enquête (AMF)","MS1",12]
[null,null,"Clientèle sur mesure","Sécurité publique","Sécurité publique - Perfectionnement professionnel","Enquête sur les activités économiques","C1","Français","840-108-19",null,null,null,"840-108-19","Inspection (RQ) ","C1",12,null,null,null,null,null,null,null,null,"30 avril au 2 mai"]
[null,null,"Clientèle sur mesure","Sécurité publique","Sécurité publique - Perfectionnement professionnel","Gestionnaires de 1er niveau","-","Français","À VENIR",null,null,null,"À VENIR","Technique d'entrevue de suspect (CCQ)","-",12]
[null,null,"Clientèle sur mesure","Sécurité publique","Sécurité publique - Perfectionnement professionnel","Gestionnaires de 1er niveau","-","Français",null,null,null,null,"n GESTION"]
[null,null,"Clientèle sur mesure","Sécurité publique","Sécurité publique - Perfectionnement professionnel","Gestionnaires de 1er niveau","-","Français","PPU-010-38",null,null,null,"PPU-010-38","Habiletés de supervision en sécurité publique","-",16]
[null,null,"Clientèle sur mesure","Sécurité publique","Sécurité publique - Perfectionnement professionnel","Gestionnaires de 1er niveau","-","Français","PPU-010-47 ",null,null,null,"PPU-010-47 ","Activité d’immersion à la fonction de cadre de 1er niveau","-",16]
[null,null,"Clientèle sur mesure","Sécurité publique","Sécurité publique - Perfectionnement professionnel","Gestionnaires de 1er niveau","-","Français","PPU-010-49",null,null,null,"PPU-010-49","Habiletés de supervision opérationnelle et administrative","-",16]
[null,null,"Clientèle sur mesure","Sécurité publique","Sécurité publique - Formation initiale","Formation des gestionnaires de premier niveau SC","-","Français","758-103-16",null,null,null,"758-103-16","Gestion d’une équipe de travail et prise décision (MSP)","-",16]
[null,null,"Clientèle sur mesure","Sécurité publique","Sécurité publique - Formation initiale","Formation des gestionnaires de premier niveau SC","-","Français","758-104-17",null,null,null,"758-104-17","Gestion au quotidien – Volet coaching et supervision (MSP)","-",16]
[null,null,"Clientèle sur mesure","Gestion","Sécurité publique - Perfectionnement professionnel","Psychologie","HC1","Français","828-002-18","HC - Voir détail sous les dates",null,null,"828-002-18","Séance d'information - La prévention des impacts psychologiques inhérents au métier des intervenants en situation d'urgence","HC1",null,null,null,null,null,null,null,null,null,null,"\n20\nSte Catherine-de-la-Jacques-Cartier"]
[null,null,"Clientèle sur mesure","Gestion","Sécurité publique - Perfectionnement professionnel","Psychologie","HC1","Français","828-103-15","HC - Voir détail sous les dates",null,null,"828-103-15","Prévention des impacts psychologiques\n(SUPERVISEUR)","HC1",14,null,"3 au 4\nLévis \n(10 part.)",null,null,null,null,"4 au 5\nQuébec \n(10 part.)","13 au 14\nQuébec ","1 au 2\nQuébec "]
[null,null,"Clientèle sur mesure","Gestion","Sécurité publique - Perfectionnement professionnel","Psychologie","HC1","Français","828-103-15","HC - Voir détail sous les dates",null,null,null,null,null,null,null,"10 au 11\nLévis\n(10 part.)",null,null,null,null,"6 au 7\nQuébec \n(10 part.)","19 au 20\nTrois-Rivières ","2 au 3\nTrois-Rivières"]
[null,null,"Clientèle sur mesure","Gestion","Sécurité publique - Perfectionnement professionnel","Psychologie",{"$f":"O468","v":"HC1"},"Français","828-103-15","HC - Voir détail sous les dates",null,null,null,null,null,null,null,"24 au 25 sept\nQG  SQ Mascouche",null,null,null,null,null,null,"7 au 8\nDrummondville"]
[null,null,"Clientèle sur mesure","Gestion","Sécurité publique - Perfectionnement professionnel","Psychologie",{"$f":"O471","v":"CM1"},"Français","828-103-15","ENPQ - Campus de Montréal",null,null,"828-103-15","Prévention des impacts psychologiques\n(SUPERVISEUR)\n\nCampus de Montréal","CM1",14]
[null,null,"Clientèle sur mesure","Gestion","Sécurité publique - Perfectionnement professionnel","Psychologie",{"$f":"O472","v":"C1"},"Français","828-103-15","ENPQ",null,null,"828-103-15","Prévention des impacts psychologiques\n(SUPERVISEUR)","C1",14]
[null,null,"Clientèle sur mesure","Sécurité publique","Sécurité publique - Perfectionnement professionnel",null,"-","Français",null,null,null,null,"n PERFECTIONNEMENT"]
[null,null,"Clientèle sur mesure","Sécurité publique","Sécurité publique - Perfectionnement professionnel",null,"-","Français",null,null,null,null,"COMMUNICATION ET INTERVENTION PHYSIQUE"]
[null,null,"Clientèle sur mesure","Sécurité publique","Sécurité publique - Perfectionnement professionnel","Intervention physique","-","Français","814-108-16",null,null,null,"814-108-16","Interventions verbales et physiques (Loto Québec)","-",10,null,"9 au 10\nLac Leamy",null,null,null,"Annulé\n28 au 29\nLac Leamy",null,"21 au 22\nMontréal"]
[null,null,"Clientèle sur mesure","Sécurité publique","Sécurité publique - Perfectionnement professionnel","Intervention physique","HC1","Français","814-110-18",null,null,null,"814-110-18","Interventions physiques 2 (Société des casinos du Québec)","HC1",10,null,"24\nMontréal"]
[null,null,"Clientèle sur mesure","Sécurité publique","Sécurité publique - Perfectionnement professionnel","Intervention physique","HC1","Français","814-112-21",null,null,null,"814-112-21","Révision des techniques d'intervention verbale et physique - Société des casinos du Québec","HC1",10,null,"23 AM\nMontréal"]
[null,null,"Clientèle sur mesure","Sécurité publique","Sécurité publique - Perfectionnement professionnel","Intervention physique",null,"Français","814-112-21",null,null,null,null,null,null,null,null,"23 PM\nMontréal"]
[null,null,"Clientèle sur mesure","Sécurité publique","Sécurité publique - Perfectionnement professionnel","Communication tactique","-","Français","817-101-11",null,null,null,"817-101-11","Gestion de situations menaçantes (ACIA)","-",20,null,null,null,null,"3 au 5","28 au 30",null,"\n10 au 11\nSt-Hyacinthe"]
[null,null,"Clientèle sur mesure","Sécurité publique","Sécurité publique - Perfectionnement professionnel","Communication tactique",{"$f":"O480","v":"HC1"},"Français","817-002-23",null,null,null,"817-002-23","Communication – Notions théoriques","HC1",null,null,"17\nVille Mont-Royal","9\nTrois-Rivières","6\nMontréal",null,null,"5\nMontréal"]
[null,null,"Clientèle sur mesure","Sécurité publique","Sécurité publique - Perfectionnement professionnel","Communication tactique","HC1","Français","817-002-23",null,null,null,null,null,null,null,null,null,null,"26\nMontréal"]
[null,null,"Clientèle sur mesure","Sécurité publique","Sécurité publique - Perfectionnement professionnel","Communication tactique","HC1","Français","817-002-23",null,null,null,null,null,null,null,null,null,null,"27\nQuébec"]
[null,null,"Clientèle sur mesure",null,"Sécurité publique - Perfectionnement professionnel","Gestionnaires de 1er niveau","-","Français","818-302-22",null,null,null,"818-302-22","Formation de mise à niveau pour cadre - Constable spécial du MSP","-",2]
[null,null,"Clientèle sur mesure","Sécurité publique","Sécurité publique - Perfectionnement professionnel","Conduite","-","Français",null,null,null,null,"CONDUITE"]
[null,null,"Clientèle sur mesure","Sécurité publique","Sécurité publique - Perfectionnement professionnel","Conduite",{"$f":"O485","v":"C1"},"Français","801-212-22",null,null,null,"801-212-22","Conduite de véhicule en utilisant les techniques de base (ASFC)","C1",12]
[null,null,"Clientèle sur mesure","Sécurité publique","Sécurité publique - Perfectionnement professionnel","Conduite","HC1","Français","801-212-22",null,null,null,"801-212-22","Conduite de véhicule en utilisant les techniques de base (ASFC)","HC1",null,null,null,null,null,null,null,null,null,null,"20 au 22\nMirabel\n6 part."]
[null,null,"Clientèle sur mesure","Sécurité publique","Patrouille-gendarmerie - Perfectionnement professionnel",null,"-","Français",null,null,null,null,"EMPLOI DE LA FORCE"]
[null,null,"Clientèle sur mesure","Sécurité publique","Patrouille-gendarmerie - Perfectionnement professionnel","Intervention physique","-","Français","214-103-18",null,null,null,"214-103-18","Intervention avec le bouclier inversé (DSPJ)","-",8]
[null,null,"Clientèle sur mesure","Sécurité publique","Patrouille-gendarmerie - Perfectionnement professionnel","Intervention physique","-","Français","214-712-20",null,null,null,"214-712-20","Intervention avec le bouclier inversé - L'instructeur (sans requalification)","-",6,null,null,null,null,null,null,null,null,3]
[null,null,"Clientèle sur mesure","Sécurité publique","Patrouille-gendarmerie - Perfectionnement professionnel","Communication tactique","-","Français","217-103-19",null,null,null,"217-103-19","Communication – Transition (Projet communication ASFC) - Anglais","-",8]
[null,null,"Clientèle sur mesure","Sécurité publique","Patrouille-gendarmerie - Perfectionnement professionnel","Emploi de la force - Autres",{"$f":"O491","v":"A1"},"Français","217-201-24",null,null,null,"217-201-24","Désescalade - État mental perturbé (formation en ligne)","A1",23,null,null,null,null,null,null,"6 février au 1er mai"]
[null,null,"Clientèle sur mesure","Sécurité publique","Patrouille-gendarmerie - Perfectionnement professionnel","Emploi de la force - Autres","A1","Français","217-201-24",null,null,null,null,null,null,25,null,null,null,null,null,null,"6 février au 3 avril"]
[null,null,"Clientèle sur mesure","Sécurité publique","Patrouille-gendarmerie - Perfectionnement professionnel","Emploi de la force - Autres","A1","Français","217-201-24",null,null,null,null,null,null,25,null,null,null,null,null,null,"24 février au 18 avril"]
[null,null,"Clientèle sur mesure","Sécurité publique","Patrouille-gendarmerie - Perfectionnement professionnel","Emploi de la force - Autres","A1","Français","217-201-24",null,null,null,null,null,null,25,null,null,null,null,null,null,null,"10 mars au 5 mai"]
[null,null,"Clientèle sur mesure","Sécurité publique","Patrouille-gendarmerie - Perfectionnement professionnel","Emploi de la force - Autres","-","Français","218-301-18",null,null,null,"218-301-18","Fondements théoriques de l’emploi de la force (Projet communication ASFC) - Anglais","-",8,null,null,null,null,null,null,null,null,"28 avril au 2 mai"]
[null,null,"Clientèle sur mesure","Sécurité publique","Patrouille-gendarmerie - Perfectionnement professionnel",null,"-","Français","XXX-XXX-XX",null,null,null,"XXX-XXX-XX","Parrainage + IP 23 (Projet communication ASFC) - Anglais","-",8]
[null,null,"Clientèle sur mesure","Sécurité publique","Patrouille-gendarmerie - Perfectionnement professionnel","Intervention physique","HC1","Français","814-103-22",null,null,null,"814-103-22","Méthodes d'intervention (Centres jeunesse)","HC1",12,null,null,null,null,null,"13 au 14 \nAnnulé","3 au 4\nAnnulé","11 au 12\nAnnulé","14 au 15\nAnnulé"]
[null,null,"Clientèle sur mesure","Sécurité publique","Patrouille-gendarmerie - Perfectionnement professionnel","Intervention physique","HC1","Français","814-103-22",null,null,null,null,null,null,null,null,null,null,null,null,null,"17 au 18\nAnnulé","24 au 25\nAnnulé"]
[null,null,"Clientèle sur mesure","Sécurité publique","Patrouille-gendarmerie - Perfectionnement professionnel","Intervention physique","HC1","Français","814-103-22",null,null,null,null,null,null,null,null,null,null,null,null,null,"24 au 25\nAnnulé"]
[null,null,"Clientèle sur mesure","Sécurité publique","Patrouille-gendarmerie - Perfectionnement professionnel","Communication tactique",{"$f":"O500","v":"-"},"Français","817-107-23",null,null,null,"817-107-23","La communication (CCQ)","-",10,null,null,null,null,null,"21 au 22",null,"31 mars au 1er avril"]
[null,null,"Clientèle sur mesure","Sécurité publique","Patrouille-gendarmerie - Perfectionnement professionnel","Enquête - Autres","-","Français","841-102-22",null,null,null,"841-102-22","Actualisation des compétences des inspecteurs exo","-",9]
[null,null,"Clientèle sur mesure","Sécurité publique","Patrouille-gendarmerie - Perfectionnement professionnel","Formation en pédagogie","-","Français",null,null,null,null,"FORMATION EN PÉDAGOGIE"]
[null,null,"Clientèle sur mesure","Sécurité publique","Patrouille-gendarmerie - Perfectionnement professionnel","Formation en pédagogie",{"$f":"O503","v":"HC1"},"Français","232-201-24",null,null,null,"232-201-24","Interventions pédagogiques","HC1",8,null,null,null,null,"9 au 13","20 au 24","3 au 7"]
[null,null,"Clientèle sur mesure","Sécurité publique","Patrouille-gendarmerie - Perfectionnement professionnel","Formation en pédagogie","HC1","Français","232-201-24",null,null,null,null,null,null,null,null,null,null,null,null,null,"17 au 21"]
[null,null,"Clientèle sur mesure","Sécurité publique","Patrouille-gendarmerie - Perfectionnement professionnel",null,"-","Français",null,null,null,null,"SÉCURITÉ ROUTIÈRE"]
[null,null,"Clientèle sur mesure","Sécurité publique","Patrouille-gendarmerie - Perfectionnement professionnel","Patrouilles spécialisées",{"$f":"O506","v":"S1"},"Français","810-201-18",null,null,null,"810-201-18","Agent de surveillance de sentier FQCQ","S1",15,null,null,null,"30 novembre au\n 1er ddécembre"]
[null,null,"Clientèle sur mesure","Sécurité publique","Patrouille-gendarmerie - Perfectionnement professionnel","Patrouilles spécialisées","S1","Français","810-201-18",null,null,null,null,null,null,null,null,null,null,null,"7 au 8"]
[null,null,"Clientèle sur mesure","Sécurité publique","Patrouille-gendarmerie - Perfectionnement professionnel",null,"-","Français",null,null,null,null,"TECHNICIEN QUALIFIÉ EN ÉTHYLOMÈTRE"]
[null,null,"Clientèle sur mesure","Sécurité publique","Patrouille-gendarmerie - Perfectionnement professionnel","Enquête capacité affaiblie","-","Français","209-204-18",null,null,null,"209-204-18","Technicien qualifié en éthylomètre - DataMaster DMT-C","-",12]
[null,null,null,null,null,null,null,null,null,null,null,null,"UTILISATION DES ARMES À FEU"]
[null,null,"Clientèle sur mesure","Sécurité publique","Patrouille-gendarmerie - Perfectionnement professionnel","Utilisation des armes à feu",{"$f":"O511","v":"A1"},"Français","216-103-19","ENPQ",null,null,"216-103-19","Officiel de sécurité du champ de tir\nEn ligne","A1",8,null,null,null,null,null,"27 janvier au 31 mars"]
[null,null,"Clientèle sur mesure","Sécurité publique","Patrouille-gendarmerie - Perfectionnement professionnel","Utilisation des armes à feu",{"$f":"O512","v":0},"Français","216-103-19","ENPQ",null,null,null,null,null,null,null,null,null,null,null,null,"24 février au 18 avril"]
[null,null,"Clientèle sur mesure","Sécurité publique","Patrouille-gendarmerie - Perfectionnement professionnel","Utilisation des armes à feu","C1","Français","216-207-07","ENPQ",null,null,"216-207-07","Tir au pistolet - Requalification","C1",4,null,"3 AM",null,null,19,null,17]
[null,null,"Clientèle sur mesure","Sécurité publique","Patrouille-gendarmerie - Perfectionnement professionnel","Utilisation des armes à feu","C1","Français","216-207-07","ENPQ",null,null,null,null,null,null,null,"3 PM"]
[null,null,"Clientèle sur mesure","Sécurité publique","Patrouille-gendarmerie - Perfectionnement professionnel","Utilisation des armes à feu","C1","Français","216-207-07","ENPQ",null,null,null,null,null,null,null,"5 PM"]
[null,null,"Clientèle sur mesure","Sécurité publique","Patrouille-gendarmerie - Perfectionnement professionnel","Utilisation des armes à feu","C1","Français","216-207-07","ENPQ",null,null,null,null,null,null,null,"23 PM"]
[null,null,"Clientèle sur mesure","Sécurité publique","Patrouille-gendarmerie - Perfectionnement professionnel","Utilisation des armes à feu",{"$f":"O517","v":"HC1"},"Français","216-209-18","Pointe-du-Lac (Champ de tir Les Seigneurs)",null,null,"216-209-18","Carabine - Plateforme AR - Bloc 1\nHors campus - Champ de tir Les Seigneurs (Pointe-du-Lac)","HC1",null,"27 au 29"]
[null,null,"Clientèle sur mesure","Sécurité publique","Patrouille-gendarmerie - Perfectionnement professionnel","Utilisation des armes à feu","HC1","Français","216-302-19","Pointe-du-Lac (Champ de tir Les Seigneurs)",null,null,"216-302-19","Carabine – Plateforme AR –  Requalification\nHors campus - Champ de tir Les Seigneurs (Pointe-du-Lac)","HC1",8,null,null,null,null,null,null,null,null,null,null,18]
[null,null,"Clientèle sur mesure","Sécurité publique","Patrouille-gendarmerie - Perfectionnement professionnel","Utilisation des armes à feu","HC1","Français","216-302-19","Pointe-du-Lac (Champ de tir Les Seigneurs)",null,null,null,null,null,null,null,null,null,null,null,null,null,null,null,null,19]
[null,null,"Clientèle sur mesure","Sécurité publique","Patrouille-gendarmerie - Perfectionnement professionnel","Utilisation des armes à feu","HC1","Français","216-302-19","Pointe-du-Lac (Champ de tir Les Seigneurs)",null,null,null,null,null,null,null,null,null,null,null,null,null,null,null,null,20]
[null,null,"Clientèle sur mesure","Sécurité publique","Patrouille-gendarmerie - Perfectionnement professionnel","Utilisation des armes à feu","HC1","Français","216-302-19","Pointe-du-Lac (Champ de tir Les Seigneurs)",null,null,null,null,null,null,null,null,null,null,null,null,null,null,null,null,26]
[null,null,"Clientèle sur mesure","Sécurité publique","Patrouille-gendarmerie - Perfectionnement professionnel","Utilisation des armes à feu","HC1","Français","816-205-24","Club de tir de Lanaudière",null,null,"816-205-24","Mise à niveau – Tir au pistolet et introduction au processus de prise de décision","HC1",8,null,null,null,"4 au 5",null,"13 au 14"]
[null,null,"Clientèle sur mesure","Sécurité publique","Patrouille-gendarmerie - Perfectionnement professionnel","Utilisation des armes à feu","HC1","Français","816-205-24","Club de tir de Lanaudière",null,null,null,null,null,null,null,null,null,"25 au 26",null,"15 au 16"]
[null,null,null,null,null,null,"-","Français",null,null,null,null,null,null,null,null,null,null,null,null,null,"ÉVÉNEMENTS"]
[null,null,"SAC",null,"Service aux collectiivités",null,"-","Français",null,null,null,null,"n Service aux collectivités"]
[null,null,"SAC",null,"Service aux collectiivités",null,"C1","Français",null,"ENPQ",null,null,null,"Séminaire chaire de recherche UQTR-ENPQ","C1","so",null,null,null,"5 nov"]
[null,null,"BRC",null,"Bureau du registraire et des communication",null,"-","Français",null,null,null,null,"n BRC"]
[null,null,"BRC",null,"Bureau du registraire et des communication",null,"C","Français","JRP","ENPQ",null,null,"JRP","Journée de reconnaissance policière","C",null,null,null,null,null,null,null,null,null,null,"12 mai"]
[null,null,"BRC",null,"Bureau du registraire et des communication",null,"C","Français","JPO","ENPQ",null,null,"JPO","Journée porte ouverte","C",null,null,null,null,"18 nov"]
[null,null,"BRC","Patrouille-gendarmerie","Bureau du registraire et des communication",null,"C1","Français","ESAP","ENPQ",null,null,"ESAP","Épreuve standardisée d'aptitude physique","C1",null,null,"23","28",null,"2","20","24","31","1","5","9","14"]
[null,null,"BRC","Patrouille-gendarmerie","Bureau du registraire et des communication",null,{"$f":"O530","v":"C1"},"Français","ESAP","ENPQ",null,null,null,null,null,null,null,"24","29",null,"3","21","25",null,null,"6","10","15"]
[null,null,"BRC","Patrouille-gendarmerie","Bureau du registraire et des communication",null,"HC1","Français","ESAP","UNIVERSITÉ DE MONTRÉAL",null,null,"ESAP","Épreuve standardisée d'aptitude physique\nUniversité de Montréal","HC1",null,"27",null,"21",null,null,null,null,"11"]
[null,null,"BRC","Patrouille-gendarmerie","Bureau du registraire et des communication",null,{"$f":"O532","v":"HC1"},"Français","ESAP","UNIVERSITÉ DE MONTRÉAL",null,null,null,null,null,null,"28",null,"22"]
[null,null,"DREP",null,"Direction de la recherche, de l'expertise et de la pédagogie",null,"-","Français",null,null,null,null,"n DREP"]
[null,null,"DREP",null,"Direction de la recherche, de l'expertise et de la pédagogie",null,"C1","Français","JAC","ENPQ",null,null,"JAC","Journées d'actualisation des connaissances","C1"]
[null,null,"DREP","Journée pédagogique ","Direction de la recherche, de l'expertise et de la pédagogie","Utilisation des armes à feu","C1","Français","JP-TIR","ENPQ",null,null,"JP-TIR","Journée pédagogique - TIR","C1",null,null,null,null,null,null,null,null,"17 mars"]
[null,null,"DREP","Journée pédagogique ","Direction de la recherche, de l'expertise et de la pédagogie","Intervention physique","C1","Français","JP-IP","ENPQ",null,null,"JP-IP","Journée pédagogique - IP","C1",null,null,"30 sept"]
[null,null,"DREP","Journée pédagogique ","Direction de la recherche, de l'expertise et de la pédagogie","Conduite","C1","Français","JP-COND","ENPQ",null,null,"JP-COND","Journée pédagogique - COND","C1",null,null,null,null,null,null,null,"10 fév"]
[null,null,"DREP","Journée pédagogique ","Direction de la recherche, de l'expertise et de la pédagogie","Enquête - Autres",{"$f":"O539","v":"C1"},"Français","JP-ENQ","ENPQ",null,null,"JP-ENQ","Journée pédagogique - ENQUËTE","C1",null,"21 août",null,null,null,"9 déc","27 janv"]
[null,null,"DREP","Journée pédagogique ","Direction de la recherche, de l'expertise et de la pédagogie","PFIPG","C1","Français","JP-PFIPG","ENPQ",null,null,"JP-PFIPG","Journée pédagogique - PFIPG\n* 1 groupe en formation ","C1",null,"26 août *","30 sept *",null,"4 nov *","9 déc","6 janv","10 fév","3 mars *",null,"12 mai *"]
[null,null,"DREP","Journée pédagogique ","Direction de la recherche, de l'expertise et de la pédagogie","PFIPG",{"$f":"O540","v":"C1"},"Français","JP-PFIPG","ENPQ",null,null,null,null,null,null,null,null,null,"18 nov",null,"27 janv *",null,"17 mars"]

{"sheet":"PN_","index":1,"n_rows":1,"n_cols":1,"rows_kept":1,"cut":false,"hidden":true,"merged":[[0,0,13,0]]}
["PN : 203-119-23 : 13fr (Fiche d'interprétation policière (FIN) - Collecte de données sur les interpellations policières.  EST-CE QU'ON DONNE CE COURS?  EST-CE CPKN?  c'est un code de cours actif, mais pas de recette, pas d'offre passée\n\nPN : 203-207-23 : 21fr Loi sur la protection des personnes dont l’état mental présente un danger pour elles-mêmes ou pour autrui (LPP)\n\nPN : 209-115-21 : 6fr ENPQ ou HC (en ligne?) Maintient de compétence périodique - TQE DataMaster DMT-C\n\nPN : CPS-002-22 : 8fr | 61eng (CAPSULE en ligne)\n\nPN : 828-104-15 : 30fr - PAS DE FICHE DE COURS.  "]

{"sheet":"Rapport_Volum","index":2,"n_rows":268,"n_cols":13,"rows_kept":268,"cut":false,"hidden":true,"merged":[[3,4,3,12],[27,10,27,12],[5,10,5,12]]}
[]
[null,null,null,null,null,null,null,null,null,null,null,null,"Programmes de formation initiale et perfectionnement policier"]
[null,null,null,null,null,null,null,null,null,null,null,null,"Calendrier des cours 2024-2025"]
[null,null,null,null,"VOLUMÉTRIE DES DEMANDES ADRESSÉES"]
[null,null,2,3,4,5,6,null,7,null,10,null,11]
[null,null,null,null,null,null,null,null,null,null,"Autochtones"]
[null,null,null,null,null,null,"# diffusions",null,"Hres/an",null,"Franco",null,"Anglo"]
[null,null,null,null,{"$f":"F42","v":"Sous total FORMATION INTIALE EN ENQUÊTE"},null,{"$f":"G42","v":{"$error":"#REF!"}},null,{"$f":"I42","v":{"$error":"#REF!"}},null,{"$f":"K42","v":{"$error":"#REF!"}},null,{"$f":"M42","v":{"$error":"#REF!"}}]
[null,null,null,null,{"$f":"F87","v":"Sous total PERFECTIONNEMENT PROFESSIONNEL EN ENQUÊTE"},null,{"$f":"G87","v":{"$error":"#REF!"}},null,{"$f":"I87","v":{"$error":"#REF!"}},null,{"$f":"K87","v":{"$error":"#REF!"}},null,{"$f":"M87","v":{"$error":"#REF!"}}]
[null,null,null,null,{"$f":"F106","v":"Sous total FORMATION INTIALE EN GESTION POLICIÈRE"},null,{"$f":"G106","v":{"$error":"#REF!"}},null,{"$f":"I106","v":{"$error":"#REF!"}},null,{"$f":"K106","v":{"$error":"#REF!"}},null,{"$f":"M106","v":{"$error":"#REF!"}}]
[null,null,null,null,{"$f":"F113","v":"Sous total CECAP"},null,{"$f":"G113","v":{"$error":"#REF!"}},null,{"$f":"I113","v":{"$error":"#REF!"}},null,{"$f":"K113","v":{"$error":"#REF!"}},null,{"$f":"M113","v":{"$error":"#REF!"}}]
[null,null,null,null,{"$f":"F122","v":"Sous total PROGRAMME ACCES"},null,{"$f":"G122","v":{"$error":"#REF!"}},null,{"$f":"I122","v":{"$error":"#REF!"}},null,{"$f":"K122","v":{"$error":"#REF!"}},null,{"$f":"M122","v":{"$error":"#REF!"}}]
[null,null,null,null,{"$f":"F126","v":"Sous total FORMATIONS AUTOCHTONES"},null,{"$f":"G126","v":{"$error":"#REF!"}},null,{"$f":"I126","v":{"$error":"#REF!"}},null,{"$f":"K126","v":{"$error":"#REF!"}},null,{"$f":"M126","v":{"$error":"#REF!"}}]
[null,null,null,null,{"$f":"D128","v":{"$error":"#REF!"}},null,{"$f":"G128","v":{"$error":"#REF!"}},null,{"$f":"I128","v":{"$error":"#REF!"}},null,{"$f":"K128","v":{"$error":"#REF!"}},null,{"$f":"M128","v":{"$error":"#REF!"}}]
[null,null,null,null,{"$f":"F135","v":"Sous total FORMATIONEN PÉDAGOGIE"},null,{"$f":"G135","v":{"$error":"#REF!"}},null,{"$f":"I135","v":{"$error":"#REF!"}},null,{"$f":"K135","v":{"$error":"#REF!"}},null,{"$f":"M135","v":{"$error":"#REF!"}}]
[null,null,null,null,{"$f":"F211","v":"Sous total PERFECTIONNEMENT PROFESSIONNEL PATROUILLEUR"},null,{"$f":"G211","v":{"$error":"#REF!"}},null,{"$f":"I211","v":{"$error":"#REF!"}},null,{"$f":"K211","v":{"$error":"#REF!"}},null,{"$f":"M211","v":{"$error":"#REF!"}}]
[null,null,null,null,{"$f":"F219","v":"Sous total ENQUÊTE COLLISION"},null,{"$f":"G219","v":{"$error":"#REF!"}},null,{"$f":"I219","v":{"$error":"#REF!"}},null,{"$f":"K219","v":{"$error":"#REF!"}},null,{"$f":"M219","v":{"$error":"#REF!"}}]
[null,null,null,null,{"$f":"F268","v":"Sous total EMPLOI DE LA FORCE ET TACTIQUE"},null,{"$f":"G268","v":{"$error":"#REF!"}},null,{"$f":"I268","v":{"$error":"#REF!"}},null,{"$f":"K268","v":{"$error":"#REF!"}},null,{"$f":"M268","v":{"$error":"#REF!"}}]
[]
[null,null,null,null,null,"TOTAL DES DEMANDES ADRESSÉES",{"$f":"SUM(G8:G18)","v":{"$error":"#REF!"}},null,{"$f":"SUM(I8:I18)","v":{"$error":"#REF!"}},"Totaux DEMANDES IND.",{"$f":"SUM(K8:K18)","v":{"$error":"#REF!"}},null,{"$f":"SUM(M8:M18)","v":{"$error":"#REF!"}}]
[]
[]
[]
[]
[]
[null,null,2,3,4,5,6,null,7]
[1,{"$f":"VLOOKUP(A27,'2024-2025 '!#REF!,9,FALSE)","v":{"$error":"#REF!"}},{"$f":"VLOOKUP($A27,'2024-2025 '!#REF!,C$26,FALSE)","v":{"$error":"#REF!"}},{"$f":"IF($B27=\"*\",\"\",VLOOKUP($A27,'2024-2025 '!#REF!,D$26,FALSE))","v":{"$error":"#REF!"}},{"$f":"IF($B27=\"*\",\"\",VLOOKUP($A27,'2024-2025 '!#REF!,E$26,FALSE))","v":{"$error":"#REF!"}},{"$f":"IF($B27=\"*\",\"\",VLOOKUP($A27,'2024-2025 '!#REF!,F$26,FALSE))","v":{"$error":"#REF!"}},{"$f":"IF($B27=\"*\",\"\",VLOOKUP($A27,'2024-2025 '!#REF!,G$26,FALSE))","v":{"$error":"#REF!"}},null,{"$f":"IF($B27=\"*\",\"\",VLOOKUP($A27,'2024-2025 '!#REF!,I$26,FALSE))","v":{"$error":"#REF!"}}]
[{"$f":"A27+1","v":2},{"$f":"VLOOKUP(A28,'2024-2025 '!#REF!,9,FALSE)","v":{"$error":"#REF!"}},{"$f":"VLOOKUP($A28,'2024-2025 '!#REF!,C$26,FALSE)","v":{"$error":"#REF!"}},null,null,null,null,null,null,null,"Autochtones"]
[{"$f":"A28+1","v":3},{"$f":"VLOOKUP(A29,'2024-2025 '!#REF!,9,FALSE)","v":{"$error":"#REF!"}},{"$f":"VLOOKUP($A29,'2024-2025 '!#REF!,C$26,FALSE)","v":{"$error":"#REF!"}},null,null,null,null,null,null,null,"Franco",null,"Anglo"]
[4,{"$f":"VLOOKUP(A30,'2024-2025 '!#REF!,9,FALSE)","v":{"$error":"#REF!"}},{"$f":"VLOOKUP($A30,'2024-2025 '!#REF!,C$26,FALSE)","v":{"$error":"#REF!"}},{"$f":"IF($B30=\"*\",\"\",VLOOKUP($A30,'2024-2025 '!#REF!,D$26,FALSE))","v":{"$error":"#REF!"}},{"$f":"IF($B30=\"*\",\"\",VLOOKUP($A30,'2024-2025 '!#REF!,E$26,FALSE))","v":{"$error":"#REF!"}},{"$f":"IF($B30=\"*\",\"\",VLOOKUP($A30,'2024-2025 '!#REF!,F$26,FALSE))","v":{"$error":"#REF!"}},{"$f":"IF($B30=\"*\",\"\",VLOOKUP($A30,'2024-2025 '!#REF!,G$26,FALSE))","v":{"$error":"#REF!"}},null,{"$f":"IF($B30=\"*\",\"\",VLOOKUP($A30,'2024-2025 '!#REF!,I$26,FALSE))","v":{"$error":"#REF!"}},null,{"$f":"IF($B30=\"*\",\"\",VLOOKUP($A30,'2024-2025 '!#REF!,K$5,FALSE))","v":{"$error":"#REF!"}},null,{"$f":"IF($B30=\"*\",\"\",VLOOKUP($A30,'2024-2025 '!#REF!,M$5,FALSE))","v":{"$error":"#REF!"}}]
[5,{"$f":"VLOOKUP(A31,'2024-2025 '!#REF!,9,FALSE)","v":{"$error":"#REF!"}},{"$f":"VLOOKUP($A31,'2024-2025 '!#REF!,C$26,FALSE)","v":{"$error":"#REF!"}},null,null,null,null,null,null,null,{"$f":"IF($B31=\"*\",\"\",VLOOKUP($A31,'2024-2025 '!#REF!,K$5,FALSE))","v":{"$error":"#REF!"}},null,{"$f":"IF($B31=\"*\",\"\",VLOOKUP($A31,'2024-2025 '!#REF!,M$5,FALSE))","v":{"$error":"#REF!"}}]
[6,{"$f":"VLOOKUP(A32,'2024-2025 '!#REF!,9,FALSE)","v":{"$error":"#REF!"}},{"$f":"VLOOKUP($A32,'2024-2025 '!#REF!,C$26,FALSE)","v":{"$error":"#REF!"}},null,null,null,null,null,null,null,{"$f":"IF($B32=\"*\",\"\",VLOOKUP($A32,'2024-2025 '!#REF!,K$5,FALSE))","v":{"$error":"#REF!"}},null,{"$f":"IF($B32=\"*\",\"\",VLOOKUP($A32,'2024-2025 '!#REF!,M$5,FALSE))","v":{"$error":"#REF!"}}]
[7,{"$f":"VLOOKUP(A33,'2024-2025 '!#REF!,9,FALSE)","v":{"$error":"#REF!"}},{"$f":"VLOOKUP($A33,'2024-2025 '!#REF!,C$26,FALSE)","v":{"$error":"#REF!"}},{"$f":"IF($B33=\"*\",\"\",VLOOKUP($A33,'2024-2025 '!#REF!,D$26,FALSE))","v":{"$error":"#REF!"}},{"$f":"IF($B33=\"*\",\"\",VLOOKUP($A33,'2024-2025 '!#REF!,E$26,FALSE))","v":{"$error":"#REF!"}},{"$f":"IF($B33=\"*\",\"\",VLOOKUP($A33,'2024-2025 '!#REF!,F$26,FALSE))","v":{"$error":"#REF!"}},{"$f":"IF($B33=\"*\",\"\",VLOOKUP($A33,'2024-2025 '!#REF!,G$26,FALSE))","v":{"$error":"#REF!"}},null,{"$f":"IF($B33=\"*\",\"\",VLOOKUP($A33,'2024-2025 '!#REF!,I$26,FALSE))","v":{"$error":"#REF!"}},null,{"$f":"IF($B33=\"*\",\"\",VLOOKUP($A33,'2024-2025 '!#REF!,K$5,FALSE))","v":{"$error":"#REF!"}},null,{"$f":"IF($B33=\"*\",\"\",VLOOKUP($A33,'2024-2025 '!#REF!,M$5,FALSE))","v":{"$error":"#REF!"}}]
[8,{"$f":"VLOOKUP(A34,'2024-2025 '!#REF!,9,FALSE)","v":{"$error":"#REF!"}},{"$f":"VLOOKUP($A34,'2024-2025 '!#REF!,C$26,FALSE)","v":{"$error":"#REF!"}},null,null,null,null,null,null,null,{"$f":"IF($B34=\"*\",\"\",VLOOKUP($A34,'2024-2025 '!#REF!,K$5,FALSE))","v":{"$error":"#REF!"}},null,{"$f":"IF($B34=\"*\",\"\",VLOOKUP($A34,'2024-2025 '!#REF!,M$5,FALSE))","v":{"$error":"#REF!"}}]
[9,{"$f":"VLOOKUP(A35,'2024-2025 '!#REF!,9,FALSE)","v":{"$error":"#REF!"}},{"$f":"VLOOKUP($A35,'2024-2025 '!#REF!,C$26,FALSE)","v":{"$error":"#REF!"}},{"$f":"IF($B35=\"*\",\"\",VLOOKUP($A35,'2024-2025 '!#REF!,D$26,FALSE))","v":{"$error":"#REF!"}},{"$f":"IF($B35=\"*\",\"\",VLOOKUP($A35,'2024-2025 '!#REF!,E$26,FALSE))","v":{"$error":"#REF!"}},{"$f":"IF($B35=\"*\",\"\",VLOOKUP($A35,'2024-2025 '!#REF!,F$26,FALSE))","v":{"$error":"#REF!"}},{"$f":"IF($B35=\"*\",\"\",VLOOKUP($A35,'2024-2025 '!#REF!,G$26,FALSE))","v":{"$error":"#REF!"}},null,{"$f":"IF($B35=\"*\",\"\",VLOOKUP($A35,'2024-2025 '!#REF!,I$26,FALSE))","v":{"$error":"#REF!"}},null,{"$f":"IF($B35=\"*\",\"\",VLOOKUP($A35,'2024-2025 '!#REF!,K$5,FALSE))","v":{"$error":"#REF!"}},null,{"$f":"IF($B35=\"*\",\"\",VLOOKUP($A35,'2024-2025 '!#REF!,M$5,FALSE))","v":{"$error":"#REF!"}}]
[10,{"$f":"VLOOKUP(A36,'2024-2025 '!#REF!,9,FALSE)","v":{"$error":"#REF!"}},{"$f":"VLOOKUP($A36,'2024-2025 '!#REF!,C$26,FALSE)","v":{"$error":"#REF!"}},null,null,null,null,null,null,null,{"$f":"IF($B36=\"*\",\"\",VLOOKUP($A36,'2024-2025 '!#REF!,K$5,FALSE))","v":{"$error":"#REF!"}},null,{"$f":"IF($B36=\"*\",\"\",VLOOKUP($A36,'2024-2025 '!#REF!,M$5,FALSE))","v":{"$error":"#REF!"}}]
[11,{"$f":"VLOOKUP(A37,'2024-2025 '!#REF!,9,FALSE)","v":{"$error":"#REF!"}},{"$f":"VLOOKUP($A37,'2024-2025 '!#REF!,C$26,FALSE)","v":{"$error":"#REF!"}},{"$f":"IF($B37=\"*\",\"\",VLOOKUP($A37,'2024-2025 '!#REF!,D$26,FALSE))","v":{"$error":"#REF!"}},{"$f":"IF($B37=\"*\",\"\",VLOOKUP($A37,'2024-2025 '!#REF!,E$26,FALSE))","v":{"$error":"#REF!"}},{"$f":"IF($B37=\"*\",\"\",VLOOKUP($A37,'2024-2025 '!#REF!,F$26,FALSE))","v":{"$error":"#REF!"}},{"$f":"IF($B37=\"*\",\"\",VLOOKUP($A37,'2024-2025 '!#REF!,G$26,FALSE))","v":{"$error":"#REF!"}},null,{"$f":"IF($B37=\"*\",\"\",VLOOKUP($A37,'2024-2025 '!#REF!,I$26,FALSE))","v":{"$error":"#REF!"}},null,{"$f":"IF($B37=\"*\",\"\",VLOOKUP($A37,'2024-2025 '!#REF!,K$5,FALSE))","v":{"$error":"#REF!"}},null,{"$f":"IF($B37=\"*\",\"\",VLOOKUP($A37,'2024-2025 '!#REF!,M$5,FALSE))","v":{"$error":"#REF!"}}]
[12,{"$f":"VLOOKUP(A38,'2024-2025 '!#REF!,9,FALSE)","v":{"$error":"#REF!"}},{"$f":"VLOOKUP($A38,'2024-2025 '!#REF!,C$26,FALSE)","v":{"$error":"#REF!"}},null,null,null,null,null,null,null,{"$f":"IF($B38=\"*\",\"\",VLOOKUP($A38,'2024-2025 '!#REF!,K$5,FALSE))","v":{"$error":"#REF!"}},null,{"$f":"IF($B38=\"*\",\"\",VLOOKUP($A38,'2024-2025 '!#REF!,M$5,FALSE))","v":{"$error":"#REF!"}}]
[13,{"$f":"VLOOKUP(A39,'2024-2025 '!#REF!,9,FALSE)","v":{"$error":"#REF!"}},{"$f":"VLOOKUP($A39,'2024-2025 '!#REF!,C$26,FALSE)","v":{"$error":"#REF!"}},{"$f":"IF($B39=\"*\",\"\",VLOOKUP($A39,'2024-2025 '!#REF!,D$26,FALSE))","v":{"$error":"#REF!"}},{"$f":"IF($B39=\"*\",\"\",VLOOKUP($A39,'2024-2025 '!#REF!,E$26,FALSE))","v":{"$error":"#REF!"}},{"$f":"IF($B39=\"*\",\"\",VLOOKUP($A39,'2024-2025 '!#REF!,F$26,FALSE))","v":{"$error":"#REF!"}},{"$f":"IF($B39=\"*\",\"\",VLOOKUP($A39,'2024-2025 '!#REF!,G$26,FALSE))","v":{"$error":"#REF!"}},null,{"$f":"IF($B39=\"*\",\"\",VLOOKUP($A39,'2024-2025 '!#REF!,I$26,FALSE))","v":{"$error":"#REF!"}},null,{"$f":"IF($B39=\"*\",\"\",VLOOKUP($A39,'2024-2025 '!#REF!,K$5,FALSE))","v":{"$error":"#REF!"}},null,{"$f":"IF($B39=\"*\",\"\",VLOOKUP($A39,'2024-2025 '!#REF!,M$5,FALSE))","v":{"$error":"#REF!"}}]
[14,{"$f":"VLOOKUP(A40,'2024-2025 '!#REF!,9,FALSE)","v":{"$error":"#REF!"}},{"$f":"VLOOKUP($A40,'2024-2025 '!#REF!,C$26,FALSE)","v":{"$error":"#REF!"}},null,null,null,null,null,null,null,{"$f":"IF($B40=\"*\",\"\",VLOOKUP($A40,'2024-2025 '!#REF!,K$5,FALSE))","v":{"$error":"#REF!"}},null,{"$f":"IF($B40=\"*\",\"\",VLOOKUP($A40,'2024-2025 '!#REF!,M$5,FALSE))","v":{"$error":"#REF!"}}]
[15,{"$f":"VLOOKUP(A41,'2024-2025 '!#REF!,9,FALSE)","v":{"$error":"#REF!"}},{"$f":"VLOOKUP($A41,'2024-2025 '!#REF!,C$26,FALSE)","v":{"$error":"#REF!"}},{"$f":"IF($B41=\"*\",\"\",VLOOKUP($A41,'2024-2025 '!#REF!,D$26,FALSE))","v":{"$error":"#REF!"}},{"$f":"IF($B41=\"*\",\"\",VLOOKUP($A41,'2024-2025 '!#REF!,E$26,FALSE))","v":{"$error":"#REF!"}},{"$f":"IF($B41=\"*\",\"\",VLOOKUP($A41,'2024-2025 '!#REF!,F$26,FALSE))","v":{"$error":"#REF!"}},{"$f":"IF($B41=\"*\",\"\",VLOOKUP($A41,'2024-2025 '!#REF!,G$26,FALSE))","v":{"$error":"#REF!"}},null,{"$f":"IF($B41=\"*\",\"\",VLOOKUP($A41,'2024-2025 '!#REF!,I$26,FALSE))","v":{"$error":"#REF!"}},null,{"$f":"IF($B41=\"*\",\"\",VLOOKUP($A41,'2024-2025 '!#REF!,K$5,FALSE))","v":{"$error":"#REF!"}},null,{"$f":"IF($B41=\"*\",\"\",VLOOKUP($A41,'2024-2025 '!#REF!,M$5,FALSE))","v":{"$error":"#REF!"}}]
[null,null,null,null,null,"Sous total FORMATION INTIALE EN ENQUÊTE",{"$f":"SUM(G28:G41)","v":{"$error":"#REF!"}},null,{"$f":"SUM(I28:I41)","v":{"$error":"#REF!"}},null,{"$f":"SUM(K30:K41)","v":{"$error":"#REF!"}},null,{"$f":"SUM(M30:M41)","v":{"$error":"#REF!"}}]
[{"$f":"A41+1","v":16},{"$f":"VLOOKUP(A43,'2024-2025 '!#REF!,9,FALSE)","v":{"$error":"#REF!"}},{"$f":"VLOOKUP($A43,'2024-2025 '!#REF!,C$26,FALSE)","v":{"$error":"#REF!"}},null,null,null,null,null,null,null,{"$f":"IF($B43=\"*\",\"\",VLOOKUP($A43,'2024-2025 '!#REF!,K$5,FALSE))","v":{"$error":"#REF!"}},null,{"$f":"IF($B43=\"*\",\"\",VLOOKUP($A43,'2024-2025 '!#REF!,M$5,FALSE))","v":{"$error":"#REF!"}}]
[17,{"$f":"VLOOKUP(A44,'2024-2025 '!#REF!,9,FALSE)","v":{"$error":"#REF!"}},{"$f":"VLOOKUP($A44,'2024-2025 '!#REF!,C$26,FALSE)","v":{"$error":"#REF!"}},null,null,null,null,null,null,null,{"$f":"IF($B44=\"*\",\"\",VLOOKUP($A44,'2024-2025 '!#REF!,K$5,FALSE))","v":{"$error":"#REF!"}},null,{"$f":"IF($B44=\"*\",\"\",VLOOKUP($A44,'2024-2025 '!#REF!,M$5,FALSE))","v":{"$error":"#REF!"}}]
[18,{"$f":"VLOOKUP(A45,'2024-2025 '!#REF!,9,FALSE)","v":{"$error":"#REF!"}},{"$f":"VLOOKUP($A45,'2024-2025 '!#REF!,C$26,FALSE)","v":{"$error":"#REF!"}},{"$f":"IF($B45=\"*\",\"\",VLOOKUP($A45,'2024-2025 '!#REF!,D$26,FALSE))","v":{"$error":"#REF!"}},{"$f":"IF($B45=\"*\",\"\",VLOOKUP($A45,'2024-2025 '!#REF!,E$26,FALSE))","v":{"$error":"#REF!"}},{"$f":"IF($B45=\"*\",\"\",VLOOKUP($A45,'2024-2025 '!#REF!,F$26,FALSE))","v":{"$error":"#REF!"}},{"$f":"IF($B45=\"*\",\"\",VLOOKUP($A45,'2024-2025 '!#REF!,G$26,FALSE))","v":{"$error":"#REF!"}},null,{"$f":"IF($B45=\"*\",\"\",VLOOKUP($A45,'2024-2025 '!#REF!,I$26,FALSE))","v":{"$error":"#REF!"}},null,{"$f":"IF($B45=\"*\",\"\",VLOOKUP($A45,'2024-2025 '!#REF!,K$5,FALSE))","v":{"$error":"#REF!"}},null,{"$f":"IF($B45=\"*\",\"\",VLOOKUP($A45,'2024-2025 '!#REF!,M$5,FALSE))","v":{"$error":"#REF!"}}]
[19,{"$f":"VLOOKUP(A46,'2024-2025 '!#REF!,9,FALSE)","v":{"$error":"#REF!"}},{"$f":"VLOOKUP($A46,'2024-2025 '!#REF!,C$26,FALSE)","v":{"$error":"#REF!"}},{"$f":"IF($B46=\"*\",\"\",VLOOKUP($A46,'2024-2025 '!#REF!,D$26,FALSE))","v":{"$error":"#REF!"}},{"$f":"IF($B46=\"*\",\"\",VLOOKUP($A46,'2024-2025 '!#REF!,E$26,FALSE))","v":{"$error":"#REF!"}},{"$f":"IF($B46=\"*\",\"\",VLOOKUP($A46,'2024-2025 '!#REF!,F$26,FALSE))","v":{"$error":"#REF!"}},{"$f":"IF($B46=\"*\",\"\",VLOOKUP($A46,'2024-2025 '!#REF!,G$26,FALSE))","v":{"$error":"#REF!"}},null,{"$f":"IF($B46=\"*\",\"\",VLOOKUP($A46,'2024-2025 '!#REF!,I$26,FALSE))","v":{"$error":"#REF!"}},null,{"$f":"IF($B46=\"*\",\"\",VLOOKUP($A46,'2024-2025 '!#REF!,K$5,FALSE))","v":{"$error":"#REF!"}},null,{"$f":"IF($B46=\"*\",\"\",VLOOKUP($A46,'2024-2025 '!#REF!,M$5,FALSE))","v":{"$error":"#REF!"}}]
[20,{"$f":"VLOOKUP(A47,'2024-2025 '!#REF!,9,FALSE)","v":{"$error":"#REF!"}},{"$f":"VLOOKUP($A47,'2024-2025 '!#REF!,C$26,FALSE)","v":{"$error":"#REF!"}},{"$f":"IF($B47=\"*\",\"\",VLOOKUP($A47,'2024-2025 '!#REF!,D$26,FALSE))","v":{"$error":"#REF!"}},{"$f":"IF($B47=\"*\",\"\",VLOOKUP($A47,'2024-2025 '!#REF!,E$26,FALSE))","v":{"$error":"#REF!"}},{"$f":"IF($B47=\"*\",\"\",VLOOKUP($A47,'2024-2025 '!#REF!,F$26,FALSE))","v":{"$error":"#REF!"}},{"$f":"IF($B47=\"*\",\"\",VLOOKUP($A47,'2024-2025 '!#REF!,G$26,FALSE))","v":{"$error":"#REF!"}},null,{"$f":"IF($B47=\"*\",\"\",VLOOKUP($A47,'2024-2025 '!#REF!,I$26,FALSE))","v":{"$error":"#REF!"}},null,{"$f":"IF($B47=\"*\",\"\",VLOOKUP($A47,'2024-2025 '!#REF!,K$5,FALSE))","v":{"$error":"#REF!"}},null,{"$f":"IF($B47=\"*\",\"\",VLOOKUP($A47,'2024-2025 '!#REF!,M$5,FALSE))","v":{"$error":"#REF!"}}]
[21,{"$f":"VLOOKUP(A48,'2024-2025 '!#REF!,9,FALSE)","v":{"$error":"#REF!"}},{"$f":"VLOOKUP($A48,'2024-2025 '!#REF!,C$26,FALSE)","v":{"$error":"#REF!"}},{"$f":"IF($B48=\"*\",\"\",VLOOKUP($A48,'2024-2025 '!#REF!,D$26,FALSE))","v":{"$error":"#REF!"}},{"$f":"IF($B48=\"*\",\"\",VLOOKUP($A48,'2024-2025 '!#REF!,E$26,FALSE))","v":{"$error":"#REF!"}},{"$f":"IF($B48=\"*\",\"\",VLOOKUP($A48,'2024-2025 '!#REF!,F$26,FALSE))","v":{"$error":"#REF!"}},{"$f":"IF($B48=\"*\",\"\",VLOOKUP($A48,'2024-2025 '!#REF!,G$26,FALSE))","v":{"$error":"#REF!"}},null,{"$f":"IF($B48=\"*\",\"\",VLOOKUP($A48,'2024-2025 '!#REF!,I$26,FALSE))","v":{"$error":"#REF!"}},null,{"$f":"IF($B48=\"*\",\"\",VLOOKUP($A48,'2024-2025 '!#REF!,K$5,FALSE))","v":{"$error":"#REF!"}},null,{"$f":"IF($B48=\"*\",\"\",VLOOKUP($A48,'2024-2025 '!#REF!,M$5,FALSE))","v":{"$error":"#REF!"}}]
[22,{"$f":"VLOOKUP(A49,'2024-2025 '!#REF!,9,FALSE)","v":{"$error":"#REF!"}},{"$f":"VLOOKUP($A49,'2024-2025 '!#REF!,C$26,FALSE)","v":{"$error":"#REF!"}},{"$f":"IF($B49=\"*\",\"\",VLOOKUP($A49,'2024-2025 '!#REF!,D$26,FALSE))","v":{"$error":"#REF!"}},{"$f":"IF($B49=\"*\",\"\",VLOOKUP($A49,'2024-2025 '!#REF!,E$26,FALSE))","v":{"$error":"#REF!"}},{"$f":"IF($B49=\"*\",\"\",VLOOKUP($A49,'2024-2025 '!#REF!,F$26,FALSE))","v":{"$error":"#REF!"}},{"$f":"IF($B49=\"*\",\"\",VLOOKUP($A49,'2024-2025 '!#REF!,G$26,FALSE))","v":{"$error":"#REF!"}},null,{"$f":"IF($B49=\"*\",\"\",VLOOKUP($A49,'2024-2025 '!#REF!,I$26,FALSE))","v":{"$error":"#REF!"}},null,{"$f":"IF($B49=\"*\",\"\",VLOOKUP($A49,'2024-2025 '!#REF!,K$5,FALSE))","v":{"$error":"#REF!"}},null,{"$f":"IF($B49=\"*\",\"\",VLOOKUP($A49,'2024-2025 '!#REF!,M$5,FALSE))","v":{"$error":"#REF!"}}]
[23,{"$f":"VLOOKUP(A50,'2024-2025 '!#REF!,9,FALSE)","v":{"$error":"#REF!"}},{"$f":"VLOOKUP($A50,'2024-2025 '!#REF!,C$26,FALSE)","v":{"$error":"#REF!"}},{"$f":"IF($B50=\"*\",\"\",VLOOKUP($A50,'2024-2025 '!#REF!,D$26,FALSE))","v":{"$error":"#REF!"}},{"$f":"IF($B50=\"*\",\"\",VLOOKUP($A50,'2024-2025 '!#REF!,E$26,FALSE))","v":{"$error":"#REF!"}},{"$f":"IF($B50=\"*\",\"\",VLOOKUP($A50,'2024-2025 '!#REF!,F$26,FALSE))","v":{"$error":"#REF!"}},{"$f":"IF($B50=\"*\",\"\",VLOOKUP($A50,'2024-2025 '!#REF!,G$26,FALSE))","v":{"$error":"#REF!"}},null,{"$f":"IF($B50=\"*\",\"\",VLOOKUP($A50,'2024-2025 '!#REF!,I$26,FALSE))","v":{"$error":"#REF!"}},null,{"$f":"IF($B50=\"*\",\"\",VLOOKUP($A50,'2024-2025 '!#REF!,K$5,FALSE))","v":{"$error":"#REF!"}},null,{"$f":"IF($B50=\"*\",\"\",VLOOKUP($A50,'2024-2025 '!#REF!,M$5,FALSE))","v":{"$error":"#REF!"}}]
[24,{"$f":"VLOOKUP(A51,'2024-2025 '!#REF!,9,FALSE)","v":{"$error":"#REF!"}},{"$f":"VLOOKUP($A51,'2024-2025 '!#REF!,C$26,FALSE)","v":{"$error":"#REF!"}},{"$f":"IF($B51=\"*\",\"\",VLOOKUP($A51,'2024-2025 '!#REF!,D$26,FALSE))","v":{"$error":"#REF!"}},{"$f":"IF($B51=\"*\",\"\",VLOOKUP($A51,'2024-2025 '!#REF!,E$26,FALSE))","v":{"$error":"#REF!"}},{"$f":"IF($B51=\"*\",\"\",VLOOKUP($A51,'2024-2025 '!#REF!,F$26,FALSE))","v":{"$error":"#REF!"}},{"$f":"IF($B51=\"*\",\"\",VLOOKUP($A51,'2024-2025 '!#REF!,G$26,FALSE))","v":{"$error":"#REF!"}},null,{"$f":"IF($B51=\"*\",\"\",VLOOKUP($A51,'2024-2025 '!#REF!,I$26,FALSE))","v":{"$error":"#REF!"}},null,{"$f":"IF($B51=\"*\",\"\",VLOOKUP($A51,'2024-2025 '!#REF!,K$5,FALSE))","v":{"$error":"#REF!"}},null,{"$f":"IF($B51=\"*\",\"\",VLOOKUP($A51,'2024-2025 '!#REF!,M$5,FALSE))","v":{"$error":"#REF!"}}]
[25,{"$f":"VLOOKUP(A52,'2024-2025 '!#REF!,9,FALSE)","v":{"$error":"#REF!"}},{"$f":"VLOOKUP($A52,'2024-2025 '!#REF!,C$26,FALSE)","v":{"$error":"#REF!"}},{"$f":"IF($B52=\"*\",\"\",VLOOKUP($A52,'2024-2025 '!#REF!,D$26,FALSE))","v":{"$error":"#REF!"}},{"$f":"IF($B52=\"*\",\"\",VLOOKUP($A52,'2024-2025 '!#REF!,E$26,FALSE))","v":{"$error":"#REF!"}},{"$f":"IF($B52=\"*\",\"\",VLOOKUP($A52,'2024-2025 '!#REF!,F$26,FALSE))","v":{"$error":"#REF!"}},{"$f":"IF($B52=\"*\",\"\",VLOOKUP($A52,'2024-2025 '!#REF!,G$26,FALSE))","v":{"$error":"#REF!"}},null,{"$f":"IF($B52=\"*\",\"\",VLOOKUP($A52,'2024-2025 '!#REF!,I$26,FALSE))","v":{"$error":"#REF!"}},null,{"$f":"IF($B52=\"*\",\"\",VLOOKUP($A52,'2024-2025 '!#REF!,K$5,FALSE))","v":{"$error":"#REF!"}},null,{"$f":"IF($B52=\"*\",\"\",VLOOKUP($A52,'2024-2025 '!#REF!,M$5,FALSE))","v":{"$error":"#REF!"}}]
[26,{"$f":"VLOOKUP(A53,'2024-2025 '!#REF!,9,FALSE)","v":{"$error":"#REF!"}},{"$f":"VLOOKUP($A53,'2024-2025 '!#REF!,C$26,FALSE)","v":{"$error":"#REF!"}},{"$f":"IF($B53=\"*\",\"\",VLOOKUP($A53,'2024-2025 '!#REF!,D$26,FALSE))","v":{"$error":"#REF!"}},{"$f":"IF($B53=\"*\",\"\",VLOOKUP($A53,'2024-2025 '!#REF!,E$26,FALSE))","v":{"$error":"#REF!"}},{"$f":"IF($B53=\"*\",\"\",VLOOKUP($A53,'2024-2025 '!#REF!,F$26,FALSE))","v":{"$error":"#REF!"}},{"$f":"IF($B53=\"*\",\"\",VLOOKUP($A53,'2024-2025 '!#REF!,G$26,FALSE))","v":{"$error":"#REF!"}},null,{"$f":"IF($B53=\"*\",\"\",VLOOKUP($A53,'2024-2025 '!#REF!,I$26,FALSE))","v":{"$error":"#REF!"}},null,{"$f":"IF($B53=\"*\",\"\",VLOOKUP($A53,'2024-2025 '!#REF!,K$5,FALSE))","v":{"$error":"#REF!"}},null,{"$f":"IF($B53=\"*\",\"\",VLOOKUP($A53,'2024-2025 '!#REF!,M$5,FALSE))","v":{"$error":"#REF!"}}]
[27,{"$f":"VLOOKUP(A54,'2024-2025 '!#REF!,9,FALSE)","v":{"$error":"#REF!"}},{"$f":"VLOOKUP($A54,'2024-2025 '!#REF!,C$26,FALSE)","v":{"$error":"#REF!"}},{"$f":"IF($B54=\"*\",\"\",VLOOKUP($A54,'2024-2025 '!#REF!,D$26,FALSE))","v":{"$error":"#REF!"}},{"$f":"IF($B54=\"*\",\"\",VLOOKUP($A54,'2024-2025 '!#REF!,E$26,FALSE))","v":{"$error":"#REF!"}},{"$f":"IF($B54=\"*\",\"\",VLOOKUP($A54,'2024-2025 '!#REF!,F$26,FALSE))","v":{"$error":"#REF!"}},{"$f":"IF($B54=\"*\",\"\",VLOOKUP($A54,'2024-2025 '!#REF!,G$26,FALSE))","v":{"$error":"#REF!"}},null,{"$f":"IF($B54=\"*\",\"\",VLOOKUP($A54,'2024-2025 '!#REF!,I$26,FALSE))","v":{"$error":"#REF!"}},null,{"$f":"IF($B54=\"*\",\"\",VLOOKUP($A54,'2024-2025 '!#REF!,K$5,FALSE))","v":{"$error":"#REF!"}},null,{"$f":"IF($B54=\"*\",\"\",VLOOKUP($A54,'2024-2025 '!#REF!,M$5,FALSE))","v":{"$error":"#REF!"}}]
[28,{"$f":"VLOOKUP(A55,'2024-2025 '!#REF!,9,FALSE)","v":{"$error":"#REF!"}},{"$f":"VLOOKUP($A55,'2024-2025 '!#REF!,C$26,FALSE)","v":{"$error":"#REF!"}},{"$f":"IF($B55=\"*\",\"\",VLOOKUP($A55,'2024-2025 '!#REF!,D$26,FALSE))","v":{"$error":"#REF!"}},{"$f":"IF($B55=\"*\",\"\",VLOOKUP($A55,'2024-2025 '!#REF!,E$26,FALSE))","v":{"$error":"#REF!"}},{"$f":"IF($B55=\"*\",\"\",VLOOKUP($A55,'2024-2025 '!#REF!,F$26,FALSE))","v":{"$error":"#REF!"}},{"$f":"IF($B55=\"*\",\"\",VLOOKUP($A55,'2024-2025 '!#REF!,G$26,FALSE))","v":{"$error":"#REF!"}},null,{"$f":"IF($B55=\"*\",\"\",VLOOKUP($A55,'2024-2025 '!#REF!,I$26,FALSE))","v":{"$error":"#REF!"}},null,{"$f":"IF($B55=\"*\",\"\",VLOOKUP($A55,'2024-2025 '!#REF!,K$5,FALSE))","v":{"$error":"#REF!"}},null,{"$f":"IF($B55=\"*\",\"\",VLOOKUP($A55,'2024-2025 '!#REF!,M$5,FALSE))","v":{"$error":"#REF!"}}]
[29,{"$f":"VLOOKUP(A56,'2024-2025 '!#REF!,9,FALSE)","v":{"$error":"#REF!"}},{"$f":"VLOOKUP($A56,'2024-2025 '!#REF!,C$26,FALSE)","v":{"$error":"#REF!"}},{"$f":"IF($B56=\"*\",\"\",VLOOKUP($A56,'2024-2025 '!#REF!,D$26,FALSE))","v":{"$error":"#REF!"}},{"$f":"IF($B56=\"*\",\"\",VLOOKUP($A56,'2024-2025 '!#REF!,E$26,FALSE))","v":{"$error":"#REF!"}},{"$f":"IF($B56=\"*\",\"\",VLOOKUP($A56,'2024-2025 '!#REF!,F$26,FALSE))","v":{"$error":"#REF!"}},{"$f":"IF($B56=\"*\",\"\",VLOOKUP($A56,'2024-2025 '!#REF!,G$26,FALSE))","v":{"$error":"#REF!"}},null,{"$f":"IF($B56=\"*\",\"\",VLOOKUP($A56,'2024-2025 '!#REF!,I$26,FALSE))","v":{"$error":"#REF!"}},null,{"$f":"IF($B56=\"*\",\"\",VLOOKUP($A56,'2024-2025 '!#REF!,K$5,FALSE))","v":{"$error":"#REF!"}},null,{"$f":"IF($B56=\"*\",\"\",VLOOKUP($A56,'2024-2025 '!#REF!,M$5,FALSE))","v":{"$error":"#REF!"}}]
[30,{"$f":"VLOOKUP(A57,'2024-2025 '!#REF!,9,FALSE)","v":{"$error":"#REF!"}},{"$f":"VLOOKUP($A57,'2024-2025 '!#REF!,C$26,FALSE)","v":{"$error":"#REF!"}},{"$f":"IF($B57=\"*\",\"\",VLOOKUP($A57,'2024-2025 '!#REF!,D$26,FALSE))","v":{"$error":"#REF!"}},{"$f":"IF($B57=\"*\",\"\",VLOOKUP($A57,'2024-2025 '!#REF!,E$26,FALSE))","v":{"$error":"#REF!"}},{"$f":"IF($B57=\"*\",\"\",VLOOKUP($A57,'2024-2025 '!#REF!,F$26,FALSE))","v":{"$error":"#REF!"}},{"$f":"IF($B57=\"*\",\"\",VLOOKUP($A57,'2024-2025 '!#REF!,G$26,FALSE))","v":{"$error":"#REF!"}},null,{"$f":"IF($B57=\"*\",\"\",VLOOKUP($A57,'2024-2025 '!#REF!,I$26,FALSE))","v":{"$error":"#REF!"}},null,{"$f":"IF($B57=\"*\",\"\",VLOOKUP($A57,'2024-2025 '!#REF!,K$5,FALSE))","v":{"$error":"#REF!"}},null,{"$f":"IF($B57=\"*\",\"\",VLOOKUP($A57,'2024-2025 '!#REF!,M$5,FALSE))","v":{"$error":"#REF!"}}]
[31,{"$f":"VLOOKUP(A58,'2024-2025 '!#REF!,9,FALSE)","v":{"$error":"#REF!"}},{"$f":"VLOOKUP($A58,'2024-2025 '!#REF!,C$26,FALSE)","v":{"$error":"#REF!"}},{"$f":"IF($B58=\"*\",\"\",VLOOKUP($A58,'2024-2025 '!#REF!,D$26,FALSE))","v":{"$error":"#REF!"}},{"$f":"IF($B58=\"*\",\"\",VLOOKUP($A58,'2024-2025 '!#REF!,E$26,FALSE))","v":{"$error":"#REF!"}},{"$f":"IF($B58=\"*\",\"\",VLOOKUP($A58,'2024-2025 '!#REF!,F$26,FALSE))","v":{"$error":"#REF!"}},{"$f":"IF($B58=\"*\",\"\",VLOOKUP($A58,'2024-2025 '!#REF!,G$26,FALSE))","v":{"$error":"#REF!"}},null,{"$f":"IF($B58=\"*\",\"\",VLOOKUP($A58,'2024-2025 '!#REF!,I$26,FALSE))","v":{"$error":"#REF!"}},null,{"$f":"IF($B58=\"*\",\"\",VLOOKUP($A58,'2024-2025 '!#REF!,K$5,FALSE))","v":{"$error":"#REF!"}},null,{"$f":"IF($B58=\"*\",\"\",VLOOKUP($A58,'2024-2025 '!#REF!,M$5,FALSE))","v":{"$error":"#REF!"}}]
[32,{"$f":"VLOOKUP(A59,'2024-2025 '!#REF!,9,FALSE)","v":{"$error":"#REF!"}},{"$f":"VLOOKUP($A59,'2024-2025 '!#REF!,C$26,FALSE)","v":{"$error":"#REF!"}},{"$f":"IF($B59=\"*\",\"\",VLOOKUP($A59,'2024-2025 '!#REF!,D$26,FALSE))","v":{"$error":"#REF!"}},{"$f":"IF($B59=\"*\",\"\",VLOOKUP($A59,'2024-2025 '!#REF!,E$26,FALSE))","v":{"$error":"#REF!"}},{"$f":"IF($B59=\"*\",\"\",VLOOKUP($A59,'2024-2025 '!#REF!,F$26,FALSE))","v":{"$error":"#REF!"}},{"$f":"IF($B59=\"*\",\"\",VLOOKUP($A59,'2024-2025 '!#REF!,G$26,FALSE))","v":{"$error":"#REF!"}},null,{"$f":"IF($B59=\"*\",\"\",VLOOKUP($A59,'2024-2025 '!#REF!,I$26,FALSE))","v":{"$error":"#REF!"}},null,{"$f":"IF($B59=\"*\",\"\",VLOOKUP($A59,'2024-2025 '!#REF!,K$5,FALSE))","v":{"$error":"#REF!"}},null,{"$f":"IF($B59=\"*\",\"\",VLOOKUP($A59,'2024-2025 '!#REF!,M$5,FALSE))","v":{"$error":"#REF!"}}]
[33,{"$f":"VLOOKUP(A60,'2024-2025 '!#REF!,9,FALSE)","v":{"$error":"#REF!"}},{"$f":"VLOOKUP($A60,'2024-2025 '!#REF!,C$26,FALSE)","v":{"$error":"#REF!"}},{"$f":"IF($B60=\"*\",\"\",VLOOKUP($A60,'2024-2025 '!#REF!,D$26,FALSE))","v":{"$error":"#REF!"}},{"$f":"IF($B60=\"*\",\"\",VLOOKUP($A60,'2024-2025 '!#REF!,E$26,FALSE))","v":{"$error":"#REF!"}},{"$f":"IF($B60=\"*\",\"\",VLOOKUP($A60,'2024-2025 '!#REF!,F$26,FALSE))","v":{"$error":"#REF!"}},{"$f":"IF($B60=\"*\",\"\",VLOOKUP($A60,'2024-2025 '!#REF!,G$26,FALSE))","v":{"$error":"#REF!"}},null,{"$f":"IF($B60=\"*\",\"\",VLOOKUP($A60,'2024-2025 '!#REF!,I$26,FALSE))","v":{"$error":"#REF!"}},null,{"$f":"IF($B60=\"*\",\"\",VLOOKUP($A60,'2024-2025 '!#REF!,K$5,FALSE))","v":{"$error":"#REF!"}},null,{"$f":"IF($B60=\"*\",\"\",VLOOKUP($A60,'2024-2025 '!#REF!,M$5,FALSE))","v":{"$error":"#REF!"}}]
[34,{"$f":"VLOOKUP(A61,'2024-2025 '!#REF!,9,FALSE)","v":{"$error":"#REF!"}},{"$f":"VLOOKUP($A61,'2024-2025 '!#REF!,C$26,FALSE)","v":{"$error":"#REF!"}},{"$f":"IF($B61=\"*\",\"\",VLOOKUP($A61,'2024-2025 '!#REF!,D$26,FALSE))","v":{"$error":"#REF!"}},{"$f":"IF($B61=\"*\",\"\",VLOOKUP($A61,'2024-2025 '!#REF!,E$26,FALSE))","v":{"$error":"#REF!"}},{"$f":"IF($B61=\"*\",\"\",VLOOKUP($A61,'2024-2025 '!#REF!,F$26,FALSE))","v":{"$error":"#REF!"}},{"$f":"IF($B61=\"*\",\"\",VLOOKUP($A61,'2024-2025 '!#REF!,G$26,FALSE))","v":{"$error":"#REF!"}},null,{"$f":"IF($B61=\"*\",\"\",VLOOKUP($A61,'2024-2025 '!#REF!,I$26,FALSE))","v":{"$error":"#REF!"}},null,{"$f":"IF($B61=\"*\",\"\",VLOOKUP($A61,'2024-2025 '!#REF!,K$5,FALSE))","v":{"$error":"#REF!"}},null,{"$f":"IF($B61=\"*\",\"\",VLOOKUP($A61,'2024-2025 '!#REF!,M$5,FALSE))","v":{"$error":"#REF!"}}]
[35,{"$f":"VLOOKUP(A62,'2024-2025 '!#REF!,9,FALSE)","v":{"$error":"#REF!"}},{"$f":"VLOOKUP($A62,'2024-2025 '!#REF!,C$26,FALSE)","v":{"$error":"#REF!"}},{"$f":"IF($B62=\"*\",\"\",VLOOKUP($A62,'2024-2025 '!#REF!,D$26,FALSE))","v":{"$error":"#REF!"}},{"$f":"IF($B62=\"*\",\"\",VLOOKUP($A62,'2024-2025 '!#REF!,E$26,FALSE))","v":{"$error":"#REF!"}},{"$f":"IF($B62=\"*\",\"\",VLOOKUP($A62,'2024-2025 '!#REF!,F$26,FALSE))","v":{"$error":"#REF!"}},{"$f":"IF($B62=\"*\",\"\",VLOOKUP($A62,'2024-2025 '!#REF!,G$26,FALSE))","v":{"$error":"#REF!"}},null,{"$f":"IF($B62=\"*\",\"\",VLOOKUP($A62,'2024-2025 '!#REF!,I$26,FALSE))","v":{"$error":"#REF!"}},null,{"$f":"IF($B62=\"*\",\"\",VLOOKUP($A62,'2024-2025 '!#REF!,K$5,FALSE))","v":{"$error":"#REF!"}},null,{"$f":"IF($B62=\"*\",\"\",VLOOKUP($A62,'2024-2025 '!#REF!,M$5,FALSE))","v":{"$error":"#REF!"}}]
[36,{"$f":"VLOOKUP(A63,'2024-2025 '!#REF!,9,FALSE)","v":{"$error":"#REF!"}},{"$f":"VLOOKUP($A63,'2024-2025 '!#REF!,C$26,FALSE)","v":{"$error":"#REF!"}},{"$f":"IF($B63=\"*\",\"\",VLOOKUP($A63,'2024-2025 '!#REF!,D$26,FALSE))","v":{"$error":"#REF!"}},{"$f":"IF($B63=\"*\",\"\",VLOOKUP($A63,'2024-2025 '!#REF!,E$26,FALSE))","v":{"$error":"#REF!"}},{"$f":"IF($B63=\"*\",\"\",VLOOKUP($A63,'2024-2025 '!#REF!,F$26,FALSE))","v":{"$error":"#REF!"}},{"$f":"IF($B63=\"*\",\"\",VLOOKUP($A63,'2024-2025 '!#REF!,G$26,FALSE))","v":{"$error":"#REF!"}},null,{"$f":"IF($B63=\"*\",\"\",VLOOKUP($A63,'2024-2025 '!#REF!,I$26,FALSE))","v":{"$error":"#REF!"}},null,{"$f":"IF($B63=\"*\",\"\",VLOOKUP($A63,'2024-2025 '!#REF!,K$5,FALSE))","v":{"$error":"#REF!"}},null,{"$f":"IF($B63=\"*\",\"\",VLOOKUP($A63,'2024-2025 '!#REF!,M$5,FALSE))","v":{"$error":"#REF!"}}]
[37,{"$f":"VLOOKUP(A64,'2024-2025 '!#REF!,9,FALSE)","v":{"$error":"#REF!"}},{"$f":"VLOOKUP($A64,'2024-2025 '!#REF!,C$26,FALSE)","v":{"$error":"#REF!"}},{"$f":"IF($B64=\"*\",\"\",VLOOKUP($A64,'2024-2025 '!#REF!,D$26,FALSE))","v":{"$error":"#REF!"}},{"$f":"IF($B64=\"*\",\"\",VLOOKUP($A64,'2024-2025 '!#REF!,E$26,FALSE))","v":{"$error":"#REF!"}},{"$f":"IF($B64=\"*\",\"\",VLOOKUP($A64,'2024-2025 '!#REF!,F$26,FALSE))","v":{"$error":"#REF!"}},{"$f":"IF($B64=\"*\",\"\",VLOOKUP($A64,'2024-2025 '!#REF!,G$26,FALSE))","v":{"$error":"#REF!"}},null,{"$f":"IF($B64=\"*\",\"\",VLOOKUP($A64,'2024-2025 '!#REF!,I$26,FALSE))","v":{"$error":"#REF!"}},null,{"$f":"IF($B64=\"*\",\"\",VLOOKUP($A64,'2024-2025 '!#REF!,K$5,FALSE))","v":{"$error":"#REF!"}},null,{"$f":"IF($B64=\"*\",\"\",VLOOKUP($A64,'2024-2025 '!#REF!,M$5,FALSE))","v":{"$error":"#REF!"}}]
[38,{"$f":"VLOOKUP(A65,'2024-2025 '!#REF!,9,FALSE)","v":{"$error":"#REF!"}},{"$f":"VLOOKUP($A65,'2024-2025 '!#REF!,C$26,FALSE)","v":{"$error":"#REF!"}},{"$f":"IF($B65=\"*\",\"\",VLOOKUP($A65,'2024-2025 '!#REF!,D$26,FALSE))","v":{"$error":"#REF!"}},{"$f":"IF($B65=\"*\",\"\",VLOOKUP($A65,'2024-2025 '!#REF!,E$26,FALSE))","v":{"$error":"#REF!"}},{"$f":"IF($B65=\"*\",\"\",VLOOKUP($A65,'2024-2025 '!#REF!,F$26,FALSE))","v":{"$error":"#REF!"}},{"$f":"IF($B65=\"*\",\"\",VLOOKUP($A65,'2024-2025 '!#REF!,G$26,FALSE))","v":{"$error":"#REF!"}},null,{"$f":"IF($B65=\"*\",\"\",VLOOKUP($A65,'2024-2025 '!#REF!,I$26,FALSE))","v":{"$error":"#REF!"}},null,{"$f":"IF($B65=\"*\",\"\",VLOOKUP($A65,'2024-2025 '!#REF!,K$5,FALSE))","v":{"$error":"#REF!"}},null,{"$f":"IF($B65=\"*\",\"\",VLOOKUP($A65,'2024-2025 '!#REF!,M$5,FALSE))","v":{"$error":"#REF!"}}]
[39,{"$f":"VLOOKUP(A66,'2024-2025 '!#REF!,9,FALSE)","v":{"$error":"#REF!"}},{"$f":"VLOOKUP($A66,'2024-2025 '!#REF!,C$26,FALSE)","v":{"$error":"#REF!"}},{"$f":"IF($B66=\"*\",\"\",VLOOKUP($A66,'2024-2025 '!#REF!,D$26,FALSE))","v":{"$error":"#REF!"}},{"$f":"IF($B66=\"*\",\"\",VLOOKUP($A66,'2024-2025 '!#REF!,E$26,FALSE))","v":{"$error":"#REF!"}},{"$f":"IF($B66=\"*\",\"\",VLOOKUP($A66,'2024-2025 '!#REF!,F$26,FALSE))","v":{"$error":"#REF!"}},{"$f":"IF($B66=\"*\",\"\",VLOOKUP($A66,'2024-2025 '!#REF!,G$26,FALSE))","v":{"$error":"#REF!"}},null,{"$f":"IF($B66=\"*\",\"\",VLOOKUP($A66,'2024-2025 '!#REF!,I$26,FALSE))","v":{"$error":"#REF!"}},null,{"$f":"IF($B66=\"*\",\"\",VLOOKUP($A66,'2024-2025 '!#REF!,K$5,FALSE))","v":{"$error":"#REF!"}},null,{"$f":"IF($B66=\"*\",\"\",VLOOKUP($A66,'2024-2025 '!#REF!,M$5,FALSE))","v":{"$error":"#REF!"}}]
[40,{"$f":"VLOOKUP(A67,'2024-2025 '!#REF!,9,FALSE)","v":{"$error":"#REF!"}},{"$f":"VLOOKUP($A67,'2024-2025 '!#REF!,C$26,FALSE)","v":{"$error":"#REF!"}},{"$f":"IF($B67=\"*\",\"\",VLOOKUP($A67,'2024-2025 '!#REF!,D$26,FALSE))","v":{"$error":"#REF!"}},{"$f":"IF($B67=\"*\",\"\",VLOOKUP($A67,'2024-2025 '!#REF!,E$26,FALSE))","v":{"$error":"#REF!"}},{"$f":"IF($B67=\"*\",\"\",VLOOKUP($A67,'2024-2025 '!#REF!,F$26,FALSE))","v":{"$error":"#REF!"}},{"$f":"IF($B67=\"*\",\"\",VLOOKUP($A67,'2024-2025 '!#REF!,G$26,FALSE))","v":{"$error":"#REF!"}},null,{"$f":"IF($B67=\"*\",\"\",VLOOKUP($A67,'2024-2025 '!#REF!,I$26,FALSE))","v":{"$error":"#REF!"}},null,{"$f":"IF($B67=\"*\",\"\",VLOOKUP($A67,'2024-2025 '!#REF!,K$5,FALSE))","v":{"$error":"#REF!"}},null,{"$f":"IF($B67=\"*\",\"\",VLOOKUP($A67,'2024-2025 '!#REF!,M$5,FALSE))","v":{"$error":"#REF!"}}]
[41,{"$f":"VLOOKUP(A68,'2024-2025 '!#REF!,9,FALSE)","v":{"$error":"#REF!"}},{"$f":"VLOOKUP($A68,'2024-2025 '!#REF!,C$26,FALSE)","v":{"$error":"#REF!"}},{"$f":"IF($B68=\"*\",\"\",VLOOKUP($A68,'2024-2025 '!#REF!,D$26,FALSE))","v":{"$error":"#REF!"}},{"$f":"IF($B68=\"*\",\"\",VLOOKUP($A68,'2024-2025 '!#REF!,E$26,FALSE))","v":{"$error":"#REF!"}},{"$f":"IF($B68=\"*\",\"\",VLOOKUP($A68,'2024-2025 '!#REF!,F$26,FALSE))","v":{"$error":"#REF!"}},{"$f":"IF($B68=\"*\",\"\",VLOOKUP($A68,'2024-2025 '!#REF!,G$26,FALSE))","v":{"$error":"#REF!"}},null,{"$f":"IF($B68=\"*\",\"\",VLOOKUP($A68,'2024-2025 '!#REF!,I$26,FALSE))","v":{"$error":"#REF!"}},null,{"$f":"IF($B68=\"*\",\"\",VLOOKUP($A68,'2024-2025 '!#REF!,K$5,FALSE))","v":{"$error":"#REF!"}},null,{"$f":"IF($B68=\"*\",\"\",VLOOKUP($A68,'2024-2025 '!#REF!,M$5,FALSE))","v":{"$error":"#REF!"}}]
[42,{"$f":"VLOOKUP(A69,'2024-2025 '!#REF!,9,FALSE)","v":{"$error":"#REF!"}},{"$f":"VLOOKUP($A69,'2024-2025 '!#REF!,C$26,FALSE)","v":{"$error":"#REF!"}},{"$f":"IF($B69=\"*\",\"\",VLOOKUP($A69,'2024-2025 '!#REF!,D$26,FALSE))","v":{"$error":"#REF!"}},{"$f":"IF($B69=\"*\",\"\",VLOOKUP($A69,'2024-2025 '!#REF!,E$26,FALSE))","v":{"$error":"#REF!"}},{"$f":"IF($B69=\"*\",\"\",VLOOKUP($A69,'2024-2025 '!#REF!,F$26,FALSE))","v":{"$error":"#REF!"}},{"$f":"IF($B69=\"*\",\"\",VLOOKUP($A69,'2024-2025 '!#REF!,G$26,FALSE))","v":{"$error":"#REF!"}},null,{"$f":"IF($B69=\"*\",\"\",VLOOKUP($A69,'2024-2025 '!#REF!,I$26,FALSE))","v":{"$error":"#REF!"}},null,{"$f":"IF($B69=\"*\",\"\",VLOOKUP($A69,'2024-2025 '!#REF!,K$5,FALSE))","v":{"$error":"#REF!"}},null,{"$f":"IF($B69=\"*\",\"\",VLOOKUP($A69,'2024-2025 '!#REF!,M$5,FALSE))","v":{"$error":"#REF!"}}]
[43,{"$f":"VLOOKUP(A70,'2024-2025 '!#REF!,9,FALSE)","v":{"$error":"#REF!"}},{"$f":"VLOOKUP($A70,'2024-2025 '!#REF!,C$26,FALSE)","v":{"$error":"#REF!"}},{"$f":"IF($B70=\"*\",\"\",VLOOKUP($A70,'2024-2025 '!#REF!,D$26,FALSE))","v":{"$error":"#REF!"}},{"$f":"IF($B70=\"*\",\"\",VLOOKUP($A70,'2024-2025 '!#REF!,E$26,FALSE))","v":{"$error":"#REF!"}},{"$f":"IF($B70=\"*\",\"\",VLOOKUP($A70,'2024-2025 '!#REF!,F$26,FALSE))","v":{"$error":"#REF!"}},{"$f":"IF($B70=\"*\",\"\",VLOOKUP($A70,'2024-2025 '!#REF!,G$26,FALSE))","v":{"$error":"#REF!"}},null,{"$f":"IF($B70=\"*\",\"\",VLOOKUP($A70,'2024-2025 '!#REF!,I$26,FALSE))","v":{"$error":"#REF!"}},null,{"$f":"IF($B70=\"*\",\"\",VLOOKUP($A70,'2024-2025 '!#REF!,K$5,FALSE))","v":{"$error":"#REF!"}},null,{"$f":"IF($B70=\"*\",\"\",VLOOKUP($A70,'2024-2025 '!#REF!,M$5,FALSE))","v":{"$error":"#REF!"}}]
[44,{"$f":"VLOOKUP(A71,'2024-2025 '!#REF!,9,FALSE)","v":{"$error":"#REF!"}},{"$f":"VLOOKUP($A71,'2024-2025 '!#REF!,C$26,FALSE)","v":{"$error":"#REF!"}},{"$f":"IF($B71=\"*\",\"\",VLOOKUP($A71,'2024-2025 '!#REF!,D$26,FALSE))","v":{"$error":"#REF!"}},{"$f":"IF($B71=\"*\",\"\",VLOOKUP($A71,'2024-2025 '!#REF!,E$26,FALSE))","v":{"$error":"#REF!"}},{"$f":"IF($B71=\"*\",\"\",VLOOKUP($A71,'2024-2025 '!#REF!,F$26,FALSE))","v":{"$error":"#REF!"}},{"$f":"IF($B71=\"*\",\"\",VLOOKUP($A71,'2024-2025 '!#REF!,G$26,FALSE))","v":{"$error":"#REF!"}},null,{"$f":"IF($B71=\"*\",\"\",VLOOKUP($A71,'2024-2025 '!#REF!,I$26,FALSE))","v":{"$error":"#REF!"}},null,{"$f":"IF($B71=\"*\",\"\",VLOOKUP($A71,'2024-2025 '!#REF!,K$5,FALSE))","v":{"$error":"#REF!"}},null,{"$f":"IF($B71=\"*\",\"\",VLOOKUP($A71,'2024-2025 '!#REF!,M$5,FALSE))","v":{"$error":"#REF!"}}]
[45,{"$f":"VLOOKUP(A72,'2024-2025 '!#REF!,9,FALSE)","v":{"$error":"#REF!"}},{"$f":"VLOOKUP($A72,'2024-2025 '!#REF!,C$26,FALSE)","v":{"$error":"#REF!"}},{"$f":"IF($B72=\"*\",\"\",VLOOKUP($A72,'2024-2025 '!#REF!,D$26,FALSE))","v":{"$error":"#REF!"}},{"$f":"IF($B72=\"*\",\"\",VLOOKUP($A72,'2024-2025 '!#REF!,E$26,FALSE))","v":{"$error":"#REF!"}},{"$f":"IF($B72=\"*\",\"\",VLOOKUP($A72,'2024-2025 '!#REF!,F$26,FALSE))","v":{"$error":"#REF!"}},{"$f":"IF($B72=\"*\",\"\",VLOOKUP($A72,'2024-2025 '!#REF!,G$26,FALSE))","v":{"$error":"#REF!"}},null,{"$f":"IF($B72=\"*\",\"\",VLOOKUP($A72,'2024-2025 '!#REF!,I$26,FALSE))","v":{"$error":"#REF!"}},null,{"$f":"IF($B72=\"*\",\"\",VLOOKUP($A72,'2024-2025 '!#REF!,K$5,FALSE))","v":{"$error":"#REF!"}},null,{"$f":"IF($B72=\"*\",\"\",VLOOKUP($A72,'2024-2025 '!#REF!,M$5,FALSE))","v":{"$error":"#REF!"}}]
[46,{"$f":"VLOOKUP(A73,'2024-2025 '!#REF!,9,FALSE)","v":{"$error":"#REF!"}},{"$f":"VLOOKUP($A73,'2024-2025 '!#REF!,C$26,FALSE)","v":{"$error":"#REF!"}},{"$f":"IF($B73=\"*\",\"\",VLOOKUP($A73,'2024-2025 '!#REF!,D$26,FALSE))","v":{"$error":"#REF!"}},{"$f":"IF($B73=\"*\",\"\",VLOOKUP($A73,'2024-2025 '!#REF!,E$26,FALSE))","v":{"$error":"#REF!"}},{"$f":"IF($B73=\"*\",\"\",VLOOKUP($A73,'2024-2025 '!#REF!,F$26,FALSE))","v":{"$error":"#REF!"}},{"$f":"IF($B73=\"*\",\"\",VLOOKUP($A73,'2024-2025 '!#REF!,G$26,FALSE))","v":{"$error":"#REF!"}},null,{"$f":"IF($B73=\"*\",\"\",VLOOKUP($A73,'2024-2025 '!#REF!,I$26,FALSE))","v":{"$error":"#REF!"}},null,{"$f":"IF($B73=\"*\",\"\",VLOOKUP($A73,'2024-2025 '!#REF!,K$5,FALSE))","v":{"$error":"#REF!"}},null,{"$f":"IF($B73=\"*\",\"\",VLOOKUP($A73,'2024-2025 '!#REF!,M$5,FALSE))","v":{"$error":"#REF!"}}]
[47,{"$f":"VLOOKUP(A74,'2024-2025 '!#REF!,9,FALSE)","v":{"$error":"#REF!"}},{"$f":"VLOOKUP($A74,'2024-2025 '!#REF!,C$26,FALSE)","v":{"$error":"#REF!"}},{"$f":"IF($B74=\"*\",\"\",VLOOKUP($A74,'2024-2025 '!#REF!,D$26,FALSE))","v":{"$error":"#REF!"}},{"$f":"IF($B74=\"*\",\"\",VLOOKUP($A74,'2024-2025 '!#REF!,E$26,FALSE))","v":{"$error":"#REF!"}},{"$f":"IF($B74=\"*\",\"\",VLOOKUP($A74,'2024-2025 '!#REF!,F$26,FALSE))","v":{"$error":"#REF!"}},{"$f":"IF($B74=\"*\",\"\",VLOOKUP($A74,'2024-2025 '!#REF!,G$26,FALSE))","v":{"$error":"#REF!"}},null,{"$f":"IF($B74=\"*\",\"\",VLOOKUP($A74,'2024-2025 '!#REF!,I$26,FALSE))","v":{"$error":"#REF!"}},null,{"$f":"IF($B74=\"*\",\"\",VLOOKUP($A74,'2024-2025 '!#REF!,K$5,FALSE))","v":{"$error":"#REF!"}},null,{"$f":"IF($B74=\"*\",\"\",VLOOKUP($A74,'2024-2025 '!#REF!,M$5,FALSE))","v":{"$error":"#REF!"}}]
[48,{"$f":"VLOOKUP(A75,'2024-2025 '!#REF!,9,FALSE)","v":{"$error":"#REF!"}},{"$f":"VLOOKUP($A75,'2024-2025 '!#REF!,C$26,FALSE)","v":{"$error":"#REF!"}},{"$f":"IF($B75=\"*\",\"\",VLOOKUP($A75,'2024-2025 '!#REF!,D$26,FALSE))","v":{"$error":"#REF!"}},{"$f":"IF($B75=\"*\",\"\",VLOOKUP($A75,'2024-2025 '!#REF!,E$26,FALSE))","v":{"$error":"#REF!"}},{"$f":"IF($B75=\"*\",\"\",VLOOKUP($A75,'2024-2025 '!#REF!,F$26,FALSE))","v":{"$error":"#REF!"}},{"$f":"IF($B75=\"*\",\"\",VLOOKUP($A75,'2024-2025 '!#REF!,G$26,FALSE))","v":{"$error":"#REF!"}},null,{"$f":"IF($B75=\"*\",\"\",VLOOKUP($A75,'2024-2025 '!#REF!,I$26,FALSE))","v":{"$error":"#REF!"}},null,{"$f":"IF($B75=\"*\",\"\",VLOOKUP($A75,'2024-2025 '!#REF!,K$5,FALSE))","v":{"$error":"#REF!"}},null,{"$f":"IF($B75=\"*\",\"\",VLOOKUP($A75,'2024-2025 '!#REF!,M$5,FALSE))","v":{"$error":"#REF!"}}]
[49,{"$f":"VLOOKUP(A76,'2024-2025 '!#REF!,9,FALSE)","v":{"$error":"#REF!"}},{"$f":"VLOOKUP($A76,'2024-2025 '!#REF!,C$26,FALSE)","v":{"$error":"#REF!"}},{"$f":"IF($B76=\"*\",\"\",VLOOKUP($A76,'2024-2025 '!#REF!,D$26,FALSE))","v":{"$error":"#REF!"}},{"$f":"IF($B76=\"*\",\"\",VLOOKUP($A76,'2024-2025 '!#REF!,E$26,FALSE))","v":{"$error":"#REF!"}},{"$f":"IF($B76=\"*\",\"\",VLOOKUP($A76,'2024-2025 '!#REF!,F$26,FALSE))","v":{"$error":"#REF!"}},{"$f":"IF($B76=\"*\",\"\",VLOOKUP($A76,'2024-2025 '!#REF!,G$26,FALSE))","v":{"$error":"#REF!"}},null,{"$f":"IF($B76=\"*\",\"\",VLOOKUP($A76,'2024-2025 '!#REF!,I$26,FALSE))","v":{"$error":"#REF!"}},null,{"$f":"IF($B76=\"*\",\"\",VLOOKUP($A76,'2024-2025 '!#REF!,K$5,FALSE))","v":{"$error":"#REF!"}},null,{"$f":"IF($B76=\"*\",\"\",VLOOKUP($A76,'2024-2025 '!#REF!,M$5,FALSE))","v":{"$error":"#REF!"}}]
[50,{"$f":"VLOOKUP(A77,'2024-2025 '!#REF!,9,FALSE)","v":{"$error":"#REF!"}},{"$f":"VLOOKUP($A77,'2024-2025 '!#REF!,C$26,FALSE)","v":{"$error":"#REF!"}},{"$f":"IF($B77=\"*\",\"\",VLOOKUP($A77,'2024-2025 '!#REF!,D$26,FALSE))","v":{"$error":"#REF!"}},{"$f":"IF($B77=\"*\",\"\",VLOOKUP($A77,'2024-2025 '!#REF!,E$26,FALSE))","v":{"$error":"#REF!"}},{"$f":"IF($B77=\"*\",\"\",VLOOKUP($A77,'2024-2025 '!#REF!,F$26,FALSE))","v":{"$error":"#REF!"}},{"$f":"IF($B77=\"*\",\"\",VLOOKUP($A77,'2024-2025 '!#REF!,G$26,FALSE))","v":{"$error":"#REF!"}},null,{"$f":"IF($B77=\"*\",\"\",VLOOKUP($A77,'2024-2025 '!#REF!,I$26,FALSE))","v":{"$error":"#REF!"}},null,{"$f":"IF($B77=\"*\",\"\",VLOOKUP($A77,'2024-2025 '!#REF!,K$5,FALSE))","v":{"$error":"#REF!"}},null,{"$f":"IF($B77=\"*\",\"\",VLOOKUP($A77,'2024-2025 '!#REF!,M$5,FALSE))","v":{"$error":"#REF!"}}]
[51,{"$f":"VLOOKUP(A78,'2024-2025 '!#REF!,9,FALSE)","v":{"$error":"#REF!"}},{"$f":"VLOOKUP($A78,'2024-2025 '!#REF!,C$26,FALSE)","v":{"$error":"#REF!"}},{"$f":"IF($B78=\"*\",\"\",VLOOKUP($A78,'2024-2025 '!#REF!,D$26,FALSE))","v":{"$error":"#REF!"}},{"$f":"IF($B78=\"*\",\"\",VLOOKUP($A78,'2024-2025 '!#REF!,E$26,FALSE))","v":{"$error":"#REF!"}},{"$f":"IF($B78=\"*\",\"\",VLOOKUP($A78,'2024-2025 '!#REF!,F$26,FALSE))","v":{"$error":"#REF!"}},{"$f":"IF($B78=\"*\",\"\",VLOOKUP($A78,'2024-2025 '!#REF!,G$26,FALSE))","v":{"$error":"#REF!"}},null,{"$f":"IF($B78=\"*\",\"\",VLOOKUP($A78,'2024-2025 '!#REF!,I$26,FALSE))","v":{"$error":"#REF!"}},null,{"$f":"IF($B78=\"*\",\"\",VLOOKUP($A78,'2024-2025 '!#REF!,K$5,FALSE))","v":{"$error":"#REF!"}},null,{"$f":"IF($B78=\"*\",\"\",VLOOKUP($A78,'2024-2025 '!#REF!,M$5,FALSE))","v":{"$error":"#REF!"}}]
[52,{"$f":"VLOOKUP(A79,'2024-2025 '!#REF!,9,FALSE)","v":{"$error":"#REF!"}},{"$f":"VLOOKUP($A79,'2024-2025 '!#REF!,C$26,FALSE)","v":{"$error":"#REF!"}},{"$f":"IF($B79=\"*\",\"\",VLOOKUP($A79,'2024-2025 '!#REF!,D$26,FALSE))","v":{"$error":"#REF!"}},{"$f":"IF($B79=\"*\",\"\",VLOOKUP($A79,'2024-2025 '!#REF!,E$26,FALSE))","v":{"$error":"#REF!"}},{"$f":"IF($B79=\"*\",\"\",VLOOKUP($A79,'2024-2025 '!#REF!,F$26,FALSE))","v":{"$error":"#REF!"}},{"$f":"IF($B79=\"*\",\"\",VLOOKUP($A79,'2024-2025 '!#REF!,G$26,FALSE))","v":{"$error":"#REF!"}},null,{"$f":"IF($B79=\"*\",\"\",VLOOKUP($A79,'2024-2025 '!#REF!,I$26,FALSE))","v":{"$error":"#REF!"}},null,{"$f":"IF($B79=\"*\",\"\",VLOOKUP($A79,'2024-2025 '!#REF!,K$5,FALSE))","v":{"$error":"#REF!"}},null,{"$f":"IF($B79=\"*\",\"\",VLOOKUP($A79,'2024-2025 '!#REF!,M$5,FALSE))","v":{"$error":"#REF!"}}]
[53,{"$f":"VLOOKUP(A80,'2024-2025 '!#REF!,9,FALSE)","v":{"$error":"#REF!"}},{"$f":"VLOOKUP($A80,'2024-2025 '!#REF!,C$26,FALSE)","v":{"$error":"#REF!"}},{"$f":"IF($B80=\"*\",\"\",VLOOKUP($A80,'2024-2025 '!#REF!,D$26,FALSE))","v":{"$error":"#REF!"}},{"$f":"IF($B80=\"*\",\"\",VLOOKUP($A80,'2024-2025 '!#REF!,E$26,FALSE))","v":{"$error":"#REF!"}},{"$f":"IF($B80=\"*\",\"\",VLOOKUP($A80,'2024-2025 '!#REF!,F$26,FALSE))","v":{"$error":"#REF!"}},{"$f":"IF($B80=\"*\",\"\",VLOOKUP($A80,'2024-2025 '!#REF!,G$26,FALSE))","v":{"$error":"#REF!"}},null,{"$f":"IF($B80=\"*\",\"\",VLOOKUP($A80,'2024-2025 '!#REF!,I$26,FALSE))","v":{"$error":"#REF!"}},null,{"$f":"IF($B80=\"*\",\"\",VLOOKUP($A80,'2024-2025 '!#REF!,K$5,FALSE))","v":{"$error":"#REF!"}},null,{"$f":"IF($B80=\"*\",\"\",VLOOKUP($A80,'2024-2025 '!#REF!,M$5,FALSE))","v":{"$error":"#REF!"}}]
[54,{"$f":"VLOOKUP(A81,'2024-2025 '!#REF!,9,FALSE)","v":{"$error":"#REF!"}},{"$f":"VLOOKUP($A81,'2024-2025 '!#REF!,C$26,FALSE)","v":{"$error":"#REF!"}},{"$f":"IF($B81=\"*\",\"\",VLOOKUP($A81,'2024-2025 '!#REF!,D$26,FALSE))","v":{"$error":"#REF!"}},{"$f":"IF($B81=\"*\",\"\",VLOOKUP($A81,'2024-2025 '!#REF!,E$26,FALSE))","v":{"$error":"#REF!"}},{"$f":"IF($B81=\"*\",\"\",VLOOKUP($A81,'2024-2025 '!#REF!,F$26,FALSE))","v":{"$error":"#REF!"}},{"$f":"IF($B81=\"*\",\"\",VLOOKUP($A81,'2024-2025 '!#REF!,G$26,FALSE))","v":{"$error":"#REF!"}},null,{"$f":"IF($B81=\"*\",\"\",VLOOKUP($A81,'2024-2025 '!#REF!,I$26,FALSE))","v":{"$error":"#REF!"}},null,{"$f":"IF($B81=\"*\",\"\",VLOOKUP($A81,'2024-2025 '!#REF!,K$5,FALSE))","v":{"$error":"#REF!"}},null,{"$f":"IF($B81=\"*\",\"\",VLOOKUP($A81,'2024-2025 '!#REF!,M$5,FALSE))","v":{"$error":"#REF!"}}]
[55,{"$f":"VLOOKUP(A82,'2024-2025 '!#REF!,9,FALSE)","v":{"$error":"#REF!"}},{"$f":"VLOOKUP($A82,'2024-2025 '!#REF!,C$26,FALSE)","v":{"$error":"#REF!"}},{"$f":"IF($B82=\"*\",\"\",VLOOKUP($A82,'2024-2025 '!#REF!,D$26,FALSE))","v":{"$error":"#REF!"}},{"$f":"IF($B82=\"*\",\"\",VLOOKUP($A82,'2024-2025 '!#REF!,E$26,FALSE))","v":{"$error":"#REF!"}},{"$f":"IF($B82=\"*\",\"\",VLOOKUP($A82,'2024-2025 '!#REF!,F$26,FALSE))","v":{"$error":"#REF!"}},{"$f":"IF($B82=\"*\",\"\",VLOOKUP($A82,'2024-2025 '!#REF!,G$26,FALSE))","v":{"$error":"#REF!"}},null,{"$f":"IF($B82=\"*\",\"\",VLOOKUP($A82,'2024-2025 '!#REF!,I$26,FALSE))","v":{"$error":"#REF!"}},null,{"$f":"IF($B82=\"*\",\"\",VLOOKUP($A82,'2024-2025 '!#REF!,K$5,FALSE))","v":{"$error":"#REF!"}},null,{"$f":"IF($B82=\"*\",\"\",VLOOKUP($A82,'2024-2025 '!#REF!,M$5,FALSE))","v":{"$error":"#REF!"}}]
[56,{"$f":"VLOOKUP(A83,'2024-2025 '!#REF!,9,FALSE)","v":{"$error":"#REF!"}},{"$f":"VLOOKUP($A83,'2024-2025 '!#REF!,C$26,FALSE)","v":{"$error":"#REF!"}},{"$f":"IF($B83=\"*\",\"\",VLOOKUP($A83,'2024-2025 '!#REF!,D$26,FALSE))","v":{"$error":"#REF!"}},{"$f":"IF($B83=\"*\",\"\",VLOOKUP($A83,'2024-2025 '!#REF!,E$26,FALSE))","v":{"$error":"#REF!"}},{"$f":"IF($B83=\"*\",\"\",VLOOKUP($A83,'2024-2025 '!#REF!,F$26,FALSE))","v":{"$error":"#REF!"}},{"$f":"IF($B83=\"*\",\"\",VLOOKUP($A83,'2024-2025 '!#REF!,G$26,FALSE))","v":{"$error":"#REF!"}},null,{"$f":"IF($B83=\"*\",\"\",VLOOKUP($A83,'2024-2025 '!#REF!,I$26,FALSE))","v":{"$error":"#REF!"}},null,{"$f":"IF($B83=\"*\",\"\",VLOOKUP($A83,'2024-2025 '!#REF!,K$5,FALSE))","v":{"$error":"#REF!"}},null,{"$f":"IF($B83=\"*\",\"\",VLOOKUP($A83,'2024-2025 '!#REF!,M$5,FALSE))","v":{"$error":"#REF!"}}]
[57,{"$f":"VLOOKUP(A84,'2024-2025 '!#REF!,9,FALSE)","v":{"$error":"#REF!"}},{"$f":"VLOOKUP($A84,'2024-2025 '!#REF!,C$26,FALSE)","v":{"$error":"#REF!"}},{"$f":"IF($B84=\"*\",\"\",VLOOKUP($A84,'2024-2025 '!#REF!,D$26,FALSE))","v":{"$error":"#REF!"}},{"$f":"IF($B84=\"*\",\"\",VLOOKUP($A84,'2024-2025 '!#REF!,E$26,FALSE))","v":{"$error":"#REF!"}},{"$f":"IF($B84=\"*\",\"\",VLOOKUP($A84,'2024-2025 '!#REF!,F$26,FALSE))","v":{"$error":"#REF!"}},{"$f":"IF($B84=\"*\",\"\",VLOOKUP($A84,'2024-2025 '!#REF!,G$26,FALSE))","v":{"$error":"#REF!"}},null,{"$f":"IF($B84=\"*\",\"\",VLOOKUP($A84,'2024-2025 '!#REF!,I$26,FALSE))","v":{"$error":"#REF!"}},null,{"$f":"IF($B84=\"*\",\"\",VLOOKUP($A84,'2024-2025 '!#REF!,K$5,FALSE))","v":{"$error":"#REF!"}},null,{"$f":"IF($B84=\"*\",\"\",VLOOKUP($A84,'2024-2025 '!#REF!,M$5,FALSE))","v":{"$error":"#REF!"}}]
[58,{"$f":"VLOOKUP(A85,'2024-2025 '!#REF!,9,FALSE)","v":{"$error":"#REF!"}},{"$f":"VLOOKUP($A85,'2024-2025 '!#REF!,C$26,FALSE)","v":{"$error":"#REF!"}},{"$f":"IF($B85=\"*\",\"\",VLOOKUP($A85,'2024-2025 '!#REF!,D$26,FALSE))","v":{"$error":"#REF!"}},{"$f":"IF($B85=\"*\",\"\",VLOOKUP($A85,'2024-2025 '!#REF!,E$26,FALSE))","v":{"$error":"#REF!"}},{"$f":"IF($B85=\"*\",\"\",VLOOKUP($A85,'2024-2025 '!#REF!,F$26,FALSE))","v":{"$error":"#REF!"}},{"$f":"IF($B85=\"*\",\"\",VLOOKUP($A85,'2024-2025 '!#REF!,G$26,FALSE))","v":{"$error":"#REF!"}},null,{"$f":"IF($B85=\"*\",\"\",VLOOKUP($A85,'2024-2025 '!#REF!,I$26,FALSE))","v":{"$error":"#REF!"}},null,{"$f":"IF($B85=\"*\",\"\",VLOOKUP($A85,'2024-2025 '!#REF!,K$5,FALSE))","v":{"$error":"#REF!"}},null,{"$f":"IF($B85=\"*\",\"\",VLOOKUP($A85,'2024-2025 '!#REF!,M$5,FALSE))","v":{"$error":"#REF!"}}]
[59,{"$f":"VLOOKUP(A86,'2024-2025 '!#REF!,9,FALSE)","v":{"$error":"#REF!"}},{"$f":"VLOOKUP($A86,'2024-2025 '!#REF!,C$26,FALSE)","v":{"$error":"#REF!"}},{"$f":"IF($B86=\"*\",\"\",VLOOKUP($A86,'2024-2025 '!#REF!,D$26,FALSE))","v":{"$error":"#REF!"}},{"$f":"IF($B86=\"*\",\"\",VLOOKUP($A86,'2024-2025 '!#REF!,E$26,FALSE))","v":{"$error":"#REF!"}},{"$f":"IF($B86=\"*\",\"\",VLOOKUP($A86,'2024-2025 '!#REF!,F$26,FALSE))","v":{"$error":"#REF!"}},{"$f":"IF($B86=\"*\",\"\",VLOOKUP($A86,'2024-2025 '!#REF!,G$26,FALSE))","v":{"$error":"#REF!"}},null,{"$f":"IF($B86=\"*\",\"\",VLOOKUP($A86,'2024-2025 '!#REF!,I$26,FALSE))","v":{"$error":"#REF!"}},null,{"$f":"IF($B86=\"*\",\"\",VLOOKUP($A86,'2024-2025 '!#REF!,K$5,FALSE))","v":{"$error":"#REF!"}},null,{"$f":"IF($B86=\"*\",\"\",VLOOKUP($A86,'2024-2025 '!#REF!,M$5,FALSE))","v":{"$error":"#REF!"}}]
[null,null,null,null,null,"Sous total PERFECTIONNEMENT PROFESSIONNEL EN ENQUÊTE",{"$f":"SUM(G45:G86)","v":{"$error":"#REF!"}},null,{"$f":"SUM(I45:I86)","v":{"$error":"#REF!"}},null,{"$f":"SUM(K45:K86)","v":{"$error":"#REF!"}},null,{"$f":"SUM(M45:M86)","v":{"$error":"#REF!"}}]
[{"$f":"A86+1","v":60},{"$f":"VLOOKUP(A88,'2024-2025 '!#REF!,9,FALSE)","v":{"$error":"#REF!"}},{"$f":"VLOOKUP($A88,'2024-2025 '!#REF!,C$26,FALSE)","v":{"$error":"#REF!"}},null,null,null,null,null,null,null,{"$f":"IF($B88=\"*\",\"\",VLOOKUP($A88,'2024-2025 '!#REF!,K$5,FALSE))","v":{"$error":"#REF!"}},null,{"$f":"IF($B88=\"*\",\"\",VLOOKUP($A88,'2024-2025 '!#REF!,M$5,FALSE))","v":{"$error":"#REF!"}}]
[61,{"$f":"VLOOKUP(A89,'2024-2025 '!#REF!,9,FALSE)","v":{"$error":"#REF!"}},{"$f":"VLOOKUP($A89,'2024-2025 '!#REF!,C$26,FALSE)","v":{"$error":"#REF!"}},null,null,null,null,null,null,null,{"$f":"IF($B89=\"*\",\"\",VLOOKUP($A89,'2024-2025 '!#REF!,K$5,FALSE))","v":{"$error":"#REF!"}},null,{"$f":"IF($B89=\"*\",\"\",VLOOKUP($A89,'2024-2025 '!#REF!,M$5,FALSE))","v":{"$error":"#REF!"}}]
[62,{"$f":"VLOOKUP(A90,'2024-2025 '!#REF!,9,FALSE)","v":{"$error":"#REF!"}},{"$f":"VLOOKUP($A90,'2024-2025 '!#REF!,C$26,FALSE)","v":{"$error":"#REF!"}},{"$f":"IF($B90=\"*\",\"\",VLOOKUP($A90,'2024-2025 '!#REF!,D$26,FALSE))","v":{"$error":"#REF!"}},{"$f":"IF($B90=\"*\",\"\",VLOOKUP($A90,'2024-2025 '!#REF!,E$26,FALSE))","v":{"$error":"#REF!"}},{"$f":"IF($B90=\"*\",\"\",VLOOKUP($A90,'2024-2025 '!#REF!,F$26,FALSE))","v":{"$error":"#REF!"}},{"$f":"IF($B90=\"*\",\"\",VLOOKUP($A90,'2024-2025 '!#REF!,G$26,FALSE))","v":{"$error":"#REF!"}},null,{"$f":"IF($B90=\"*\",\"\",VLOOKUP($A90,'2024-2025 '!#REF!,I$26,FALSE))","v":{"$error":"#REF!"}},null,{"$f":"IF($B90=\"*\",\"\",VLOOKUP($A90,'2024-2025 '!#REF!,K$5,FALSE))","v":{"$error":"#REF!"}},null,{"$f":"IF($B90=\"*\",\"\",VLOOKUP($A90,'2024-2025 '!#REF!,M$5,FALSE))","v":{"$error":"#REF!"}}]
[63,{"$f":"VLOOKUP(A91,'2024-2025 '!#REF!,9,FALSE)","v":{"$error":"#REF!"}},{"$f":"VLOOKUP($A91,'2024-2025 '!#REF!,C$26,FALSE)","v":{"$error":"#REF!"}},{"$f":"IF($B91=\"*\",\"\",VLOOKUP($A91,'2024-2025 '!#REF!,D$26,FALSE))","v":{"$error":"#REF!"}},{"$f":"IF($B91=\"*\",\"\",VLOOKUP($A91,'2024-2025 '!#REF!,E$26,FALSE))","v":{"$error":"#REF!"}},{"$f":"IF($B91=\"*\",\"\",VLOOKUP($A91,'2024-2025 '!#REF!,F$26,FALSE))","v":{"$error":"#REF!"}},{"$f":"IF($B91=\"*\",\"\",VLOOKUP($A91,'2024-2025 '!#REF!,G$26,FALSE))","v":{"$error":"#REF!"}},null,{"$f":"IF($B91=\"*\",\"\",VLOOKUP($A91,'2024-2025 '!#REF!,I$26,FALSE))","v":{"$error":"#REF!"}},null,{"$f":"IF($B91=\"*\",\"\",VLOOKUP($A91,'2024-2025 '!#REF!,K$5,FALSE))","v":{"$error":"#REF!"}},null,{"$f":"IF($B91=\"*\",\"\",VLOOKUP($A91,'2024-2025 '!#REF!,M$5,FALSE))","v":{"$error":"#REF!"}}]
[64,{"$f":"VLOOKUP(A92,'2024-2025 '!#REF!,9,FALSE)","v":{"$error":"#REF!"}},{"$f":"VLOOKUP($A92,'2024-2025 '!#REF!,C$26,FALSE)","v":{"$error":"#REF!"}},{"$f":"IF($B92=\"*\",\"\",VLOOKUP($A92,'2024-2025 '!#REF!,D$26,FALSE))","v":{"$error":"#REF!"}},{"$f":"IF($B92=\"*\",\"\",VLOOKUP($A92,'2024-2025 '!#REF!,E$26,FALSE))","v":{"$error":"#REF!"}},{"$f":"IF($B92=\"*\",\"\",VLOOKUP($A92,'2024-2025 '!#REF!,F$26,FALSE))","v":{"$error":"#REF!"}},{"$f":"IF($B92=\"*\",\"\",VLOOKUP($A92,'2024-2025 '!#REF!,G$26,FALSE))","v":{"$error":"#REF!"}},null,{"$f":"IF($B92=\"*\",\"\",VLOOKUP($A92,'2024-2025 '!#REF!,I$26,FALSE))","v":{"$error":"#REF!"}},null,{"$f":"IF($B92=\"*\",\"\",VLOOKUP($A92,'2024-2025 '!#REF!,K$5,FALSE))","v":{"$error":"#REF!"}},null,{"$f":"IF($B92=\"*\",\"\",VLOOKUP($A92,'2024-2025 '!#REF!,M$5,FALSE))","v":{"$error":"#REF!"}}]
[65,{"$f":"VLOOKUP(A93,'2024-2025 '!#REF!,9,FALSE)","v":{"$error":"#REF!"}},{"$f":"VLOOKUP($A93,'2024-2025 '!#REF!,C$26,FALSE)","v":{"$error":"#REF!"}},null,null,null,null,null,null,null,{"$f":"IF($B93=\"*\",\"\",VLOOKUP($A93,'2024-2025 '!#REF!,K$5,FALSE))","v":{"$error":"#REF!"}},null,{"$f":"IF($B93=\"*\",\"\",VLOOKUP($A93,'2024-2025 '!#REF!,M$5,FALSE))","v":{"$error":"#REF!"}}]
[66,{"$f":"VLOOKUP(A94,'2024-2025 '!#REF!,9,FALSE)","v":{"$error":"#REF!"}},{"$f":"VLOOKUP($A94,'2024-2025 '!#REF!,C$26,FALSE)","v":{"$error":"#REF!"}},{"$f":"IF($B94=\"*\",\"\",VLOOKUP($A94,'2024-2025 '!#REF!,D$26,FALSE))","v":{"$error":"#REF!"}},{"$f":"IF($B94=\"*\",\"\",VLOOKUP($A94,'2024-2025 '!#REF!,E$26,FALSE))","v":{"$error":"#REF!"}},{"$f":"IF($B94=\"*\",\"\",VLOOKUP($A94,'2024-2025 '!#REF!,F$26,FALSE))","v":{"$error":"#REF!"}},{"$f":"IF($B94=\"*\",\"\",VLOOKUP($A94,'2024-2025 '!#REF!,G$26,FALSE))","v":{"$error":"#REF!"}},null,{"$f":"IF($B94=\"*\",\"\",VLOOKUP($A94,'2024-2025 '!#REF!,I$26,FALSE))","v":{"$error":"#REF!"}},null,{"$f":"IF($B94=\"*\",\"\",VLOOKUP($A94,'2024-2025 '!#REF!,K$5,FALSE))","v":{"$error":"#REF!"}},null,{"$f":"IF($B94=\"*\",\"\",VLOOKUP($A94,'2024-2025 '!#REF!,M$5,FALSE))","v":{"$error":"#REF!"}}]
[{"$f":"A94+1","v":67},{"$f":"VLOOKUP(A95,'2024-2025 '!#REF!,9,FALSE)","v":{"$error":"#REF!"}},{"$f":"VLOOKUP($A95,'2024-2025 '!#REF!,C$26,FALSE)","v":{"$error":"#REF!"}},{"$f":"IF($B95=\"*\",\"\",VLOOKUP($A95,'2024-2025 '!#REF!,D$26,FALSE))","v":{"$error":"#REF!"}},{"$f":"IF($B95=\"*\",\"\",VLOOKUP($A95,'2024-2025 '!#REF!,E$26,FALSE))","v":{"$error":"#REF!"}},{"$f":"IF($B95=\"*\",\"\",VLOOKUP($A95,'2024-2025 '!#REF!,F$26,FALSE))","v":{"$error":"#REF!"}},{"$f":"IF($B95=\"*\",\"\",VLOOKUP($A95,'2024-2025 '!#REF!,G$26,FALSE))","v":{"$error":"#REF!"}},null,{"$f":"IF($B95=\"*\",\"\",VLOOKUP($A95,'2024-2025 '!#REF!,I$26,FALSE))","v":{"$error":"#REF!"}},null,{"$f":"IF($B95=\"*\",\"\",VLOOKUP($A95,'2024-2025 '!#REF!,K$5,FALSE))","v":{"$error":"#REF!"}},null,{"$f":"IF($B95=\"*\",\"\",VLOOKUP($A95,'2024-2025 '!#REF!,M$5,FALSE))","v":{"$error":"#REF!"}}]
[68,{"$f":"VLOOKUP(A96,'2024-2025 '!#REF!,9,FALSE)","v":{"$error":"#REF!"}},{"$f":"VLOOKUP($A96,'2024-2025 '!#REF!,C$26,FALSE)","v":{"$error":"#REF!"}},{"$f":"IF($B96=\"*\",\"\",VLOOKUP($A96,'2024-2025 '!#REF!,D$26,FALSE))","v":{"$error":"#REF!"}},{"$f":"IF($B96=\"*\",\"\",VLOOKUP($A96,'2024-2025 '!#REF!,E$26,FALSE))","v":{"$error":"#REF!"}},{"$f":"IF($B96=\"*\",\"\",VLOOKUP($A96,'2024-2025 '!#REF!,F$26,FALSE))","v":{"$error":"#REF!"}},{"$f":"IF($B96=\"*\",\"\",VLOOKUP($A96,'2024-2025 '!#REF!,G$26,FALSE))","v":{"$error":"#REF!"}},null,{"$f":"IF($B96=\"*\",\"\",VLOOKUP($A96,'2024-2025 '!#REF!,I$26,FALSE))","v":{"$error":"#REF!"}},null,{"$f":"IF($B96=\"*\",\"\",VLOOKUP($A96,'2024-2025 '!#REF!,K$5,FALSE))","v":{"$error":"#REF!"}},null,{"$f":"IF($B96=\"*\",\"\",VLOOKUP($A96,'2024-2025 '!#REF!,M$5,FALSE))","v":{"$error":"#REF!"}}]
[69,{"$f":"VLOOKUP(A97,'2024-2025 '!#REF!,9,FALSE)","v":{"$error":"#REF!"}},{"$f":"VLOOKUP($A97,'2024-2025 '!#REF!,C$26,FALSE)","v":{"$error":"#REF!"}},{"$f":"IF($B97=\"*\",\"\",VLOOKUP($A97,'2024-2025 '!#REF!,D$26,FALSE))","v":{"$error":"#REF!"}},{"$f":"IF($B97=\"*\",\"\",VLOOKUP($A97,'2024-2025 '!#REF!,E$26,FALSE))","v":{"$error":"#REF!"}},{"$f":"IF($B97=\"*\",\"\",VLOOKUP($A97,'2024-2025 '!#REF!,F$26,FALSE))","v":{"$error":"#REF!"}},{"$f":"IF($B97=\"*\",\"\",VLOOKUP($A97,'2024-2025 '!#REF!,G$26,FALSE))","v":{"$error":"#REF!"}},null,{"$f":"IF($B97=\"*\",\"\",VLOOKUP($A97,'2024-2025 '!#REF!,I$26,FALSE))","v":{"$error":"#REF!"}},null,{"$f":"IF($B97=\"*\",\"\",VLOOKUP($A97,'2024-2025 '!#REF!,K$5,FALSE))","v":{"$error":"#REF!"}},null,{"$f":"IF($B97=\"*\",\"\",VLOOKUP($A97,'2024-2025 '!#REF!,M$5,FALSE))","v":{"$error":"#REF!"}}]
[70,{"$f":"VLOOKUP(A98,'2024-2025 '!#REF!,9,FALSE)","v":{"$error":"#REF!"}},{"$f":"VLOOKUP($A98,'2024-2025 '!#REF!,C$26,FALSE)","v":{"$error":"#REF!"}},{"$f":"IF($B98=\"*\",\"\",VLOOKUP($A98,'2024-2025 '!#REF!,D$26,FALSE))","v":{"$error":"#REF!"}},{"$f":"IF($B98=\"*\",\"\",VLOOKUP($A98,'2024-2025 '!#REF!,E$26,FALSE))","v":{"$error":"#REF!"}},{"$f":"IF($B98=\"*\",\"\",VLOOKUP($A98,'2024-2025 '!#REF!,F$26,FALSE))","v":{"$error":"#REF!"}},{"$f":"IF($B98=\"*\",\"\",VLOOKUP($A98,'2024-2025 '!#REF!,G$26,FALSE))","v":{"$error":"#REF!"}},null,{"$f":"IF($B98=\"*\",\"\",VLOOKUP($A98,'2024-2025 '!#REF!,I$26,FALSE))","v":{"$error":"#REF!"}},null,{"$f":"IF($B98=\"*\",\"\",VLOOKUP($A98,'2024-2025 '!#REF!,K$5,FALSE))","v":{"$error":"#REF!"}},null,{"$f":"IF($B98=\"*\",\"\",VLOOKUP($A98,'2024-2025 '!#REF!,M$5,FALSE))","v":{"$error":"#REF!"}}]
[71,{"$f":"VLOOKUP(A99,'2024-2025 '!#REF!,9,FALSE)","v":{"$error":"#REF!"}},{"$f":"VLOOKUP($A99,'2024-2025 '!#REF!,C$26,FALSE)","v":{"$error":"#REF!"}},{"$f":"IF($B99=\"*\",\"\",VLOOKUP($A99,'2024-2025 '!#REF!,D$26,FALSE))","v":{"$error":"#REF!"}},{"$f":"IF($B99=\"*\",\"\",VLOOKUP($A99,'2024-2025 '!#REF!,E$26,FALSE))","v":{"$error":"#REF!"}},{"$f":"IF($B99=\"*\",\"\",VLOOKUP($A99,'2024-2025 '!#REF!,F$26,FALSE))","v":{"$error":"#REF!"}},{"$f":"IF($B99=\"*\",\"\",VLOOKUP($A99,'2024-2025 '!#REF!,G$26,FALSE))","v":{"$error":"#REF!"}},null,{"$f":"IF($B99=\"*\",\"\",VLOOKUP($A99,'2024-2025 '!#REF!,I$26,FALSE))","v":{"$error":"#REF!"}},null,{"$f":"IF($B99=\"*\",\"\",VLOOKUP($A99,'2024-2025 '!#REF!,K$5,FALSE))","v":{"$error":"#REF!"}},null,{"$f":"IF($B99=\"*\",\"\",VLOOKUP($A99,'2024-2025 '!#REF!,M$5,FALSE))","v":{"$error":"#REF!"}}]
[72,{"$f":"VLOOKUP(A100,'2024-2025 '!#REF!,9,FALSE)","v":{"$error":"#REF!"}},{"$f":"VLOOKUP($A100,'2024-2025 '!#REF!,C$26,FALSE)","v":{"$error":"#REF!"}},{"$f":"IF($B100=\"*\",\"\",VLOOKUP($A100,'2024-2025 '!#REF!,D$26,FALSE))","v":{"$error":"#REF!"}},{"$f":"IF($B100=\"*\",\"\",VLOOKUP($A100,'2024-2025 '!#REF!,E$26,FALSE))","v":{"$error":"#REF!"}},{"$f":"IF($B100=\"*\",\"\",VLOOKUP($A100,'2024-2025 '!#REF!,F$26,FALSE))","v":{"$error":"#REF!"}},{"$f":"IF($B100=\"*\",\"\",VLOOKUP($A100,'2024-2025 '!#REF!,G$26,FALSE))","v":{"$error":"#REF!"}},null,{"$f":"IF($B100=\"*\",\"\",VLOOKUP($A100,'2024-2025 '!#REF!,I$26,FALSE))","v":{"$error":"#REF!"}},null,{"$f":"IF($B100=\"*\",\"\",VLOOKUP($A100,'2024-2025 '!#REF!,K$5,FALSE))","v":{"$error":"#REF!"}},null,{"$f":"IF($B100=\"*\",\"\",VLOOKUP($A100,'2024-2025 '!#REF!,M$5,FALSE))","v":{"$error":"#REF!"}}]
[73,{"$f":"VLOOKUP(A101,'2024-2025 '!#REF!,9,FALSE)","v":{"$error":"#REF!"}},{"$f":"VLOOKUP($A101,'2024-2025 '!#REF!,C$26,FALSE)","v":{"$error":"#REF!"}},{"$f":"IF($B101=\"*\",\"\",VLOOKUP($A101,'2024-2025 '!#REF!,D$26,FALSE))","v":{"$error":"#REF!"}},{"$f":"IF($B101=\"*\",\"\",VLOOKUP($A101,'2024-2025 '!#REF!,E$26,FALSE))","v":{"$error":"#REF!"}},{"$f":"IF($B101=\"*\",\"\",VLOOKUP($A101,'2024-2025 '!#REF!,F$26,FALSE))","v":{"$error":"#REF!"}},{"$f":"IF($B101=\"*\",\"\",VLOOKUP($A101,'2024-2025 '!#REF!,G$26,FALSE))","v":{"$error":"#REF!"}},null,{"$f":"IF($B101=\"*\",\"\",VLOOKUP($A101,'2024-2025 '!#REF!,I$26,FALSE))","v":{"$error":"#REF!"}},null,{"$f":"IF($B101=\"*\",\"\",VLOOKUP($A101,'2024-2025 '!#REF!,K$5,FALSE))","v":{"$error":"#REF!"}},null,{"$f":"IF($B101=\"*\",\"\",VLOOKUP($A101,'2024-2025 '!#REF!,M$5,FALSE))","v":{"$error":"#REF!"}}]
[74,{"$f":"VLOOKUP(A102,'2024-2025 '!#REF!,9,FALSE)","v":{"$error":"#REF!"}},{"$f":"VLOOKUP($A102,'2024-2025 '!#REF!,C$26,FALSE)","v":{"$error":"#REF!"}},{"$f":"IF($B102=\"*\",\"\",VLOOKUP($A102,'2024-2025 '!#REF!,D$26,FALSE))","v":{"$error":"#REF!"}},{"$f":"IF($B102=\"*\",\"\",VLOOKUP($A102,'2024-2025 '!#REF!,E$26,FALSE))","v":{"$error":"#REF!"}},{"$f":"IF($B102=\"*\",\"\",VLOOKUP($A102,'2024-2025 '!#REF!,F$26,FALSE))","v":{"$error":"#REF!"}},{"$f":"IF($B102=\"*\",\"\",VLOOKUP($A102,'2024-2025 '!#REF!,G$26,FALSE))","v":{"$error":"#REF!"}},null,{"$f":"IF($B102=\"*\",\"\",VLOOKUP($A102,'2024-2025 '!#REF!,I$26,FALSE))","v":{"$error":"#REF!"}},null,{"$f":"IF($B102=\"*\",\"\",VLOOKUP($A102,'2024-2025 '!#REF!,K$5,FALSE))","v":{"$error":"#REF!"}},null,{"$f":"IF($B102=\"*\",\"\",VLOOKUP($A102,'2024-2025 '!#REF!,M$5,FALSE))","v":{"$error":"#REF!"}}]
[75,{"$f":"VLOOKUP(A103,'2024-2025 '!#REF!,9,FALSE)","v":{"$error":"#REF!"}},{"$f":"VLOOKUP($A103,'2024-2025 '!#REF!,C$26,FALSE)","v":{"$error":"#REF!"}},{"$f":"IF($B103=\"*\",\"\",VLOOKUP($A103,'2024-2025 '!#REF!,D$26,FALSE))","v":{"$error":"#REF!"}},{"$f":"IF($B103=\"*\",\"\",VLOOKUP($A103,'2024-2025 '!#REF!,E$26,FALSE))","v":{"$error":"#REF!"}},{"$f":"IF($B103=\"*\",\"\",VLOOKUP($A103,'2024-2025 '!#REF!,F$26,FALSE))","v":{"$error":"#REF!"}},{"$f":"IF($B103=\"*\",\"\",VLOOKUP($A103,'2024-2025 '!#REF!,G$26,FALSE))","v":{"$error":"#REF!"}},null,{"$f":"IF($B103=\"*\",\"\",VLOOKUP($A103,'2024-2025 '!#REF!,I$26,FALSE))","v":{"$error":"#REF!"}},null,{"$f":"IF($B103=\"*\",\"\",VLOOKUP($A103,'2024-2025 '!#REF!,K$5,FALSE))","v":{"$error":"#REF!"}},null,{"$f":"IF($B103=\"*\",\"\",VLOOKUP($A103,'2024-2025 '!#REF!,M$5,FALSE))","v":{"$error":"#REF!"}}]
[76,{"$f":"VLOOKUP(A104,'2024-2025 '!#REF!,9,FALSE)","v":{"$error":"#REF!"}},{"$f":"VLOOKUP($A104,'2024-2025 '!#REF!,C$26,FALSE)","v":{"$error":"#REF!"}},{"$f":"IF($B104=\"*\",\"\",VLOOKUP($A104,'2024-2025 '!#REF!,D$26,FALSE))","v":{"$error":"#REF!"}},{"$f":"IF($B104=\"*\",\"\",VLOOKUP($A104,'2024-2025 '!#REF!,E$26,FALSE))","v":{"$error":"#REF!"}},{"$f":"IF($B104=\"*\",\"\",VLOOKUP($A104,'2024-2025 '!#REF!,F$26,FALSE))","v":{"$error":"#REF!"}},{"$f":"IF($B104=\"*\",\"\",VLOOKUP($A104,'2024-2025 '!#REF!,G$26,FALSE))","v":{"$error":"#REF!"}},null,{"$f":"IF($B104=\"*\",\"\",VLOOKUP($A104,'2024-2025 '!#REF!,I$26,FALSE))","v":{"$error":"#REF!"}},null,{"$f":"IF($B104=\"*\",\"\",VLOOKUP($A104,'2024-2025 '!#REF!,K$5,FALSE))","v":{"$error":"#REF!"}},null,{"$f":"IF($B104=\"*\",\"\",VLOOKUP($A104,'2024-2025 '!#REF!,M$5,FALSE))","v":{"$error":"#REF!"}}]
[77,{"$f":"VLOOKUP(A105,'2024-2025 '!#REF!,9,FALSE)","v":{"$error":"#REF!"}},{"$f":"VLOOKUP($A105,'2024-2025 '!#REF!,C$26,FALSE)","v":{"$error":"#REF!"}},{"$f":"IF($B105=\"*\",\"\",VLOOKUP($A105,'2024-2025 '!#REF!,D$26,FALSE))","v":{"$error":"#REF!"}},{"$f":"IF($B105=\"*\",\"\",VLOOKUP($A105,'2024-2025 '!#REF!,E$26,FALSE))","v":{"$error":"#REF!"}},{"$f":"IF($B105=\"*\",\"\",VLOOKUP($A105,'2024-2025 '!#REF!,F$26,FALSE))","v":{"$error":"#REF!"}},{"$f":"IF($B105=\"*\",\"\",VLOOKUP($A105,'2024-2025 '!#REF!,G$26,FALSE))","v":{"$error":"#REF!"}},null,{"$f":"IF($B105=\"*\",\"\",VLOOKUP($A105,'2024-2025 '!#REF!,I$26,FALSE))","v":{"$error":"#REF!"}},null,{"$f":"IF($B105=\"*\",\"\",VLOOKUP($A105,'2024-2025 '!#REF!,K$5,FALSE))","v":{"$error":"#REF!"}},null,{"$f":"IF($B105=\"*\",\"\",VLOOKUP($A105,'2024-2025 '!#REF!,M$5,FALSE))","v":{"$error":"#REF!"}}]
[null,null,null,null,null,"Sous total FORMATION INTIALE EN GESTION POLICIÈRE",{"$f":"SUM(G90:G105)","v":{"$error":"#REF!"}},null,{"$f":"SUM(I90:I105)","v":{"$error":"#REF!"}},null,{"$f":"SUM(K90:K105)","v":{"$error":"#REF!"}},null,{"$f":"SUM(M90:M105)","v":{"$error":"#REF!"}}]
[{"$f":"A105+1","v":78},{"$f":"VLOOKUP(A107,'2024-2025 '!#REF!,9,FALSE)","v":{"$error":"#REF!"}},{"$f":"VLOOKUP($A107,'2024-2025 '!#REF!,C$26,FALSE)","v":{"$error":"#REF!"}},null,null,null,null,null,null,null,{"$f":"IF($B107=\"*\",\"\",VLOOKUP($A107,'2024-2025 '!#REF!,K$5,FALSE))","v":{"$error":"#REF!"}},null,{"$f":"IF($B107=\"*\",\"\",VLOOKUP($A107,'2024-2025 '!#REF!,M$5,FALSE))","v":{"$error":"#REF!"}}]
[79,{"$f":"VLOOKUP(A108,'2024-2025 '!#REF!,9,FALSE)","v":{"$error":"#REF!"}},{"$f":"VLOOKUP($A108,'2024-2025 '!#REF!,C$26,FALSE)","v":{"$error":"#REF!"}},null,null,null,null,null,null,null,{"$f":"IF($B108=\"*\",\"\",VLOOKUP($A108,'2024-2025 '!#REF!,K$5,FALSE))","v":{"$error":"#REF!"}},null,{"$f":"IF($B108=\"*\",\"\",VLOOKUP($A108,'2024-2025 '!#REF!,M$5,FALSE))","v":{"$error":"#REF!"}}]
[80,{"$f":"VLOOKUP(A109,'2024-2025 '!#REF!,9,FALSE)","v":{"$error":"#REF!"}},{"$f":"VLOOKUP($A109,'2024-2025 '!#REF!,C$26,FALSE)","v":{"$error":"#REF!"}},{"$f":"IF($B109=\"*\",\"\",VLOOKUP($A109,'2024-2025 '!#REF!,D$26,FALSE))","v":{"$error":"#REF!"}},{"$f":"IF($B109=\"*\",\"\",VLOOKUP($A109,'2024-2025 '!#REF!,E$26,FALSE))","v":{"$error":"#REF!"}},{"$f":"IF($B109=\"*\",\"\",VLOOKUP($A109,'2024-2025 '!#REF!,F$26,FALSE))","v":{"$error":"#REF!"}},{"$f":"IF($B109=\"*\",\"\",VLOOKUP($A109,'2024-2025 '!#REF!,G$26,FALSE))","v":{"$error":"#REF!"}},null,{"$f":"IF($B109=\"*\",\"\",VLOOKUP($A109,'2024-2025 '!#REF!,I$26,FALSE))","v":{"$error":"#REF!"}},null,{"$f":"IF($B109=\"*\",\"\",VLOOKUP($A109,'2024-2025 '!#REF!,K$5,FALSE))","v":{"$error":"#REF!"}},null,{"$f":"IF($B109=\"*\",\"\",VLOOKUP($A109,'2024-2025 '!#REF!,M$5,FALSE))","v":{"$error":"#REF!"}}]
[81,{"$f":"VLOOKUP(A110,'2024-2025 '!#REF!,9,FALSE)","v":{"$error":"#REF!"}},{"$f":"VLOOKUP($A110,'2024-2025 '!#REF!,C$26,FALSE)","v":{"$error":"#REF!"}},{"$f":"IF($B110=\"*\",\"\",VLOOKUP($A110,'2024-2025 '!#REF!,D$26,FALSE))","v":{"$error":"#REF!"}},{"$f":"IF($B110=\"*\",\"\",VLOOKUP($A110,'2024-2025 '!#REF!,E$26,FALSE))","v":{"$error":"#REF!"}},{"$f":"IF($B110=\"*\",\"\",VLOOKUP($A110,'2024-2025 '!#REF!,F$26,FALSE))","v":{"$error":"#REF!"}},{"$f":"IF($B110=\"*\",\"\",VLOOKUP($A110,'2024-2025 '!#REF!,G$26,FALSE))","v":{"$error":"#REF!"}},null,{"$f":"IF($B110=\"*\",\"\",VLOOKUP($A110,'2024-2025 '!#REF!,I$26,FALSE))","v":{"$error":"#REF!"}},null,{"$f":"IF($B110=\"*\",\"\",VLOOKUP($A110,'2024-2025 '!#REF!,K$5,FALSE))","v":{"$error":"#REF!"}},null,{"$f":"IF($B110=\"*\",\"\",VLOOKUP($A110,'2024-2025 '!#REF!,M$5,FALSE))","v":{"$error":"#REF!"}}]
[82,{"$f":"VLOOKUP(A111,'2024-2025 '!#REF!,9,FALSE)","v":{"$error":"#REF!"}},{"$f":"VLOOKUP($A111,'2024-2025 '!#REF!,C$26,FALSE)","v":{"$error":"#REF!"}},{"$f":"IF($B111=\"*\",\"\",VLOOKUP($A111,'2024-2025 '!#REF!,D$26,FALSE))","v":{"$error":"#REF!"}},{"$f":"IF($B111=\"*\",\"\",VLOOKUP($A111,'2024-2025 '!#REF!,E$26,FALSE))","v":{"$error":"#REF!"}},{"$f":"IF($B111=\"*\",\"\",VLOOKUP($A111,'2024-2025 '!#REF!,F$26,FALSE))","v":{"$error":"#REF!"}},{"$f":"IF($B111=\"*\",\"\",VLOOKUP($A111,'2024-2025 '!#REF!,G$26,FALSE))","v":{"$error":"#REF!"}},null,{"$f":"IF($B111=\"*\",\"\",VLOOKUP($A111,'2024-2025 '!#REF!,I$26,FALSE))","v":{"$error":"#REF!"}},null,{"$f":"IF($B111=\"*\",\"\",VLOOKUP($A111,'2024-2025 '!#REF!,K$5,FALSE))","v":{"$error":"#REF!"}},null,{"$f":"IF($B111=\"*\",\"\",VLOOKUP($A111,'2024-2025 '!#REF!,M$5,FALSE))","v":{"$error":"#REF!"}}]
[83,{"$f":"VLOOKUP(A112,'2024-2025 '!#REF!,9,FALSE)","v":{"$error":"#REF!"}},{"$f":"VLOOKUP($A112,'2024-2025 '!#REF!,C$26,FALSE)","v":{"$error":"#REF!"}},{"$f":"IF($B112=\"*\",\"\",VLOOKUP($A112,'2024-2025 '!#REF!,D$26,FALSE))","v":{"$error":"#REF!"}},{"$f":"IF($B112=\"*\",\"\",VLOOKUP($A112,'2024-2025 '!#REF!,E$26,FALSE))","v":{"$error":"#REF!"}},{"$f":"IF($B112=\"*\",\"\",VLOOKUP($A112,'2024-2025 '!#REF!,F$26,FALSE))","v":{"$error":"#REF!"}},{"$f":"IF($B112=\"*\",\"\",VLOOKUP($A112,'2024-2025 '!#REF!,G$26,FALSE))","v":{"$error":"#REF!"}},null,{"$f":"IF($B112=\"*\",\"\",VLOOKUP($A112,'2024-2025 '!#REF!,I$26,FALSE))","v":{"$error":"#REF!"}},null,{"$f":"IF($B112=\"*\",\"\",VLOOKUP($A112,'2024-2025 '!#REF!,K$5,FALSE))","v":{"$error":"#REF!"}},null,{"$f":"IF($B112=\"*\",\"\",VLOOKUP($A112,'2024-2025 '!#REF!,M$5,FALSE))","v":{"$error":"#REF!"}}]
[null,null,null,null,null,"Sous total CECAP",{"$f":"SUM(G109:G112)","v":{"$error":"#REF!"}},null,{"$f":"SUM(I109:I112)","v":{"$error":"#REF!"}},null,{"$f":"SUM(K109:K112)","v":{"$error":"#REF!"}},null,{"$f":"SUM(M109:M112)","v":{"$error":"#REF!"}}]
[{"$f":"A112+1","v":84},{"$f":"VLOOKUP(A114,'2024-2025 '!#REF!,9,FALSE)","v":{"$error":"#REF!"}},{"$f":"VLOOKUP($A114,'2024-2025 '!#REF!,C$26,FALSE)","v":{"$error":"#REF!"}},null,null,null,null,null,null,null,{"$f":"IF($B114=\"*\",\"\",VLOOKUP($A114,'2024-2025 '!#REF!,K$5,FALSE))","v":{"$error":"#REF!"}},null,{"$f":"IF($B114=\"*\",\"\",VLOOKUP($A114,'2024-2025 '!#REF!,M$5,FALSE))","v":{"$error":"#REF!"}}]
[85,{"$f":"VLOOKUP(A115,'2024-2025 '!#REF!,9,FALSE)","v":{"$error":"#REF!"}},{"$f":"VLOOKUP($A115,'2024-2025 '!#REF!,C$26,FALSE)","v":{"$error":"#REF!"}},null,null,null,null,null,null,null,{"$f":"IF($B115=\"*\",\"\",VLOOKUP($A115,'2024-2025 '!#REF!,K$5,FALSE))","v":{"$error":"#REF!"}},null,{"$f":"IF($B115=\"*\",\"\",VLOOKUP($A115,'2024-2025 '!#REF!,M$5,FALSE))","v":{"$error":"#REF!"}}]
[86,{"$f":"VLOOKUP(A116,'2024-2025 '!#REF!,9,FALSE)","v":{"$error":"#REF!"}},{"$f":"VLOOKUP($A116,'2024-2025 '!#REF!,C$26,FALSE)","v":{"$error":"#REF!"}},{"$f":"IF($B116=\"*\",\"\",VLOOKUP($A116,'2024-2025 '!#REF!,D$26,FALSE))","v":{"$error":"#REF!"}},{"$f":"IF($B116=\"*\",\"\",VLOOKUP($A116,'2024-2025 '!#REF!,E$26,FALSE))","v":{"$error":"#REF!"}},{"$f":"IF($B116=\"*\",\"\",VLOOKUP($A116,'2024-2025 '!#REF!,F$26,FALSE))","v":{"$error":"#REF!"}},{"$f":"IF($B116=\"*\",\"\",VLOOKUP($A116,'2024-2025 '!#REF!,G$26,FALSE))","v":{"$error":"#REF!"}},null,{"$f":"IF($B116=\"*\",\"\",VLOOKUP($A116,'2024-2025 '!#REF!,I$26,FALSE))","v":{"$error":"#REF!"}},null,{"$f":"IF($B116=\"*\",\"\",VLOOKUP($A116,'2024-2025 '!#REF!,K$5,FALSE))","v":{"$error":"#REF!"}},null,{"$f":"IF($B116=\"*\",\"\",VLOOKUP($A116,'2024-2025 '!#REF!,M$5,FALSE))","v":{"$error":"#REF!"}}]
[87,{"$f":"VLOOKUP(A117,'2024-2025 '!#REF!,9,FALSE)","v":{"$error":"#REF!"}},{"$f":"VLOOKUP($A117,'2024-2025 '!#REF!,C$26,FALSE)","v":{"$error":"#REF!"}},{"$f":"IF($B117=\"*\",\"\",VLOOKUP($A117,'2024-2025 '!#REF!,D$26,FALSE))","v":{"$error":"#REF!"}},{"$f":"IF($B117=\"*\",\"\",VLOOKUP($A117,'2024-2025 '!#REF!,E$26,FALSE))","v":{"$error":"#REF!"}},{"$f":"IF($B117=\"*\",\"\",VLOOKUP($A117,'2024-2025 '!#REF!,F$26,FALSE))","v":{"$error":"#REF!"}},{"$f":"IF($B117=\"*\",\"\",VLOOKUP($A117,'2024-2025 '!#REF!,G$26,FALSE))","v":{"$error":"#REF!"}},null,{"$f":"IF($B117=\"*\",\"\",VLOOKUP($A117,'2024-2025 '!#REF!,I$26,FALSE))","v":{"$error":"#REF!"}},null,{"$f":"IF($B117=\"*\",\"\",VLOOKUP($A117,'2024-2025 '!#REF!,K$5,FALSE))","v":{"$error":"#REF!"}},null,{"$f":"IF($B117=\"*\",\"\",VLOOKUP($A117,'2024-2025 '!#REF!,M$5,FALSE))","v":{"$error":"#REF!"}}]
[88,{"$f":"VLOOKUP(A118,'2024-2025 '!#REF!,9,FALSE)","v":{"$error":"#REF!"}},{"$f":"VLOOKUP($A118,'2024-2025 '!#REF!,C$26,FALSE)","v":{"$error":"#REF!"}},{"$f":"IF($B118=\"*\",\"\",VLOOKUP($A118,'2024-2025 '!#REF!,D$26,FALSE))","v":{"$error":"#REF!"}},{"$f":"IF($B118=\"*\",\"\",VLOOKUP($A118,'2024-2025 '!#REF!,E$26,FALSE))","v":{"$error":"#REF!"}},{"$f":"IF($B118=\"*\",\"\",VLOOKUP($A118,'2024-2025 '!#REF!,F$26,FALSE))","v":{"$error":"#REF!"}},{"$f":"IF($B118=\"*\",\"\",VLOOKUP($A118,'2024-2025 '!#REF!,G$26,FALSE))","v":{"$error":"#REF!"}},null,{"$f":"IF($B118=\"*\",\"\",VLOOKUP($A118,'2024-2025 '!#REF!,I$26,FALSE))","v":{"$error":"#REF!"}},null,{"$f":"IF($B118=\"*\",\"\",VLOOKUP($A118,'2024-2025 '!#REF!,K$5,FALSE))","v":{"$error":"#REF!"}},null,{"$f":"IF($B118=\"*\",\"\",VLOOKUP($A118,'2024-2025 '!#REF!,M$5,FALSE))","v":{"$error":"#REF!"}}]
[89,{"$f":"VLOOKUP(A119,'2024-2025 '!#REF!,9,FALSE)","v":{"$error":"#REF!"}},{"$f":"VLOOKUP($A119,'2024-2025 '!#REF!,C$26,FALSE)","v":{"$error":"#REF!"}},{"$f":"IF($B119=\"*\",\"\",VLOOKUP($A119,'2024-2025 '!#REF!,D$26,FALSE))","v":{"$error":"#REF!"}},{"$f":"IF($B119=\"*\",\"\",VLOOKUP($A119,'2024-2025 '!#REF!,E$26,FALSE))","v":{"$error":"#REF!"}},{"$f":"IF($B119=\"*\",\"\",VLOOKUP($A119,'2024-2025 '!#REF!,F$26,FALSE))","v":{"$error":"#REF!"}},{"$f":"IF($B119=\"*\",\"\",VLOOKUP($A119,'2024-2025 '!#REF!,G$26,FALSE))","v":{"$error":"#REF!"}},null,{"$f":"IF($B119=\"*\",\"\",VLOOKUP($A119,'2024-2025 '!#REF!,I$26,FALSE))","v":{"$error":"#REF!"}},null,{"$f":"IF($B119=\"*\",\"\",VLOOKUP($A119,'2024-2025 '!#REF!,K$5,FALSE))","v":{"$error":"#REF!"}},null,{"$f":"IF($B119=\"*\",\"\",VLOOKUP($A119,'2024-2025 '!#REF!,M$5,FALSE))","v":{"$error":"#REF!"}}]
[90,{"$f":"VLOOKUP(A120,'2024-2025 '!#REF!,9,FALSE)","v":{"$error":"#REF!"}},{"$f":"VLOOKUP($A120,'2024-2025 '!#REF!,C$26,FALSE)","v":{"$error":"#REF!"}},{"$f":"IF($B120=\"*\",\"\",VLOOKUP($A120,'2024-2025 '!#REF!,D$26,FALSE))","v":{"$error":"#REF!"}},{"$f":"IF($B120=\"*\",\"\",VLOOKUP($A120,'2024-2025 '!#REF!,E$26,FALSE))","v":{"$error":"#REF!"}},{"$f":"IF($B120=\"*\",\"\",VLOOKUP($A120,'2024-2025 '!#REF!,F$26,FALSE))","v":{"$error":"#REF!"}},{"$f":"IF($B120=\"*\",\"\",VLOOKUP($A120,'2024-2025 '!#REF!,G$26,FALSE))","v":{"$error":"#REF!"}},null,{"$f":"IF($B120=\"*\",\"\",VLOOKUP($A120,'2024-2025 '!#REF!,I$26,FALSE))","v":{"$error":"#REF!"}},null,{"$f":"IF($B120=\"*\",\"\",VLOOKUP($A120,'2024-2025 '!#REF!,K$5,FALSE))","v":{"$error":"#REF!"}},null,{"$f":"IF($B120=\"*\",\"\",VLOOKUP($A120,'2024-2025 '!#REF!,M$5,FALSE))","v":{"$error":"#REF!"}}]
[91,{"$f":"VLOOKUP(A121,'2024-2025 '!#REF!,9,FALSE)","v":{"$error":"#REF!"}},{"$f":"VLOOKUP($A121,'2024-2025 '!#REF!,C$26,FALSE)","v":{"$error":"#REF!"}},{"$f":"IF($B121=\"*\",\"\",VLOOKUP($A121,'2024-2025 '!#REF!,D$26,FALSE))","v":{"$error":"#REF!"}},{"$f":"IF($B121=\"*\",\"\",VLOOKUP($A121,'2024-2025 '!#REF!,E$26,FALSE))","v":{"$error":"#REF!"}},{"$f":"IF($B121=\"*\",\"\",VLOOKUP($A121,'2024-2025 '!#REF!,F$26,FALSE))","v":{"$error":"#REF!"}},{"$f":"IF($B121=\"*\",\"\",VLOOKUP($A121,'2024-2025 '!#REF!,G$26,FALSE))","v":{"$error":"#REF!"}},null,{"$f":"IF($B121=\"*\",\"\",VLOOKUP($A121,'2024-2025 '!#REF!,I$26,FALSE))","v":{"$error":"#REF!"}},null,{"$f":"IF($B121=\"*\",\"\",VLOOKUP($A121,'2024-2025 '!#REF!,K$5,FALSE))","v":{"$error":"#REF!"}},null,{"$f":"IF($B121=\"*\",\"\",VLOOKUP($A121,'2024-2025 '!#REF!,M$5,FALSE))","v":{"$error":"#REF!"}}]
[92,{"$f":"VLOOKUP(A122,'2024-2025 '!#REF!,9,FALSE)","v":{"$error":"#REF!"}},null,null,null,"Sous total PROGRAMME ACCES",{"$f":"SUM(G116:G121)","v":{"$error":"#REF!"}},null,{"$f":"SUM(I116:I121)","v":{"$error":"#REF!"}},null,{"$f":"SUM(K116:K121)","v":{"$error":"#REF!"}},null,{"$f":"SUM(M116:M121)","v":{"$error":"#REF!"}}]
[93,{"$f":"VLOOKUP(A123,'2024-2025 '!#REF!,9,FALSE)","v":{"$error":"#REF!"}},{"$f":"VLOOKUP($A123,'2024-2025 '!#REF!,C$26,FALSE)","v":{"$error":"#REF!"}},null,null,null,null,null,null,null,{"$f":"IF($B123=\"*\",\"\",VLOOKUP($A123,'2024-2025 '!#REF!,K$5,FALSE))","v":{"$error":"#REF!"}},null,{"$f":"IF($B123=\"*\",\"\",VLOOKUP($A123,'2024-2025 '!#REF!,M$5,FALSE))","v":{"$error":"#REF!"}}]
[94,{"$f":"VLOOKUP(A124,'2024-2025 '!#REF!,9,FALSE)","v":{"$error":"#REF!"}},{"$f":"VLOOKUP($A124,'2024-2025 '!#REF!,C$26,FALSE)","v":{"$error":"#REF!"}},{"$f":"IF($B124=\"*\",\"\",VLOOKUP($A124,'2024-2025 '!#REF!,D$26,FALSE))","v":{"$error":"#REF!"}},{"$f":"IF($B124=\"*\",\"\",VLOOKUP($A124,'2024-2025 '!#REF!,E$26,FALSE))","v":{"$error":"#REF!"}},{"$f":"IF($B124=\"*\",\"\",VLOOKUP($A124,'2024-2025 '!#REF!,F$26,FALSE))","v":{"$error":"#REF!"}},{"$f":"IF($B124=\"*\",\"\",VLOOKUP($A124,'2024-2025 '!#REF!,G$26,FALSE))","v":{"$error":"#REF!"}},null,{"$f":"IF($B124=\"*\",\"\",VLOOKUP($A124,'2024-2025 '!#REF!,I$26,FALSE))","v":{"$error":"#REF!"}},null,{"$f":"IF($B124=\"*\",\"\",VLOOKUP($A124,'2024-2025 '!#REF!,K$5,FALSE))","v":{"$error":"#REF!"}},null,{"$f":"IF($B124=\"*\",\"\",VLOOKUP($A124,'2024-2025 '!#REF!,M$5,FALSE))","v":{"$error":"#REF!"}}]
[95,{"$f":"VLOOKUP(A125,'2024-2025 '!#REF!,9,FALSE)","v":{"$error":"#REF!"}},{"$f":"VLOOKUP($A125,'2024-2025 '!#REF!,C$26,FALSE)","v":{"$error":"#REF!"}},{"$f":"IF($B125=\"*\",\"\",VLOOKUP($A125,'2024-2025 '!#REF!,D$26,FALSE))","v":{"$error":"#REF!"}},{"$f":"IF($B125=\"*\",\"\",VLOOKUP($A125,'2024-2025 '!#REF!,E$26,FALSE))","v":{"$error":"#REF!"}},{"$f":"IF($B125=\"*\",\"\",VLOOKUP($A125,'2024-2025 '!#REF!,F$26,FALSE))","v":{"$error":"#REF!"}},{"$f":"IF($B125=\"*\",\"\",VLOOKUP($A125,'2024-2025 '!#REF!,G$26,FALSE))","v":{"$error":"#REF!"}},null,{"$f":"IF($B125=\"*\",\"\",VLOOKUP($A125,'2024-2025 '!#REF!,I$26,FALSE))","v":{"$error":"#REF!"}},null,{"$f":"IF($B125=\"*\",\"\",VLOOKUP($A125,'2024-2025 '!#REF!,K$5,FALSE))","v":{"$error":"#REF!"}},null,{"$f":"IF($B125=\"*\",\"\",VLOOKUP($A125,'2024-2025 '!#REF!,M$5,FALSE))","v":{"$error":"#REF!"}}]
[null,null,null,null,null,"Sous total FORMATIONS AUTOCHTONES",{"$f":"SUM(G124:G125)","v":{"$error":"#REF!"}},null,{"$f":"SUM(I124:I125)","v":{"$error":"#REF!"}},null,{"$f":"SUM(K124:K125)","v":{"$error":"#REF!"}},null,{"$f":"SUM(M124:M125)","v":{"$error":"#REF!"}}]
[{"$f":"A125+1","v":96},{"$f":"VLOOKUP(A127,'2024-2025 '!#REF!,9,FALSE)","v":{"$error":"#REF!"}},{"$f":"VLOOKUP($A127,'2024-2025 '!#REF!,C$26,FALSE)","v":{"$error":"#REF!"}},null,null,null,null,null,null,null,{"$f":"IF($B127=\"*\",\"\",VLOOKUP($A127,'2024-2025 '!#REF!,K$5,FALSE))","v":{"$error":"#REF!"}},null,{"$f":"IF($B127=\"*\",\"\",VLOOKUP($A127,'2024-2025 '!#REF!,M$5,FALSE))","v":{"$error":"#REF!"}}]
[97,{"$f":"VLOOKUP(A128,'2024-2025 '!#REF!,9,FALSE)","v":{"$error":"#REF!"}},{"$f":"VLOOKUP($A128,'2024-2025 '!#REF!,C$26,FALSE)","v":{"$error":"#REF!"}},{"$f":"IF($B128=\"*\",\"\",VLOOKUP($A128,'2024-2025 '!#REF!,D$26,FALSE))","v":{"$error":"#REF!"}},{"$f":"IF($B128=\"*\",\"\",VLOOKUP($A128,'2024-2025 '!#REF!,E$26,FALSE))","v":{"$error":"#REF!"}},{"$f":"IF($B128=\"*\",\"\",VLOOKUP($A128,'2024-2025 '!#REF!,F$26,FALSE))","v":{"$error":"#REF!"}},{"$f":"IF($B128=\"*\",\"\",VLOOKUP($A128,'2024-2025 '!#REF!,G$26,FALSE))","v":{"$error":"#REF!"}},null,{"$f":"IF($B128=\"*\",\"\",VLOOKUP($A128,'2024-2025 '!#REF!,I$26,FALSE))","v":{"$error":"#REF!"}},null,{"$f":"IF($B128=\"*\",\"\",VLOOKUP($A128,'2024-2025 '!#REF!,K$5,FALSE))","v":{"$error":"#REF!"}},null,{"$f":"IF($B128=\"*\",\"\",VLOOKUP($A128,'2024-2025 '!#REF!,M$5,FALSE))","v":{"$error":"#REF!"}}]
[]
[{"$f":"A128+1","v":98},{"$f":"VLOOKUP(A130,'2024-2025 '!#REF!,9,FALSE)","v":{"$error":"#REF!"}},{"$f":"VLOOKUP($A130,'2024-2025 '!#REF!,C$26,FALSE)","v":{"$error":"#REF!"}},null,null,null,null,null,null,null,{"$f":"IF($B130=\"*\",\"\",VLOOKUP($A130,'2024-2025 '!#REF!,K$5,FALSE))","v":{"$error":"#REF!"}},null,{"$f":"IF($B130=\"*\",\"\",VLOOKUP($A130,'2024-2025 '!#REF!,M$5,FALSE))","v":{"$error":"#REF!"}}]
[99,{"$f":"VLOOKUP(A131,'2024-2025 '!#REF!,9,FALSE)","v":{"$error":"#REF!"}},{"$f":"VLOOKUP($A131,'2024-2025 '!#REF!,C$26,FALSE)","v":{"$error":"#REF!"}},null,null,null,null,null,null,null,{"$f":"IF($B131=\"*\",\"\",VLOOKUP($A131,'2024-2025 '!#REF!,K$5,FALSE))","v":{"$error":"#REF!"}},null,{"$f":"IF($B131=\"*\",\"\",VLOOKUP($A131,'2024-2025 '!#REF!,M$5,FALSE))","v":{"$error":"#REF!"}}]
[100,{"$f":"VLOOKUP(A132,'2024-2025 '!#REF!,9,FALSE)","v":{"$error":"#REF!"}},{"$f":"VLOOKUP($A132,'2024-2025 '!#REF!,C$26,FALSE)","v":{"$error":"#REF!"}},null,null,null,null,null,null,null,{"$f":"IF($B132=\"*\",\"\",VLOOKUP($A132,'2024-2025 '!#REF!,K$5,FALSE))","v":{"$error":"#REF!"}},null,{"$f":"IF($B132=\"*\",\"\",VLOOKUP($A132,'2024-2025 '!#REF!,M$5,FALSE))","v":{"$error":"#REF!"}}]
[101,{"$f":"VLOOKUP(A133,'2024-2025 '!#REF!,9,FALSE)","v":{"$error":"#REF!"}},{"$f":"VLOOKUP($A133,'2024-2025 '!#REF!,C$26,FALSE)","v":{"$error":"#REF!"}},{"$f":"IF($B133=\"*\",\"\",VLOOKUP($A133,'2024-2025 '!#REF!,D$26,FALSE))","v":{"$error":"#REF!"}},{"$f":"IF($B133=\"*\",\"\",VLOOKUP($A133,'2024-2025 '!#REF!,E$26,FALSE))","v":{"$error":"#REF!"}},{"$f":"IF($B133=\"*\",\"\",VLOOKUP($A133,'2024-2025 '!#REF!,F$26,FALSE))","v":{"$error":"#REF!"}},{"$f":"IF($B133=\"*\",\"\",VLOOKUP($A133,'2024-2025 '!#REF!,G$26,FALSE))","v":{"$error":"#REF!"}},null,{"$f":"IF($B133=\"*\",\"\",VLOOKUP($A133,'2024-2025 '!#REF!,I$26,FALSE))","v":{"$error":"#REF!"}},null,{"$f":"IF($B133=\"*\",\"\",VLOOKUP($A133,'2024-2025 '!#REF!,K$5,FALSE))","v":{"$error":"#REF!"}},null,{"$f":"IF($B133=\"*\",\"\",VLOOKUP($A133,'2024-2025 '!#REF!,M$5,FALSE))","v":{"$error":"#REF!"}}]
[102,{"$f":"VLOOKUP(A134,'2024-2025 '!#REF!,9,FALSE)","v":{"$error":"#REF!"}},{"$f":"VLOOKUP($A134,'2024-2025 '!#REF!,C$26,FALSE)","v":{"$error":"#REF!"}},{"$f":"IF($B134=\"*\",\"\",VLOOKUP($A134,'2024-2025 '!#REF!,D$26,FALSE))","v":{"$error":"#REF!"}},{"$f":"IF($B134=\"*\",\"\",VLOOKUP($A134,'2024-2025 '!#REF!,E$26,FALSE))","v":{"$error":"#REF!"}},{"$f":"IF($B134=\"*\",\"\",VLOOKUP($A134,'2024-2025 '!#REF!,F$26,FALSE))","v":{"$error":"#REF!"}},{"$f":"IF($B134=\"*\",\"\",VLOOKUP($A134,'2024-2025 '!#REF!,G$26,FALSE))","v":{"$error":"#REF!"}},null,{"$f":"IF($B134=\"*\",\"\",VLOOKUP($A134,'2024-2025 '!#REF!,I$26,FALSE))","v":{"$error":"#REF!"}},null,{"$f":"IF($B134=\"*\",\"\",VLOOKUP($A134,'2024-2025 '!#REF!,K$5,FALSE))","v":{"$error":"#REF!"}},null,{"$f":"IF($B134=\"*\",\"\",VLOOKUP($A134,'2024-2025 '!#REF!,M$5,FALSE))","v":{"$error":"#REF!"}}]
[null,null,null,null,null,"Sous total FORMATIONEN PÉDAGOGIE",{"$f":"SUM(G133:G134)","v":{"$error":"#REF!"}},null,{"$f":"SUM(I133:I134)","v":{"$error":"#REF!"}},null,{"$f":"SUM(K133:K134)","v":{"$error":"#REF!"}},null,{"$f":"SUM(M133:M134)","v":{"$error":"#REF!"}}]
[{"$f":"A134+1","v":103},{"$f":"VLOOKUP(A136,'2024-2025 '!#REF!,9,FALSE)","v":{"$error":"#REF!"}},{"$f":"VLOOKUP($A136,'2024-2025 '!#REF!,C$26,FALSE)","v":{"$error":"#REF!"}},null,null,null,null,null,null,null,{"$f":"IF($B136=\"*\",\"\",VLOOKUP($A136,'2024-2025 '!#REF!,K$5,FALSE))","v":{"$error":"#REF!"}},null,{"$f":"IF($B136=\"*\",\"\",VLOOKUP($A136,'2024-2025 '!#REF!,M$5,FALSE))","v":{"$error":"#REF!"}}]
[104,{"$f":"VLOOKUP(A137,'2024-2025 '!#REF!,9,FALSE)","v":{"$error":"#REF!"}},{"$f":"VLOOKUP($A137,'2024-2025 '!#REF!,C$26,FALSE)","v":{"$error":"#REF!"}},{"$f":"IF($B137=\"*\",\"\",VLOOKUP($A137,'2024-2025 '!#REF!,D$26,FALSE))","v":{"$error":"#REF!"}},{"$f":"IF($B137=\"*\",\"\",VLOOKUP($A137,'2024-2025 '!#REF!,E$26,FALSE))","v":{"$error":"#REF!"}},{"$f":"IF($B137=\"*\",\"\",VLOOKUP($A137,'2024-2025 '!#REF!,F$26,FALSE))","v":{"$error":"#REF!"}},{"$f":"IF($B137=\"*\",\"\",VLOOKUP($A137,'2024-2025 '!#REF!,G$26,FALSE))","v":{"$error":"#REF!"}},null,{"$f":"IF($B137=\"*\",\"\",VLOOKUP($A137,'2024-2025 '!#REF!,I$26,FALSE))","v":{"$error":"#REF!"}},null,{"$f":"IF($B137=\"*\",\"\",VLOOKUP($A137,'2024-2025 '!#REF!,K$5,FALSE))","v":{"$error":"#REF!"}},null,{"$f":"IF($B137=\"*\",\"\",VLOOKUP($A137,'2024-2025 '!#REF!,M$5,FALSE))","v":{"$error":"#REF!"}}]
[105,{"$f":"VLOOKUP(A138,'2024-2025 '!#REF!,9,FALSE)","v":{"$error":"#REF!"}},{"$f":"VLOOKUP($A138,'2024-2025 '!#REF!,C$26,FALSE)","v":{"$error":"#REF!"}},{"$f":"IF($B138=\"*\",\"\",VLOOKUP($A138,'2024-2025 '!#REF!,D$26,FALSE))","v":{"$error":"#REF!"}},{"$f":"IF($B138=\"*\",\"\",VLOOKUP($A138,'2024-2025 '!#REF!,E$26,FALSE))","v":{"$error":"#REF!"}},{"$f":"IF($B138=\"*\",\"\",VLOOKUP($A138,'2024-2025 '!#REF!,F$26,FALSE))","v":{"$error":"#REF!"}},{"$f":"IF($B138=\"*\",\"\",VLOOKUP($A138,'2024-2025 '!#REF!,G$26,FALSE))","v":{"$error":"#REF!"}},null,{"$f":"IF($B138=\"*\",\"\",VLOOKUP($A138,'2024-2025 '!#REF!,I$26,FALSE))","v":{"$error":"#REF!"}},null,{"$f":"IF($B138=\"*\",\"\",VLOOKUP($A138,'2024-2025 '!#REF!,K$5,FALSE))","v":{"$error":"#REF!"}},null,{"$f":"IF($B138=\"*\",\"\",VLOOKUP($A138,'2024-2025 '!#REF!,M$5,FALSE))","v":{"$error":"#REF!"}}]
[106,{"$f":"VLOOKUP(A139,'2024-2025 '!#REF!,9,FALSE)","v":{"$error":"#REF!"}},{"$f":"VLOOKUP($A139,'2024-2025 '!#REF!,C$26,FALSE)","v":{"$error":"#REF!"}},{"$f":"IF($B139=\"*\",\"\",VLOOKUP($A139,'2024-2025 '!#REF!,D$26,FALSE))","v":{"$error":"#REF!"}},{"$f":"IF($B139=\"*\",\"\",VLOOKUP($A139,'2024-2025 '!#REF!,E$26,FALSE))","v":{"$error":"#REF!"}},{"$f":"IF($B139=\"*\",\"\",VLOOKUP($A139,'2024-2025 '!#REF!,F$26,FALSE))","v":{"$error":"#REF!"}},{"$f":"IF($B139=\"*\",\"\",VLOOKUP($A139,'2024-2025 '!#REF!,G$26,FALSE))","v":{"$error":"#REF!"}},null,{"$f":"IF($B139=\"*\",\"\",VLOOKUP($A139,'2024-2025 '!#REF!,I$26,FALSE))","v":{"$error":"#REF!"}},null,{"$f":"IF($B139=\"*\",\"\",VLOOKUP($A139,'2024-2025 '!#REF!,K$5,FALSE))","v":{"$error":"#REF!"}},null,{"$f":"IF($B139=\"*\",\"\",VLOOKUP($A139,'2024-2025 '!#REF!,M$5,FALSE))","v":{"$error":"#REF!"}}]
[107,{"$f":"VLOOKUP(A140,'2024-2025 '!#REF!,9,FALSE)","v":{"$error":"#REF!"}},{"$f":"VLOOKUP($A140,'2024-2025 '!#REF!,C$26,FALSE)","v":{"$error":"#REF!"}},{"$f":"IF($B140=\"*\",\"\",VLOOKUP($A140,'2024-2025 '!#REF!,D$26,FALSE))","v":{"$error":"#REF!"}},{"$f":"IF($B140=\"*\",\"\",VLOOKUP($A140,'2024-2025 '!#REF!,E$26,FALSE))","v":{"$error":"#REF!"}},{"$f":"IF($B140=\"*\",\"\",VLOOKUP($A140,'2024-2025 '!#REF!,F$26,FALSE))","v":{"$error":"#REF!"}},{"$f":"IF($B140=\"*\",\"\",VLOOKUP($A140,'2024-2025 '!#REF!,G$26,FALSE))","v":{"$error":"#REF!"}},null,{"$f":"IF($B140=\"*\",\"\",VLOOKUP($A140,'2024-2025 '!#REF!,I$26,FALSE))","v":{"$error":"#REF!"}},null,{"$f":"IF($B140=\"*\",\"\",VLOOKUP($A140,'2024-2025 '!#REF!,K$5,FALSE))","v":{"$error":"#REF!"}},null,{"$f":"IF($B140=\"*\",\"\",VLOOKUP($A140,'2024-2025 '!#REF!,M$5,FALSE))","v":{"$error":"#REF!"}}]
[108,{"$f":"VLOOKUP(A141,'2024-2025 '!#REF!,9,FALSE)","v":{"$error":"#REF!"}},{"$f":"VLOOKUP($A141,'2024-2025 '!#REF!,C$26,FALSE)","v":{"$error":"#REF!"}},{"$f":"IF($B141=\"*\",\"\",VLOOKUP($A141,'2024-2025 '!#REF!,D$26,FALSE))","v":{"$error":"#REF!"}},{"$f":"IF($B141=\"*\",\"\",VLOOKUP($A141,'2024-2025 '!#REF!,E$26,FALSE))","v":{"$error":"#REF!"}},{"$f":"IF($B141=\"*\",\"\",VLOOKUP($A141,'2024-2025 '!#REF!,F$26,FALSE))","v":{"$error":"#REF!"}},{"$f":"IF($B141=\"*\",\"\",VLOOKUP($A141,'2024-2025 '!#REF!,G$26,FALSE))","v":{"$error":"#REF!"}},null,{"$f":"IF($B141=\"*\",\"\",VLOOKUP($A141,'2024-2025 '!#REF!,I$26,FALSE))","v":{"$error":"#REF!"}},null,{"$f":"IF($B141=\"*\",\"\",VLOOKUP($A141,'2024-2025 '!#REF!,K$5,FALSE))","v":{"$error":"#REF!"}},null,{"$f":"IF($B141=\"*\",\"\",VLOOKUP($A141,'2024-2025 '!#REF!,M$5,FALSE))","v":{"$error":"#REF!"}}]
[109,{"$f":"VLOOKUP(A142,'2024-2025 '!#REF!,9,FALSE)","v":{"$error":"#REF!"}},{"$f":"VLOOKUP($A142,'2024-2025 '!#REF!,C$26,FALSE)","v":{"$error":"#REF!"}},{"$f":"IF($B142=\"*\",\"\",VLOOKUP($A142,'2024-2025 '!#REF!,D$26,FALSE))","v":{"$error":"#REF!"}},{"$f":"IF($B142=\"*\",\"\",VLOOKUP($A142,'2024-2025 '!#REF!,E$26,FALSE))","v":{"$error":"#REF!"}},{"$f":"IF($B142=\"*\",\"\",VLOOKUP($A142,'2024-2025 '!#REF!,F$26,FALSE))","v":{"$error":"#REF!"}},{"$f":"IF($B142=\"*\",\"\",VLOOKUP($A142,'2024-2025 '!#REF!,G$26,FALSE))","v":{"$error":"#REF!"}},null,{"$f":"IF($B142=\"*\",\"\",VLOOKUP($A142,'2024-2025 '!#REF!,I$26,FALSE))","v":{"$error":"#REF!"}},null,{"$f":"IF($B142=\"*\",\"\",VLOOKUP($A142,'2024-2025 '!#REF!,K$5,FALSE))","v":{"$error":"#REF!"}},null,{"$f":"IF($B142=\"*\",\"\",VLOOKUP($A142,'2024-2025 '!#REF!,M$5,FALSE))","v":{"$error":"#REF!"}}]
[110,{"$f":"VLOOKUP(A143,'2024-2025 '!#REF!,9,FALSE)","v":{"$error":"#REF!"}},{"$f":"VLOOKUP($A143,'2024-2025 '!#REF!,C$26,FALSE)","v":{"$error":"#REF!"}},{"$f":"IF($B143=\"*\",\"\",VLOOKUP($A143,'2024-2025 '!#REF!,D$26,FALSE))","v":{"$error":"#REF!"}},{"$f":"IF($B143=\"*\",\"\",VLOOKUP($A143,'2024-2025 '!#REF!,E$26,FALSE))","v":{"$error":"#REF!"}},{"$f":"IF($B143=\"*\",\"\",VLOOKUP($A143,'2024-2025 '!#REF!,F$26,FALSE))","v":{"$error":"#REF!"}},{"$f":"IF($B143=\"*\",\"\",VLOOKUP($A143,'2024-2025 '!#REF!,G$26,FALSE))","v":{"$error":"#REF!"}},null,{"$f":"IF($B143=\"*\",\"\",VLOOKUP($A143,'2024-2025 '!#REF!,I$26,FALSE))","v":{"$error":"#REF!"}},null,{"$f":"IF($B143=\"*\",\"\",VLOOKUP($A143,'2024-2025 '!#REF!,K$5,FALSE))","v":{"$error":"#REF!"}},null,{"$f":"IF($B143=\"*\",\"\",VLOOKUP($A143,'2024-2025 '!#REF!,M$5,FALSE))","v":{"$error":"#REF!"}}]
[111,{"$f":"VLOOKUP(A144,'2024-2025 '!#REF!,9,FALSE)","v":{"$error":"#REF!"}},{"$f":"VLOOKUP($A144,'2024-2025 '!#REF!,C$26,FALSE)","v":{"$error":"#REF!"}},{"$f":"IF($B144=\"*\",\"\",VLOOKUP($A144,'2024-2025 '!#REF!,D$26,FALSE))","v":{"$error":"#REF!"}},{"$f":"IF($B144=\"*\",\"\",VLOOKUP($A144,'2024-2025 '!#REF!,E$26,FALSE))","v":{"$error":"#REF!"}},{"$f":"IF($B144=\"*\",\"\",VLOOKUP($A144,'2024-2025 '!#REF!,F$26,FALSE))","v":{"$error":"#REF!"}},{"$f":"IF($B144=\"*\",\"\",VLOOKUP($A144,'2024-2025 '!#REF!,G$26,FALSE))","v":{"$error":"#REF!"}},null,{"$f":"IF($B144=\"*\",\"\",VLOOKUP($A144,'2024-2025 '!#REF!,I$26,FALSE))","v":{"$error":"#REF!"}},null,{"$f":"IF($B144=\"*\",\"\",VLOOKUP($A144,'2024-2025 '!#REF!,K$5,FALSE))","v":{"$error":"#REF!"}},null,{"$f":"IF($B144=\"*\",\"\",VLOOKUP($A144,'2024-2025 '!#REF!,M$5,FALSE))","v":{"$error":"#REF!"}}]
[112,{"$f":"VLOOKUP(A145,'2024-2025 '!#REF!,9,FALSE)","v":{"$error":"#REF!"}},{"$f":"VLOOKUP($A145,'2024-2025 '!#REF!,C$26,FALSE)","v":{"$error":"#REF!"}},{"$f":"IF($B145=\"*\",\"\",VLOOKUP($A145,'2024-2025 '!#REF!,D$26,FALSE))","v":{"$error":"#REF!"}},{"$f":"IF($B145=\"*\",\"\",VLOOKUP($A145,'2024-2025 '!#REF!,E$26,FALSE))","v":{"$error":"#REF!"}},{"$f":"IF($B145=\"*\",\"\",VLOOKUP($A145,'2024-2025 '!#REF!,F$26,FALSE))","v":{"$error":"#REF!"}},{"$f":"IF($B145=\"*\",\"\",VLOOKUP($A145,'2024-2025 '!#REF!,G$26,FALSE))","v":{"$error":"#REF!"}},null,{"$f":"IF($B145=\"*\",\"\",VLOOKUP($A145,'2024-2025 '!#REF!,I$26,FALSE))","v":{"$error":"#REF!"}},null,{"$f":"IF($B145=\"*\",\"\",VLOOKUP($A145,'2024-2025 '!#REF!,K$5,FALSE))","v":{"$error":"#REF!"}},null,{"$f":"IF($B145=\"*\",\"\",VLOOKUP($A145,'2024-2025 '!#REF!,M$5,FALSE))","v":{"$error":"#REF!"}}]
[113,{"$f":"VLOOKUP(A146,'2024-2025 '!#REF!,9,FALSE)","v":{"$error":"#REF!"}},{"$f":"VLOOKUP($A146,'2024-2025 '!#REF!,C$26,FALSE)","v":{"$error":"#REF!"}},{"$f":"IF($B146=\"*\",\"\",VLOOKUP($A146,'2024-2025 '!#REF!,D$26,FALSE))","v":{"$error":"#REF!"}},{"$f":"IF($B146=\"*\",\"\",VLOOKUP($A146,'2024-2025 '!#REF!,E$26,FALSE))","v":{"$error":"#REF!"}},{"$f":"IF($B146=\"*\",\"\",VLOOKUP($A146,'2024-2025 '!#REF!,F$26,FALSE))","v":{"$error":"#REF!"}},{"$f":"IF($B146=\"*\",\"\",VLOOKUP($A146,'2024-2025 '!#REF!,G$26,FALSE))","v":{"$error":"#REF!"}},null,{"$f":"IF($B146=\"*\",\"\",VLOOKUP($A146,'2024-2025 '!#REF!,I$26,FALSE))","v":{"$error":"#REF!"}},null,{"$f":"IF($B146=\"*\",\"\",VLOOKUP($A146,'2024-2025 '!#REF!,K$5,FALSE))","v":{"$error":"#REF!"}},null,{"$f":"IF($B146=\"*\",\"\",VLOOKUP($A146,'2024-2025 '!#REF!,M$5,FALSE))","v":{"$error":"#REF!"}}]
[114,{"$f":"VLOOKUP(A147,'2024-2025 '!#REF!,9,FALSE)","v":{"$error":"#REF!"}},{"$f":"VLOOKUP($A147,'2024-2025 '!#REF!,C$26,FALSE)","v":{"$error":"#REF!"}},{"$f":"IF($B147=\"*\",\"\",VLOOKUP($A147,'2024-2025 '!#REF!,D$26,FALSE))","v":{"$error":"#REF!"}},{"$f":"IF($B147=\"*\",\"\",VLOOKUP($A147,'2024-2025 '!#REF!,E$26,FALSE))","v":{"$error":"#REF!"}},{"$f":"IF($B147=\"*\",\"\",VLOOKUP($A147,'2024-2025 '!#REF!,F$26,FALSE))","v":{"$error":"#REF!"}},{"$f":"IF($B147=\"*\",\"\",VLOOKUP($A147,'2024-2025 '!#REF!,G$26,FALSE))","v":{"$error":"#REF!"}},null,{"$f":"IF($B147=\"*\",\"\",VLOOKUP($A147,'2024-2025 '!#REF!,I$26,FALSE))","v":{"$error":"#REF!"}},null,{"$f":"IF($B147=\"*\",\"\",VLOOKUP($A147,'2024-2025 '!#REF!,K$5,FALSE))","v":{"$error":"#REF!"}},null,{"$f":"IF($B147=\"*\",\"\",VLOOKUP($A147,'2024-2025 '!#REF!,M$5,FALSE))","v":{"$error":"#REF!"}}]
[115,{"$f":"VLOOKUP(A148,'2024-2025 '!#REF!,9,FALSE)","v":{"$error":"#REF!"}},{"$f":"VLOOKUP($A148,'2024-2025 '!#REF!,C$26,FALSE)","v":{"$error":"#REF!"}},{"$f":"IF($B148=\"*\",\"\",VLOOKUP($A148,'2024-2025 '!#REF!,D$26,FALSE))","v":{"$error":"#REF!"}},{"$f":"IF($B148=\"*\",\"\",VLOOKUP($A148,'2024-2025 '!#REF!,E$26,FALSE))","v":{"$error":"#REF!"}},{"$f":"IF($B148=\"*\",\"\",VLOOKUP($A148,'2024-2025 '!#REF!,F$26,FALSE))","v":{"$error":"#REF!"}},{"$f":"IF($B148=\"*\",\"\",VLOOKUP($A148,'2024-2025 '!#REF!,G$26,FALSE))","v":{"$error":"#REF!"}},null,{"$f":"IF($B148=\"*\",\"\",VLOOKUP($A148,'2024-2025 '!#REF!,I$26,FALSE))","v":{"$error":"#REF!"}},null,{"$f":"IF($B148=\"*\",\"\",VLOOKUP($A148,'2024-2025 '!#REF!,K$5,FALSE))","v":{"$error":"#REF!"}},null,{"$f":"IF($B148=\"*\",\"\",VLOOKUP($A148,'2024-2025 '!#REF!,M$5,FALSE))","v":{"$error":"#REF!"}}]
[116,{"$f":"VLOOKUP(A149,'2024-2025 '!#REF!,9,FALSE)","v":{"$error":"#REF!"}},{"$f":"VLOOKUP($A149,'2024-2025 '!#REF!,C$26,FALSE)","v":{"$error":"#REF!"}},{"$f":"IF($B149=\"*\",\"\",VLOOKUP($A149,'2024-2025 '!#REF!,D$26,FALSE))","v":{"$error":"#REF!"}},{"$f":"IF($B149=\"*\",\"\",VLOOKUP($A149,'2024-2025 '!#REF!,E$26,FALSE))","v":{"$error":"#REF!"}},{"$f":"IF($B149=\"*\",\"\",VLOOKUP($A149,'2024-2025 '!#REF!,F$26,FALSE))","v":{"$error":"#REF!"}},{"$f":"IF($B149=\"*\",\"\",VLOOKUP($A149,'2024-2025 '!#REF!,G$26,FALSE))","v":{"$error":"#REF!"}},null,{"$f":"IF($B149=\"*\",\"\",VLOOKUP($A149,'2024-2025 '!#REF!,I$26,FALSE))","v":{"$error":"#REF!"}},null,{"$f":"IF($B149=\"*\",\"\",VLOOKUP($A149,'2024-2025 '!#REF!,K$5,FALSE))","v":{"$error":"#REF!"}},null,{"$f":"IF($B149=\"*\",\"\",VLOOKUP($A149,'2024-2025 '!#REF!,M$5,FALSE))","v":{"$error":"#REF!"}}]
[117,{"$f":"VLOOKUP(A150,'2024-2025 '!#REF!,9,FALSE)","v":{"$error":"#REF!"}},{"$f":"VLOOKUP($A150,'2024-2025 '!#REF!,C$26,FALSE)","v":{"$error":"#REF!"}},{"$f":"IF($B150=\"*\",\"\",VLOOKUP($A150,'2024-2025 '!#REF!,D$26,FALSE))","v":{"$error":"#REF!"}},{"$f":"IF($B150=\"*\",\"\",VLOOKUP($A150,'2024-2025 '!#REF!,E$26,FALSE))","v":{"$error":"#REF!"}},{"$f":"IF($B150=\"*\",\"\",VLOOKUP($A150,'2024-2025 '!#REF!,F$26,FALSE))","v":{"$error":"#REF!"}},{"$f":"IF($B150=\"*\",\"\",VLOOKUP($A150,'2024-2025 '!#REF!,G$26,FALSE))","v":{"$error":"#REF!"}},null,{"$f":"IF($B150=\"*\",\"\",VLOOKUP($A150,'2024-2025 '!#REF!,I$26,FALSE))","v":{"$error":"#REF!"}},null,{"$f":"IF($B150=\"*\",\"\",VLOOKUP($A150,'2024-2025 '!#REF!,K$5,FALSE))","v":{"$error":"#REF!"}},null,{"$f":"IF($B150=\"*\",\"\",VLOOKUP($A150,'2024-2025 '!#REF!,M$5,FALSE))","v":{"$error":"#REF!"}}]
[118,{"$f":"VLOOKUP(A151,'2024-2025 '!#REF!,9,FALSE)","v":{"$error":"#REF!"}},{"$f":"VLOOKUP($A151,'2024-2025 '!#REF!,C$26,FALSE)","v":{"$error":"#REF!"}},{"$f":"IF($B151=\"*\",\"\",VLOOKUP($A151,'2024-2025 '!#REF!,D$26,FALSE))","v":{"$error":"#REF!"}},{"$f":"IF($B151=\"*\",\"\",VLOOKUP($A151,'2024-2025 '!#REF!,E$26,FALSE))","v":{"$error":"#REF!"}},{"$f":"IF($B151=\"*\",\"\",VLOOKUP($A151,'2024-2025 '!#REF!,F$26,FALSE))","v":{"$error":"#REF!"}},{"$f":"IF($B151=\"*\",\"\",VLOOKUP($A151,'2024-2025 '!#REF!,G$26,FALSE))","v":{"$error":"#REF!"}},null,{"$f":"IF($B151=\"*\",\"\",VLOOKUP($A151,'2024-2025 '!#REF!,I$26,FALSE))","v":{"$error":"#REF!"}},null,{"$f":"IF($B151=\"*\",\"\",VLOOKUP($A151,'2024-2025 '!#REF!,K$5,FALSE))","v":{"$error":"#REF!"}},null,{"$f":"IF($B151=\"*\",\"\",VLOOKUP($A151,'2024-2025 '!#REF!,M$5,FALSE))","v":{"$error":"#REF!"}}]
[119,{"$f":"VLOOKUP(A152,'2024-2025 '!#REF!,9,FALSE)","v":{"$error":"#REF!"}},{"$f":"VLOOKUP($A152,'2024-2025 '!#REF!,C$26,FALSE)","v":{"$error":"#REF!"}},{"$f":"IF($B152=\"*\",\"\",VLOOKUP($A152,'2024-2025 '!#REF!,D$26,FALSE))","v":{"$error":"#REF!"}},{"$f":"IF($B152=\"*\",\"\",VLOOKUP($A152,'2024-2025 '!#REF!,E$26,FALSE))","v":{"$error":"#REF!"}},{"$f":"IF($B152=\"*\",\"\",VLOOKUP($A152,'2024-2025 '!#REF!,F$26,FALSE))","v":{"$error":"#REF!"}},{"$f":"IF($B152=\"*\",\"\",VLOOKUP($A152,'2024-2025 '!#REF!,G$26,FALSE))","v":{"$error":"#REF!"}},null,{"$f":"IF($B152=\"*\",\"\",VLOOKUP($A152,'2024-2025 '!#REF!,I$26,FALSE))","v":{"$error":"#REF!"}},null,{"$f":"IF($B152=\"*\",\"\",VLOOKUP($A152,'2024-2025 '!#REF!,K$5,FALSE))","v":{"$error":"#REF!"}},null,{"$f":"IF($B152=\"*\",\"\",VLOOKUP($A152,'2024-2025 '!#REF!,M$5,FALSE))","v":{"$error":"#REF!"}}]
[120,{"$f":"VLOOKUP(A153,'2024-2025 '!#REF!,9,FALSE)","v":{"$error":"#REF!"}},{"$f":"VLOOKUP($A153,'2024-2025 '!#REF!,C$26,FALSE)","v":{"$error":"#REF!"}},{"$f":"IF($B153=\"*\",\"\",VLOOKUP($A153,'2024-2025 '!#REF!,D$26,FALSE))","v":{"$error":"#REF!"}},{"$f":"IF($B153=\"*\",\"\",VLOOKUP($A153,'2024-2025 '!#REF!,E$26,FALSE))","v":{"$error":"#REF!"}},{"$f":"IF($B153=\"*\",\"\",VLOOKUP($A153,'2024-2025 '!#REF!,F$26,FALSE))","v":{"$error":"#REF!"}},{"$f":"IF($B153=\"*\",\"\",VLOOKUP($A153,'2024-2025 '!#REF!,G$26,FALSE))","v":{"$error":"#REF!"}},null,{"$f":"IF($B153=\"*\",\"\",VLOOKUP($A153,'2024-2025 '!#REF!,I$26,FALSE))","v":{"$error":"#REF!"}},null,{"$f":"IF($B153=\"*\",\"\",VLOOKUP($A153,'2024-2025 '!#REF!,K$5,FALSE))","v":{"$error":"#REF!"}},null,{"$f":"IF($B153=\"*\",\"\",VLOOKUP($A153,'2024-2025 '!#REF!,M$5,FALSE))","v":{"$error":"#REF!"}}]
[121,{"$f":"VLOOKUP(A154,'2024-2025 '!#REF!,9,FALSE)","v":{"$error":"#REF!"}},{"$f":"VLOOKUP($A154,'2024-2025 '!#REF!,C$26,FALSE)","v":{"$error":"#REF!"}},{"$f":"IF($B154=\"*\",\"\",VLOOKUP($A154,'2024-2025 '!#REF!,D$26,FALSE))","v":{"$error":"#REF!"}},{"$f":"IF($B154=\"*\",\"\",VLOOKUP($A154,'2024-2025 '!#REF!,E$26,FALSE))","v":{"$error":"#REF!"}},{"$f":"IF($B154=\"*\",\"\",VLOOKUP($A154,'2024-2025 '!#REF!,F$26,FALSE))","v":{"$error":"#REF!"}},{"$f":"IF($B154=\"*\",\"\",VLOOKUP($A154,'2024-2025 '!#REF!,G$26,FALSE))","v":{"$error":"#REF!"}},null,{"$f":"IF($B154=\"*\",\"\",VLOOKUP($A154,'2024-2025 '!#REF!,I$26,FALSE))","v":{"$error":"#REF!"}},null,{"$f":"IF($B154=\"*\",\"\",VLOOKUP($A154,'2024-2025 '!#REF!,K$5,FALSE))","v":{"$error":"#REF!"}},null,{"$f":"IF($B154=\"*\",\"\",VLOOKUP($A154,'2024-2025 '!#REF!,M$5,FALSE))","v":{"$error":"#REF!"}}]
[122,{"$f":"VLOOKUP(A155,'2024-2025 '!#REF!,9,FALSE)","v":{"$error":"#REF!"}},{"$f":"VLOOKUP($A155,'2024-2025 '!#REF!,C$26,FALSE)","v":{"$error":"#REF!"}},{"$f":"IF($B155=\"*\",\"\",VLOOKUP($A155,'2024-2025 '!#REF!,D$26,FALSE))","v":{"$error":"#REF!"}},{"$f":"IF($B155=\"*\",\"\",VLOOKUP($A155,'2024-2025 '!#REF!,E$26,FALSE))","v":{"$error":"#REF!"}},{"$f":"IF($B155=\"*\",\"\",VLOOKUP($A155,'2024-2025 '!#REF!,F$26,FALSE))","v":{"$error":"#REF!"}},{"$f":"IF($B155=\"*\",\"\",VLOOKUP($A155,'2024-2025 '!#REF!,G$26,FALSE))","v":{"$error":"#REF!"}},null,{"$f":"IF($B155=\"*\",\"\",VLOOKUP($A155,'2024-2025 '!#REF!,I$26,FALSE))","v":{"$error":"#REF!"}},null,{"$f":"IF($B155=\"*\",\"\",VLOOKUP($A155,'2024-2025 '!#REF!,K$5,FALSE))","v":{"$error":"#REF!"}},null,{"$f":"IF($B155=\"*\",\"\",VLOOKUP($A155,'2024-2025 '!#REF!,M$5,FALSE))","v":{"$error":"#REF!"}}]
[123,{"$f":"VLOOKUP(A156,'2024-2025 '!#REF!,9,FALSE)","v":{"$error":"#REF!"}},{"$f":"VLOOKUP($A156,'2024-2025 '!#REF!,C$26,FALSE)","v":{"$error":"#REF!"}},{"$f":"IF($B156=\"*\",\"\",VLOOKUP($A156,'2024-2025 '!#REF!,D$26,FALSE))","v":{"$error":"#REF!"}},{"$f":"IF($B156=\"*\",\"\",VLOOKUP($A156,'2024-2025 '!#REF!,E$26,FALSE))","v":{"$error":"#REF!"}},{"$f":"IF($B156=\"*\",\"\",VLOOKUP($A156,'2024-2025 '!#REF!,F$26,FALSE))","v":{"$error":"#REF!"}},{"$f":"IF($B156=\"*\",\"\",VLOOKUP($A156,'2024-2025 '!#REF!,G$26,FALSE))","v":{"$error":"#REF!"}},null,{"$f":"IF($B156=\"*\",\"\",VLOOKUP($A156,'2024-2025 '!#REF!,I$26,FALSE))","v":{"$error":"#REF!"}},null,{"$f":"IF($B156=\"*\",\"\",VLOOKUP($A156,'2024-2025 '!#REF!,K$5,FALSE))","v":{"$error":"#REF!"}},null,{"$f":"IF($B156=\"*\",\"\",VLOOKUP($A156,'2024-2025 '!#REF!,M$5,FALSE))","v":{"$error":"#REF!"}}]
[124,{"$f":"VLOOKUP(A157,'2024-2025 '!#REF!,9,FALSE)","v":{"$error":"#REF!"}},{"$f":"VLOOKUP($A157,'2024-2025 '!#REF!,C$26,FALSE)","v":{"$error":"#REF!"}},{"$f":"IF($B157=\"*\",\"\",VLOOKUP($A157,'2024-2025 '!#REF!,D$26,FALSE))","v":{"$error":"#REF!"}},{"$f":"IF($B157=\"*\",\"\",VLOOKUP($A157,'2024-2025 '!#REF!,E$26,FALSE))","v":{"$error":"#REF!"}},{"$f":"IF($B157=\"*\",\"\",VLOOKUP($A157,'2024-2025 '!#REF!,F$26,FALSE))","v":{"$error":"#REF!"}},{"$f":"IF($B157=\"*\",\"\",VLOOKUP($A157,'2024-2025 '!#REF!,G$26,FALSE))","v":{"$error":"#REF!"}},null,{"$f":"IF($B157=\"*\",\"\",VLOOKUP($A157,'2024-2025 '!#REF!,I$26,FALSE))","v":{"$error":"#REF!"}},null,{"$f":"IF($B157=\"*\",\"\",VLOOKUP($A157,'2024-2025 '!#REF!,K$5,FALSE))","v":{"$error":"#REF!"}},null,{"$f":"IF($B157=\"*\",\"\",VLOOKUP($A157,'2024-2025 '!#REF!,M$5,FALSE))","v":{"$error":"#REF!"}}]
[125,{"$f":"VLOOKUP(A158,'2024-2025 '!#REF!,9,FALSE)","v":{"$error":"#REF!"}},{"$f":"VLOOKUP($A158,'2024-2025 '!#REF!,C$26,FALSE)","v":{"$error":"#REF!"}},{"$f":"IF($B158=\"*\",\"\",VLOOKUP($A158,'2024-2025 '!#REF!,D$26,FALSE))","v":{"$error":"#REF!"}},{"$f":"IF($B158=\"*\",\"\",VLOOKUP($A158,'2024-2025 '!#REF!,E$26,FALSE))","v":{"$error":"#REF!"}},{"$f":"IF($B158=\"*\",\"\",VLOOKUP($A158,'2024-2025 '!#REF!,F$26,FALSE))","v":{"$error":"#REF!"}},{"$f":"IF($B158=\"*\",\"\",VLOOKUP($A158,'2024-2025 '!#REF!,G$26,FALSE))","v":{"$error":"#REF!"}},null,{"$f":"IF($B158=\"*\",\"\",VLOOKUP($A158,'2024-2025 '!#REF!,I$26,FALSE))","v":{"$error":"#REF!"}},null,{"$f":"IF($B158=\"*\",\"\",VLOOKUP($A158,'2024-2025 '!#REF!,K$5,FALSE))","v":{"$error":"#REF!"}},null,{"$f":"IF($B158=\"*\",\"\",VLOOKUP($A158,'2024-2025 '!#REF!,M$5,FALSE))","v":{"$error":"#REF!"}}]
[126,{"$f":"VLOOKUP(A159,'2024-2025 '!#REF!,9,FALSE)","v":{"$error":"#REF!"}},{"$f":"VLOOKUP($A159,'2024-2025 '!#REF!,C$26,FALSE)","v":{"$error":"#REF!"}},{"$f":"IF($B159=\"*\",\"\",VLOOKUP($A159,'2024-2025 '!#REF!,D$26,FALSE))","v":{"$error":"#REF!"}},{"$f":"IF($B159=\"*\",\"\",VLOOKUP($A159,'2024-2025 '!#REF!,E$26,FALSE))","v":{"$error":"#REF!"}},{"$f":"IF($B159=\"*\",\"\",VLOOKUP($A159,'2024-2025 '!#REF!,F$26,FALSE))","v":{"$error":"#REF!"}},{"$f":"IF($B159=\"*\",\"\",VLOOKUP($A159,'2024-2025 '!#REF!,G$26,FALSE))","v":{"$error":"#REF!"}},null,{"$f":"IF($B159=\"*\",\"\",VLOOKUP($A159,'2024-2025 '!#REF!,I$26,FALSE))","v":{"$error":"#REF!"}},null,{"$f":"IF($B159=\"*\",\"\",VLOOKUP($A159,'2024-2025 '!#REF!,K$5,FALSE))","v":{"$error":"#REF!"}},null,{"$f":"IF($B159=\"*\",\"\",VLOOKUP($A159,'2024-2025 '!#REF!,M$5,FALSE))","v":{"$error":"#REF!"}}]
[127,{"$f":"VLOOKUP(A160,'2024-2025 '!#REF!,9,FALSE)","v":{"$error":"#REF!"}},{"$f":"VLOOKUP($A160,'2024-2025 '!#REF!,C$26,FALSE)","v":{"$error":"#REF!"}},{"$f":"IF($B160=\"*\",\"\",VLOOKUP($A160,'2024-2025 '!#REF!,D$26,FALSE))","v":{"$error":"#REF!"}},{"$f":"IF($B160=\"*\",\"\",VLOOKUP($A160,'2024-2025 '!#REF!,E$26,FALSE))","v":{"$error":"#REF!"}},{"$f":"IF($B160=\"*\",\"\",VLOOKUP($A160,'2024-2025 '!#REF!,F$26,FALSE))","v":{"$error":"#REF!"}},{"$f":"IF($B160=\"*\",\"\",VLOOKUP($A160,'2024-2025 '!#REF!,G$26,FALSE))","v":{"$error":"#REF!"}},null,{"$f":"IF($B160=\"*\",\"\",VLOOKUP($A160,'2024-2025 '!#REF!,I$26,FALSE))","v":{"$error":"#REF!"}},null,{"$f":"IF($B160=\"*\",\"\",VLOOKUP($A160,'2024-2025 '!#REF!,K$5,FALSE))","v":{"$error":"#REF!"}},null,{"$f":"IF($B160=\"*\",\"\",VLOOKUP($A160,'2024-2025 '!#REF!,M$5,FALSE))","v":{"$error":"#REF!"}}]
[128,{"$f":"VLOOKUP(A161,'2024-2025 '!#REF!,9,FALSE)","v":{"$error":"#REF!"}},{"$f":"VLOOKUP($A161,'2024-2025 '!#REF!,C$26,FALSE)","v":{"$error":"#REF!"}},{"$f":"IF($B161=\"*\",\"\",VLOOKUP($A161,'2024-2025 '!#REF!,D$26,FALSE))","v":{"$error":"#REF!"}},{"$f":"IF($B161=\"*\",\"\",VLOOKUP($A161,'2024-2025 '!#REF!,E$26,FALSE))","v":{"$error":"#REF!"}},{"$f":"IF($B161=\"*\",\"\",VLOOKUP($A161,'2024-2025 '!#REF!,F$26,FALSE))","v":{"$error":"#REF!"}},{"$f":"IF($B161=\"*\",\"\",VLOOKUP($A161,'2024-2025 '!#REF!,G$26,FALSE))","v":{"$error":"#REF!"}},null,{"$f":"IF($B161=\"*\",\"\",VLOOKUP($A161,'2024-2025 '!#REF!,I$26,FALSE))","v":{"$error":"#REF!"}},null,{"$f":"IF($B161=\"*\",\"\",VLOOKUP($A161,'2024-2025 '!#REF!,K$5,FALSE))","v":{"$error":"#REF!"}},null,{"$f":"IF($B161=\"*\",\"\",VLOOKUP($A161,'2024-2025 '!#REF!,M$5,FALSE))","v":{"$error":"#REF!"}}]
[129,{"$f":"VLOOKUP(A162,'2024-2025 '!#REF!,9,FALSE)","v":{"$error":"#REF!"}},{"$f":"VLOOKUP($A162,'2024-2025 '!#REF!,C$26,FALSE)","v":{"$error":"#REF!"}},{"$f":"IF($B162=\"*\",\"\",VLOOKUP($A162,'2024-2025 '!#REF!,D$26,FALSE))","v":{"$error":"#REF!"}},{"$f":"IF($B162=\"*\",\"\",VLOOKUP($A162,'2024-2025 '!#REF!,E$26,FALSE))","v":{"$error":"#REF!"}},{"$f":"IF($B162=\"*\",\"\",VLOOKUP($A162,'2024-2025 '!#REF!,F$26,FALSE))","v":{"$error":"#REF!"}},{"$f":"IF($B162=\"*\",\"\",VLOOKUP($A162,'2024-2025 '!#REF!,G$26,FALSE))","v":{"$error":"#REF!"}},null,{"$f":"IF($B162=\"*\",\"\",VLOOKUP($A162,'2024-2025 '!#REF!,I$26,FALSE))","v":{"$error":"#REF!"}},null,{"$f":"IF($B162=\"*\",\"\",VLOOKUP($A162,'2024-2025 '!#REF!,K$5,FALSE))","v":{"$error":"#REF!"}},null,{"$f":"IF($B162=\"*\",\"\",VLOOKUP($A162,'2024-2025 '!#REF!,M$5,FALSE))","v":{"$error":"#REF!"}}]
[130,{"$f":"VLOOKUP(A163,'2024-2025 '!#REF!,9,FALSE)","v":{"$error":"#REF!"}},{"$f":"VLOOKUP($A163,'2024-2025 '!#REF!,C$26,FALSE)","v":{"$error":"#REF!"}},{"$f":"IF($B163=\"*\",\"\",VLOOKUP($A163,'2024-2025 '!#REF!,D$26,FALSE))","v":{"$error":"#REF!"}},{"$f":"IF($B163=\"*\",\"\",VLOOKUP($A163,'2024-2025 '!#REF!,E$26,FALSE))","v":{"$error":"#REF!"}},{"$f":"IF($B163=\"*\",\"\",VLOOKUP($A163,'2024-2025 '!#REF!,F$26,FALSE))","v":{"$error":"#REF!"}},{"$f":"IF($B163=\"*\",\"\",VLOOKUP($A163,'2024-2025 '!#REF!,G$26,FALSE))","v":{"$error":"#REF!"}},null,{"$f":"IF($B163=\"*\",\"\",VLOOKUP($A163,'2024-2025 '!#REF!,I$26,FALSE))","v":{"$error":"#REF!"}},null,{"$f":"IF($B163=\"*\",\"\",VLOOKUP($A163,'2024-2025 '!#REF!,K$5,FALSE))","v":{"$error":"#REF!"}},null,{"$f":"IF($B163=\"*\",\"\",VLOOKUP($A163,'2024-2025 '!#REF!,M$5,FALSE))","v":{"$error":"#REF!"}}]
[{"$f":"A163+1","v":131},{"$f":"VLOOKUP(A164,'2024-2025 '!#REF!,9,FALSE)","v":{"$error":"#REF!"}},{"$f":"VLOOKUP($A164,'2024-2025 '!#REF!,C$26,FALSE)","v":{"$error":"#REF!"}},{"$f":"IF($B164=\"*\",\"\",VLOOKUP($A164,'2024-2025 '!#REF!,D$26,FALSE))","v":{"$error":"#REF!"}},{"$f":"IF($B164=\"*\",\"\",VLOOKUP($A164,'2024-2025 '!#REF!,E$26,FALSE))","v":{"$error":"#REF!"}},{"$f":"IF($B164=\"*\",\"\",VLOOKUP($A164,'2024-2025 '!#REF!,F$26,FALSE))","v":{"$error":"#REF!"}},{"$f":"IF($B164=\"*\",\"\",VLOOKUP($A164,'2024-2025 '!#REF!,G$26,FALSE))","v":{"$error":"#REF!"}},null,{"$f":"IF($B164=\"*\",\"\",VLOOKUP($A164,'2024-2025 '!#REF!,I$26,FALSE))","v":{"$error":"#REF!"}},null,{"$f":"IF($B164=\"*\",\"\",VLOOKUP($A164,'2024-2025 '!#REF!,K$5,FALSE))","v":{"$error":"#REF!"}},null,{"$f":"IF($B164=\"*\",\"\",VLOOKUP($A164,'2024-2025 '!#REF!,M$5,FALSE))","v":{"$error":"#REF!"}}]
[132,{"$f":"VLOOKUP(A165,'2024-2025 '!#REF!,9,FALSE)","v":{"$error":"#REF!"}},{"$f":"VLOOKUP($A165,'2024-2025 '!#REF!,C$26,FALSE)","v":{"$error":"#REF!"}},{"$f":"IF($B165=\"*\",\"\",VLOOKUP($A165,'2024-2025 '!#REF!,D$26,FALSE))","v":{"$error":"#REF!"}},{"$f":"IF($B165=\"*\",\"\",VLOOKUP($A165,'2024-2025 '!#REF!,E$26,FALSE))","v":{"$error":"#REF!"}},{"$f":"IF($B165=\"*\",\"\",VLOOKUP($A165,'2024-2025 '!#REF!,F$26,FALSE))","v":{"$error":"#REF!"}},{"$f":"IF($B165=\"*\",\"\",VLOOKUP($A165,'2024-2025 '!#REF!,G$26,FALSE))","v":{"$error":"#REF!"}},null,{"$f":"IF($B165=\"*\",\"\",VLOOKUP($A165,'2024-2025 '!#REF!,I$26,FALSE))","v":{"$error":"#REF!"}},null,{"$f":"IF($B165=\"*\",\"\",VLOOKUP($A165,'2024-2025 '!#REF!,K$5,FALSE))","v":{"$error":"#REF!"}},null,{"$f":"IF($B165=\"*\",\"\",VLOOKUP($A165,'2024-2025 '!#REF!,M$5,FALSE))","v":{"$error":"#REF!"}}]
[133,{"$f":"VLOOKUP(A166,'2024-2025 '!#REF!,9,FALSE)","v":{"$error":"#REF!"}},{"$f":"VLOOKUP($A166,'2024-2025 '!#REF!,C$26,FALSE)","v":{"$error":"#REF!"}},null,null,null,null,null,null,null,{"$f":"IF($B166=\"*\",\"\",VLOOKUP($A166,'2024-2025 '!#REF!,K$5,FALSE))","v":{"$error":"#REF!"}},null,{"$f":"IF($B166=\"*\",\"\",VLOOKUP($A166,'2024-2025 '!#REF!,M$5,FALSE))","v":{"$error":"#REF!"}}]
[134,{"$f":"VLOOKUP(A167,'2024-2025 '!#REF!,9,FALSE)","v":{"$error":"#REF!"}},{"$f":"VLOOKUP($A167,'2024-2025 '!#REF!,C$26,FALSE)","v":{"$error":"#REF!"}},{"$f":"IF($B167=\"*\",\"\",VLOOKUP($A167,'2024-2025 '!#REF!,D$26,FALSE))","v":{"$error":"#REF!"}},{"$f":"IF($B167=\"*\",\"\",VLOOKUP($A167,'2024-2025 '!#REF!,E$26,FALSE))","v":{"$error":"#REF!"}},{"$f":"IF($B167=\"*\",\"\",VLOOKUP($A167,'2024-2025 '!#REF!,F$26,FALSE))","v":{"$error":"#REF!"}},{"$f":"IF($B167=\"*\",\"\",VLOOKUP($A167,'2024-2025 '!#REF!,G$26,FALSE))","v":{"$error":"#REF!"}},null,{"$f":"IF($B167=\"*\",\"\",VLOOKUP($A167,'2024-2025 '!#REF!,I$26,FALSE))","v":{"$error":"#REF!"}},null,{"$f":"IF($B167=\"*\",\"\",VLOOKUP($A167,'2024-2025 '!#REF!,K$5,FALSE))","v":{"$error":"#REF!"}},null,{"$f":"IF($B167=\"*\",\"\",VLOOKUP($A167,'2024-2025 '!#REF!,M$5,FALSE))","v":{"$error":"#REF!"}}]
[135,{"$f":"VLOOKUP(A168,'2024-2025 '!#REF!,9,FALSE)","v":{"$error":"#REF!"}},{"$f":"VLOOKUP($A168,'2024-2025 '!#REF!,C$26,FALSE)","v":{"$error":"#REF!"}},{"$f":"IF($B168=\"*\",\"\",VLOOKUP($A168,'2024-2025 '!#REF!,D$26,FALSE))","v":{"$error":"#REF!"}},{"$f":"IF($B168=\"*\",\"\",VLOOKUP($A168,'2024-2025 '!#REF!,E$26,FALSE))","v":{"$error":"#REF!"}},{"$f":"IF($B168=\"*\",\"\",VLOOKUP($A168,'2024-2025 '!#REF!,F$26,FALSE))","v":{"$error":"#REF!"}},{"$f":"IF($B168=\"*\",\"\",VLOOKUP($A168,'2024-2025 '!#REF!,G$26,FALSE))","v":{"$error":"#REF!"}},null,{"$f":"IF($B168=\"*\",\"\",VLOOKUP($A168,'2024-2025 '!#REF!,I$26,FALSE))","v":{"$error":"#REF!"}},null,{"$f":"IF($B168=\"*\",\"\",VLOOKUP($A168,'2024-2025 '!#REF!,K$5,FALSE))","v":{"$error":"#REF!"}},null,{"$f":"IF($B168=\"*\",\"\",VLOOKUP($A168,'2024-2025 '!#REF!,M$5,FALSE))","v":{"$error":"#REF!"}}]
[136,{"$f":"VLOOKUP(A169,'2024-2025 '!#REF!,9,FALSE)","v":{"$error":"#REF!"}},{"$f":"VLOOKUP($A169,'2024-2025 '!#REF!,C$26,FALSE)","v":{"$error":"#REF!"}},{"$f":"IF($B169=\"*\",\"\",VLOOKUP($A169,'2024-2025 '!#REF!,D$26,FALSE))","v":{"$error":"#REF!"}},{"$f":"IF($B169=\"*\",\"\",VLOOKUP($A169,'2024-2025 '!#REF!,E$26,FALSE))","v":{"$error":"#REF!"}},{"$f":"IF($B169=\"*\",\"\",VLOOKUP($A169,'2024-2025 '!#REF!,F$26,FALSE))","v":{"$error":"#REF!"}},{"$f":"IF($B169=\"*\",\"\",VLOOKUP($A169,'2024-2025 '!#REF!,G$26,FALSE))","v":{"$error":"#REF!"}},null,{"$f":"IF($B169=\"*\",\"\",VLOOKUP($A169,'2024-2025 '!#REF!,I$26,FALSE))","v":{"$error":"#REF!"}},null,{"$f":"IF($B169=\"*\",\"\",VLOOKUP($A169,'2024-2025 '!#REF!,K$5,FALSE))","v":{"$error":"#REF!"}},null,{"$f":"IF($B169=\"*\",\"\",VLOOKUP($A169,'2024-2025 '!#REF!,M$5,FALSE))","v":{"$error":"#REF!"}}]
[137,{"$f":"VLOOKUP(A170,'2024-2025 '!#REF!,9,FALSE)","v":{"$error":"#REF!"}},{"$f":"VLOOKUP($A170,'2024-2025 '!#REF!,C$26,FALSE)","v":{"$error":"#REF!"}},{"$f":"IF($B170=\"*\",\"\",VLOOKUP($A170,'2024-2025 '!#REF!,D$26,FALSE))","v":{"$error":"#REF!"}},{"$f":"IF($B170=\"*\",\"\",VLOOKUP($A170,'2024-2025 '!#REF!,E$26,FALSE))","v":{"$error":"#REF!"}},{"$f":"IF($B170=\"*\",\"\",VLOOKUP($A170,'2024-2025 '!#REF!,F$26,FALSE))","v":{"$error":"#REF!"}},{"$f":"IF($B170=\"*\",\"\",VLOOKUP($A170,'2024-2025 '!#REF!,G$26,FALSE))","v":{"$error":"#REF!"}},null,{"$f":"IF($B170=\"*\",\"\",VLOOKUP($A170,'2024-2025 '!#REF!,I$26,FALSE))","v":{"$error":"#REF!"}},null,{"$f":"IF($B170=\"*\",\"\",VLOOKUP($A170,'2024-2025 '!#REF!,K$5,FALSE))","v":{"$error":"#REF!"}},null,{"$f":"IF($B170=\"*\",\"\",VLOOKUP($A170,'2024-2025 '!#REF!,M$5,FALSE))","v":{"$error":"#REF!"}}]
[138,{"$f":"VLOOKUP(A171,'2024-2025 '!#REF!,9,FALSE)","v":{"$error":"#REF!"}},{"$f":"VLOOKUP($A171,'2024-2025 '!#REF!,C$26,FALSE)","v":{"$error":"#REF!"}},{"$f":"IF($B171=\"*\",\"\",VLOOKUP($A171,'2024-2025 '!#REF!,D$26,FALSE))","v":{"$error":"#REF!"}},{"$f":"IF($B171=\"*\",\"\",VLOOKUP($A171,'2024-2025 '!#REF!,E$26,FALSE))","v":{"$error":"#REF!"}},{"$f":"IF($B171=\"*\",\"\",VLOOKUP($A171,'2024-2025 '!#REF!,F$26,FALSE))","v":{"$error":"#REF!"}},{"$f":"IF($B171=\"*\",\"\",VLOOKUP($A171,'2024-2025 '!#REF!,G$26,FALSE))","v":{"$error":"#REF!"}},null,{"$f":"IF($B171=\"*\",\"\",VLOOKUP($A171,'2024-2025 '!#REF!,I$26,FALSE))","v":{"$error":"#REF!"}},null,{"$f":"IF($B171=\"*\",\"\",VLOOKUP($A171,'2024-2025 '!#REF!,K$5,FALSE))","v":{"$error":"#REF!"}},null,{"$f":"IF($B171=\"*\",\"\",VLOOKUP($A171,'2024-2025 '!#REF!,M$5,FALSE))","v":{"$error":"#REF!"}}]
[139,{"$f":"VLOOKUP(A172,'2024-2025 '!#REF!,9,FALSE)","v":{"$error":"#REF!"}},{"$f":"VLOOKUP($A172,'2024-2025 '!#REF!,C$26,FALSE)","v":{"$error":"#REF!"}},{"$f":"IF($B172=\"*\",\"\",VLOOKUP($A172,'2024-2025 '!#REF!,D$26,FALSE))","v":{"$error":"#REF!"}},{"$f":"IF($B172=\"*\",\"\",VLOOKUP($A172,'2024-2025 '!#REF!,E$26,FALSE))","v":{"$error":"#REF!"}},{"$f":"IF($B172=\"*\",\"\",VLOOKUP($A172,'2024-2025 '!#REF!,F$26,FALSE))","v":{"$error":"#REF!"}},{"$f":"IF($B172=\"*\",\"\",VLOOKUP($A172,'2024-2025 '!#REF!,G$26,FALSE))","v":{"$error":"#REF!"}},null,{"$f":"IF($B172=\"*\",\"\",VLOOKUP($A172,'2024-2025 '!#REF!,I$26,FALSE))","v":{"$error":"#REF!"}},null,{"$f":"IF($B172=\"*\",\"\",VLOOKUP($A172,'2024-2025 '!#REF!,K$5,FALSE))","v":{"$error":"#REF!"}},null,{"$f":"IF($B172=\"*\",\"\",VLOOKUP($A172,'2024-2025 '!#REF!,M$5,FALSE))","v":{"$error":"#REF!"}}]
[140,{"$f":"VLOOKUP(A173,'2024-2025 '!#REF!,9,FALSE)","v":{"$error":"#REF!"}},{"$f":"VLOOKUP($A173,'2024-2025 '!#REF!,C$26,FALSE)","v":{"$error":"#REF!"}},{"$f":"IF($B173=\"*\",\"\",VLOOKUP($A173,'2024-2025 '!#REF!,D$26,FALSE))","v":{"$error":"#REF!"}},{"$f":"IF($B173=\"*\",\"\",VLOOKUP($A173,'2024-2025 '!#REF!,E$26,FALSE))","v":{"$error":"#REF!"}},{"$f":"IF($B173=\"*\",\"\",VLOOKUP($A173,'2024-2025 '!#REF!,F$26,FALSE))","v":{"$error":"#REF!"}},{"$f":"IF($B173=\"*\",\"\",VLOOKUP($A173,'2024-2025 '!#REF!,G$26,FALSE))","v":{"$error":"#REF!"}},null,{"$f":"IF($B173=\"*\",\"\",VLOOKUP($A173,'2024-2025 '!#REF!,I$26,FALSE))","v":{"$error":"#REF!"}},null,{"$f":"IF($B173=\"*\",\"\",VLOOKUP($A173,'2024-2025 '!#REF!,K$5,FALSE))","v":{"$error":"#REF!"}},null,{"$f":"IF($B173=\"*\",\"\",VLOOKUP($A173,'2024-2025 '!#REF!,M$5,FALSE))","v":{"$error":"#REF!"}}]
[141,{"$f":"VLOOKUP(A174,'2024-2025 '!#REF!,9,FALSE)","v":{"$error":"#REF!"}},{"$f":"VLOOKUP($A174,'2024-2025 '!#REF!,C$26,FALSE)","v":{"$error":"#REF!"}},{"$f":"IF($B174=\"*\",\"\",VLOOKUP($A174,'2024-2025 '!#REF!,D$26,FALSE))","v":{"$error":"#REF!"}},{"$f":"IF($B174=\"*\",\"\",VLOOKUP($A174,'2024-2025 '!#REF!,E$26,FALSE))","v":{"$error":"#REF!"}},{"$f":"IF($B174=\"*\",\"\",VLOOKUP($A174,'2024-2025 '!#REF!,F$26,FALSE))","v":{"$error":"#REF!"}},{"$f":"IF($B174=\"*\",\"\",VLOOKUP($A174,'2024-2025 '!#REF!,G$26,FALSE))","v":{"$error":"#REF!"}},null,{"$f":"IF($B174=\"*\",\"\",VLOOKUP($A174,'2024-2025 '!#REF!,I$26,FALSE))","v":{"$error":"#REF!"}},null,{"$f":"IF($B174=\"*\",\"\",VLOOKUP($A174,'2024-2025 '!#REF!,K$5,FALSE))","v":{"$error":"#REF!"}},null,{"$f":"IF($B174=\"*\",\"\",VLOOKUP($A174,'2024-2025 '!#REF!,M$5,FALSE))","v":{"$error":"#REF!"}}]
[142,{"$f":"VLOOKUP(A175,'2024-2025 '!#REF!,9,FALSE)","v":{"$error":"#REF!"}},{"$f":"VLOOKUP($A175,'2024-2025 '!#REF!,C$26,FALSE)","v":{"$error":"#REF!"}},{"$f":"IF($B175=\"*\",\"\",VLOOKUP($A175,'2024-2025 '!#REF!,D$26,FALSE))","v":{"$error":"#REF!"}},{"$f":"IF($B175=\"*\",\"\",VLOOKUP($A175,'2024-2025 '!#REF!,E$26,FALSE))","v":{"$error":"#REF!"}},{"$f":"IF($B175=\"*\",\"\",VLOOKUP($A175,'2024-2025 '!#REF!,F$26,FALSE))","v":{"$error":"#REF!"}},{"$f":"IF($B175=\"*\",\"\",VLOOKUP($A175,'2024-2025 '!#REF!,G$26,FALSE))","v":{"$error":"#REF!"}},null,{"$f":"IF($B175=\"*\",\"\",VLOOKUP($A175,'2024-2025 '!#REF!,I$26,FALSE))","v":{"$error":"#REF!"}},null,{"$f":"IF($B175=\"*\",\"\",VLOOKUP($A175,'2024-2025 '!#REF!,K$5,FALSE))","v":{"$error":"#REF!"}},null,{"$f":"IF($B175=\"*\",\"\",VLOOKUP($A175,'2024-2025 '!#REF!,M$5,FALSE))","v":{"$error":"#REF!"}}]
[143,{"$f":"VLOOKUP(A176,'2024-2025 '!#REF!,9,FALSE)","v":{"$error":"#REF!"}},{"$f":"VLOOKUP($A176,'2024-2025 '!#REF!,C$26,FALSE)","v":{"$error":"#REF!"}},{"$f":"IF($B176=\"*\",\"\",VLOOKUP($A176,'2024-2025 '!#REF!,D$26,FALSE))","v":{"$error":"#REF!"}},{"$f":"IF($B176=\"*\",\"\",VLOOKUP($A176,'2024-2025 '!#REF!,E$26,FALSE))","v":{"$error":"#REF!"}},{"$f":"IF($B176=\"*\",\"\",VLOOKUP($A176,'2024-2025 '!#REF!,F$26,FALSE))","v":{"$error":"#REF!"}},{"$f":"IF($B176=\"*\",\"\",VLOOKUP($A176,'2024-2025 '!#REF!,G$26,FALSE))","v":{"$error":"#REF!"}},null,{"$f":"IF($B176=\"*\",\"\",VLOOKUP($A176,'2024-2025 '!#REF!,I$26,FALSE))","v":{"$error":"#REF!"}},null,{"$f":"IF($B176=\"*\",\"\",VLOOKUP($A176,'2024-2025 '!#REF!,K$5,FALSE))","v":{"$error":"#REF!"}},null,{"$f":"IF($B176=\"*\",\"\",VLOOKUP($A176,'2024-2025 '!#REF!,M$5,FALSE))","v":{"$error":"#REF!"}}]
[144,{"$f":"VLOOKUP(A177,'2024-2025 '!#REF!,9,FALSE)","v":{"$error":"#REF!"}},{"$f":"VLOOKUP($A177,'2024-2025 '!#REF!,C$26,FALSE)","v":{"$error":"#REF!"}},{"$f":"IF($B177=\"*\",\"\",VLOOKUP($A177,'2024-2025 '!#REF!,D$26,FALSE))","v":{"$error":"#REF!"}},{"$f":"IF($B177=\"*\",\"\",VLOOKUP($A177,'2024-2025 '!#REF!,E$26,FALSE))","v":{"$error":"#REF!"}},{"$f":"IF($B177=\"*\",\"\",VLOOKUP($A177,'2024-2025 '!#REF!,F$26,FALSE))","v":{"$error":"#REF!"}},{"$f":"IF($B177=\"*\",\"\",VLOOKUP($A177,'2024-2025 '!#REF!,G$26,FALSE))","v":{"$error":"#REF!"}},null,{"$f":"IF($B177=\"*\",\"\",VLOOKUP($A177,'2024-2025 '!#REF!,I$26,FALSE))","v":{"$error":"#REF!"}},null,{"$f":"IF($B177=\"*\",\"\",VLOOKUP($A177,'2024-2025 '!#REF!,K$5,FALSE))","v":{"$error":"#REF!"}},null,{"$f":"IF($B177=\"*\",\"\",VLOOKUP($A177,'2024-2025 '!#REF!,M$5,FALSE))","v":{"$error":"#REF!"}}]
[145,{"$f":"VLOOKUP(A178,'2024-2025 '!#REF!,9,FALSE)","v":{"$error":"#REF!"}},{"$f":"VLOOKUP($A178,'2024-2025 '!#REF!,C$26,FALSE)","v":{"$error":"#REF!"}},{"$f":"IF($B178=\"*\",\"\",VLOOKUP($A178,'2024-2025 '!#REF!,D$26,FALSE))","v":{"$error":"#REF!"}},{"$f":"IF($B178=\"*\",\"\",VLOOKUP($A178,'2024-2025 '!#REF!,E$26,FALSE))","v":{"$error":"#REF!"}},{"$f":"IF($B178=\"*\",\"\",VLOOKUP($A178,'2024-2025 '!#REF!,F$26,FALSE))","v":{"$error":"#REF!"}},{"$f":"IF($B178=\"*\",\"\",VLOOKUP($A178,'2024-2025 '!#REF!,G$26,FALSE))","v":{"$error":"#REF!"}},null,{"$f":"IF($B178=\"*\",\"\",VLOOKUP($A178,'2024-2025 '!#REF!,I$26,FALSE))","v":{"$error":"#REF!"}},null,{"$f":"IF($B178=\"*\",\"\",VLOOKUP($A178,'2024-2025 '!#REF!,K$5,FALSE))","v":{"$error":"#REF!"}},null,{"$f":"IF($B178=\"*\",\"\",VLOOKUP($A178,'2024-2025 '!#REF!,M$5,FALSE))","v":{"$error":"#REF!"}}]
[146,{"$f":"VLOOKUP(A179,'2024-2025 '!#REF!,9,FALSE)","v":{"$error":"#REF!"}},{"$f":"VLOOKUP($A179,'2024-2025 '!#REF!,C$26,FALSE)","v":{"$error":"#REF!"}},null,null,null,null,null,null,null,{"$f":"IF($B179=\"*\",\"\",VLOOKUP($A179,'2024-2025 '!#REF!,K$5,FALSE))","v":{"$error":"#REF!"}},null,{"$f":"IF($B179=\"*\",\"\",VLOOKUP($A179,'2024-2025 '!#REF!,M$5,FALSE))","v":{"$error":"#REF!"}}]
[147,{"$f":"VLOOKUP(A180,'2024-2025 '!#REF!,9,FALSE)","v":{"$error":"#REF!"}},{"$f":"VLOOKUP($A180,'2024-2025 '!#REF!,C$26,FALSE)","v":{"$error":"#REF!"}},{"$f":"IF($B180=\"*\",\"\",VLOOKUP($A180,'2024-2025 '!#REF!,D$26,FALSE))","v":{"$error":"#REF!"}},{"$f":"IF($B180=\"*\",\"\",VLOOKUP($A180,'2024-2025 '!#REF!,E$26,FALSE))","v":{"$error":"#REF!"}},{"$f":"IF($B180=\"*\",\"\",VLOOKUP($A180,'2024-2025 '!#REF!,F$26,FALSE))","v":{"$error":"#REF!"}},{"$f":"IF($B180=\"*\",\"\",VLOOKUP($A180,'2024-2025 '!#REF!,G$26,FALSE))","v":{"$error":"#REF!"}},null,{"$f":"IF($B180=\"*\",\"\",VLOOKUP($A180,'2024-2025 '!#REF!,I$26,FALSE))","v":{"$error":"#REF!"}},null,{"$f":"IF($B180=\"*\",\"\",VLOOKUP($A180,'2024-2025 '!#REF!,K$5,FALSE))","v":{"$error":"#REF!"}},null,{"$f":"IF($B180=\"*\",\"\",VLOOKUP($A180,'2024-2025 '!#REF!,M$5,FALSE))","v":{"$error":"#REF!"}}]
[148,{"$f":"VLOOKUP(A181,'2024-2025 '!#REF!,9,FALSE)","v":{"$error":"#REF!"}},{"$f":"VLOOKUP($A181,'2024-2025 '!#REF!,C$26,FALSE)","v":{"$error":"#REF!"}},{"$f":"IF($B181=\"*\",\"\",VLOOKUP($A181,'2024-2025 '!#REF!,D$26,FALSE))","v":{"$error":"#REF!"}},{"$f":"IF($B181=\"*\",\"\",VLOOKUP($A181,'2024-2025 '!#REF!,E$26,FALSE))","v":{"$error":"#REF!"}},{"$f":"IF($B181=\"*\",\"\",VLOOKUP($A181,'2024-2025 '!#REF!,F$26,FALSE))","v":{"$error":"#REF!"}},{"$f":"IF($B181=\"*\",\"\",VLOOKUP($A181,'2024-2025 '!#REF!,G$26,FALSE))","v":{"$error":"#REF!"}},null,{"$f":"IF($B181=\"*\",\"\",VLOOKUP($A181,'2024-2025 '!#REF!,I$26,FALSE))","v":{"$error":"#REF!"}},null,{"$f":"IF($B181=\"*\",\"\",VLOOKUP($A181,'2024-2025 '!#REF!,K$5,FALSE))","v":{"$error":"#REF!"}},null,{"$f":"IF($B181=\"*\",\"\",VLOOKUP($A181,'2024-2025 '!#REF!,M$5,FALSE))","v":{"$error":"#REF!"}}]
[149,{"$f":"VLOOKUP(A182,'2024-2025 '!#REF!,9,FALSE)","v":{"$error":"#REF!"}},{"$f":"VLOOKUP($A182,'2024-2025 '!#REF!,C$26,FALSE)","v":{"$error":"#REF!"}},{"$f":"IF($B182=\"*\",\"\",VLOOKUP($A182,'2024-2025 '!#REF!,D$26,FALSE))","v":{"$error":"#REF!"}},{"$f":"IF($B182=\"*\",\"\",VLOOKUP($A182,'2024-2025 '!#REF!,E$26,FALSE))","v":{"$error":"#REF!"}},{"$f":"IF($B182=\"*\",\"\",VLOOKUP($A182,'2024-2025 '!#REF!,F$26,FALSE))","v":{"$error":"#REF!"}},{"$f":"IF($B182=\"*\",\"\",VLOOKUP($A182,'2024-2025 '!#REF!,G$26,FALSE))","v":{"$error":"#REF!"}},null,{"$f":"IF($B182=\"*\",\"\",VLOOKUP($A182,'2024-2025 '!#REF!,I$26,FALSE))","v":{"$error":"#REF!"}},null,{"$f":"IF($B182=\"*\",\"\",VLOOKUP($A182,'2024-2025 '!#REF!,K$5,FALSE))","v":{"$error":"#REF!"}},null,{"$f":"IF($B182=\"*\",\"\",VLOOKUP($A182,'2024-2025 '!#REF!,M$5,FALSE))","v":{"$error":"#REF!"}}]
[150,{"$f":"VLOOKUP(A183,'2024-2025 '!#REF!,9,FALSE)","v":{"$error":"#REF!"}},{"$f":"VLOOKUP($A183,'2024-2025 '!#REF!,C$26,FALSE)","v":{"$error":"#REF!"}},{"$f":"IF($B183=\"*\",\"\",VLOOKUP($A183,'2024-2025 '!#REF!,D$26,FALSE))","v":{"$error":"#REF!"}},{"$f":"IF($B183=\"*\",\"\",VLOOKUP($A183,'2024-2025 '!#REF!,E$26,FALSE))","v":{"$error":"#REF!"}},{"$f":"IF($B183=\"*\",\"\",VLOOKUP($A183,'2024-2025 '!#REF!,F$26,FALSE))","v":{"$error":"#REF!"}},{"$f":"IF($B183=\"*\",\"\",VLOOKUP($A183,'2024-2025 '!#REF!,G$26,FALSE))","v":{"$error":"#REF!"}},null,{"$f":"IF($B183=\"*\",\"\",VLOOKUP($A183,'2024-2025 '!#REF!,I$26,FALSE))","v":{"$error":"#REF!"}},null,{"$f":"IF($B183=\"*\",\"\",VLOOKUP($A183,'2024-2025 '!#REF!,K$5,FALSE))","v":{"$error":"#REF!"}},null,{"$f":"IF($B183=\"*\",\"\",VLOOKUP($A183,'2024-2025 '!#REF!,M$5,FALSE))","v":{"$error":"#REF!"}}]
[151,{"$f":"VLOOKUP(A184,'2024-2025 '!#REF!,9,FALSE)","v":{"$error":"#REF!"}},{"$f":"VLOOKUP($A184,'2024-2025 '!#REF!,C$26,FALSE)","v":{"$error":"#REF!"}},{"$f":"IF($B184=\"*\",\"\",VLOOKUP($A184,'2024-2025 '!#REF!,D$26,FALSE))","v":{"$error":"#REF!"}},{"$f":"IF($B184=\"*\",\"\",VLOOKUP($A184,'2024-2025 '!#REF!,E$26,FALSE))","v":{"$error":"#REF!"}},{"$f":"IF($B184=\"*\",\"\",VLOOKUP($A184,'2024-2025 '!#REF!,F$26,FALSE))","v":{"$error":"#REF!"}},{"$f":"IF($B184=\"*\",\"\",VLOOKUP($A184,'2024-2025 '!#REF!,G$26,FALSE))","v":{"$error":"#REF!"}},null,{"$f":"IF($B184=\"*\",\"\",VLOOKUP($A184,'2024-2025 '!#REF!,I$26,FALSE))","v":{"$error":"#REF!"}},null,{"$f":"IF($B184=\"*\",\"\",VLOOKUP($A184,'2024-2025 '!#REF!,K$5,FALSE))","v":{"$error":"#REF!"}},null,{"$f":"IF($B184=\"*\",\"\",VLOOKUP($A184,'2024-2025 '!#REF!,M$5,FALSE))","v":{"$error":"#REF!"}}]
[152,{"$f":"VLOOKUP(A185,'2024-2025 '!#REF!,9,FALSE)","v":{"$error":"#REF!"}},{"$f":"VLOOKUP($A185,'2024-2025 '!#REF!,C$26,FALSE)","v":{"$error":"#REF!"}},null,null,null,null,null,null,null,{"$f":"IF($B185=\"*\",\"\",VLOOKUP($A185,'2024-2025 '!#REF!,K$5,FALSE))","v":{"$error":"#REF!"}},null,{"$f":"IF($B185=\"*\",\"\",VLOOKUP($A185,'2024-2025 '!#REF!,M$5,FALSE))","v":{"$error":"#REF!"}}]
[153,{"$f":"VLOOKUP(A186,'2024-2025 '!#REF!,9,FALSE)","v":{"$error":"#REF!"}},{"$f":"VLOOKUP($A186,'2024-2025 '!#REF!,C$26,FALSE)","v":{"$error":"#REF!"}},{"$f":"IF($B186=\"*\",\"\",VLOOKUP($A186,'2024-2025 '!#REF!,D$26,FALSE))","v":{"$error":"#REF!"}},{"$f":"IF($B186=\"*\",\"\",VLOOKUP($A186,'2024-2025 '!#REF!,E$26,FALSE))","v":{"$error":"#REF!"}},{"$f":"IF($B186=\"*\",\"\",VLOOKUP($A186,'2024-2025 '!#REF!,F$26,FALSE))","v":{"$error":"#REF!"}},{"$f":"IF($B186=\"*\",\"\",VLOOKUP($A186,'2024-2025 '!#REF!,G$26,FALSE))","v":{"$error":"#REF!"}},null,{"$f":"IF($B186=\"*\",\"\",VLOOKUP($A186,'2024-2025 '!#REF!,I$26,FALSE))","v":{"$error":"#REF!"}},null,{"$f":"IF($B186=\"*\",\"\",VLOOKUP($A186,'2024-2025 '!#REF!,K$5,FALSE))","v":{"$error":"#REF!"}},null,{"$f":"IF($B186=\"*\",\"\",VLOOKUP($A186,'2024-2025 '!#REF!,M$5,FALSE))","v":{"$error":"#REF!"}}]
[154,{"$f":"VLOOKUP(A187,'2024-2025 '!#REF!,9,FALSE)","v":{"$error":"#REF!"}},{"$f":"VLOOKUP($A187,'2024-2025 '!#REF!,C$26,FALSE)","v":{"$error":"#REF!"}},{"$f":"IF($B187=\"*\",\"\",VLOOKUP($A187,'2024-2025 '!#REF!,D$26,FALSE))","v":{"$error":"#REF!"}},{"$f":"IF($B187=\"*\",\"\",VLOOKUP($A187,'2024-2025 '!#REF!,E$26,FALSE))","v":{"$error":"#REF!"}},{"$f":"IF($B187=\"*\",\"\",VLOOKUP($A187,'2024-2025 '!#REF!,F$26,FALSE))","v":{"$error":"#REF!"}},{"$f":"IF($B187=\"*\",\"\",VLOOKUP($A187,'2024-2025 '!#REF!,G$26,FALSE))","v":{"$error":"#REF!"}},null,{"$f":"IF($B187=\"*\",\"\",VLOOKUP($A187,'2024-2025 '!#REF!,I$26,FALSE))","v":{"$error":"#REF!"}},null,{"$f":"IF($B187=\"*\",\"\",VLOOKUP($A187,'2024-2025 '!#REF!,K$5,FALSE))","v":{"$error":"#REF!"}},null,{"$f":"IF($B187=\"*\",\"\",VLOOKUP($A187,'2024-2025 '!#REF!,M$5,FALSE))","v":{"$error":"#REF!"}}]
[155,{"$f":"VLOOKUP(A188,'2024-2025 '!#REF!,9,FALSE)","v":{"$error":"#REF!"}},{"$f":"VLOOKUP($A188,'2024-2025 '!#REF!,C$26,FALSE)","v":{"$error":"#REF!"}},{"$f":"IF($B188=\"*\",\"\",VLOOKUP($A188,'2024-2025 '!#REF!,D$26,FALSE))","v":{"$error":"#REF!"}},{"$f":"IF($B188=\"*\",\"\",VLOOKUP($A188,'2024-2025 '!#REF!,E$26,FALSE))","v":{"$error":"#REF!"}},{"$f":"IF($B188=\"*\",\"\",VLOOKUP($A188,'2024-2025 '!#REF!,F$26,FALSE))","v":{"$error":"#REF!"}},{"$f":"IF($B188=\"*\",\"\",VLOOKUP($A188,'2024-2025 '!#REF!,G$26,FALSE))","v":{"$error":"#REF!"}},null,{"$f":"IF($B188=\"*\",\"\",VLOOKUP($A188,'2024-2025 '!#REF!,I$26,FALSE))","v":{"$error":"#REF!"}},null,{"$f":"IF($B188=\"*\",\"\",VLOOKUP($A188,'2024-2025 '!#REF!,K$5,FALSE))","v":{"$error":"#REF!"}},null,{"$f":"IF($B188=\"*\",\"\",VLOOKUP($A188,'2024-2025 '!#REF!,M$5,FALSE))","v":{"$error":"#REF!"}}]
[156,{"$f":"VLOOKUP(A189,'2024-2025 '!#REF!,9,FALSE)","v":{"$error":"#REF!"}},{"$f":"VLOOKUP($A189,'2024-2025 '!#REF!,C$26,FALSE)","v":{"$error":"#REF!"}},null,null,null,null,null,null,null,{"$f":"IF($B189=\"*\",\"\",VLOOKUP($A189,'2024-2025 '!#REF!,K$5,FALSE))","v":{"$error":"#REF!"}},null,{"$f":"IF($B189=\"*\",\"\",VLOOKUP($A189,'2024-2025 '!#REF!,M$5,FALSE))","v":{"$error":"#REF!"}}]
[157,{"$f":"VLOOKUP(A190,'2024-2025 '!#REF!,9,FALSE)","v":{"$error":"#REF!"}},{"$f":"VLOOKUP($A190,'2024-2025 '!#REF!,C$26,FALSE)","v":{"$error":"#REF!"}},{"$f":"IF($B190=\"*\",\"\",VLOOKUP($A190,'2024-2025 '!#REF!,D$26,FALSE))","v":{"$error":"#REF!"}},{"$f":"IF($B190=\"*\",\"\",VLOOKUP($A190,'2024-2025 '!#REF!,E$26,FALSE))","v":{"$error":"#REF!"}},{"$f":"IF($B190=\"*\",\"\",VLOOKUP($A190,'2024-2025 '!#REF!,F$26,FALSE))","v":{"$error":"#REF!"}},{"$f":"IF($B190=\"*\",\"\",VLOOKUP($A190,'2024-2025 '!#REF!,G$26,FALSE))","v":{"$error":"#REF!"}},null,{"$f":"IF($B190=\"*\",\"\",VLOOKUP($A190,'2024-2025 '!#REF!,I$26,FALSE))","v":{"$error":"#REF!"}},null,{"$f":"IF($B190=\"*\",\"\",VLOOKUP($A190,'2024-2025 '!#REF!,K$5,FALSE))","v":{"$error":"#REF!"}},null,{"$f":"IF($B190=\"*\",\"\",VLOOKUP($A190,'2024-2025 '!#REF!,M$5,FALSE))","v":{"$error":"#REF!"}}]
[158,{"$f":"VLOOKUP(A191,'2024-2025 '!#REF!,9,FALSE)","v":{"$error":"#REF!"}},{"$f":"VLOOKUP($A191,'2024-2025 '!#REF!,C$26,FALSE)","v":{"$error":"#REF!"}},{"$f":"IF($B191=\"*\",\"\",VLOOKUP($A191,'2024-2025 '!#REF!,D$26,FALSE))","v":{"$error":"#REF!"}},{"$f":"IF($B191=\"*\",\"\",VLOOKUP($A191,'2024-2025 '!#REF!,E$26,FALSE))","v":{"$error":"#REF!"}},{"$f":"IF($B191=\"*\",\"\",VLOOKUP($A191,'2024-2025 '!#REF!,F$26,FALSE))","v":{"$error":"#REF!"}},{"$f":"IF($B191=\"*\",\"\",VLOOKUP($A191,'2024-2025 '!#REF!,G$26,FALSE))","v":{"$error":"#REF!"}},null,{"$f":"IF($B191=\"*\",\"\",VLOOKUP($A191,'2024-2025 '!#REF!,I$26,FALSE))","v":{"$error":"#REF!"}},null,{"$f":"IF($B191=\"*\",\"\",VLOOKUP($A191,'2024-2025 '!#REF!,K$5,FALSE))","v":{"$error":"#REF!"}},null,{"$f":"IF($B191=\"*\",\"\",VLOOKUP($A191,'2024-2025 '!#REF!,M$5,FALSE))","v":{"$error":"#REF!"}}]
[159,{"$f":"VLOOKUP(A192,'2024-2025 '!#REF!,9,FALSE)","v":{"$error":"#REF!"}},{"$f":"VLOOKUP($A192,'2024-2025 '!#REF!,C$26,FALSE)","v":{"$error":"#REF!"}},{"$f":"IF($B192=\"*\",\"\",VLOOKUP($A192,'2024-2025 '!#REF!,D$26,FALSE))","v":{"$error":"#REF!"}},{"$f":"IF($B192=\"*\",\"\",VLOOKUP($A192,'2024-2025 '!#REF!,E$26,FALSE))","v":{"$error":"#REF!"}},{"$f":"IF($B192=\"*\",\"\",VLOOKUP($A192,'2024-2025 '!#REF!,F$26,FALSE))","v":{"$error":"#REF!"}},{"$f":"IF($B192=\"*\",\"\",VLOOKUP($A192,'2024-2025 '!#REF!,G$26,FALSE))","v":{"$error":"#REF!"}},null,{"$f":"IF($B192=\"*\",\"\",VLOOKUP($A192,'2024-2025 '!#REF!,I$26,FALSE))","v":{"$error":"#REF!"}},null,{"$f":"IF($B192=\"*\",\"\",VLOOKUP($A192,'2024-2025 '!#REF!,K$5,FALSE))","v":{"$error":"#REF!"}},null,{"$f":"IF($B192=\"*\",\"\",VLOOKUP($A192,'2024-2025 '!#REF!,M$5,FALSE))","v":{"$error":"#REF!"}}]
[160,{"$f":"VLOOKUP(A193,'2024-2025 '!#REF!,9,FALSE)","v":{"$error":"#REF!"}},{"$f":"VLOOKUP($A193,'2024-2025 '!#REF!,C$26,FALSE)","v":{"$error":"#REF!"}},{"$f":"IF($B193=\"*\",\"\",VLOOKUP($A193,'2024-2025 '!#REF!,D$26,FALSE))","v":{"$error":"#REF!"}},{"$f":"IF($B193=\"*\",\"\",VLOOKUP($A193,'2024-2025 '!#REF!,E$26,FALSE))","v":{"$error":"#REF!"}},{"$f":"IF($B193=\"*\",\"\",VLOOKUP($A193,'2024-2025 '!#REF!,F$26,FALSE))","v":{"$error":"#REF!"}},{"$f":"IF($B193=\"*\",\"\",VLOOKUP($A193,'2024-2025 '!#REF!,G$26,FALSE))","v":{"$error":"#REF!"}},null,{"$f":"IF($B193=\"*\",\"\",VLOOKUP($A193,'2024-2025 '!#REF!,I$26,FALSE))","v":{"$error":"#REF!"}},null,{"$f":"IF($B193=\"*\",\"\",VLOOKUP($A193,'2024-2025 '!#REF!,K$5,FALSE))","v":{"$error":"#REF!"}},null,{"$f":"IF($B193=\"*\",\"\",VLOOKUP($A193,'2024-2025 '!#REF!,M$5,FALSE))","v":{"$error":"#REF!"}}]
[161,{"$f":"VLOOKUP(A194,'2024-2025 '!#REF!,9,FALSE)","v":{"$error":"#REF!"}},{"$f":"VLOOKUP($A194,'2024-2025 '!#REF!,C$26,FALSE)","v":{"$error":"#REF!"}},{"$f":"IF($B194=\"*\",\"\",VLOOKUP($A194,'2024-2025 '!#REF!,D$26,FALSE))","v":{"$error":"#REF!"}},{"$f":"IF($B194=\"*\",\"\",VLOOKUP($A194,'2024-2025 '!#REF!,E$26,FALSE))","v":{"$error":"#REF!"}},{"$f":"IF($B194=\"*\",\"\",VLOOKUP($A194,'2024-2025 '!#REF!,F$26,FALSE))","v":{"$error":"#REF!"}},{"$f":"IF($B194=\"*\",\"\",VLOOKUP($A194,'2024-2025 '!#REF!,G$26,FALSE))","v":{"$error":"#REF!"}},null,{"$f":"IF($B194=\"*\",\"\",VLOOKUP($A194,'2024-2025 '!#REF!,I$26,FALSE))","v":{"$error":"#REF!"}},null,{"$f":"IF($B194=\"*\",\"\",VLOOKUP($A194,'2024-2025 '!#REF!,K$5,FALSE))","v":{"$error":"#REF!"}},null,{"$f":"IF($B194=\"*\",\"\",VLOOKUP($A194,'2024-2025 '!#REF!,M$5,FALSE))","v":{"$error":"#REF!"}}]
[162,{"$f":"VLOOKUP(A195,'2024-2025 '!#REF!,9,FALSE)","v":{"$error":"#REF!"}},{"$f":"VLOOKUP($A195,'2024-2025 '!#REF!,C$26,FALSE)","v":{"$error":"#REF!"}},{"$f":"IF($B195=\"*\",\"\",VLOOKUP($A195,'2024-2025 '!#REF!,D$26,FALSE))","v":{"$error":"#REF!"}},{"$f":"IF($B195=\"*\",\"\",VLOOKUP($A195,'2024-2025 '!#REF!,E$26,FALSE))","v":{"$error":"#REF!"}},{"$f":"IF($B195=\"*\",\"\",VLOOKUP($A195,'2024-2025 '!#REF!,F$26,FALSE))","v":{"$error":"#REF!"}},{"$f":"IF($B195=\"*\",\"\",VLOOKUP($A195,'2024-2025 '!#REF!,G$26,FALSE))","v":{"$error":"#REF!"}},null,{"$f":"IF($B195=\"*\",\"\",VLOOKUP($A195,'2024-2025 '!#REF!,I$26,FALSE))","v":{"$error":"#REF!"}},null,{"$f":"IF($B195=\"*\",\"\",VLOOKUP($A195,'2024-2025 '!#REF!,K$5,FALSE))","v":{"$error":"#REF!"}},null,{"$f":"IF($B195=\"*\",\"\",VLOOKUP($A195,'2024-2025 '!#REF!,M$5,FALSE))","v":{"$error":"#REF!"}}]
[163,{"$f":"VLOOKUP(A196,'2024-2025 '!#REF!,9,FALSE)","v":{"$error":"#REF!"}},{"$f":"VLOOKUP($A196,'2024-2025 '!#REF!,C$26,FALSE)","v":{"$error":"#REF!"}},{"$f":"IF($B196=\"*\",\"\",VLOOKUP($A196,'2024-2025 '!#REF!,D$26,FALSE))","v":{"$error":"#REF!"}},{"$f":"IF($B196=\"*\",\"\",VLOOKUP($A196,'2024-2025 '!#REF!,E$26,FALSE))","v":{"$error":"#REF!"}},{"$f":"IF($B196=\"*\",\"\",VLOOKUP($A196,'2024-2025 '!#REF!,F$26,FALSE))","v":{"$error":"#REF!"}},{"$f":"IF($B196=\"*\",\"\",VLOOKUP($A196,'2024-2025 '!#REF!,G$26,FALSE))","v":{"$error":"#REF!"}},null,{"$f":"IF($B196=\"*\",\"\",VLOOKUP($A196,'2024-2025 '!#REF!,I$26,FALSE))","v":{"$error":"#REF!"}},null,{"$f":"IF($B196=\"*\",\"\",VLOOKUP($A196,'2024-2025 '!#REF!,K$5,FALSE))","v":{"$error":"#REF!"}},null,{"$f":"IF($B196=\"*\",\"\",VLOOKUP($A196,'2024-2025 '!#REF!,M$5,FALSE))","v":{"$error":"#REF!"}}]
[164,{"$f":"VLOOKUP(A197,'2024-2025 '!#REF!,9,FALSE)","v":{"$error":"#REF!"}},{"$f":"VLOOKUP($A197,'2024-2025 '!#REF!,C$26,FALSE)","v":{"$error":"#REF!"}},{"$f":"IF($B197=\"*\",\"\",VLOOKUP($A197,'2024-2025 '!#REF!,D$26,FALSE))","v":{"$error":"#REF!"}},{"$f":"IF($B197=\"*\",\"\",VLOOKUP($A197,'2024-2025 '!#REF!,E$26,FALSE))","v":{"$error":"#REF!"}},{"$f":"IF($B197=\"*\",\"\",VLOOKUP($A197,'2024-2025 '!#REF!,F$26,FALSE))","v":{"$error":"#REF!"}},{"$f":"IF($B197=\"*\",\"\",VLOOKUP($A197,'2024-2025 '!#REF!,G$26,FALSE))","v":{"$error":"#REF!"}},null,{"$f":"IF($B197=\"*\",\"\",VLOOKUP($A197,'2024-2025 '!#REF!,I$26,FALSE))","v":{"$error":"#REF!"}},null,{"$f":"IF($B197=\"*\",\"\",VLOOKUP($A197,'2024-2025 '!#REF!,K$5,FALSE))","v":{"$error":"#REF!"}},null,{"$f":"IF($B197=\"*\",\"\",VLOOKUP($A197,'2024-2025 '!#REF!,M$5,FALSE))","v":{"$error":"#REF!"}}]
[165,{"$f":"VLOOKUP(A198,'2024-2025 '!#REF!,9,FALSE)","v":{"$error":"#REF!"}},{"$f":"VLOOKUP($A198,'2024-2025 '!#REF!,C$26,FALSE)","v":{"$error":"#REF!"}},{"$f":"IF($B198=\"*\",\"\",VLOOKUP($A198,'2024-2025 '!#REF!,D$26,FALSE))","v":{"$error":"#REF!"}},{"$f":"IF($B198=\"*\",\"\",VLOOKUP($A198,'2024-2025 '!#REF!,E$26,FALSE))","v":{"$error":"#REF!"}},{"$f":"IF($B198=\"*\",\"\",VLOOKUP($A198,'2024-2025 '!#REF!,F$26,FALSE))","v":{"$error":"#REF!"}},{"$f":"IF($B198=\"*\",\"\",VLOOKUP($A198,'2024-2025 '!#REF!,G$26,FALSE))","v":{"$error":"#REF!"}},null,{"$f":"IF($B198=\"*\",\"\",VLOOKUP($A198,'2024-2025 '!#REF!,I$26,FALSE))","v":{"$error":"#REF!"}},null,{"$f":"IF($B198=\"*\",\"\",VLOOKUP($A198,'2024-2025 '!#REF!,K$5,FALSE))","v":{"$error":"#REF!"}},null,{"$f":"IF($B198=\"*\",\"\",VLOOKUP($A198,'2024-2025 '!#REF!,M$5,FALSE))","v":{"$error":"#REF!"}}]
[166,{"$f":"VLOOKUP(A199,'2024-2025 '!#REF!,9,FALSE)","v":{"$error":"#REF!"}},{"$f":"VLOOKUP($A199,'2024-2025 '!#REF!,C$26,FALSE)","v":{"$error":"#REF!"}},{"$f":"IF($B199=\"*\",\"\",VLOOKUP($A199,'2024-2025 '!#REF!,D$26,FALSE))","v":{"$error":"#REF!"}},{"$f":"IF($B199=\"*\",\"\",VLOOKUP($A199,'2024-2025 '!#REF!,E$26,FALSE))","v":{"$error":"#REF!"}},{"$f":"IF($B199=\"*\",\"\",VLOOKUP($A199,'2024-2025 '!#REF!,F$26,FALSE))","v":{"$error":"#REF!"}},{"$f":"IF($B199=\"*\",\"\",VLOOKUP($A199,'2024-2025 '!#REF!,G$26,FALSE))","v":{"$error":"#REF!"}},null,{"$f":"IF($B199=\"*\",\"\",VLOOKUP($A199,'2024-2025 '!#REF!,I$26,FALSE))","v":{"$error":"#REF!"}},null,{"$f":"IF($B199=\"*\",\"\",VLOOKUP($A199,'2024-2025 '!#REF!,K$5,FALSE))","v":{"$error":"#REF!"}},null,{"$f":"IF($B199=\"*\",\"\",VLOOKUP($A199,'2024-2025 '!#REF!,M$5,FALSE))","v":{"$error":"#REF!"}}]
[167,{"$f":"VLOOKUP(A200,'2024-2025 '!#REF!,9,FALSE)","v":{"$error":"#REF!"}},{"$f":"VLOOKUP($A200,'2024-2025 '!#REF!,C$26,FALSE)","v":{"$error":"#REF!"}},{"$f":"IF($B200=\"*\",\"\",VLOOKUP($A200,'2024-2025 '!#REF!,D$26,FALSE))","v":{"$error":"#REF!"}},{"$f":"IF($B200=\"*\",\"\",VLOOKUP($A200,'2024-2025 '!#REF!,E$26,FALSE))","v":{"$error":"#REF!"}},{"$f":"IF($B200=\"*\",\"\",VLOOKUP($A200,'2024-2025 '!#REF!,F$26,FALSE))","v":{"$error":"#REF!"}},{"$f":"IF($B200=\"*\",\"\",VLOOKUP($A200,'2024-2025 '!#REF!,G$26,FALSE))","v":{"$error":"#REF!"}},null,{"$f":"IF($B200=\"*\",\"\",VLOOKUP($A200,'2024-2025 '!#REF!,I$26,FALSE))","v":{"$error":"#REF!"}},null,{"$f":"IF($B200=\"*\",\"\",VLOOKUP($A200,'2024-2025 '!#REF!,K$5,FALSE))","v":{"$error":"#REF!"}},null,{"$f":"IF($B200=\"*\",\"\",VLOOKUP($A200,'2024-2025 '!#REF!,M$5,FALSE))","v":{"$error":"#REF!"}}]
[168,{"$f":"VLOOKUP(A201,'2024-2025 '!#REF!,9,FALSE)","v":{"$error":"#REF!"}},{"$f":"VLOOKUP($A201,'2024-2025 '!#REF!,C$26,FALSE)","v":{"$error":"#REF!"}},{"$f":"IF($B201=\"*\",\"\",VLOOKUP($A201,'2024-2025 '!#REF!,D$26,FALSE))","v":{"$error":"#REF!"}},{"$f":"IF($B201=\"*\",\"\",VLOOKUP($A201,'2024-2025 '!#REF!,E$26,FALSE))","v":{"$error":"#REF!"}},{"$f":"IF($B201=\"*\",\"\",VLOOKUP($A201,'2024-2025 '!#REF!,F$26,FALSE))","v":{"$error":"#REF!"}},{"$f":"IF($B201=\"*\",\"\",VLOOKUP($A201,'2024-2025 '!#REF!,G$26,FALSE))","v":{"$error":"#REF!"}},null,{"$f":"IF($B201=\"*\",\"\",VLOOKUP($A201,'2024-2025 '!#REF!,I$26,FALSE))","v":{"$error":"#REF!"}},null,{"$f":"IF($B201=\"*\",\"\",VLOOKUP($A201,'2024-2025 '!#REF!,K$5,FALSE))","v":{"$error":"#REF!"}},null,{"$f":"IF($B201=\"*\",\"\",VLOOKUP($A201,'2024-2025 '!#REF!,M$5,FALSE))","v":{"$error":"#REF!"}}]
[169,{"$f":"VLOOKUP(A202,'2024-2025 '!#REF!,9,FALSE)","v":{"$error":"#REF!"}},{"$f":"VLOOKUP($A202,'2024-2025 '!#REF!,C$26,FALSE)","v":{"$error":"#REF!"}},{"$f":"IF($B202=\"*\",\"\",VLOOKUP($A202,'2024-2025 '!#REF!,D$26,FALSE))","v":{"$error":"#REF!"}},{"$f":"IF($B202=\"*\",\"\",VLOOKUP($A202,'2024-2025 '!#REF!,E$26,FALSE))","v":{"$error":"#REF!"}},{"$f":"IF($B202=\"*\",\"\",VLOOKUP($A202,'2024-2025 '!#REF!,F$26,FALSE))","v":{"$error":"#REF!"}},{"$f":"IF($B202=\"*\",\"\",VLOOKUP($A202,'2024-2025 '!#REF!,G$26,FALSE))","v":{"$error":"#REF!"}},null,{"$f":"IF($B202=\"*\",\"\",VLOOKUP($A202,'2024-2025 '!#REF!,I$26,FALSE))","v":{"$error":"#REF!"}},null,{"$f":"IF($B202=\"*\",\"\",VLOOKUP($A202,'2024-2025 '!#REF!,K$5,FALSE))","v":{"$error":"#REF!"}},null,{"$f":"IF($B202=\"*\",\"\",VLOOKUP($A202,'2024-2025 '!#REF!,M$5,FALSE))","v":{"$error":"#REF!"}}]
[170,{"$f":"VLOOKUP(A203,'2024-2025 '!#REF!,9,FALSE)","v":{"$error":"#REF!"}},{"$f":"VLOOKUP($A203,'2024-2025 '!#REF!,C$26,FALSE)","v":{"$error":"#REF!"}},{"$f":"IF($B203=\"*\",\"\",VLOOKUP($A203,'2024-2025 '!#REF!,D$26,FALSE))","v":{"$error":"#REF!"}},{"$f":"IF($B203=\"*\",\"\",VLOOKUP($A203,'2024-2025 '!#REF!,E$26,FALSE))","v":{"$error":"#REF!"}},{"$f":"IF($B203=\"*\",\"\",VLOOKUP($A203,'2024-2025 '!#REF!,F$26,FALSE))","v":{"$error":"#REF!"}},{"$f":"IF($B203=\"*\",\"\",VLOOKUP($A203,'2024-2025 '!#REF!,G$26,FALSE))","v":{"$error":"#REF!"}},null,{"$f":"IF($B203=\"*\",\"\",VLOOKUP($A203,'2024-2025 '!#REF!,I$26,FALSE))","v":{"$error":"#REF!"}},null,{"$f":"IF($B203=\"*\",\"\",VLOOKUP($A203,'2024-2025 '!#REF!,K$5,FALSE))","v":{"$error":"#REF!"}},null,{"$f":"IF($B203=\"*\",\"\",VLOOKUP($A203,'2024-2025 '!#REF!,M$5,FALSE))","v":{"$error":"#REF!"}}]
[171,{"$f":"VLOOKUP(A204,'2024-2025 '!#REF!,9,FALSE)","v":{"$error":"#REF!"}},{"$f":"VLOOKUP($A204,'2024-2025 '!#REF!,C$26,FALSE)","v":{"$error":"#REF!"}},{"$f":"IF($B204=\"*\",\"\",VLOOKUP($A204,'2024-2025 '!#REF!,D$26,FALSE))","v":{"$error":"#REF!"}},{"$f":"IF($B204=\"*\",\"\",VLOOKUP($A204,'2024-2025 '!#REF!,E$26,FALSE))","v":{"$error":"#REF!"}},{"$f":"IF($B204=\"*\",\"\",VLOOKUP($A204,'2024-2025 '!#REF!,F$26,FALSE))","v":{"$error":"#REF!"}},{"$f":"IF($B204=\"*\",\"\",VLOOKUP($A204,'2024-2025 '!#REF!,G$26,FALSE))","v":{"$error":"#REF!"}},null,{"$f":"IF($B204=\"*\",\"\",VLOOKUP($A204,'2024-2025 '!#REF!,I$26,FALSE))","v":{"$error":"#REF!"}},null,{"$f":"IF($B204=\"*\",\"\",VLOOKUP($A204,'2024-2025 '!#REF!,K$5,FALSE))","v":{"$error":"#REF!"}},null,{"$f":"IF($B204=\"*\",\"\",VLOOKUP($A204,'2024-2025 '!#REF!,M$5,FALSE))","v":{"$error":"#REF!"}}]
[172,{"$f":"VLOOKUP(A205,'2024-2025 '!#REF!,9,FALSE)","v":{"$error":"#REF!"}},{"$f":"VLOOKUP($A205,'2024-2025 '!#REF!,C$26,FALSE)","v":{"$error":"#REF!"}},{"$f":"IF($B205=\"*\",\"\",VLOOKUP($A205,'2024-2025 '!#REF!,D$26,FALSE))","v":{"$error":"#REF!"}},{"$f":"IF($B205=\"*\",\"\",VLOOKUP($A205,'2024-2025 '!#REF!,E$26,FALSE))","v":{"$error":"#REF!"}},{"$f":"IF($B205=\"*\",\"\",VLOOKUP($A205,'2024-2025 '!#REF!,F$26,FALSE))","v":{"$error":"#REF!"}},{"$f":"IF($B205=\"*\",\"\",VLOOKUP($A205,'2024-2025 '!#REF!,G$26,FALSE))","v":{"$error":"#REF!"}},null,{"$f":"IF($B205=\"*\",\"\",VLOOKUP($A205,'2024-2025 '!#REF!,I$26,FALSE))","v":{"$error":"#REF!"}},null,{"$f":"IF($B205=\"*\",\"\",VLOOKUP($A205,'2024-2025 '!#REF!,K$5,FALSE))","v":{"$error":"#REF!"}},null,{"$f":"IF($B205=\"*\",\"\",VLOOKUP($A205,'2024-2025 '!#REF!,M$5,FALSE))","v":{"$error":"#REF!"}}]
[173,{"$f":"VLOOKUP(A206,'2024-2025 '!#REF!,9,FALSE)","v":{"$error":"#REF!"}},{"$f":"VLOOKUP($A206,'2024-2025 '!#REF!,C$26,FALSE)","v":{"$error":"#REF!"}},{"$f":"IF($B206=\"*\",\"\",VLOOKUP($A206,'2024-2025 '!#REF!,D$26,FALSE))","v":{"$error":"#REF!"}},{"$f":"IF($B206=\"*\",\"\",VLOOKUP($A206,'2024-2025 '!#REF!,E$26,FALSE))","v":{"$error":"#REF!"}},{"$f":"IF($B206=\"*\",\"\",VLOOKUP($A206,'2024-2025 '!#REF!,F$26,FALSE))","v":{"$error":"#REF!"}},{"$f":"IF($B206=\"*\",\"\",VLOOKUP($A206,'2024-2025 '!#REF!,G$26,FALSE))","v":{"$error":"#REF!"}},null,{"$f":"IF($B206=\"*\",\"\",VLOOKUP($A206,'2024-2025 '!#REF!,I$26,FALSE))","v":{"$error":"#REF!"}},null,{"$f":"IF($B206=\"*\",\"\",VLOOKUP($A206,'2024-2025 '!#REF!,K$5,FALSE))","v":{"$error":"#REF!"}},null,{"$f":"IF($B206=\"*\",\"\",VLOOKUP($A206,'2024-2025 '!#REF!,M$5,FALSE))","v":{"$error":"#REF!"}}]
[174,{"$f":"VLOOKUP(A207,'2024-2025 '!#REF!,9,FALSE)","v":{"$error":"#REF!"}},{"$f":"VLOOKUP($A207,'2024-2025 '!#REF!,C$26,FALSE)","v":{"$error":"#REF!"}},null,null,null,null,null,null,null,{"$f":"IF($B207=\"*\",\"\",VLOOKUP($A207,'2024-2025 '!#REF!,K$5,FALSE))","v":{"$error":"#REF!"}},null,{"$f":"IF($B207=\"*\",\"\",VLOOKUP($A207,'2024-2025 '!#REF!,M$5,FALSE))","v":{"$error":"#REF!"}}]
[175,{"$f":"VLOOKUP(A208,'2024-2025 '!#REF!,9,FALSE)","v":{"$error":"#REF!"}},{"$f":"VLOOKUP($A208,'2024-2025 '!#REF!,C$26,FALSE)","v":{"$error":"#REF!"}},{"$f":"IF($B208=\"*\",\"\",VLOOKUP($A208,'2024-2025 '!#REF!,D$26,FALSE))","v":{"$error":"#REF!"}},{"$f":"IF($B208=\"*\",\"\",VLOOKUP($A208,'2024-2025 '!#REF!,E$26,FALSE))","v":{"$error":"#REF!"}},{"$f":"IF($B208=\"*\",\"\",VLOOKUP($A208,'2024-2025 '!#REF!,F$26,FALSE))","v":{"$error":"#REF!"}},{"$f":"IF($B208=\"*\",\"\",VLOOKUP($A208,'2024-2025 '!#REF!,G$26,FALSE))","v":{"$error":"#REF!"}},null,{"$f":"IF($B208=\"*\",\"\",VLOOKUP($A208,'2024-2025 '!#REF!,I$26,FALSE))","v":{"$error":"#REF!"}},null,{"$f":"IF($B208=\"*\",\"\",VLOOKUP($A208,'2024-2025 '!#REF!,K$5,FALSE))","v":{"$error":"#REF!"}},null,{"$f":"IF($B208=\"*\",\"\",VLOOKUP($A208,'2024-2025 '!#REF!,M$5,FALSE))","v":{"$error":"#REF!"}}]
[176,{"$f":"VLOOKUP(A209,'2024-2025 '!#REF!,9,FALSE)","v":{"$error":"#REF!"}},{"$f":"VLOOKUP($A209,'2024-2025 '!#REF!,C$26,FALSE)","v":{"$error":"#REF!"}},{"$f":"IF($B209=\"*\",\"\",VLOOKUP($A209,'2024-2025 '!#REF!,D$26,FALSE))","v":{"$error":"#REF!"}},{"$f":"IF($B209=\"*\",\"\",VLOOKUP($A209,'2024-2025 '!#REF!,E$26,FALSE))","v":{"$error":"#REF!"}},{"$f":"IF($B209=\"*\",\"\",VLOOKUP($A209,'2024-2025 '!#REF!,F$26,FALSE))","v":{"$error":"#REF!"}},{"$f":"IF($B209=\"*\",\"\",VLOOKUP($A209,'2024-2025 '!#REF!,G$26,FALSE))","v":{"$error":"#REF!"}},null,{"$f":"IF($B209=\"*\",\"\",VLOOKUP($A209,'2024-2025 '!#REF!,I$26,FALSE))","v":{"$error":"#REF!"}},null,{"$f":"IF($B209=\"*\",\"\",VLOOKUP($A209,'2024-2025 '!#REF!,K$5,FALSE))","v":{"$error":"#REF!"}},null,{"$f":"IF($B209=\"*\",\"\",VLOOKUP($A209,'2024-2025 '!#REF!,M$5,FALSE))","v":{"$error":"#REF!"}}]
[177,{"$f":"VLOOKUP(A210,'2024-2025 '!#REF!,9,FALSE)","v":{"$error":"#REF!"}},{"$f":"VLOOKUP($A210,'2024-2025 '!#REF!,C$26,FALSE)","v":{"$error":"#REF!"}},{"$f":"IF($B210=\"*\",\"\",VLOOKUP($A210,'2024-2025 '!#REF!,D$26,FALSE))","v":{"$error":"#REF!"}},{"$f":"IF($B210=\"*\",\"\",VLOOKUP($A210,'2024-2025 '!#REF!,E$26,FALSE))","v":{"$error":"#REF!"}},{"$f":"IF($B210=\"*\",\"\",VLOOKUP($A210,'2024-2025 '!#REF!,F$26,FALSE))","v":{"$error":"#REF!"}},{"$f":"IF($B210=\"*\",\"\",VLOOKUP($A210,'2024-2025 '!#REF!,G$26,FALSE))","v":{"$error":"#REF!"}},null,{"$f":"IF($B210=\"*\",\"\",VLOOKUP($A210,'2024-2025 '!#REF!,I$26,FALSE))","v":{"$error":"#REF!"}},null,{"$f":"IF($B210=\"*\",\"\",VLOOKUP($A210,'2024-2025 '!#REF!,K$5,FALSE))","v":{"$error":"#REF!"}},null,{"$f":"IF($B210=\"*\",\"\",VLOOKUP($A210,'2024-2025 '!#REF!,M$5,FALSE))","v":{"$error":"#REF!"}}]
[null,null,null,null,null,"Sous total PERFECTIONNEMENT PROFESSIONNEL PATROUILLEUR",{"$f":"SUM(G137:G210)","v":{"$error":"#REF!"}},null,{"$f":"SUM(I137:I210)","v":{"$error":"#REF!"}},null,{"$f":"SUM(K137:K210)","v":{"$error":"#REF!"}},null,{"$f":"SUM(M137:M210)","v":{"$error":"#REF!"}}]
[{"$f":"A210+1","v":178},{"$f":"VLOOKUP(A212,'2024-2025 '!#REF!,9,FALSE)","v":{"$error":"#REF!"}},{"$f":"VLOOKUP($A212,'2024-2025 '!#REF!,C$26,FALSE)","v":{"$error":"#REF!"}},null,null,null,null,null,null,null,{"$f":"IF($B212=\"*\",\"\",VLOOKUP($A212,'2024-2025 '!#REF!,K$5,FALSE))","v":{"$error":"#REF!"}},null,{"$f":"IF($B212=\"*\",\"\",VLOOKUP($A212,'2024-2025 '!#REF!,M$5,FALSE))","v":{"$error":"#REF!"}}]
[179,{"$f":"VLOOKUP(A213,'2024-2025 '!#REF!,9,FALSE)","v":{"$error":"#REF!"}},{"$f":"VLOOKUP($A213,'2024-2025 '!#REF!,C$26,FALSE)","v":{"$error":"#REF!"}},{"$f":"IF($B213=\"*\",\"\",VLOOKUP($A213,'2024-2025 '!#REF!,D$26,FALSE))","v":{"$error":"#REF!"}},{"$f":"IF($B213=\"*\",\"\",VLOOKUP($A213,'2024-2025 '!#REF!,E$26,FALSE))","v":{"$error":"#REF!"}},{"$f":"IF($B213=\"*\",\"\",VLOOKUP($A213,'2024-2025 '!#REF!,F$26,FALSE))","v":{"$error":"#REF!"}},{"$f":"IF($B213=\"*\",\"\",VLOOKUP($A213,'2024-2025 '!#REF!,G$26,FALSE))","v":{"$error":"#REF!"}},null,{"$f":"IF($B213=\"*\",\"\",VLOOKUP($A213,'2024-2025 '!#REF!,I$26,FALSE))","v":{"$error":"#REF!"}},null,{"$f":"IF($B213=\"*\",\"\",VLOOKUP($A213,'2024-2025 '!#REF!,K$5,FALSE))","v":{"$error":"#REF!"}},null,{"$f":"IF($B213=\"*\",\"\",VLOOKUP($A213,'2024-2025 '!#REF!,M$5,FALSE))","v":{"$error":"#REF!"}}]
[180,{"$f":"VLOOKUP(A214,'2024-2025 '!#REF!,9,FALSE)","v":{"$error":"#REF!"}},{"$f":"VLOOKUP($A214,'2024-2025 '!#REF!,C$26,FALSE)","v":{"$error":"#REF!"}},{"$f":"IF($B214=\"*\",\"\",VLOOKUP($A214,'2024-2025 '!#REF!,D$26,FALSE))","v":{"$error":"#REF!"}},{"$f":"IF($B214=\"*\",\"\",VLOOKUP($A214,'2024-2025 '!#REF!,E$26,FALSE))","v":{"$error":"#REF!"}},{"$f":"IF($B214=\"*\",\"\",VLOOKUP($A214,'2024-2025 '!#REF!,F$26,FALSE))","v":{"$error":"#REF!"}},{"$f":"IF($B214=\"*\",\"\",VLOOKUP($A214,'2024-2025 '!#REF!,G$26,FALSE))","v":{"$error":"#REF!"}},null,{"$f":"IF($B214=\"*\",\"\",VLOOKUP($A214,'2024-2025 '!#REF!,I$26,FALSE))","v":{"$error":"#REF!"}},null,{"$f":"IF($B214=\"*\",\"\",VLOOKUP($A214,'2024-2025 '!#REF!,K$5,FALSE))","v":{"$error":"#REF!"}},null,{"$f":"IF($B214=\"*\",\"\",VLOOKUP($A214,'2024-2025 '!#REF!,M$5,FALSE))","v":{"$error":"#REF!"}}]
[181,{"$f":"VLOOKUP(A215,'2024-2025 '!#REF!,9,FALSE)","v":{"$error":"#REF!"}},{"$f":"VLOOKUP($A215,'2024-2025 '!#REF!,C$26,FALSE)","v":{"$error":"#REF!"}},{"$f":"IF($B215=\"*\",\"\",VLOOKUP($A215,'2024-2025 '!#REF!,D$26,FALSE))","v":{"$error":"#REF!"}},{"$f":"IF($B215=\"*\",\"\",VLOOKUP($A215,'2024-2025 '!#REF!,E$26,FALSE))","v":{"$error":"#REF!"}},{"$f":"IF($B215=\"*\",\"\",VLOOKUP($A215,'2024-2025 '!#REF!,F$26,FALSE))","v":{"$error":"#REF!"}},{"$f":"IF($B215=\"*\",\"\",VLOOKUP($A215,'2024-2025 '!#REF!,G$26,FALSE))","v":{"$error":"#REF!"}},null,{"$f":"IF($B215=\"*\",\"\",VLOOKUP($A215,'2024-2025 '!#REF!,I$26,FALSE))","v":{"$error":"#REF!"}},null,{"$f":"IF($B215=\"*\",\"\",VLOOKUP($A215,'2024-2025 '!#REF!,K$5,FALSE))","v":{"$error":"#REF!"}},null,{"$f":"IF($B215=\"*\",\"\",VLOOKUP($A215,'2024-2025 '!#REF!,M$5,FALSE))","v":{"$error":"#REF!"}}]
[182,{"$f":"VLOOKUP(A216,'2024-2025 '!#REF!,9,FALSE)","v":{"$error":"#REF!"}},{"$f":"VLOOKUP($A216,'2024-2025 '!#REF!,C$26,FALSE)","v":{"$error":"#REF!"}},{"$f":"IF($B216=\"*\",\"\",VLOOKUP($A216,'2024-2025 '!#REF!,D$26,FALSE))","v":{"$error":"#REF!"}},{"$f":"IF($B216=\"*\",\"\",VLOOKUP($A216,'2024-2025 '!#REF!,E$26,FALSE))","v":{"$error":"#REF!"}},{"$f":"IF($B216=\"*\",\"\",VLOOKUP($A216,'2024-2025 '!#REF!,F$26,FALSE))","v":{"$error":"#REF!"}},{"$f":"IF($B216=\"*\",\"\",VLOOKUP($A216,'2024-2025 '!#REF!,G$26,FALSE))","v":{"$error":"#REF!"}},null,{"$f":"IF($B216=\"*\",\"\",VLOOKUP($A216,'2024-2025 '!#REF!,I$26,FALSE))","v":{"$error":"#REF!"}},null,{"$f":"IF($B216=\"*\",\"\",VLOOKUP($A216,'2024-2025 '!#REF!,K$5,FALSE))","v":{"$error":"#REF!"}},null,{"$f":"IF($B216=\"*\",\"\",VLOOKUP($A216,'2024-2025 '!#REF!,M$5,FALSE))","v":{"$error":"#REF!"}}]
[183,{"$f":"VLOOKUP(A217,'2024-2025 '!#REF!,9,FALSE)","v":{"$error":"#REF!"}},{"$f":"VLOOKUP($A217,'2024-2025 '!#REF!,C$26,FALSE)","v":{"$error":"#REF!"}},{"$f":"IF($B217=\"*\",\"\",VLOOKUP($A217,'2024-2025 '!#REF!,D$26,FALSE))","v":{"$error":"#REF!"}},{"$f":"IF($B217=\"*\",\"\",VLOOKUP($A217,'2024-2025 '!#REF!,E$26,FALSE))","v":{"$error":"#REF!"}},{"$f":"IF($B217=\"*\",\"\",VLOOKUP($A217,'2024-2025 '!#REF!,F$26,FALSE))","v":{"$error":"#REF!"}},{"$f":"IF($B217=\"*\",\"\",VLOOKUP($A217,'2024-2025 '!#REF!,G$26,FALSE))","v":{"$error":"#REF!"}},null,{"$f":"IF($B217=\"*\",\"\",VLOOKUP($A217,'2024-2025 '!#REF!,I$26,FALSE))","v":{"$error":"#REF!"}},null,{"$f":"IF($B217=\"*\",\"\",VLOOKUP($A217,'2024-2025 '!#REF!,K$5,FALSE))","v":{"$error":"#REF!"}},null,{"$f":"IF($B217=\"*\",\"\",VLOOKUP($A217,'2024-2025 '!#REF!,M$5,FALSE))","v":{"$error":"#REF!"}}]
[184,{"$f":"VLOOKUP(A218,'2024-2025 '!#REF!,9,FALSE)","v":{"$error":"#REF!"}},{"$f":"VLOOKUP($A218,'2024-2025 '!#REF!,C$26,FALSE)","v":{"$error":"#REF!"}},{"$f":"IF($B218=\"*\",\"\",VLOOKUP($A218,'2024-2025 '!#REF!,D$26,FALSE))","v":{"$error":"#REF!"}},{"$f":"IF($B218=\"*\",\"\",VLOOKUP($A218,'2024-2025 '!#REF!,E$26,FALSE))","v":{"$error":"#REF!"}},{"$f":"IF($B218=\"*\",\"\",VLOOKUP($A218,'2024-2025 '!#REF!,F$26,FALSE))","v":{"$error":"#REF!"}},{"$f":"IF($B218=\"*\",\"\",VLOOKUP($A218,'2024-2025 '!#REF!,G$26,FALSE))","v":{"$error":"#REF!"}},null,{"$f":"IF($B218=\"*\",\"\",VLOOKUP($A218,'2024-2025 '!#REF!,I$26,FALSE))","v":{"$error":"#REF!"}},null,{"$f":"IF($B218=\"*\",\"\",VLOOKUP($A218,'2024-2025 '!#REF!,K$5,FALSE))","v":{"$error":"#REF!"}},null,{"$f":"IF($B218=\"*\",\"\",VLOOKUP($A218,'2024-2025 '!#REF!,M$5,FALSE))","v":{"$error":"#REF!"}}]
[null,null,null,null,null,"Sous total ENQUÊTE COLLISION",{"$f":"SUM(G213:G218)","v":{"$error":"#REF!"}},null,{"$f":"SUM(I213:I218)","v":{"$error":"#REF!"}},null,{"$f":"SUM(K213:K218)","v":{"$error":"#REF!"}},null,{"$f":"SUM(M213:M218)","v":{"$error":"#REF!"}}]
[{"$f":"A218+1","v":185},{"$f":"VLOOKUP(A220,'2024-2025 '!#REF!,9,FALSE)","v":{"$error":"#REF!"}},{"$f":"VLOOKUP($A220,'2024-2025 '!#REF!,C$26,FALSE)","v":{"$error":"#REF!"}},null,null,null,null,null,null,null,{"$f":"IF($B220=\"*\",\"\",VLOOKUP($A220,'2024-2025 '!#REF!,K$5,FALSE))","v":{"$error":"#REF!"}},null,{"$f":"IF($B220=\"*\",\"\",VLOOKUP($A220,'2024-2025 '!#REF!,M$5,FALSE))","v":{"$error":"#REF!"}}]
[186,{"$f":"VLOOKUP(A221,'2024-2025 '!#REF!,9,FALSE)","v":{"$error":"#REF!"}},{"$f":"VLOOKUP($A221,'2024-2025 '!#REF!,C$26,FALSE)","v":{"$error":"#REF!"}},{"$f":"IF($B221=\"*\",\"\",VLOOKUP($A221,'2024-2025 '!#REF!,D$26,FALSE))","v":{"$error":"#REF!"}},{"$f":"IF($B221=\"*\",\"\",VLOOKUP($A221,'2024-2025 '!#REF!,E$26,FALSE))","v":{"$error":"#REF!"}},{"$f":"IF($B221=\"*\",\"\",VLOOKUP($A221,'2024-2025 '!#REF!,F$26,FALSE))","v":{"$error":"#REF!"}},{"$f":"IF($B221=\"*\",\"\",VLOOKUP($A221,'2024-2025 '!#REF!,G$26,FALSE))","v":{"$error":"#REF!"}},null,{"$f":"IF($B221=\"*\",\"\",VLOOKUP($A221,'2024-2025 '!#REF!,I$26,FALSE))","v":{"$error":"#REF!"}},null,{"$f":"IF($B221=\"*\",\"\",VLOOKUP($A221,'2024-2025 '!#REF!,K$5,FALSE))","v":{"$error":"#REF!"}},null,{"$f":"IF($B221=\"*\",\"\",VLOOKUP($A221,'2024-2025 '!#REF!,M$5,FALSE))","v":{"$error":"#REF!"}}]
[187,{"$f":"VLOOKUP(A222,'2024-2025 '!#REF!,9,FALSE)","v":{"$error":"#REF!"}},{"$f":"VLOOKUP($A222,'2024-2025 '!#REF!,C$26,FALSE)","v":{"$error":"#REF!"}},{"$f":"IF($B222=\"*\",\"\",VLOOKUP($A222,'2024-2025 '!#REF!,D$26,FALSE))","v":{"$error":"#REF!"}},{"$f":"IF($B222=\"*\",\"\",VLOOKUP($A222,'2024-2025 '!#REF!,E$26,FALSE))","v":{"$error":"#REF!"}},{"$f":"IF($B222=\"*\",\"\",VLOOKUP($A222,'2024-2025 '!#REF!,F$26,FALSE))","v":{"$error":"#REF!"}},{"$f":"IF($B222=\"*\",\"\",VLOOKUP($A222,'2024-2025 '!#REF!,G$26,FALSE))","v":{"$error":"#REF!"}},null,{"$f":"IF($B222=\"*\",\"\",VLOOKUP($A222,'2024-2025 '!#REF!,I$26,FALSE))","v":{"$error":"#REF!"}},null,{"$f":"IF($B222=\"*\",\"\",VLOOKUP($A222,'2024-2025 '!#REF!,K$5,FALSE))","v":{"$error":"#REF!"}},null,{"$f":"IF($B222=\"*\",\"\",VLOOKUP($A222,'2024-2025 '!#REF!,M$5,FALSE))","v":{"$error":"#REF!"}}]
[188,{"$f":"VLOOKUP(A223,'2024-2025 '!#REF!,9,FALSE)","v":{"$error":"#REF!"}},{"$f":"VLOOKUP($A223,'2024-2025 '!#REF!,C$26,FALSE)","v":{"$error":"#REF!"}},{"$f":"IF($B223=\"*\",\"\",VLOOKUP($A223,'2024-2025 '!#REF!,D$26,FALSE))","v":{"$error":"#REF!"}},{"$f":"IF($B223=\"*\",\"\",VLOOKUP($A223,'2024-2025 '!#REF!,E$26,FALSE))","v":{"$error":"#REF!"}},{"$f":"IF($B223=\"*\",\"\",VLOOKUP($A223,'2024-2025 '!#REF!,F$26,FALSE))","v":{"$error":"#REF!"}},{"$f":"IF($B223=\"*\",\"\",VLOOKUP($A223,'2024-2025 '!#REF!,G$26,FALSE))","v":{"$error":"#REF!"}},null,{"$f":"IF($B223=\"*\",\"\",VLOOKUP($A223,'2024-2025 '!#REF!,I$26,FALSE))","v":{"$error":"#REF!"}},null,{"$f":"IF($B223=\"*\",\"\",VLOOKUP($A223,'2024-2025 '!#REF!,K$5,FALSE))","v":{"$error":"#REF!"}},null,{"$f":"IF($B223=\"*\",\"\",VLOOKUP($A223,'2024-2025 '!#REF!,M$5,FALSE))","v":{"$error":"#REF!"}}]
[189,{"$f":"VLOOKUP(A224,'2024-2025 '!#REF!,9,FALSE)","v":{"$error":"#REF!"}},{"$f":"VLOOKUP($A224,'2024-2025 '!#REF!,C$26,FALSE)","v":{"$error":"#REF!"}},{"$f":"IF($B224=\"*\",\"\",VLOOKUP($A224,'2024-2025 '!#REF!,D$26,FALSE))","v":{"$error":"#REF!"}},{"$f":"IF($B224=\"*\",\"\",VLOOKUP($A224,'2024-2025 '!#REF!,E$26,FALSE))","v":{"$error":"#REF!"}},{"$f":"IF($B224=\"*\",\"\",VLOOKUP($A224,'2024-2025 '!#REF!,F$26,FALSE))","v":{"$error":"#REF!"}},{"$f":"IF($B224=\"*\",\"\",VLOOKUP($A224,'2024-2025 '!#REF!,G$26,FALSE))","v":{"$error":"#REF!"}},null,{"$f":"IF($B224=\"*\",\"\",VLOOKUP($A224,'2024-2025 '!#REF!,I$26,FALSE))","v":{"$error":"#REF!"}},null,{"$f":"IF($B224=\"*\",\"\",VLOOKUP($A224,'2024-2025 '!#REF!,K$5,FALSE))","v":{"$error":"#REF!"}},null,{"$f":"IF($B224=\"*\",\"\",VLOOKUP($A224,'2024-2025 '!#REF!,M$5,FALSE))","v":{"$error":"#REF!"}}]
[190,{"$f":"VLOOKUP(A225,'2024-2025 '!#REF!,9,FALSE)","v":{"$error":"#REF!"}},{"$f":"VLOOKUP($A225,'2024-2025 '!#REF!,C$26,FALSE)","v":{"$error":"#REF!"}},{"$f":"IF($B225=\"*\",\"\",VLOOKUP($A225,'2024-2025 '!#REF!,D$26,FALSE))","v":{"$error":"#REF!"}},{"$f":"IF($B225=\"*\",\"\",VLOOKUP($A225,'2024-2025 '!#REF!,E$26,FALSE))","v":{"$error":"#REF!"}},{"$f":"IF($B225=\"*\",\"\",VLOOKUP($A225,'2024-2025 '!#REF!,F$26,FALSE))","v":{"$error":"#REF!"}},{"$f":"IF($B225=\"*\",\"\",VLOOKUP($A225,'2024-2025 '!#REF!,G$26,FALSE))","v":{"$error":"#REF!"}},null,{"$f":"IF($B225=\"*\",\"\",VLOOKUP($A225,'2024-2025 '!#REF!,I$26,FALSE))","v":{"$error":"#REF!"}},null,{"$f":"IF($B225=\"*\",\"\",VLOOKUP($A225,'2024-2025 '!#REF!,K$5,FALSE))","v":{"$error":"#REF!"}},null,{"$f":"IF($B225=\"*\",\"\",VLOOKUP($A225,'2024-2025 '!#REF!,M$5,FALSE))","v":{"$error":"#REF!"}}]
[191,{"$f":"VLOOKUP(A226,'2024-2025 '!#REF!,9,FALSE)","v":{"$error":"#REF!"}},{"$f":"VLOOKUP($A226,'2024-2025 '!#REF!,C$26,FALSE)","v":{"$error":"#REF!"}},{"$f":"IF($B226=\"*\",\"\",VLOOKUP($A226,'2024-2025 '!#REF!,D$26,FALSE))","v":{"$error":"#REF!"}},{"$f":"IF($B226=\"*\",\"\",VLOOKUP($A226,'2024-2025 '!#REF!,E$26,FALSE))","v":{"$error":"#REF!"}},{"$f":"IF($B226=\"*\",\"\",VLOOKUP($A226,'2024-2025 '!#REF!,F$26,FALSE))","v":{"$error":"#REF!"}},{"$f":"IF($B226=\"*\",\"\",VLOOKUP($A226,'2024-2025 '!#REF!,G$26,FALSE))","v":{"$error":"#REF!"}},null,{"$f":"IF($B226=\"*\",\"\",VLOOKUP($A226,'2024-2025 '!#REF!,I$26,FALSE))","v":{"$error":"#REF!"}},null,{"$f":"IF($B226=\"*\",\"\",VLOOKUP($A226,'2024-2025 '!#REF!,K$5,FALSE))","v":{"$error":"#REF!"}},null,{"$f":"IF($B226=\"*\",\"\",VLOOKUP($A226,'2024-2025 '!#REF!,M$5,FALSE))","v":{"$error":"#REF!"}}]
[192,{"$f":"VLOOKUP(A227,'2024-2025 '!#REF!,9,FALSE)","v":{"$error":"#REF!"}},{"$f":"VLOOKUP($A227,'2024-2025 '!#REF!,C$26,FALSE)","v":{"$error":"#REF!"}},{"$f":"IF($B227=\"*\",\"\",VLOOKUP($A227,'2024-2025 '!#REF!,D$26,FALSE))","v":{"$error":"#REF!"}},{"$f":"IF($B227=\"*\",\"\",VLOOKUP($A227,'2024-2025 '!#REF!,E$26,FALSE))","v":{"$error":"#REF!"}},{"$f":"IF($B227=\"*\",\"\",VLOOKUP($A227,'2024-2025 '!#REF!,F$26,FALSE))","v":{"$error":"#REF!"}},{"$f":"IF($B227=\"*\",\"\",VLOOKUP($A227,'2024-2025 '!#REF!,G$26,FALSE))","v":{"$error":"#REF!"}},null,{"$f":"IF($B227=\"*\",\"\",VLOOKUP($A227,'2024-2025 '!#REF!,I$26,FALSE))","v":{"$error":"#REF!"}},null,{"$f":"IF($B227=\"*\",\"\",VLOOKUP($A227,'2024-2025 '!#REF!,K$5,FALSE))","v":{"$error":"#REF!"}},null,{"$f":"IF($B227=\"*\",\"\",VLOOKUP($A227,'2024-2025 '!#REF!,M$5,FALSE))","v":{"$error":"#REF!"}}]
[193,{"$f":"VLOOKUP(A228,'2024-2025 '!#REF!,9,FALSE)","v":{"$error":"#REF!"}},{"$f":"VLOOKUP($A228,'2024-2025 '!#REF!,C$26,FALSE)","v":{"$error":"#REF!"}},{"$f":"IF($B228=\"*\",\"\",VLOOKUP($A228,'2024-2025 '!#REF!,D$26,FALSE))","v":{"$error":"#REF!"}},{"$f":"IF($B228=\"*\",\"\",VLOOKUP($A228,'2024-2025 '!#REF!,E$26,FALSE))","v":{"$error":"#REF!"}},{"$f":"IF($B228=\"*\",\"\",VLOOKUP($A228,'2024-2025 '!#REF!,F$26,FALSE))","v":{"$error":"#REF!"}},{"$f":"IF($B228=\"*\",\"\",VLOOKUP($A228,'2024-2025 '!#REF!,G$26,FALSE))","v":{"$error":"#REF!"}},null,{"$f":"IF($B228=\"*\",\"\",VLOOKUP($A228,'2024-2025 '!#REF!,I$26,FALSE))","v":{"$error":"#REF!"}},null,{"$f":"IF($B228=\"*\",\"\",VLOOKUP($A228,'2024-2025 '!#REF!,K$5,FALSE))","v":{"$error":"#REF!"}},null,{"$f":"IF($B228=\"*\",\"\",VLOOKUP($A228,'2024-2025 '!#REF!,M$5,FALSE))","v":{"$error":"#REF!"}}]
[194,{"$f":"VLOOKUP(A229,'2024-2025 '!#REF!,9,FALSE)","v":{"$error":"#REF!"}},{"$f":"VLOOKUP($A229,'2024-2025 '!#REF!,C$26,FALSE)","v":{"$error":"#REF!"}},{"$f":"IF($B229=\"*\",\"\",VLOOKUP($A229,'2024-2025 '!#REF!,D$26,FALSE))","v":{"$error":"#REF!"}},{"$f":"IF($B229=\"*\",\"\",VLOOKUP($A229,'2024-2025 '!#REF!,E$26,FALSE))","v":{"$error":"#REF!"}},{"$f":"IF($B229=\"*\",\"\",VLOOKUP($A229,'2024-2025 '!#REF!,F$26,FALSE))","v":{"$error":"#REF!"}},{"$f":"IF($B229=\"*\",\"\",VLOOKUP($A229,'2024-2025 '!#REF!,G$26,FALSE))","v":{"$error":"#REF!"}},null,{"$f":"IF($B229=\"*\",\"\",VLOOKUP($A229,'2024-2025 '!#REF!,I$26,FALSE))","v":{"$error":"#REF!"}},null,{"$f":"IF($B229=\"*\",\"\",VLOOKUP($A229,'2024-2025 '!#REF!,K$5,FALSE))","v":{"$error":"#REF!"}},null,{"$f":"IF($B229=\"*\",\"\",VLOOKUP($A229,'2024-2025 '!#REF!,M$5,FALSE))","v":{"$error":"#REF!"}}]
[{"$f":"A229+1","v":195},{"$f":"VLOOKUP(A230,'2024-2025 '!#REF!,9,FALSE)","v":{"$error":"#REF!"}},{"$f":"VLOOKUP($A230,'2024-2025 '!#REF!,C$26,FALSE)","v":{"$error":"#REF!"}},{"$f":"IF($B230=\"*\",\"\",VLOOKUP($A230,'2024-2025 '!#REF!,D$26,FALSE))","v":{"$error":"#REF!"}},{"$f":"IF($B230=\"*\",\"\",VLOOKUP($A230,'2024-2025 '!#REF!,E$26,FALSE))","v":{"$error":"#REF!"}},{"$f":"IF($B230=\"*\",\"\",VLOOKUP($A230,'2024-2025 '!#REF!,F$26,FALSE))","v":{"$error":"#REF!"}},{"$f":"IF($B230=\"*\",\"\",VLOOKUP($A230,'2024-2025 '!#REF!,G$26,FALSE))","v":{"$error":"#REF!"}},null,{"$f":"IF($B230=\"*\",\"\",VLOOKUP($A230,'2024-2025 '!#REF!,I$26,FALSE))","v":{"$error":"#REF!"}},null,{"$f":"IF($B230=\"*\",\"\",VLOOKUP($A230,'2024-2025 '!#REF!,K$5,FALSE))","v":{"$error":"#REF!"}},null,{"$f":"IF($B230=\"*\",\"\",VLOOKUP($A230,'2024-2025 '!#REF!,M$5,FALSE))","v":{"$error":"#REF!"}}]
[196,{"$f":"VLOOKUP(A231,'2024-2025 '!#REF!,9,FALSE)","v":{"$error":"#REF!"}},{"$f":"VLOOKUP($A231,'2024-2025 '!#REF!,C$26,FALSE)","v":{"$error":"#REF!"}},{"$f":"IF($B231=\"*\",\"\",VLOOKUP($A231,'2024-2025 '!#REF!,D$26,FALSE))","v":{"$error":"#REF!"}},{"$f":"IF($B231=\"*\",\"\",VLOOKUP($A231,'2024-2025 '!#REF!,E$26,FALSE))","v":{"$error":"#REF!"}},{"$f":"IF($B231=\"*\",\"\",VLOOKUP($A231,'2024-2025 '!#REF!,F$26,FALSE))","v":{"$error":"#REF!"}},{"$f":"IF($B231=\"*\",\"\",VLOOKUP($A231,'2024-2025 '!#REF!,G$26,FALSE))","v":{"$error":"#REF!"}},null,{"$f":"IF($B231=\"*\",\"\",VLOOKUP($A231,'2024-2025 '!#REF!,I$26,FALSE))","v":{"$error":"#REF!"}},null,{"$f":"IF($B231=\"*\",\"\",VLOOKUP($A231,'2024-2025 '!#REF!,K$5,FALSE))","v":{"$error":"#REF!"}},null,{"$f":"IF($B231=\"*\",\"\",VLOOKUP($A231,'2024-2025 '!#REF!,M$5,FALSE))","v":{"$error":"#REF!"}}]
[197,{"$f":"VLOOKUP(A232,'2024-2025 '!#REF!,9,FALSE)","v":{"$error":"#REF!"}},{"$f":"VLOOKUP($A232,'2024-2025 '!#REF!,C$26,FALSE)","v":{"$error":"#REF!"}},{"$f":"IF($B232=\"*\",\"\",VLOOKUP($A232,'2024-2025 '!#REF!,D$26,FALSE))","v":{"$error":"#REF!"}},{"$f":"IF($B232=\"*\",\"\",VLOOKUP($A232,'2024-2025 '!#REF!,E$26,FALSE))","v":{"$error":"#REF!"}},{"$f":"IF($B232=\"*\",\"\",VLOOKUP($A232,'2024-2025 '!#REF!,F$26,FALSE))","v":{"$error":"#REF!"}},{"$f":"IF($B232=\"*\",\"\",VLOOKUP($A232,'2024-2025 '!#REF!,G$26,FALSE))","v":{"$error":"#REF!"}},null,{"$f":"IF($B232=\"*\",\"\",VLOOKUP($A232,'2024-2025 '!#REF!,I$26,FALSE))","v":{"$error":"#REF!"}},null,{"$f":"IF($B232=\"*\",\"\",VLOOKUP($A232,'2024-2025 '!#REF!,K$5,FALSE))","v":{"$error":"#REF!"}},null,{"$f":"IF($B232=\"*\",\"\",VLOOKUP($A232,'2024-2025 '!#REF!,M$5,FALSE))","v":{"$error":"#REF!"}}]
[198,{"$f":"VLOOKUP(A233,'2024-2025 '!#REF!,9,FALSE)","v":{"$error":"#REF!"}},{"$f":"VLOOKUP($A233,'2024-2025 '!#REF!,C$26,FALSE)","v":{"$error":"#REF!"}},{"$f":"IF($B233=\"*\",\"\",VLOOKUP($A233,'2024-2025 '!#REF!,D$26,FALSE))","v":{"$error":"#REF!"}},{"$f":"IF($B233=\"*\",\"\",VLOOKUP($A233,'2024-2025 '!#REF!,E$26,FALSE))","v":{"$error":"#REF!"}},{"$f":"IF($B233=\"*\",\"\",VLOOKUP($A233,'2024-2025 '!#REF!,F$26,FALSE))","v":{"$error":"#REF!"}},{"$f":"IF($B233=\"*\",\"\",VLOOKUP($A233,'2024-2025 '!#REF!,G$26,FALSE))","v":{"$error":"#REF!"}},null,{"$f":"IF($B233=\"*\",\"\",VLOOKUP($A233,'2024-2025 '!#REF!,I$26,FALSE))","v":{"$error":"#REF!"}},null,{"$f":"IF($B233=\"*\",\"\",VLOOKUP($A233,'2024-2025 '!#REF!,K$5,FALSE))","v":{"$error":"#REF!"}},null,{"$f":"IF($B233=\"*\",\"\",VLOOKUP($A233,'2024-2025 '!#REF!,M$5,FALSE))","v":{"$error":"#REF!"}}]
[199,{"$f":"VLOOKUP(A234,'2024-2025 '!#REF!,9,FALSE)","v":{"$error":"#REF!"}},{"$f":"VLOOKUP($A234,'2024-2025 '!#REF!,C$26,FALSE)","v":{"$error":"#REF!"}},{"$f":"IF($B234=\"*\",\"\",VLOOKUP($A234,'2024-2025 '!#REF!,D$26,FALSE))","v":{"$error":"#REF!"}},{"$f":"IF($B234=\"*\",\"\",VLOOKUP($A234,'2024-2025 '!#REF!,E$26,FALSE))","v":{"$error":"#REF!"}},{"$f":"IF($B234=\"*\",\"\",VLOOKUP($A234,'2024-2025 '!#REF!,F$26,FALSE))","v":{"$error":"#REF!"}},{"$f":"IF($B234=\"*\",\"\",VLOOKUP($A234,'2024-2025 '!#REF!,G$26,FALSE))","v":{"$error":"#REF!"}},null,{"$f":"IF($B234=\"*\",\"\",VLOOKUP($A234,'2024-2025 '!#REF!,I$26,FALSE))","v":{"$error":"#REF!"}},null,{"$f":"IF($B234=\"*\",\"\",VLOOKUP($A234,'2024-2025 '!#REF!,K$5,FALSE))","v":{"$error":"#REF!"}},null,{"$f":"IF($B234=\"*\",\"\",VLOOKUP($A234,'2024-2025 '!#REF!,M$5,FALSE))","v":{"$error":"#REF!"}}]
[200,{"$f":"VLOOKUP(A235,'2024-2025 '!#REF!,9,FALSE)","v":{"$error":"#REF!"}},{"$f":"VLOOKUP($A235,'2024-2025 '!#REF!,C$26,FALSE)","v":{"$error":"#REF!"}},{"$f":"IF($B235=\"*\",\"\",VLOOKUP($A235,'2024-2025 '!#REF!,D$26,FALSE))","v":{"$error":"#REF!"}},{"$f":"IF($B235=\"*\",\"\",VLOOKUP($A235,'2024-2025 '!#REF!,E$26,FALSE))","v":{"$error":"#REF!"}},{"$f":"IF($B235=\"*\",\"\",VLOOKUP($A235,'2024-2025 '!#REF!,F$26,FALSE))","v":{"$error":"#REF!"}},{"$f":"IF($B235=\"*\",\"\",VLOOKUP($A235,'2024-2025 '!#REF!,G$26,FALSE))","v":{"$error":"#REF!"}},null,{"$f":"IF($B235=\"*\",\"\",VLOOKUP($A235,'2024-2025 '!#REF!,I$26,FALSE))","v":{"$error":"#REF!"}},null,{"$f":"IF($B235=\"*\",\"\",VLOOKUP($A235,'2024-2025 '!#REF!,K$5,FALSE))","v":{"$error":"#REF!"}},null,{"$f":"IF($B235=\"*\",\"\",VLOOKUP($A235,'2024-2025 '!#REF!,M$5,FALSE))","v":{"$error":"#REF!"}}]
[201,{"$f":"VLOOKUP(A236,'2024-2025 '!#REF!,9,FALSE)","v":{"$error":"#REF!"}},{"$f":"VLOOKUP($A236,'2024-2025 '!#REF!,C$26,FALSE)","v":{"$error":"#REF!"}},null,null,null,null,null,null,null,{"$f":"IF($B236=\"*\",\"\",VLOOKUP($A236,'2024-2025 '!#REF!,K$5,FALSE))","v":{"$error":"#REF!"}},null,{"$f":"IF($B236=\"*\",\"\",VLOOKUP($A236,'2024-2025 '!#REF!,M$5,FALSE))","v":{"$error":"#REF!"}}]
[202,{"$f":"VLOOKUP(A237,'2024-2025 '!#REF!,9,FALSE)","v":{"$error":"#REF!"}},{"$f":"VLOOKUP($A237,'2024-2025 '!#REF!,C$26,FALSE)","v":{"$error":"#REF!"}},{"$f":"IF($B237=\"*\",\"\",VLOOKUP($A237,'2024-2025 '!#REF!,D$26,FALSE))","v":{"$error":"#REF!"}},{"$f":"IF($B237=\"*\",\"\",VLOOKUP($A237,'2024-2025 '!#REF!,E$26,FALSE))","v":{"$error":"#REF!"}},{"$f":"IF($B237=\"*\",\"\",VLOOKUP($A237,'2024-2025 '!#REF!,F$26,FALSE))","v":{"$error":"#REF!"}},{"$f":"IF($B237=\"*\",\"\",VLOOKUP($A237,'2024-2025 '!#REF!,G$26,FALSE))","v":{"$error":"#REF!"}},null,{"$f":"IF($B237=\"*\",\"\",VLOOKUP($A237,'2024-2025 '!#REF!,I$26,FALSE))","v":{"$error":"#REF!"}},null,{"$f":"IF($B237=\"*\",\"\",VLOOKUP($A237,'2024-2025 '!#REF!,K$5,FALSE))","v":{"$error":"#REF!"}},null,{"$f":"IF($B237=\"*\",\"\",VLOOKUP($A237,'2024-2025 '!#REF!,M$5,FALSE))","v":{"$error":"#REF!"}}]
[203,{"$f":"VLOOKUP(A238,'2024-2025 '!#REF!,9,FALSE)","v":{"$error":"#REF!"}},{"$f":"VLOOKUP($A238,'2024-2025 '!#REF!,C$26,FALSE)","v":{"$error":"#REF!"}},{"$f":"IF($B238=\"*\",\"\",VLOOKUP($A238,'2024-2025 '!#REF!,D$26,FALSE))","v":{"$error":"#REF!"}},{"$f":"IF($B238=\"*\",\"\",VLOOKUP($A238,'2024-2025 '!#REF!,E$26,FALSE))","v":{"$error":"#REF!"}},{"$f":"IF($B238=\"*\",\"\",VLOOKUP($A238,'2024-2025 '!#REF!,F$26,FALSE))","v":{"$error":"#REF!"}},{"$f":"IF($B238=\"*\",\"\",VLOOKUP($A238,'2024-2025 '!#REF!,G$26,FALSE))","v":{"$error":"#REF!"}},null,{"$f":"IF($B238=\"*\",\"\",VLOOKUP($A238,'2024-2025 '!#REF!,I$26,FALSE))","v":{"$error":"#REF!"}},null,{"$f":"IF($B238=\"*\",\"\",VLOOKUP($A238,'2024-2025 '!#REF!,K$5,FALSE))","v":{"$error":"#REF!"}},null,{"$f":"IF($B238=\"*\",\"\",VLOOKUP($A238,'2024-2025 '!#REF!,M$5,FALSE))","v":{"$error":"#REF!"}}]
[204,{"$f":"VLOOKUP(A239,'2024-2025 '!#REF!,9,FALSE)","v":{"$error":"#REF!"}},{"$f":"VLOOKUP($A239,'2024-2025 '!#REF!,C$26,FALSE)","v":{"$error":"#REF!"}},{"$f":"IF($B239=\"*\",\"\",VLOOKUP($A239,'2024-2025 '!#REF!,D$26,FALSE))","v":{"$error":"#REF!"}},{"$f":"IF($B239=\"*\",\"\",VLOOKUP($A239,'2024-2025 '!#REF!,E$26,FALSE))","v":{"$error":"#REF!"}},{"$f":"IF($B239=\"*\",\"\",VLOOKUP($A239,'2024-2025 '!#REF!,F$26,FALSE))","v":{"$error":"#REF!"}},{"$f":"IF($B239=\"*\",\"\",VLOOKUP($A239,'2024-2025 '!#REF!,G$26,FALSE))","v":{"$error":"#REF!"}},null,{"$f":"IF($B239=\"*\",\"\",VLOOKUP($A239,'2024-2025 '!#REF!,I$26,FALSE))","v":{"$error":"#REF!"}},null,{"$f":"IF($B239=\"*\",\"\",VLOOKUP($A239,'2024-2025 '!#REF!,K$5,FALSE))","v":{"$error":"#REF!"}},null,{"$f":"IF($B239=\"*\",\"\",VLOOKUP($A239,'2024-2025 '!#REF!,M$5,FALSE))","v":{"$error":"#REF!"}}]
[205,{"$f":"VLOOKUP(A240,'2024-2025 '!#REF!,9,FALSE)","v":{"$error":"#REF!"}},{"$f":"VLOOKUP($A240,'2024-2025 '!#REF!,C$26,FALSE)","v":{"$error":"#REF!"}},{"$f":"IF($B240=\"*\",\"\",VLOOKUP($A240,'2024-2025 '!#REF!,D$26,FALSE))","v":{"$error":"#REF!"}},{"$f":"IF($B240=\"*\",\"\",VLOOKUP($A240,'2024-2025 '!#REF!,E$26,FALSE))","v":{"$error":"#REF!"}},{"$f":"IF($B240=\"*\",\"\",VLOOKUP($A240,'2024-2025 '!#REF!,F$26,FALSE))","v":{"$error":"#REF!"}},{"$f":"IF($B240=\"*\",\"\",VLOOKUP($A240,'2024-2025 '!#REF!,G$26,FALSE))","v":{"$error":"#REF!"}},null,{"$f":"IF($B240=\"*\",\"\",VLOOKUP($A240,'2024-2025 '!#REF!,I$26,FALSE))","v":{"$error":"#REF!"}},null,{"$f":"IF($B240=\"*\",\"\",VLOOKUP($A240,'2024-2025 '!#REF!,K$5,FALSE))","v":{"$error":"#REF!"}},null,{"$f":"IF($B240=\"*\",\"\",VLOOKUP($A240,'2024-2025 '!#REF!,M$5,FALSE))","v":{"$error":"#REF!"}}]
[206,{"$f":"VLOOKUP(A241,'2024-2025 '!#REF!,9,FALSE)","v":{"$error":"#REF!"}},{"$f":"VLOOKUP($A241,'2024-2025 '!#REF!,C$26,FALSE)","v":{"$error":"#REF!"}},{"$f":"IF($B241=\"*\",\"\",VLOOKUP($A241,'2024-2025 '!#REF!,D$26,FALSE))","v":{"$error":"#REF!"}},{"$f":"IF($B241=\"*\",\"\",VLOOKUP($A241,'2024-2025 '!#REF!,E$26,FALSE))","v":{"$error":"#REF!"}},{"$f":"IF($B241=\"*\",\"\",VLOOKUP($A241,'2024-2025 '!#REF!,F$26,FALSE))","v":{"$error":"#REF!"}},{"$f":"IF($B241=\"*\",\"\",VLOOKUP($A241,'2024-2025 '!#REF!,G$26,FALSE))","v":{"$error":"#REF!"}},null,{"$f":"IF($B241=\"*\",\"\",VLOOKUP($A241,'2024-2025 '!#REF!,I$26,FALSE))","v":{"$error":"#REF!"}},null,{"$f":"IF($B241=\"*\",\"\",VLOOKUP($A241,'2024-2025 '!#REF!,K$5,FALSE))","v":{"$error":"#REF!"}},null,{"$f":"IF($B241=\"*\",\"\",VLOOKUP($A241,'2024-2025 '!#REF!,M$5,FALSE))","v":{"$error":"#REF!"}}]
[207,{"$f":"VLOOKUP(A242,'2024-2025 '!#REF!,9,FALSE)","v":{"$error":"#REF!"}},{"$f":"VLOOKUP($A242,'2024-2025 '!#REF!,C$26,FALSE)","v":{"$error":"#REF!"}},{"$f":"IF($B242=\"*\",\"\",VLOOKUP($A242,'2024-2025 '!#REF!,D$26,FALSE))","v":{"$error":"#REF!"}},{"$f":"IF($B242=\"*\",\"\",VLOOKUP($A242,'2024-2025 '!#REF!,E$26,FALSE))","v":{"$error":"#REF!"}},{"$f":"IF($B242=\"*\",\"\",VLOOKUP($A242,'2024-2025 '!#REF!,F$26,FALSE))","v":{"$error":"#REF!"}},{"$f":"IF($B242=\"*\",\"\",VLOOKUP($A242,'2024-2025 '!#REF!,G$26,FALSE))","v":{"$error":"#REF!"}},null,{"$f":"IF($B242=\"*\",\"\",VLOOKUP($A242,'2024-2025 '!#REF!,I$26,FALSE))","v":{"$error":"#REF!"}},null,{"$f":"IF($B242=\"*\",\"\",VLOOKUP($A242,'2024-2025 '!#REF!,K$5,FALSE))","v":{"$error":"#REF!"}},null,{"$f":"IF($B242=\"*\",\"\",VLOOKUP($A242,'2024-2025 '!#REF!,M$5,FALSE))","v":{"$error":"#REF!"}}]
[208,{"$f":"VLOOKUP(A243,'2024-2025 '!#REF!,9,FALSE)","v":{"$error":"#REF!"}},{"$f":"VLOOKUP($A243,'2024-2025 '!#REF!,C$26,FALSE)","v":{"$error":"#REF!"}},{"$f":"IF($B243=\"*\",\"\",VLOOKUP($A243,'2024-2025 '!#REF!,D$26,FALSE))","v":{"$error":"#REF!"}},{"$f":"IF($B243=\"*\",\"\",VLOOKUP($A243,'2024-2025 '!#REF!,E$26,FALSE))","v":{"$error":"#REF!"}},{"$f":"IF($B243=\"*\",\"\",VLOOKUP($A243,'2024-2025 '!#REF!,F$26,FALSE))","v":{"$error":"#REF!"}},{"$f":"IF($B243=\"*\",\"\",VLOOKUP($A243,'2024-2025 '!#REF!,G$26,FALSE))","v":{"$error":"#REF!"}},null,{"$f":"IF($B243=\"*\",\"\",VLOOKUP($A243,'2024-2025 '!#REF!,I$26,FALSE))","v":{"$error":"#REF!"}},null,{"$f":"IF($B243=\"*\",\"\",VLOOKUP($A243,'2024-2025 '!#REF!,K$5,FALSE))","v":{"$error":"#REF!"}},null,{"$f":"IF($B243=\"*\",\"\",VLOOKUP($A243,'2024-2025 '!#REF!,M$5,FALSE))","v":{"$error":"#REF!"}}]
[209,{"$f":"VLOOKUP(A244,'2024-2025 '!#REF!,9,FALSE)","v":{"$error":"#REF!"}},{"$f":"VLOOKUP($A244,'2024-2025 '!#REF!,C$26,FALSE)","v":{"$error":"#REF!"}},{"$f":"IF($B244=\"*\",\"\",VLOOKUP($A244,'2024-2025 '!#REF!,D$26,FALSE))","v":{"$error":"#REF!"}},{"$f":"IF($B244=\"*\",\"\",VLOOKUP($A244,'2024-2025 '!#REF!,E$26,FALSE))","v":{"$error":"#REF!"}},{"$f":"IF($B244=\"*\",\"\",VLOOKUP($A244,'2024-2025 '!#REF!,F$26,FALSE))","v":{"$error":"#REF!"}},{"$f":"IF($B244=\"*\",\"\",VLOOKUP($A244,'2024-2025 '!#REF!,G$26,FALSE))","v":{"$error":"#REF!"}},null,{"$f":"IF($B244=\"*\",\"\",VLOOKUP($A244,'2024-2025 '!#REF!,I$26,FALSE))","v":{"$error":"#REF!"}},null,{"$f":"IF($B244=\"*\",\"\",VLOOKUP($A244,'2024-2025 '!#REF!,K$5,FALSE))","v":{"$error":"#REF!"}},null,{"$f":"IF($B244=\"*\",\"\",VLOOKUP($A244,'2024-2025 '!#REF!,M$5,FALSE))","v":{"$error":"#REF!"}}]
[210,{"$f":"VLOOKUP(A245,'2024-2025 '!#REF!,9,FALSE)","v":{"$error":"#REF!"}},{"$f":"VLOOKUP($A245,'2024-2025 '!#REF!,C$26,FALSE)","v":{"$error":"#REF!"}},{"$f":"IF($B245=\"*\",\"\",VLOOKUP($A245,'2024-2025 '!#REF!,D$26,FALSE))","v":{"$error":"#REF!"}},{"$f":"IF($B245=\"*\",\"\",VLOOKUP($A245,'2024-2025 '!#REF!,E$26,FALSE))","v":{"$error":"#REF!"}},{"$f":"IF($B245=\"*\",\"\",VLOOKUP($A245,'2024-2025 '!#REF!,F$26,FALSE))","v":{"$error":"#REF!"}},{"$f":"IF($B245=\"*\",\"\",VLOOKUP($A245,'2024-2025 '!#REF!,G$26,FALSE))","v":{"$error":"#REF!"}},null,{"$f":"IF($B245=\"*\",\"\",VLOOKUP($A245,'2024-2025 '!#REF!,I$26,FALSE))","v":{"$error":"#REF!"}},null,{"$f":"IF($B245=\"*\",\"\",VLOOKUP($A245,'2024-2025 '!#REF!,K$5,FALSE))","v":{"$error":"#REF!"}},null,{"$f":"IF($B245=\"*\",\"\",VLOOKUP($A245,'2024-2025 '!#REF!,M$5,FALSE))","v":{"$error":"#REF!"}}]
[211,{"$f":"VLOOKUP(A246,'2024-2025 '!#REF!,9,FALSE)","v":{"$error":"#REF!"}},{"$f":"VLOOKUP($A246,'2024-2025 '!#REF!,C$26,FALSE)","v":{"$error":"#REF!"}},{"$f":"IF($B246=\"*\",\"\",VLOOKUP($A246,'2024-2025 '!#REF!,D$26,FALSE))","v":{"$error":"#REF!"}},{"$f":"IF($B246=\"*\",\"\",VLOOKUP($A246,'2024-2025 '!#REF!,E$26,FALSE))","v":{"$error":"#REF!"}},{"$f":"IF($B246=\"*\",\"\",VLOOKUP($A246,'2024-2025 '!#REF!,F$26,FALSE))","v":{"$error":"#REF!"}},{"$f":"IF($B246=\"*\",\"\",VLOOKUP($A246,'2024-2025 '!#REF!,G$26,FALSE))","v":{"$error":"#REF!"}},null,{"$f":"IF($B246=\"*\",\"\",VLOOKUP($A246,'2024-2025 '!#REF!,I$26,FALSE))","v":{"$error":"#REF!"}},null,{"$f":"IF($B246=\"*\",\"\",VLOOKUP($A246,'2024-2025 '!#REF!,K$5,FALSE))","v":{"$error":"#REF!"}},null,{"$f":"IF($B246=\"*\",\"\",VLOOKUP($A246,'2024-2025 '!#REF!,M$5,FALSE))","v":{"$error":"#REF!"}}]
[212,{"$f":"VLOOKUP(A247,'2024-2025 '!#REF!,9,FALSE)","v":{"$error":"#REF!"}},{"$f":"VLOOKUP($A247,'2024-2025 '!#REF!,C$26,FALSE)","v":{"$error":"#REF!"}},{"$f":"IF($B247=\"*\",\"\",VLOOKUP($A247,'2024-2025 '!#REF!,D$26,FALSE))","v":{"$error":"#REF!"}},{"$f":"IF($B247=\"*\",\"\",VLOOKUP($A247,'2024-2025 '!#REF!,E$26,FALSE))","v":{"$error":"#REF!"}},{"$f":"IF($B247=\"*\",\"\",VLOOKUP($A247,'2024-2025 '!#REF!,F$26,FALSE))","v":{"$error":"#REF!"}},{"$f":"IF($B247=\"*\",\"\",VLOOKUP($A247,'2024-2025 '!#REF!,G$26,FALSE))","v":{"$error":"#REF!"}},null,{"$f":"IF($B247=\"*\",\"\",VLOOKUP($A247,'2024-2025 '!#REF!,I$26,FALSE))","v":{"$error":"#REF!"}},null,{"$f":"IF($B247=\"*\",\"\",VLOOKUP($A247,'2024-2025 '!#REF!,K$5,FALSE))","v":{"$error":"#REF!"}},null,{"$f":"IF($B247=\"*\",\"\",VLOOKUP($A247,'2024-2025 '!#REF!,M$5,FALSE))","v":{"$error":"#REF!"}}]
[213,{"$f":"VLOOKUP(A248,'2024-2025 '!#REF!,9,FALSE)","v":{"$error":"#REF!"}},{"$f":"VLOOKUP($A248,'2024-2025 '!#REF!,C$26,FALSE)","v":{"$error":"#REF!"}},{"$f":"IF($B248=\"*\",\"\",VLOOKUP($A248,'2024-2025 '!#REF!,D$26,FALSE))","v":{"$error":"#REF!"}},{"$f":"IF($B248=\"*\",\"\",VLOOKUP($A248,'2024-2025 '!#REF!,E$26,FALSE))","v":{"$error":"#REF!"}},{"$f":"IF($B248=\"*\",\"\",VLOOKUP($A248,'2024-2025 '!#REF!,F$26,FALSE))","v":{"$error":"#REF!"}},{"$f":"IF($B248=\"*\",\"\",VLOOKUP($A248,'2024-2025 '!#REF!,G$26,FALSE))","v":{"$error":"#REF!"}},null,{"$f":"IF($B248=\"*\",\"\",VLOOKUP($A248,'2024-2025 '!#REF!,I$26,FALSE))","v":{"$error":"#REF!"}},null,{"$f":"IF($B248=\"*\",\"\",VLOOKUP($A248,'2024-2025 '!#REF!,K$5,FALSE))","v":{"$error":"#REF!"}},null,{"$f":"IF($B248=\"*\",\"\",VLOOKUP($A248,'2024-2025 '!#REF!,M$5,FALSE))","v":{"$error":"#REF!"}}]
[214,{"$f":"VLOOKUP(A249,'2024-2025 '!#REF!,9,FALSE)","v":{"$error":"#REF!"}},{"$f":"VLOOKUP($A249,'2024-2025 '!#REF!,C$26,FALSE)","v":{"$error":"#REF!"}},{"$f":"IF($B249=\"*\",\"\",VLOOKUP($A249,'2024-2025 '!#REF!,D$26,FALSE))","v":{"$error":"#REF!"}},{"$f":"IF($B249=\"*\",\"\",VLOOKUP($A249,'2024-2025 '!#REF!,E$26,FALSE))","v":{"$error":"#REF!"}},{"$f":"IF($B249=\"*\",\"\",VLOOKUP($A249,'2024-2025 '!#REF!,F$26,FALSE))","v":{"$error":"#REF!"}},{"$f":"IF($B249=\"*\",\"\",VLOOKUP($A249,'2024-2025 '!#REF!,G$26,FALSE))","v":{"$error":"#REF!"}},null,{"$f":"IF($B249=\"*\",\"\",VLOOKUP($A249,'2024-2025 '!#REF!,I$26,FALSE))","v":{"$error":"#REF!"}},null,{"$f":"IF($B249=\"*\",\"\",VLOOKUP($A249,'2024-2025 '!#REF!,K$5,FALSE))","v":{"$error":"#REF!"}},null,{"$f":"IF($B249=\"*\",\"\",VLOOKUP($A249,'2024-2025 '!#REF!,M$5,FALSE))","v":{"$error":"#REF!"}}]
[215,{"$f":"VLOOKUP(A250,'2024-2025 '!#REF!,9,FALSE)","v":{"$error":"#REF!"}},{"$f":"VLOOKUP($A250,'2024-2025 '!#REF!,C$26,FALSE)","v":{"$error":"#REF!"}},{"$f":"IF($B250=\"*\",\"\",VLOOKUP($A250,'2024-2025 '!#REF!,D$26,FALSE))","v":{"$error":"#REF!"}},{"$f":"IF($B250=\"*\",\"\",VLOOKUP($A250,'2024-2025 '!#REF!,E$26,FALSE))","v":{"$error":"#REF!"}},{"$f":"IF($B250=\"*\",\"\",VLOOKUP($A250,'2024-2025 '!#REF!,F$26,FALSE))","v":{"$error":"#REF!"}},{"$f":"IF($B250=\"*\",\"\",VLOOKUP($A250,'2024-2025 '!#REF!,G$26,FALSE))","v":{"$error":"#REF!"}},null,{"$f":"IF($B250=\"*\",\"\",VLOOKUP($A250,'2024-2025 '!#REF!,I$26,FALSE))","v":{"$error":"#REF!"}},null,{"$f":"IF($B250=\"*\",\"\",VLOOKUP($A250,'2024-2025 '!#REF!,K$5,FALSE))","v":{"$error":"#REF!"}},null,{"$f":"IF($B250=\"*\",\"\",VLOOKUP($A250,'2024-2025 '!#REF!,M$5,FALSE))","v":{"$error":"#REF!"}}]
[216,{"$f":"VLOOKUP(A251,'2024-2025 '!#REF!,9,FALSE)","v":{"$error":"#REF!"}},{"$f":"VLOOKUP($A251,'2024-2025 '!#REF!,C$26,FALSE)","v":{"$error":"#REF!"}},null,null,null,null,null,null,null,{"$f":"IF($B251=\"*\",\"\",VLOOKUP($A251,'2024-2025 '!#REF!,K$5,FALSE))","v":{"$error":"#REF!"}},null,{"$f":"IF($B251=\"*\",\"\",VLOOKUP($A251,'2024-2025 '!#REF!,M$5,FALSE))","v":{"$error":"#REF!"}}]
[217,{"$f":"VLOOKUP(A252,'2024-2025 '!#REF!,9,FALSE)","v":{"$error":"#REF!"}},{"$f":"VLOOKUP($A252,'2024-2025 '!#REF!,C$26,FALSE)","v":{"$error":"#REF!"}},{"$f":"IF($B252=\"*\",\"\",VLOOKUP($A252,'2024-2025 '!#REF!,D$26,FALSE))","v":{"$error":"#REF!"}},{"$f":"IF($B252=\"*\",\"\",VLOOKUP($A252,'2024-2025 '!#REF!,E$26,FALSE))","v":{"$error":"#REF!"}},{"$f":"IF($B252=\"*\",\"\",VLOOKUP($A252,'2024-2025 '!#REF!,F$26,FALSE))","v":{"$error":"#REF!"}},{"$f":"IF($B252=\"*\",\"\",VLOOKUP($A252,'2024-2025 '!#REF!,G$26,FALSE))","v":{"$error":"#REF!"}},null,{"$f":"IF($B252=\"*\",\"\",VLOOKUP($A252,'2024-2025 '!#REF!,I$26,FALSE))","v":{"$error":"#REF!"}},null,{"$f":"IF($B252=\"*\",\"\",VLOOKUP($A252,'2024-2025 '!#REF!,K$5,FALSE))","v":{"$error":"#REF!"}},null,{"$f":"IF($B252=\"*\",\"\",VLOOKUP($A252,'2024-2025 '!#REF!,M$5,FALSE))","v":{"$error":"#REF!"}}]
[218,{"$f":"VLOOKUP(A253,'2024-2025 '!#REF!,9,FALSE)","v":{"$error":"#REF!"}},{"$f":"VLOOKUP($A253,'2024-2025 '!#REF!,C$26,FALSE)","v":{"$error":"#REF!"}},{"$f":"IF($B253=\"*\",\"\",VLOOKUP($A253,'2024-2025 '!#REF!,D$26,FALSE))","v":{"$error":"#REF!"}},{"$f":"IF($B253=\"*\",\"\",VLOOKUP($A253,'2024-2025 '!#REF!,E$26,FALSE))","v":{"$error":"#REF!"}},{"$f":"IF($B253=\"*\",\"\",VLOOKUP($A253,'2024-2025 '!#REF!,F$26,FALSE))","v":{"$error":"#REF!"}},{"$f":"IF($B253=\"*\",\"\",VLOOKUP($A253,'2024-2025 '!#REF!,G$26,FALSE))","v":{"$error":"#REF!"}},null,{"$f":"IF($B253=\"*\",\"\",VLOOKUP($A253,'2024-2025 '!#REF!,I$26,FALSE))","v":{"$error":"#REF!"}},null,{"$f":"IF($B253=\"*\",\"\",VLOOKUP($A253,'2024-2025 '!#REF!,K$5,FALSE))","v":{"$error":"#REF!"}},null,{"$f":"IF($B253=\"*\",\"\",VLOOKUP($A253,'2024-2025 '!#REF!,M$5,FALSE))","v":{"$error":"#REF!"}}]
[219,{"$f":"VLOOKUP(A254,'2024-2025 '!#REF!,9,FALSE)","v":{"$error":"#REF!"}},{"$f":"VLOOKUP($A254,'2024-2025 '!#REF!,C$26,FALSE)","v":{"$error":"#REF!"}},{"$f":"IF($B254=\"*\",\"\",VLOOKUP($A254,'2024-2025 '!#REF!,D$26,FALSE))","v":{"$error":"#REF!"}},{"$f":"IF($B254=\"*\",\"\",VLOOKUP($A254,'2024-2025 '!#REF!,E$26,FALSE))","v":{"$error":"#REF!"}},{"$f":"IF($B254=\"*\",\"\",VLOOKUP($A254,'2024-2025 '!#REF!,F$26,FALSE))","v":{"$error":"#REF!"}},{"$f":"IF($B254=\"*\",\"\",VLOOKUP($A254,'2024-2025 '!#REF!,G$26,FALSE))","v":{"$error":"#REF!"}},null,{"$f":"IF($B254=\"*\",\"\",VLOOKUP($A254,'2024-2025 '!#REF!,I$26,FALSE))","v":{"$error":"#REF!"}},null,{"$f":"IF($B254=\"*\",\"\",VLOOKUP($A254,'2024-2025 '!#REF!,K$5,FALSE))","v":{"$error":"#REF!"}},null,{"$f":"IF($B254=\"*\",\"\",VLOOKUP($A254,'2024-2025 '!#REF!,M$5,FALSE))","v":{"$error":"#REF!"}}]
[220,{"$f":"VLOOKUP(A255,'2024-2025 '!#REF!,9,FALSE)","v":{"$error":"#REF!"}},{"$f":"VLOOKUP($A255,'2024-2025 '!#REF!,C$26,FALSE)","v":{"$error":"#REF!"}},{"$f":"IF($B255=\"*\",\"\",VLOOKUP($A255,'2024-2025 '!#REF!,D$26,FALSE))","v":{"$error":"#REF!"}},{"$f":"IF($B255=\"*\",\"\",VLOOKUP($A255,'2024-2025 '!#REF!,E$26,FALSE))","v":{"$error":"#REF!"}},{"$f":"IF($B255=\"*\",\"\",VLOOKUP($A255,'2024-2025 '!#REF!,F$26,FALSE))","v":{"$error":"#REF!"}},{"$f":"IF($B255=\"*\",\"\",VLOOKUP($A255,'2024-2025 '!#REF!,G$26,FALSE))","v":{"$error":"#REF!"}},null,{"$f":"IF($B255=\"*\",\"\",VLOOKUP($A255,'2024-2025 '!#REF!,I$26,FALSE))","v":{"$error":"#REF!"}},null,{"$f":"IF($B255=\"*\",\"\",VLOOKUP($A255,'2024-2025 '!#REF!,K$5,FALSE))","v":{"$error":"#REF!"}},null,{"$f":"IF($B255=\"*\",\"\",VLOOKUP($A255,'2024-2025 '!#REF!,M$5,FALSE))","v":{"$error":"#REF!"}}]
[221,{"$f":"VLOOKUP(A256,'2024-2025 '!#REF!,9,FALSE)","v":{"$error":"#REF!"}},{"$f":"VLOOKUP($A256,'2024-2025 '!#REF!,C$26,FALSE)","v":{"$error":"#REF!"}},{"$f":"IF($B256=\"*\",\"\",VLOOKUP($A256,'2024-2025 '!#REF!,D$26,FALSE))","v":{"$error":"#REF!"}},{"$f":"IF($B256=\"*\",\"\",VLOOKUP($A256,'2024-2025 '!#REF!,E$26,FALSE))","v":{"$error":"#REF!"}},{"$f":"IF($B256=\"*\",\"\",VLOOKUP($A256,'2024-2025 '!#REF!,F$26,FALSE))","v":{"$error":"#REF!"}},{"$f":"IF($B256=\"*\",\"\",VLOOKUP($A256,'2024-2025 '!#REF!,G$26,FALSE))","v":{"$error":"#REF!"}},null,{"$f":"IF($B256=\"*\",\"\",VLOOKUP($A256,'2024-2025 '!#REF!,I$26,FALSE))","v":{"$error":"#REF!"}},null,{"$f":"IF($B256=\"*\",\"\",VLOOKUP($A256,'2024-2025 '!#REF!,K$5,FALSE))","v":{"$error":"#REF!"}},null,{"$f":"IF($B256=\"*\",\"\",VLOOKUP($A256,'2024-2025 '!#REF!,M$5,FALSE))","v":{"$error":"#REF!"}}]
[222,{"$f":"VLOOKUP(A257,'2024-2025 '!#REF!,9,FALSE)","v":{"$error":"#REF!"}},{"$f":"VLOOKUP($A257,'2024-2025 '!#REF!,C$26,FALSE)","v":{"$error":"#REF!"}},{"$f":"IF($B257=\"*\",\"\",VLOOKUP($A257,'2024-2025 '!#REF!,D$26,FALSE))","v":{"$error":"#REF!"}},{"$f":"IF($B257=\"*\",\"\",VLOOKUP($A257,'2024-2025 '!#REF!,E$26,FALSE))","v":{"$error":"#REF!"}},{"$f":"IF($B257=\"*\",\"\",VLOOKUP($A257,'2024-2025 '!#REF!,F$26,FALSE))","v":{"$error":"#REF!"}},{"$f":"IF($B257=\"*\",\"\",VLOOKUP($A257,'2024-2025 '!#REF!,G$26,FALSE))","v":{"$error":"#REF!"}},null,{"$f":"IF($B257=\"*\",\"\",VLOOKUP($A257,'2024-2025 '!#REF!,I$26,FALSE))","v":{"$error":"#REF!"}},null,{"$f":"IF($B257=\"*\",\"\",VLOOKUP($A257,'2024-2025 '!#REF!,K$5,FALSE))","v":{"$error":"#REF!"}},null,{"$f":"IF($B257=\"*\",\"\",VLOOKUP($A257,'2024-2025 '!#REF!,M$5,FALSE))","v":{"$error":"#REF!"}}]
[223,{"$f":"VLOOKUP(A258,'2024-2025 '!#REF!,9,FALSE)","v":{"$error":"#REF!"}},{"$f":"VLOOKUP($A258,'2024-2025 '!#REF!,C$26,FALSE)","v":{"$error":"#REF!"}},{"$f":"IF($B258=\"*\",\"\",VLOOKUP($A258,'2024-2025 '!#REF!,D$26,FALSE))","v":{"$error":"#REF!"}},{"$f":"IF($B258=\"*\",\"\",VLOOKUP($A258,'2024-2025 '!#REF!,E$26,FALSE))","v":{"$error":"#REF!"}},{"$f":"IF($B258=\"*\",\"\",VLOOKUP($A258,'2024-2025 '!#REF!,F$26,FALSE))","v":{"$error":"#REF!"}},{"$f":"IF($B258=\"*\",\"\",VLOOKUP($A258,'2024-2025 '!#REF!,G$26,FALSE))","v":{"$error":"#REF!"}},null,{"$f":"IF($B258=\"*\",\"\",VLOOKUP($A258,'2024-2025 '!#REF!,I$26,FALSE))","v":{"$error":"#REF!"}},null,{"$f":"IF($B258=\"*\",\"\",VLOOKUP($A258,'2024-2025 '!#REF!,K$5,FALSE))","v":{"$error":"#REF!"}},null,{"$f":"IF($B258=\"*\",\"\",VLOOKUP($A258,'2024-2025 '!#REF!,M$5,FALSE))","v":{"$error":"#REF!"}}]
[224,{"$f":"VLOOKUP(A259,'2024-2025 '!#REF!,9,FALSE)","v":{"$error":"#REF!"}},{"$f":"VLOOKUP($A259,'2024-2025 '!#REF!,C$26,FALSE)","v":{"$error":"#REF!"}},{"$f":"IF($B259=\"*\",\"\",VLOOKUP($A259,'2024-2025 '!#REF!,D$26,FALSE))","v":{"$error":"#REF!"}},{"$f":"IF($B259=\"*\",\"\",VLOOKUP($A259,'2024-2025 '!#REF!,E$26,FALSE))","v":{"$error":"#REF!"}},{"$f":"IF($B259=\"*\",\"\",VLOOKUP($A259,'2024-2025 '!#REF!,F$26,FALSE))","v":{"$error":"#REF!"}},{"$f":"IF($B259=\"*\",\"\",VLOOKUP($A259,'2024-2025 '!#REF!,G$26,FALSE))","v":{"$error":"#REF!"}},null,{"$f":"IF($B259=\"*\",\"\",VLOOKUP($A259,'2024-2025 '!#REF!,I$26,FALSE))","v":{"$error":"#REF!"}},null,{"$f":"IF($B259=\"*\",\"\",VLOOKUP($A259,'2024-2025 '!#REF!,K$5,FALSE))","v":{"$error":"#REF!"}},null,{"$f":"IF($B259=\"*\",\"\",VLOOKUP($A259,'2024-2025 '!#REF!,M$5,FALSE))","v":{"$error":"#REF!"}}]
[225,{"$f":"VLOOKUP(A260,'2024-2025 '!#REF!,9,FALSE)","v":{"$error":"#REF!"}},{"$f":"VLOOKUP($A260,'2024-2025 '!#REF!,C$26,FALSE)","v":{"$error":"#REF!"}},{"$f":"IF($B260=\"*\",\"\",VLOOKUP($A260,'2024-2025 '!#REF!,D$26,FALSE))","v":{"$error":"#REF!"}},{"$f":"IF($B260=\"*\",\"\",VLOOKUP($A260,'2024-2025 '!#REF!,E$26,FALSE))","v":{"$error":"#REF!"}},{"$f":"IF($B260=\"*\",\"\",VLOOKUP($A260,'2024-2025 '!#REF!,F$26,FALSE))","v":{"$error":"#REF!"}},{"$f":"IF($B260=\"*\",\"\",VLOOKUP($A260,'2024-2025 '!#REF!,G$26,FALSE))","v":{"$error":"#REF!"}},null,{"$f":"IF($B260=\"*\",\"\",VLOOKUP($A260,'2024-2025 '!#REF!,I$26,FALSE))","v":{"$error":"#REF!"}},null,{"$f":"IF($B260=\"*\",\"\",VLOOKUP($A260,'2024-2025 '!#REF!,K$5,FALSE))","v":{"$error":"#REF!"}},null,{"$f":"IF($B260=\"*\",\"\",VLOOKUP($A260,'2024-2025 '!#REF!,M$5,FALSE))","v":{"$error":"#REF!"}}]
[226,{"$f":"VLOOKUP(A261,'2024-2025 '!#REF!,9,FALSE)","v":{"$error":"#REF!"}},{"$f":"VLOOKUP($A261,'2024-2025 '!#REF!,C$26,FALSE)","v":{"$error":"#REF!"}},{"$f":"IF($B261=\"*\",\"\",VLOOKUP($A261,'2024-2025 '!#REF!,D$26,FALSE))","v":{"$error":"#REF!"}},{"$f":"IF($B261=\"*\",\"\",VLOOKUP($A261,'2024-2025 '!#REF!,E$26,FALSE))","v":{"$error":"#REF!"}},{"$f":"IF($B261=\"*\",\"\",VLOOKUP($A261,'2024-2025 '!#REF!,F$26,FALSE))","v":{"$error":"#REF!"}},{"$f":"IF($B261=\"*\",\"\",VLOOKUP($A261,'2024-2025 '!#REF!,G$26,FALSE))","v":{"$error":"#REF!"}},null,{"$f":"IF($B261=\"*\",\"\",VLOOKUP($A261,'2024-2025 '!#REF!,I$26,FALSE))","v":{"$error":"#REF!"}},null,{"$f":"IF($B261=\"*\",\"\",VLOOKUP($A261,'2024-2025 '!#REF!,K$5,FALSE))","v":{"$error":"#REF!"}},null,{"$f":"IF($B261=\"*\",\"\",VLOOKUP($A261,'2024-2025 '!#REF!,M$5,FALSE))","v":{"$error":"#REF!"}}]
[227,{"$f":"VLOOKUP(A262,'2024-2025 '!#REF!,9,FALSE)","v":{"$error":"#REF!"}},{"$f":"VLOOKUP($A262,'2024-2025 '!#REF!,C$26,FALSE)","v":{"$error":"#REF!"}},{"$f":"IF($B262=\"*\",\"\",VLOOKUP($A262,'2024-2025 '!#REF!,D$26,FALSE))","v":{"$error":"#REF!"}},{"$f":"IF($B262=\"*\",\"\",VLOOKUP($A262,'2024-2025 '!#REF!,E$26,FALSE))","v":{"$error":"#REF!"}},{"$f":"IF($B262=\"*\",\"\",VLOOKUP($A262,'2024-2025 '!#REF!,F$26,FALSE))","v":{"$error":"#REF!"}},{"$f":"IF($B262=\"*\",\"\",VLOOKUP($A262,'2024-2025 '!#REF!,G$26,FALSE))","v":{"$error":"#REF!"}},null,{"$f":"IF($B262=\"*\",\"\",VLOOKUP($A262,'2024-2025 '!#REF!,I$26,FALSE))","v":{"$error":"#REF!"}},null,{"$f":"IF($B262=\"*\",\"\",VLOOKUP($A262,'2024-2025 '!#REF!,K$5,FALSE))","v":{"$error":"#REF!"}},null,{"$f":"IF($B262=\"*\",\"\",VLOOKUP($A262,'2024-2025 '!#REF!,M$5,FALSE))","v":{"$error":"#REF!"}}]
[228,{"$f":"VLOOKUP(A263,'2024-2025 '!#REF!,9,FALSE)","v":{"$error":"#REF!"}},{"$f":"VLOOKUP($A263,'2024-2025 '!#REF!,C$26,FALSE)","v":{"$error":"#REF!"}},{"$f":"IF($B263=\"*\",\"\",VLOOKUP($A263,'2024-2025 '!#REF!,D$26,FALSE))","v":{"$error":"#REF!"}},{"$f":"IF($B263=\"*\",\"\",VLOOKUP($A263,'2024-2025 '!#REF!,E$26,FALSE))","v":{"$error":"#REF!"}},{"$f":"IF($B263=\"*\",\"\",VLOOKUP($A263,'2024-2025 '!#REF!,F$26,FALSE))","v":{"$error":"#REF!"}},{"$f":"IF($B263=\"*\",\"\",VLOOKUP($A263,'2024-2025 '!#REF!,G$26,FALSE))","v":{"$error":"#REF!"}},null,{"$f":"IF($B263=\"*\",\"\",VLOOKUP($A263,'2024-2025 '!#REF!,I$26,FALSE))","v":{"$error":"#REF!"}},null,{"$f":"IF($B263=\"*\",\"\",VLOOKUP($A263,'2024-2025 '!#REF!,K$5,FALSE))","v":{"$error":"#REF!"}},null,{"$f":"IF($B263=\"*\",\"\",VLOOKUP($A263,'2024-2025 '!#REF!,M$5,FALSE))","v":{"$error":"#REF!"}}]
[229,{"$f":"VLOOKUP(A264,'2024-2025 '!#REF!,9,FALSE)","v":{"$error":"#REF!"}},{"$f":"VLOOKUP($A264,'2024-2025 '!#REF!,C$26,FALSE)","v":{"$error":"#REF!"}},{"$f":"IF($B264=\"*\",\"\",VLOOKUP($A264,'2024-2025 '!#REF!,D$26,FALSE))","v":{"$error":"#REF!"}},{"$f":"IF($B264=\"*\",\"\",VLOOKUP($A264,'2024-2025 '!#REF!,E$26,FALSE))","v":{"$error":"#REF!"}},{"$f":"IF($B264=\"*\",\"\",VLOOKUP($A264,'2024-2025 '!#REF!,F$26,FALSE))","v":{"$error":"#REF!"}},{"$f":"IF($B264=\"*\",\"\",VLOOKUP($A264,'2024-2025 '!#REF!,G$26,FALSE))","v":{"$error":"#REF!"}},null,{"$f":"IF($B264=\"*\",\"\",VLOOKUP($A264,'2024-2025 '!#REF!,I$26,FALSE))","v":{"$error":"#REF!"}},null,{"$f":"IF($B264=\"*\",\"\",VLOOKUP($A264,'2024-2025 '!#REF!,K$5,FALSE))","v":{"$error":"#REF!"}},null,{"$f":"IF($B264=\"*\",\"\",VLOOKUP($A264,'2024-2025 '!#REF!,M$5,FALSE))","v":{"$error":"#REF!"}}]
[230,{"$f":"VLOOKUP(A265,'2024-2025 '!#REF!,9,FALSE)","v":{"$error":"#REF!"}},{"$f":"VLOOKUP($A265,'2024-2025 '!#REF!,C$26,FALSE)","v":{"$error":"#REF!"}},{"$f":"IF($B265=\"*\",\"\",VLOOKUP($A265,'2024-2025 '!#REF!,D$26,FALSE))","v":{"$error":"#REF!"}},{"$f":"IF($B265=\"*\",\"\",VLOOKUP($A265,'2024-2025 '!#REF!,E$26,FALSE))","v":{"$error":"#REF!"}},{"$f":"IF($B265=\"*\",\"\",VLOOKUP($A265,'2024-2025 '!#REF!,F$26,FALSE))","v":{"$error":"#REF!"}},{"$f":"IF($B265=\"*\",\"\",VLOOKUP($A265,'2024-2025 '!#REF!,G$26,FALSE))","v":{"$error":"#REF!"}},null,{"$f":"IF($B265=\"*\",\"\",VLOOKUP($A265,'2024-2025 '!#REF!,I$26,FALSE))","v":{"$error":"#REF!"}},null,{"$f":"IF($B265=\"*\",\"\",VLOOKUP($A265,'2024-2025 '!#REF!,K$5,FALSE))","v":{"$error":"#REF!"}},null,{"$f":"IF($B265=\"*\",\"\",VLOOKUP($A265,'2024-2025 '!#REF!,M$5,FALSE))","v":{"$error":"#REF!"}}]
[231,{"$f":"VLOOKUP(A266,'2024-2025 '!#REF!,9,FALSE)","v":{"$error":"#REF!"}},{"$f":"VLOOKUP($A266,'2024-2025 '!#REF!,C$26,FALSE)","v":{"$error":"#REF!"}},{"$f":"IF($B266=\"*\",\"\",VLOOKUP($A266,'2024-2025 '!#REF!,D$26,FALSE))","v":{"$error":"#REF!"}},{"$f":"IF($B266=\"*\",\"\",VLOOKUP($A266,'2024-2025 '!#REF!,E$26,FALSE))","v":{"$error":"#REF!"}},{"$f":"IF($B266=\"*\",\"\",VLOOKUP($A266,'2024-2025 '!#REF!,F$26,FALSE))","v":{"$error":"#REF!"}},{"$f":"IF($B266=\"*\",\"\",VLOOKUP($A266,'2024-2025 '!#REF!,G$26,FALSE))","v":{"$error":"#REF!"}},null,{"$f":"IF($B266=\"*\",\"\",VLOOKUP($A266,'2024-2025 '!#REF!,I$26,FALSE))","v":{"$error":"#REF!"}},null,{"$f":"IF($B266=\"*\",\"\",VLOOKUP($A266,'2024-2025 '!#REF!,K$5,FALSE))","v":{"$error":"#REF!"}},null,{"$f":"IF($B266=\"*\",\"\",VLOOKUP($A266,'2024-2025 '!#REF!,M$5,FALSE))","v":{"$error":"#REF!"}}]
[232,{"$f":"VLOOKUP(A267,'2024-2025 '!#REF!,9,FALSE)","v":{"$error":"#REF!"}},{"$f":"VLOOKUP($A267,'2024-2025 '!#REF!,C$26,FALSE)","v":{"$error":"#REF!"}},{"$f":"IF($B267=\"*\",\"\",VLOOKUP($A267,'2024-2025 '!#REF!,D$26,FALSE))","v":{"$error":"#REF!"}},{"$f":"IF($B267=\"*\",\"\",VLOOKUP($A267,'2024-2025 '!#REF!,E$26,FALSE))","v":{"$error":"#REF!"}},{"$f":"IF($B267=\"*\",\"\",VLOOKUP($A267,'2024-2025 '!#REF!,F$26,FALSE))","v":{"$error":"#REF!"}},{"$f":"IF($B267=\"*\",\"\",VLOOKUP($A267,'2024-2025 '!#REF!,G$26,FALSE))","v":{"$error":"#REF!"}},null,{"$f":"IF($B267=\"*\",\"\",VLOOKUP($A267,'2024-2025 '!#REF!,I$26,FALSE))","v":{"$error":"#REF!"}},null,{"$f":"IF($B267=\"*\",\"\",VLOOKUP($A267,'2024-2025 '!#REF!,K$5,FALSE))","v":{"$error":"#REF!"}},null,{"$f":"IF($B267=\"*\",\"\",VLOOKUP($A267,'2024-2025 '!#REF!,M$5,FALSE))","v":{"$error":"#REF!"}}]
[null,null,null,null,null,"Sous total EMPLOI DE LA FORCE ET TACTIQUE",{"$f":"SUM(G221:G267)","v":{"$error":"#REF!"}},null,{"$f":"SUM(I221:I267)","v":{"$error":"#REF!"}},null,{"$f":"SUM(K221:K267)","v":{"$error":"#REF!"}},null,{"$f":"SUM(M221:M267)","v":{"$error":"#REF!"}}]

{"sheet":"2024-2025 (Non publié)","index":3,"n_rows":49,"n_cols":16,"rows_kept":49,"cut":false,"hidden":true,"merged":[[45,0,45,15],[37,3,38,3],[37,4,38,4],[37,14,38,14],[37,15,38,15],[37,8,38,8],[37,9,38,9],[37,10,38,10],[37,11,38,11],[37,12,38,12],[37,13,38,13],[41,0,41,10],[43,0,43,15],[44,10,44,11],[27,0,27,3],[27,4,27,8],[27,9,27,12],[34,9,34,15],[27,13,27,15],[32,2,33,2],[35,0,35,15],[29,9,29,15],[39,0,39,10],[28,1,28,3],[30,0,30,10],[36,0,36,10],[37,5,38,5],[37,7,38,7],[37,6,38,6],[37,0,38,0],[37,1,38,1],[37,2,38,2],[31,1,31,10],[32,0,33,0],[32,1,33,1],[32,3,33,3]]}
[]
[null,null,null,null,null,null,null,null,null,null,null,null,null,null,null,"Programmes de formation initiale et perfectionnement policier"]
[null,null,null,null,null,null,null,null,null,null,null,null,null,null,null,"Calendrier des cours 2024-2025"]
[]
["LÉGENDE"]
[null,"Volet - Patrouille gendarmerie",null,null,"A","Annulé"]
[null,"Volet - Enquête policière",null,null,"R","Reporté"]
[null,"Volet - Gestion policière",null,null,null,"Ajouté en cours d'année"]
[null,"CECAP"]
[null,"Programme ACCÈS"]
["Act. Prép. En ligne (Xh)","Activité préparatoire en ligne"]
[]
["MODES DE DIFFUSION"]
["C","Sur le Campus : Activité se déroulant exclusivement dans les bâtiments, les installations et les plateaux de simulation de l'ENPQ incluant les sites de simulation de l'ENPQ "]
[null,"incluant les sites de simulation dans la ville de Nicolet et le circuit routier."]
["HC","Hors campus : Activité se déroulant exclusivement hors des bâtiments, des installations et des plateaux de simulation de l'ENPQ."]
["MS","Multi-sites : Activité se déroulant en partie sur le campus et en partie hors campus."]
["S","Synchrone : Activité en ligne dans laquelle les échanges avec le formateur et les autres apprenants se font en temps réel par des modes de communication qui exigent une connexion en simultané."]
["A","Asynchrone : Activité en ligne dans laquelle les échanges avec le formateur et les autres apprenants se font en temps différé par des modes de communication qui n'exigent par une connexion en simultané. "]
[null,"Les activités en ligne réalisées de manière autonome entrent également dans cette catégorie."]
["MX","Mixte : Combinaison, en proportion variable, d'activités en ligne synchrones et asynchrones."]
["H","Hybride : Comtinaison, en proportion variable, d'activités en présentiel et d'activités en ligne. Les activités ayant des travaux préparatoires à réaliser en ligne entrent dans cette catégorie."]
[1,"Formateurs ENPQ (incluant les prêts de personnel temporaire PPT)"]
[2,"Réseau (moniteurs, instructeurs)"]
[3,"Autres collaborateurs (individus et organisations)"]
[]
[]
[null,null,null,null,"Session automne 2024",null,null,null,null,"Session hiver 2025",null,null,null,"Session printemps/été 2025"]
["Code de cours","Titre du cours",null,null,"Août","Sept.","Oct","Nov.","Déc.","Janv.","Fév.","Mars","Avril","Mai","Juin","Juillet"]
[null,null,null,null,null,null,null,null,null,"PROGRAMMES DE FORMATION INITIALE"]
["n PATROUILLE-GENDARMERIE"]
["436-008-21","Activité préparatoire au Volet 2-PFIEP \"Passerelle\""]
["436-008-21","Activité préparatoire au Volet 2-PFIEP \"Passerelle\"","H1",16]
[]
[null,null,null,null,null,null,null,null,null,"PERFECTIONNEMENT POLICIER"]
["n PATROUILLE-GENDARMERIE"]
["Activités du patrouilleur"]
["209-709-20","Épreuves de coordination des mouvements - L'instructeur - Requalification","C1",6]
[]
["Appareils de détection approuvés"]
["209-707-20","Alco-Sensor FST - L'instructeur - Requalification","C1",6]
["Cinémomètres"]
["206-701-20","Cinémomètre laser - L'instructeur","C1",6]
["Intervention tactique"]
["215-718-23","Didactique de l'intervention tactique - L'instructeur","C1",12]
["Utilisation des armes à feu"]
["216-709-20","Carabine – Plateforme AR - L'instructeur\nHors campus\nChamp de tir Les Seigneurs\nPointe-du-Lac","HC1",8]
["216-710-20","Carabine – Plateforme AR - L'instructeur - Requalification\nHors campus\nChamp de tir Les Seigneurs\nPointe-du-Lac","HC1",8]
["216-711-23","Didactique du tir au pistolet – L'instructeur","C1",8]

{"sheet":"DFSP 2024-2025","index":4,"n_rows":84,"n_cols":26,"rows_kept":84,"cut":false,"hidden":true,"merged":[[81,6,82,6],[74,6,74,24],[76,6,76,24],[79,6,79,24],[81,7,82,7],[81,8,82,8],[81,9,82,9],[81,10,82,10],[81,12,82,12],[61,6,61,24],[63,6,63,24],[72,6,72,24],[48,6,48,24],[54,6,54,24],[55,6,55,24],[26,18,26,24],[27,6,27,24],[14,18,14,24],[15,6,15,10],[15,13,15,17],[15,18,15,21],[15,22,15,24],[19,6,19,24],[10,6,10,7],[10,8,10,24],[11,6,11,7],[11,8,11,24],[12,6,12,7],[12,8,12,24],[7,6,7,7],[7,8,7,24],[8,6,8,7],[8,8,8,24],[9,6,9,7],[9,8,9,24]]}
[null,null,null,null,null,null,null,null,null,null,null,null,null,null,null,null,null,null,null,null,null,null,null,null,"Programmes de formation initiale et formations en sécurité publique"]
[null,null,null,null,null,null,null,null,null,null,null,null,null,null,null,null,null,null,null,null,null,null,null,null,"Calendrier des cours 2023-2024"]
[]
[null,null,null,null,null,null,"LÉGENDE"]
[null,null,null,null,null,null,"A","Annulé",null,null,null,null,null,"R","Reporté",null,null,null,null,"Ajouté en cours d’année"]
[]
[null,null,null,null,null,null,"MODES DE DIFFUSION"]
[null,null,null,null,null,null,"C",null,"Sur le Campus : Activité se déroulant exclusivement dans les bâtiments, les installations et les plateaux de simulation de l'ENPQ incluant les sites de simulation de l'ENPQ, les sites de simulation dans la ville de Nicolet et le circuit routier."]
[null,null,null,null,null,null,"HC",null,"Hors campus : Activité se déroulant exclusivement hors des bâtiments, des installations et des plateaux de simulation de l'ENPQ."]
[null,null,null,null,null,null,"MS",null,"Multi-sites : Activité se déroulant en partie sur le campus et en partie hors campus."]
[null,null,null,null,null,null,1,null,"Formateurs ENPQ (incluant les prêts de personnel temporaire PPT)"]
[null,null,null,null,null,null,2,null,"Réseau (moniteurs, instructeurs)"]
[null,null,null,null,null,null,3,null,"Autres collaborateurs (individus et organisations)"]
[]
[null,null,null,null,null,null,null,null,null,null,null,null,null,null,null,null,null,null,"PROGRAMMES DE FORMATION INITIALE"]
[null,null,null,null,null,null,null,null,null,null,null,null,null,"Session automne 2023",null,null,null,null,"Session hiver 2024",null,null,null,"Session printemps/été 2024"]
[]
[]
[null,null,"TRI-1","TRI-2","TRI-3","COURS","Numéro CRM","FOR BAR","Code de cours","Titre du cours",null,"Mode diffusion","Coordonnateur","Août","Sept.","Oct","Nov.","Déc.","Janv.","Fév.","Mars","Avril","Mai","Juin","Juillet","Commentaires"]
[null,null,"Programmes de formation initiale",null,null,null,"PROGRAMME DE FORMATION INITIALE"]
[null,null,"Programmes de formation initiale",null,"ASC","Programme d’intégration à la fonction d’agent des services correctionnels",null,null,"ASC","Programme d’intégration à la fonction d’agent des services correctionnels",60]
[null,null,"Programmes de formation initiale",null,"CRQ","Programme de formation initiale des contrôleurs routiers du Québec",null,null,"CRQ","Programme de formation initiale des contrôleurs routiers du Québec","2x18","H1"]
[null,null,"Programmes de formation initiale",null,"EXO","Programme de formation initiale des inspecteurs-sûreté",null,null,"EXO","Programme de formation initiale des inspecteurs-sûreté",9,"HC1"]
[null,null,"Programmes de formation initiale",null,"DSPJ","Programme de formation initiale des inspecteurs-sûreté",null,null,"DSPJ","Programme de formation initiale des inspecteurs-sûreté",36]
[null,null,"Programmes de formation initiale",null,"STM","Programme de formation initiale des constables spéciaux de la STM",null,null,"STM","Programme de formation initiale des constables spéciaux de la STM",18,"C1"]
[null,null,"Programmes de formation initiale",null,"STM","Programme de formation initiale des constables spéciaux de la STM",null,null,"STM","Programme de formation initiale des constables spéciaux de la STM",18,"C1"]
[null,null,"Formations en sécurité publique",null,null,null,null,null,null,null,null,null,null,null,null,null,null,null,"FORMATIONS EN SÉCURITÉ PUBLIQUE"]
[null,null,"Formations en sécurité publique","Enquête, inspection et renseignement",null,null,"ENQUÊTE, INSPECTION ET RENSEIGNEMENT"]
[null,null,"Formations en sécurité publique","Enquête, inspection et renseignement","À VENIR","Inspection (CCQ)",null,null,"À VENIR","Inspection (CCQ)",10,"C1"]
[null,null,"Formations en sécurité publique","Enquête, inspection et renseignement","041-101-16","Éléments d'enquête pour les intervenants en sécurité incendie",null,null,"041-101-16","Éléments d'enquête pour les intervenants en sécurité incendie",12,"C1"]
[null,null,"Formations en sécurité publique","Enquête, inspection et renseignement","826-112-21","Aspects légaux – Constables spéciaux STM",null,null,"826-112-21","Aspects légaux – Constables spéciaux STM",22]
[null,null,"Formations en sécurité publique","Enquête, inspection et renseignement","836-126-18","Techniques d’entrevue de suspect (RQ)",null,null,"836-126-18","Techniques d’entrevue de suspect (RQ)",12,"C ou HC"]
[null,null,"Formations en sécurité publique","Enquête, inspection et renseignement","836-127-19","Techniques d’enquête (RBQ)",null,null,"836-127-19","Techniques d’enquête (RBQ)",12,"H1"]
[null,null,"Formations en sécurité publique","Enquête, inspection et renseignement","836-129-16","Techniques d'entrevue et communication efficace (CCQ)",null,null,"836-129-16","Techniques d'entrevue et communication efficace (CCQ)",8]
[null,null,"Formations en sécurité publique","Enquête, inspection et renseignement","836-137-18","Tech entrevue suspect et témoignage à la cour (AMF)",null,null,"836-137-18","Tech entrevue suspect et témoignage à la cour (AMF)",12,"C1"]
[null,null,"Formations en sécurité publique","Enquête, inspection et renseignement","836-141-19","Planifier et exécuter une perquisition (Santé Canada)",null,null,"836-141-19","Planifier et exécuter une perquisition (Santé Canada)",12]
[null,null,"Formations en sécurité publique","Enquête, inspection et renseignement","836-143-20","Techniques d’entrevue de témoin et prise de déclaration (CCQ)",null,null,"836-143-20","Techniques d’entrevue de témoin et prise de déclaration (CCQ)",8]
[null,null,"Formations en sécurité publique","Enquête, inspection et renseignement","836-146-20","Processus d’enquête (ARC)",null,null,"836-146-20","Processus d’enquête (ARC)",12,"H1"]
[null,null,"Formations en sécurité publique","Enquête, inspection et renseignement","836-147-21","Techniques d’entrevue de témoins (ARC)",null,null,"836-147-21","Techniques d’entrevue de témoins (ARC)",8]
[null,null,"Formations en sécurité publique","Enquête, inspection et renseignement","836-148-22","Techniques d’entrevue de suspect (ARC)",null,null,"836-148-22","Techniques d’entrevue de suspect (ARC)",12]
[null,null,"Formations en sécurité publique","Enquête, inspection et renseignement","837-101-17","Enquête criminelle (MTESS)",null,null,"837-101-17","Enquête criminelle (MTESS)",8]
[null,null,"Formations en sécurité publique","Enquête, inspection et renseignement","839-301-16","Gestion des informateurs – Volet pratique",null,null,"839-301-16","Gestion des informateurs – Volet pratique",16]
[null,null,"Formations en sécurité publique","Enquête, inspection et renseignement","839-302-17","Agent de renseignement criminel (RQ)",null,null,"839-302-17","Agent de renseignement criminel (RQ)",12]
[null,null,"Formations en sécurité publique","Enquête, inspection et renseignement","839-303-19","Agent de renseignement criminel (RBQ et CCQ)",null,null,"839-303-19","Agent de renseignement criminel (RBQ et CCQ)",12]
[null,null,"Formations en sécurité publique","Enquête, inspection et renseignement","840-102-14","Processus d’enquête (RQ)",null,null,"840-102-14","Processus d’enquête (RQ)",12,"C ou HC"]
[null,null,"Formations en sécurité publique","Enquête, inspection et renseignement","840-107-18","Processus d'enquête (AMF)",null,null,"840-107-18","Processus d'enquête (AMF)",12,"H1"]
[null,null,"Formations en sécurité publique","Enquête, inspection et renseignement","840-108-19","Inspection (RQ) ",null,null,"840-108-19","Inspection (RQ) ",12,"C1"]
[null,null,"Formations en sécurité publique","Enquête, inspection et renseignement","À VENIR","Technique d'entrevue de suspect (CCQ)",null,null,"À VENIR","Technique d'entrevue de suspect (CCQ)",12,"?"]
[null,null,"Formations en sécurité publique","Gestion",null,null,"GESTION"]
[null,null,"Formations en sécurité publique","Gestion","PPU-010-38","Habiletés de supervision en sécurité publique",null,null,"PPU-010-38","Habiletés de supervision en sécurité publique",16]
[null,null,"Formations en sécurité publique","Gestion","PPU-010-47 ","Activité d’immersion à la fonction de cadre de 1er niveau",null,null,"PPU-010-47 ","Activité d’immersion à la fonction de cadre de 1er niveau",16]
[null,null,"Formations en sécurité publique","Gestion","PPU-010-49","Habiletés de supervision opérationnelle et administrative",null,null,"PPU-010-49","Habiletés de supervision opérationnelle et administrative",16]
[null,null,"Formations en sécurité publique","Gestion","758-103-16","Gestion d’une équipe de travail et prise décision (MSP)",null,null,"758-103-16","Gestion d’une équipe de travail et prise décision (MSP)",16]
[null,null,"Formations en sécurité publique","Gestion","758-104-17","Gestion au quotidien – Volet coaching et supervision (MSP)",null,null,"758-104-17","Gestion au quotidien – Volet coaching et supervision (MSP)",16]
[null,null,"Formations en sécurité publique","Perfectionnement",null,null,"PERFECTIONNEMENT"]
[null,null,"Formations en sécurité publique","Communication et intervention physique",null,null,"COMMUNICATION ET INTERVENTION PHYSIQUE"]
[null,null,"Formations en sécurité publique","Communication et intervention physique","814-108-16","Interventions verbales et physiques (Loto Québec)",null,null,"814-108-16","Interventions verbales et physiques (Loto Québec)",10]
[null,null,"Formations en sécurité publique","Communication et intervention physique","814-110-18","Interventions physiques 2 (Société des casinos du Québec)",null,null,"814-110-18","Interventions physiques 2 (Société des casinos du Québec)",10]
[null,null,"Formations en sécurité publique","Communication et intervention physique","814-112-21","Révision des techniques d'intervention verbale et physique - Société des casinos du Québec",null,null,"814-112-21","Révision des techniques d'intervention verbale et physique - Société des casinos du Québec",10]
[null,null,"Formations en sécurité publique","Communication et intervention physique","817-101-11","Gestion de situations menaçantes (ACIA)",null,null,"817-101-11","Gestion de situations menaçantes (ACIA)",20]
[null,null,"Formations en sécurité publique","Communication et intervention physique","818-302-22","Formation de mise à niveau pour cadre - Constable spécial du MSP",null,null,"818-302-22","Formation de mise à niveau pour cadre - Constable spécial du MSP",2]
[null,null,"Formations en sécurité publique","Conduite",null,null,"CONDUITE"]
[null,null,"Formations en sécurité publique","Conduite","801-212-22","Conduite de véhicule en utilisant les techniques de base (ASFC)",null,null,"801-212-22","Conduite de véhicule en utilisant les techniques de base (ASFC)",12,"C1"]
[null,null,"Formations en sécurité publique","Emploi de la force",null,null,"EMPLOI DE LA FORCE"]
[null,null,"Formations en sécurité publique","Emploi de la force","214-103-18","Intervention avec le bouclier inversé (DSPJ)",null,null,"214-103-18","Intervention avec le bouclier inversé (DSPJ)",8]
[null,null,"Formations en sécurité publique","Emploi de la force","214-712-20","Intervention avec le bouclier inversé - L'instructeur (sans requalification) (DSPJ)",null,null,"214-712-20","Intervention avec le bouclier inversé - L'instructeur (sans requalification) (DSPJ)",5]
[null,null,"Formations en sécurité publique","Emploi de la force","217-103-19","Communication – Transition (Projet communication ASFC) - Anglais",null,null,"217-103-19","Communication – Transition (Projet communication ASFC) - Anglais",8]
[null,null,"Formations en sécurité publique","Emploi de la force","218-301-18","Fondements théoriques de l’emploi de la force (Projet communication ASFC) - Anglais",null,null,"218-301-18","Fondements théoriques de l’emploi de la force (Projet communication ASFC) - Anglais",8]
[null,null,"Formations en sécurité publique","Emploi de la force","XXX-XXX-XX","Parrainage + IP 23 (Projet communication ASFC) - Anglais",null,null,"XXX-XXX-XX","Parrainage + IP 23 (Projet communication ASFC) - Anglais",8]
[null,null,"Formations en sécurité publique","Emploi de la force","814-103-22","Méthodes d'intervention (Centres jeunesse)",null,null,"814-103-22","Méthodes d'intervention (Centres jeunesse)",12]
[null,null,"Formations en sécurité publique","Emploi de la force","817-107-XX","La communication (CCQ)",null,null,"817-107-XX","La communication (CCQ)",10]
[null,null,"Formations en sécurité publique","Emploi de la force","841-102-22","Actualisation des compétences des inspecteurs exo",null,null,"841-102-22","Actualisation des compétences des inspecteurs exo",9]
[null,null,"Formations en sécurité publique","Sécurité routière",null,null,"SÉCURITÉ ROUTIÈRE"]
[null,null,"Formations en sécurité publique","Sécurité routière","810-201-18","Agent de surveillance de sentier FQCQ",null,null,"810-201-18","Agent de surveillance de sentier FQCQ",15]
[null,null,"Formations en sécurité publique","Technicien qualifié en éthylomètre",null,null,"TECHNICIEN QUALIFIÉ EN ÉTHYLOMÈTRE"]
[null,null,"Formations en sécurité publique","Technicien qualifié en éthylomètre","810-201-18","Agent de surveillance de sentier FQCQ",null,null,"209-204-18","Technicien qualifié en éthylomètre - DataMaster DMT-C",12]
[null,null,"Formations en sécurité publique","Utilisation des armes à feu",null,null,"UTILISATION DES ARMES À FEU"]
[null,null,"Formations en sécurité publique","Utilisation des armes à feu","216-207-07","Tir au pistolet - Requalification",null,null,"216-207-07","Tir au pistolet - Requalification",8]
[null,null,"Formations en sécurité publique","Utilisation des armes à feu","216-302-19","Carabine – Plateforme AR –  Requalification",null,null,"216-302-19","Carabine – Plateforme AR –  Requalification",7]
[null,null,"Formations en sécurité publique","CECAP",null,null,"n CENTRE D’ÉVALUATION DES COMPÉTENCES ET APTITUDES PROFESSIONNELLES"]
[null,null,"Formations en sécurité publique","CECAP","828-002-18","Séance d'information - La prévention des impacts psychologiques inhérents aux métiers des intervenants en situation d'urgence (Dessercom)",null,null,"828-002-18","Séance d'information - La prévention des impacts psychologiques inhérents aux métiers des intervenants en situation d'urgence (Dessercom)",35]
[null,null,"Formations en sécurité publique","CECAP","828-103-15","Prévention des impacts psychologiques (SUPERVISEUR)",null,null,"828-103-15","Prévention des impacts psychologiques (SUPERVISEUR)",14,"Entente SQ\n4 C1\n10 HC1"]
[null,null,"Formations en sécurité publique","CECAP",null,null,null,null,null,null,null,"Calendrier PP - C1"]
[null,null,"Formations en sécurité publique","CECAP","828-108-18","Prévention des impacts psychologiques (superviseur) - Mise à jour",null,null,"828-108-18","Prévention des impacts psychologiques (superviseur) - Mise à jour",16]

{"sheet":"Légende","index":5,"n_rows":48,"n_cols":19,"rows_kept":48,"cut":false,"hidden":false,"merged":[[41,4,41,18],[6,2,6,3],[7,2,7,3],[8,2,8,3],[9,2,9,3],[10,2,10,3],[11,2,11,3],[12,2,12,3],[14,2,14,4],[17,4,17,18],[15,4,15,18],[25,4,25,18],[34,4,34,18],[37,4,37,18],[39,4,39,18]]}
[]
[null,null,null,null,null,null,null,null,null,null,null,null,null,null,null,null,null,null,"Programmes de formation initiale et perfectionnement policier"]
[null,null,null,null,null,null,null,null,null,null,null,null,null,null,null,null,null,null,"Calendrier des cours 2024-2025"]
[]
[]
[]
[null,null,"LÉGENDE"]
[null,null,null,null,"Volet - Patrouille gendarmerie",null,null,"A","Annulé"]
[null,null,null,null,"Volet - Enquête policière",null,null,"R","Reporté"]
[null,null,null,null,"Volet - Gestion policière",null,null,null,"Ajouté en cours d'année"]
[null,null,null,null,"CECAP"]
[null,null,null,null,"Programme ACCÈS"]
[null,null,"Act. Prép. En ligne (Xh)",null,"Activité préparatoire en ligne"]
[]
[null,null,"MODES DE DIFFUSION"]
[null,null,null,null,"Diffusions en présentiel :"]
[]
[null,null,null,"C","Sur le Campus : Activité se déroulant exclusivement dans les bâtiments, les installations et les plateaux de simulation de l'ENPQ.  Ceci inclue les sites de simulation de l'ENPQ, les sites de simulation dans la ville de Nicolet, ainsi que le circuit routier. Ce mode de diffusion inclus aussi toutes les formations offertes au campus de Montréal."]
[]
[null,null,null,"CM","Campus de Montréal : Activité se déroulant exclusivement dans les locaux du campus de Montréal de l'ENPQ. "]
[]
[null,null,null,"HC","Hors campus : Activité se déroulant exclusivement hors des bâtiments, des installations et des plateaux de simulation de l'ENPQ."]
[]
[null,null,null,"MS","Multi-sites : Activité se déroulant en partie sur le campus et en partie hors campus."]
[]
[null,null,null,null,"Diffusions en ligne :"]
[]
[null,null,null,"S","Synchrone : Activité en ligne dans laquelle les échanges avec le formateur et les autres apprenants se font en temps réel par des modes de communication qui exigent une connexion en simultané."]
[]
[null,null,null,"A","Asynchrone : Activité en ligne dans laquelle les échanges avec le formateur et les autres apprenants se font en temps différé par des modes de communication qui n'exigent par une connexion en simultané. "]
[null,null,null,null,"Les activités en ligne réalisées de manière autonome entrent également dans cette catégorie."]
[]
[null,null,null,"MX","Mixte : Combinaison, en proportion variable, d'activités en ligne synchrones et asynchrones."]
[]
[null,null,null,null,"Particularité des diffusions en présentiel & en ligne : "]
[]
[null,null,null,"H","Hybride : Combinaison, en proportion variable, d'activités en présentiel et d'activités en ligne. Les activités ayant des travaux préparatoires à réaliser en ligne entrent dans cette catégorie."]
[null,null,null,null,"Le mode de diffusion hybride est toujours suivi de la mention de chacune des portions présentiel et en ligne entre crochets.  Par exemple, un cours hybride dont la portion en ligne se fait de façon synchrone et dont la portion en présentiel se fait à l'École portera le code de diffusion H1-[S-C]"]
[]
[null,null,null,null,"Provenance des formateurs"]
[]
[null,null,null,null,"Le code alphabétique du mode de diffusion est toujours suivi d'un code numérique indiquant la provenance du formateur : "]
[]
[null,null,null,1,"Formateurs ENPQ (incluant les prêts de personnel temporaire PPT)"]
[]
[null,null,null,2,"Réseau (moniteurs, instructeurs, Maîtres-Instructeurs)"]
[]
[null,null,null,3,"Autres collaborateurs (individus et organisations)"]

{"sheet":"Adresses de diffusion","index":6,"n_rows":39,"n_cols":6,"rows_kept":39,"cut":false,"hidden":false,"merged":[]}
[]
[null,null,null,null,null,"Adresses de diffusion"]
[]
[]
[]
[]
[]
[]
[]
[]
[]
[null,null,"École nationale de police du Québec",null,null,"Service de police de Sherbrooke"]
[null,null,"350, rue Marguerute-d'Youville",null,null,"575 rue Maurice-Houle"]
[null,null,"NICOLET",null,null,"SHERBROOKE"]
[null,null,"J3T 1X4",null,null,"J1H 1Z6"]
[]
[]
[null,null,"ENPQ - Campus de Montréal",null,null,"SANAIR"]
[null,null,"8491 rue Ernest-Cormier",null,null,"669 Le Bas du Petit rang St-François"]
[null,null,"MONTRÉAL (arrondissement Anjou)",null,null,"SAINT-PIE"]
[null,null,"H1J 1B5",null,null,"J0H 1W0"]
[]
[]
[null,null,"Service de police de Blainville",null,null,"Club de tir des Seigneurs"]
[null,null,"640, boul. du Curé-Labelle",null,null,"1120 Rang Saint-Nicolas"]
[null,null,"BLAINVILLE",null,null,"TROIS-RIVIÈRES (Secteur Pointe-du-Lac)"]
[null,null,"J7C 2J2",null,null,"G9B 7X9"]
[]
[]
[null,null,"UQTR - Campus Québec",null,null,"Domaine Scout"]
[null,null,"550, Boulevard Wilfrid-Hamel",null,null,"1295 chemin des Pins"]
[null,null,"QUÉBEC",null,null,"TROIS-RIVIÈRES (Secteur Saint-Lois-de-France)"]
[null,null,"G1M 3E5",null,null,"G8W 2K1"]
[]
[]
[null,null,"Collège Ahuntsic"]
[null,null,"9155, rue St-Hubert"]
[null,null,"MONTRÉAL"]
[null,null,"H2M 1Y8"]